Workbook
Name __SUB11: #REF!
Name __SUB12: #REF!
Name __SUB13: #REF!
Name __SUB14: #REF!
Name __SUB15: #REF!
Name _SUB11: #REF!
Name _SUB12: #REF!
Name _SUB13: #REF!
Name _SUB14: #REF!
Name _SUB15: #REF!
Name Data_Daywork: #REF!
Name Data_Opt_Bill5: #REF!
Name Print_Area_MI: 'Final Summary'!#REF!
Name Print_Area_MI: 'P&G'!#REF!
Name Print_Area_MI: #REF!
Name SUB11_P: #REF!
Name SUB12_P: #REF!
Name SUB13_P: #REF!
Name SUB14_P: #REF!
Name SUB15_P: #REF!

Sheet Tender Cover Sheet
B2: Refurbishment of Telecommunication Microwave Tower Dundee RS
B15: PRICING INFORMATION
B17: REQUEST FOR TENDER
B19: ENQUIRY No.
B21: NAME OF PACKAGE: | C21: Refurbishment of Telecommunication Microwave Tower
B23: TENDERER’S NAME:
B25: CATEGORY OF OFFER (MAIN, ALTERNATIVE 1, ETC): | C25: MAIN OFFER
B27: Annexure IT 5.1 Price Schedules
B30: THE PRICE: IN ZAR | C30: ='Final Summary'!D25 -> 0
B31: (excluding VAT)
B32: RAND VALUE IN WORDS
B37: DATE :
B41: FULL NAMES OF SIGNATORY:
B45: DESIGNATION OF SIGNATORY:
B49: SIGNATURE :

Sheet Preambles
B3: Refurbishment of Telecommunication Microwave Tower at Dundee RS
A4: Item No | B4: Main Offer
B5: Preambles
A7: 1 | B7: SCOPE GENERALLY
B8: As per Eskom Telecommunication Towers (KZN) –Dundee RS Structural Analysis Document Number: P2571-6004-06-001
A9: 1.1 | B9: The contract price shall be based upon the quantities taken off from the Bills of Quantities (BOQ). The Contractor shall use other documents provided as reference. The prices provided shall include the cost of all required equipment, tools, material, labour, and supervision to supply/furnish and install a complete system or component. Any expected wastage materials and components shall be included in the installed pricing provided.
A11: 2 | B11: Units of Measurement
A12: 2.1 | B12: Units of quantity or measurement i.e., Number (no), Metre (m), Cubic Metre (m³), Lump Sum (LS), Tonnage (tons), or items are associated as applicable with the items as listed in the BOQ.
A14: 3 | B14: Provisional bills of quantities
A15: 3.1 | B15: These Provisional Bills of Quantities are measured generally in accordance with the items listed and as amended by the notes and/or the item descriptions (where applicable) within these bills of quantities and or other reference documentation.
A16: 3.2 | B16: The method of measurement and payment is made in accordance with the items in these bills of quantities and no claims with regard to work deemed to be associated with such items and/or other methods of measurement will be considered.
A17: 3.3 | B17: The quantities in these Bills of Quantities will be measured net (Contractor to make allowance for all wastage, and for all labour, material, for associated work and/or not separately measured in accordance with clause (b) above) and values determined as the work proceeds. No claims will be considered with respect to these variations in quantities or consequential variation in value of work.
B18: The quantities reflected in these Bills of Quantities are not to be used by the contractor for ordering purposes.
A20: 4 | B20: Earthing
A21: 4.1 | B21: Supply and Installation of earthing components and equipment includes for all equipment, tools, materials, labour, and supervision to attach earthing stingers to earthing pads, structural steel, and equipment earthing pads in accordance with Specification Section 16930. Also includes splicing and exothermal welding or bolting stingers as required.
A23: 5 | B23: Scaffolding
A24: 5.1 | B24: Rates include for all necessary scaffolding to all areas of work.
A25: 6 | B25: Price Schedules
A26: 6.1 | B26: The Bills of Quantities price schedule provides the basis of all valuations of the work, payments in multiple currencies, price adjustment (CPA) and general progress monitoring.
A27: 6.2 | B27: The amount due at each application for payment date is based on activities and/or milestones completed as measured in terms of the bills of quantities. The Contractor provides all necessary information which is required to determine amounts due at each application for payment relative to the activities and/or milestones completed or to be completed.
A28: 6.3 | B28: The price schedule work breakdown structure provided by the Contractor is based on the Bills of Quantities provided by the Project Manager. The bill items listed by the Project Manager identify the specific items of work which are estimated to be required to achieve Completion. No deletion of any items is permitted. The price schedule work breakdown structure is compiled to the satisfaction of the Project Manager with any additions and/or amendments deemed necessary. NO QUANTITIES MAY BE CHANGED by the Tenderer in these bills of quantities..
A29: 6.4 | B29: The total of the prices includes for all direct and indirect costs, overheads, profits, on costs, risks, liabilities, obligations, etc. relative to the contract.
A30: 6.5 | B30: The Contractor allows for all necessary costs to complete the Works as required in terms of the specifications, scope of work and conditions of contract whether expressly stated or not in the price schedules. The Contractor provides the Project Manager with any breakdown of prices as may be required for specific items not detailed in the price schedules prior to or after contract award.
A31: 6.6 | B31: All values are total values prior to any retention and excludes VAT. Retention is not calculated in the forecast rate of payment schedule (FRP).
A32: 6.7 | B32: Tenderer to check and take responsibility for all descriptions, formulae, and structure of this file.
A33: 6.8 | B33: The Tenderer may add rows as required to cater for specific requirements but is to adhere to the basic requirements identified above and to clearly identify the rows added relative to the Project Manager's items. No rows are to be deleted.
A34: 6.9 | B34: Ensure clear Indication whether offer is main or alternative tender.
A36: 7 | B36: General
A37: 7.1 | B37: Supply and installation of electrical equipment (Refer to Specification Sections 01631, 02821, 16120, 16121, 16125, 16410, 16430, and 16910).
A38: 7.2 | B38: Supply and installation of lighting system components and accessories (Refer to Specification Sections 16501 and 16940).
A39: 7.3 | B39: Supply and installation of lightning protection (as required) (Refer to Specification Section 16935).
A40: 7.4 | B40: All left over cable lengths, steelwork off cuts or other waste material remain the property of the Contractor and are to be removed from site.
A41: 7.5 | B41: All rates include the supply and delivery to the Power Station Site as well as internal transport from the Contractors site store to the work face, installation, testing and finishing ready for operation of the cables and accessories.
A42: 7.6 | B42: All new manufactured members are to be Grade 355 JR steel as per SANS 50025. Proof of steel grade will be issued to Eskom before manufacturing commences. The replacement members are to have the same section properties as the existing removed members. No replacement members shall be made up of shorter pieces welded together.
A43: 7.7 | B43: All new manufactured members shall be fabricated in accordance to the dimensions, arrangements, sizes, thickness weights and quantities indicated specified and carried out in accordance With SABS 1200H and TIA-222-G.
A44: 7.8 | B44: Members shall be straight, free from lamination, flaws and other defects. All clippings, back-cuts, grinding and holes must be free from burrs. All parts of the fabricated members shall be free from kinks and twists. All holes, blocks and clips shall be made with sharp tools and shall be clean cut without torn or ragged edges.
A45: 7.9 | B45: The contractor is to submit scrapping certificates for all corroded members which have been safety removed from the tower and lowered to the ground.
A46: 7.10 | B46: Where a diagonal member is replaced, a rigging pole is to be clamped to the horizontal member above the horizontal member below. Where a secondary diagonal of a K-brace needs to be replaced, a rigging pole is to be clamped to the primary diagonal of the K-brace up to the horizontal above.
A47: 7.11 | B47: All new manufactured members shall be hard stamped before galvanising with the following markings stamped into the metals with letters and numerals of 10mm height; Manufacturers identification, structure code, member identification number near the end of the pieces.
A48: 7.12 | B48: All connections shall be bolted. welded connections shall not be permitted. If blind or partially blind holes, missing clips or any other minor miss-fabrication of steel members are discovered on site, the contractor shall notify the supervisor and receive his acceptance prior to effecting the repairs.
...

Sheet P&G
A1: The Contractor is referred to the full intent and meaning of each clause or item herein. He shall allow opposite each clause or item, whatever payments he may consider necessary, to carry out and observance of same.
A2: The Contractor shall price Bill No. 1 - Preliminary and General in respect of all payment required for any work, risk, contingency or obligation whatsoever, that is not described in the Bill of Quantities and which is his responsibility under the Contract
A3: The Bill is divided into 2 sections namely a "Once-off Fixed Cost" and a "Monthly Cost". Monthly costs are only allowed for the contract period as stated at contract award time. Payments will only be made once an Item is successfully completed and verified as being completed by the Employer.
A5: ESKOM MAIN OFFER BILL No. 1
A7: Bill 1.1 - Fixed Costs (Payable on item completion only & no advance payments)
A9: Item No. | B9: Refurbishment of Telecommunication Microwave Tower at Dundee RS | C9: Unit | D9: Rate | F9: Total
B10: Bill No. 1 | F10: Price ZAR
B11: Preliminary and General | F11: ( Exl VAT)
B12: Description
B13: THE ENGINEERING AND CONSTRUCTION CONTRACT
A14: 1 | B14: Contractual requirements. | C14: sum
A15: 2 | B15: Establish contractor's yard, site offices, workshops, stores etc. including all necessary water and electricity supplies, drainage and waste disposal systems, communication facilities etc. | C15: sum
A16: 3 | B16: De-establish contractor's yard, site offices, workshops, stores etc. including all necessary water and electricity supplies, drainage and waste disposal systems, communication facilities etc. | C16: sum
A17: 4 | B17: Establish mobile crane equipment - Structural Steel replacement | C17: sum
A18: 5 | B18: De-establish Mobile Crane Equipment - Structural Steel replacement | C18: sum
A19: 6 | B19: Complying with Health and Safety Specifications including COVID 19 compliance | C19: sum
A20: 7 | B20: Complying with Environmental Management Plan and all other compliance obligations. | C20: sum
C22: Sub-total | F22: =SUM(F14:F21) -> 0
A23: Bill 1.2 - Monthly Costs (Valid only for contract duration period as per contract award time)
A24: Item No. | B24: Maintenance of Telecommunication Microwave Tower | C24: Unit | D24: Rate | F24: Total
B25: Bill No. 1 | F25: Price ZAR
B26: Preliminary and General | F26: ( Exl VAT)
B27: Description
B28: THE ENGINEERING AND CONSTRUCTION CONTRACT
A29: 1 | B29: Site offices | C29: sum
A30: 2 | B30: Site supervision | C30: sum
A31: 3 | B31: Appointment of to provide the Eskom's Project Manager with Pre and Post-refurbishment Structural Integrity Reports by registered ECSA Structural Engineer | C31: sum
A32: 4 | B32: Living accommodation. | C32: sum
A33: 5 | B33: Sanitary facilities | C33: sum
A34: 6 | B34: Complying with Health and Safety Specifications | C34: sum
A35: 7 | B35: Complying with Environmental Management Plan and all other compliance obligations. | C35: Sum
A36: 8 | B36: Tools & equipment
A37: 8.1 | B37: Jack hammer | C37: Hr
A38: 8.2 | B38: TLB | C38: Hr
A39: 8.3 | B39: Other, specify | C39: Hr
A40: 9 | B40: Travelling
A41: 9.1 | B41: (4x4) LDV | C41: Hr
A42: 9.2 | B42: Traveling cost (4x2) truck - 8 ton | C42: Hr
A43: 9.3 | B43: (4x2) truck - 8 ton | C43: Hr
A44: 9.4 | B44: (4x4) truck - 8 ton | C44: Hr
...

Sheet Structural Steel Refurbishment
A1: Item No. | B1: Payment Reference | C1: Refurbishment of Telecommunication Microwave Tower at Dundee RS | D1: Unit | E1: Qty | F1: Rate | G1: Total
C2: Bill No. 2 | G2: Price ZAR
C3: Structural Steel Refurbishment | G3: ( Exl. VAT)
C4: As per Eskom Telecommunication Towers (KZN) –Dundee RS Structural Analysis Document Number: P2571-6004-06-001
C5: Description
A6: 2.1 | B6: SABS 1200H.8.3.4 | C6: Erection bolts and clamps:
C7: Notes to tenderers
C8: 1. Grade 8.8 bolts in shear and bearing type connections shall be tensioned by hand to the limit of the torque that can be applied by the use of a standard spanner.
C9: 2. Fitted bolts shall be long enough to ensure that no threaded portion is within the thickness of the connected parts required to develop the bearing load on the bolt ,and shall be provided with washers, under the nut, of thickness such as to ensure that at least one full thread (in addition to the thread runout) remains clear between the nut and the unthreaded shank.
C10: 3. Bolts at each connection cleat are to be removed and replaced one at a time to maintain the structural integrity of the tower
C11: 4. Connections shall be made in a manner to avoid eccentricity as much as possible. Erection bolts shall be located as near to the centre of gravity of the members as practicable.
C12: 5. Nuts and bolts that bear on sloping faces shall be provided with bevelled washers.
C13: 6. Spacers shall be provided as necessary for all gaps to prevent distortion of new fabricated members. Spacers between members where more than one bolt is involved shall be one plate of the required thickness. Where a single bolt is involved, the spacer may be made up of 3 pieces. The thickness of the individual spacers shall be limited to the following standard size: 5mm, 8mm and 12mm.
C14: 7. Proof of the Grade 8.8 bolts and nuts are to be issued to Eskom upon delivery together to prevent lower grade nuts being used with higher grade bolts.
A15: 1 | B15: SABS 1200H.8.3.4 | C15: Removal and scrapping of corroded bolts and nuts and washers to the entire steel structure tower | D15: sum | E15: 1
A16: 2 | B16: SABS 1200H.8.3.4 | C16: Supply, deliver to site and install galvanized high strength by replacing existing M16 bolts with M16 grade 8.8 fully threaded bolts | D16: no | E16: 400
A17: 3 | B17: SABS 1200H.8.3.4 | C17: Supply, deliver to site and install galvanized high strength friction grip bolts M 12 (Grade 4.8) x 60mm, including nut, hardened steel washer, load indicating washer, taper washer where needed and sherardized. | D17: no | E17: 150
D18: Sub-total Bill 2.1 | G18: =SUM(G15:G17) -> 0
A19: 2.3 | B19: SABS 1200H.8.3.4 | C19: CAT ladder:
A20: 1 | B20: SABS 1200H.8.3.4 | C20: Removal and scrapping of corrodeded M12 U-bolts, washers and nuts | D20: sum | E20: 1
A21: 2 | B21: SABS 1200H.8.3.4 | C21: Supply, deliver to site and install new M12 U bolts with washers and nuts | D21: sum | E21: 1
D22: Sub-total Bill 2.2 | G22: =SUM(G20:G21) -> 0
A23: 2.4 | B23: SABS 1200H.8.3.4 | C23: Cable rack:
A24: 1 | B24: SABS 1200H.8.3.4 | C24: Remove corroded feeder clamps | D24: sum | E24: 1
A25: 2 | C25: Install hot dipped height raised galvanized heavy duty feeder clamps to vertical cable rack/gantry (ET to supply feeder clamps) | D25: no | E25: 60
A26: 3 | B26: SABS 1200H.8.3.4 | C26: Replace hail-guard covers | D26: no | E26: 6
D27: Sub-total Bill 2.3 | G27: =SUM(G24:G26) -> 0
A28: 2.5 | B28: SABS 1200H.8.3.5 | C28: Site Welding:
A29: 1 | B29: SABS 1200H.8.3.5 | C29: Welding of structural steel components to appropriate positions (provisional) | D29: m | E29: 25
A30: 2 | B30: SABS 1200H.7.3.1 | C30: Inspection and testing of welds: (certificates required) | D30: sum | E30: 1
D31: Sub-total Bill 2.5 | G31: =SUM(G29:G30) -> 0
A32: 2.6 | B32: SABS 1200G.8.7 | C32: Grouting:
A33: 1 | B33: SABS 1200G.8.7a | C33: Non-shrink, non-metallic, free-flowing 25mm 35MPa grouting under base plates. | D33: m3 | E33: 1
D34: Sub-total Bill 2.6 | G34: =G33 -> 0
A35: 2.7 | B35: SABS 1200G.8.8 | C35: HOLDING DOWN BOLTS AND MISCELLANEOUS
C36: Notes to tenderers
C37: 1. Holding Down bolts shall be designed and detailed in accordance with design recommendations as per the latest version of the Southern African Steel Construction Handbook published by the South African Institute of Steel Construction.
C38: 2. Holding Down bolts must protrude sufficiently to allow double nut fixing per bolt with at least three threads above the last nut.
C39: 2. Lock nuts to be Grade 8.8 to match the existing Holding Down bolts. These new locknuts and old nuts are not to be torqued but only tightened with a spanner.
A40: 1 | B40: SABS 1200G.8.8 | C40: Remove corroded Holding Down bolts and locknuts to structural steel tower base including nuts, steel washer and taper washers upon the instructions of the Structural Engineer and Eskom site representative | D40: sum | E40: 1
...

Sheet Final Summary
A2: Bill No. | B2: Refurbishment of Telecommunication Microwave Tower at Dundee RS | D2: Total
B3: Final Summary | D3: Price ZAR
B4: Description of Bill | D4: ( Exl VAT)
A6: 1 | B6: PRELIMINARY AND GENERAL
A7: 1.1 | B7: Fixed costs | D7: ='P&G'!$F$22 -> 0
A8: 1.2 | B8: Monthly Costs | D8: ='P&G'!F47 -> 0
C9: Sub-Total P&Gs | D9: =SUM(D7:D8) -> 0
A12: 3 | B12: RE-FURBISHMENT OF TOWER
A13: 3.1 | B13: Erection bolts and clamps: | D13: ='Structural Steel Refurbishment'!G18 -> 0
A14: 3.2 | B14: CAT ladder: | D14: ='Structural Steel Refurbishment'!G22 -> 0
A15: 3.3 | B15: Cable rack | D15: ='Structural Steel Refurbishment'!G27 -> 0
A16: 3.4 | B16: Site Welding: | D16: ='Structural Steel Refurbishment'!G31 -> 0
A17: 3.5 | B17: Grouting: | D17: ='Structural Steel Refurbishment'!G34 -> 0
A18: 3.6 | B18: Holding Down Bolts and Miscellaneous | D18: ='Structural Steel Refurbishment'!G42 -> 0
A19: 3.7 | B19: Structural Steel Corrosion Protection | D19: ='Structural Steel Refurbishment'!G53 -> 0
A20: 3.8 | B20: Foundations | D20: ='Structural Steel Refurbishment'!G67 -> 0
C21: Sub-Total Refurbishment of Tower | D21: =SUM('Final Summary'!D13:D20) -> 0
C25: TOTAL SUMMARY (TOTAL TENDER PRICING) | D25: =D21+D9 -> 0
B26: Contigencies | D26: =D25*10% -> 0
B27: Total including contigencies | D27: =D26+D25 -> 0
