Workbook
Name Consequence: '[1]Drop Down Lists'!$A$3:$A$8
Name Likelihood: '[1]Drop Down Lists'!$B$3:$B$7
Name RCE: '[1]Drop Down Lists'!$D$3:$D$7

Sheet OHS Risk Assessment Architects
A3: Occupational Health and Safety Baseline risk assessment template
A4: Business/Operating unit: | B4: Eskom Real Estate (Free State) | J4: Department: | K4: Architectural Proffessional Services | U4: Next Review Date (every 2 years): | V4: 45544 | W4: Template identifier: | X4: 240-70044602
A6: Date: | B6: 44823 | J6: Prepared by: | K6: Faith Dube | M6: Authorised by: | O6: Name: Khanyisile Zwane | W6: Document identifier
O7: Designation: SHEQ Manager | W7: Revision number: | X7: 4
O8: Date: | W8: Revision date: | X8: 46507
A9: Refer to Occupational Health and Safety Risk assessment procedure 32-520
A10: List activity | B10: Activity type (Routine/Non-routine) | C10: Hazard nr | D10: Hazard Identification | E10: Risk Nr | F10: Associated risk | G10: Risk type | H10: Cause(s) of the risk | I10: Exposed group/employees | J10: Risk Owner | K10: Exposure patterns | L10: What are the possible consequences? | M10: Existing Controls | P10: Risk Priority Rating | R10: Additional Controls or Tasks Aimed at improving Existing Controls | S10: Monitoring Mechanisms | T10: Control Owner | U10: Legal and Other Requirements | V10: Target Date | W10: Current Status | X10: Integrated Risk Management (IRM) reference number
A11: List specific activities to be performed taking into consideration the equipment to be used, the personnel involved in the task. | B11: Indicate R or N 1. Routine activities and situations create hazards through day-to-day operations and normal work activities; 2. Non-routine activities and situations are occasional or unplanned; | C11: # | D11: Anything with potential to cause of harm. Note: A hazard can pose more than one risk. | E11: # | F11: A chance that injury , ill health or damage could occur as a result of uncontrolled hazard. | G11: Safety or health | H11: What causes the risk to come into effect? | I11: Who is exposed to the hazard i.e. visitors, members of the public, etc. | J11: Who is accountable for making sure the controls and monitors are: - in place, - implemented, - regularly reviewed for effectiveness. | K11: The frequency and duration the person/group is exposed to the hazard e.g. Daily for 3 hrs. | L11: Consider the worse case scenario without controls? | M11: Include: - Preventative Controls (controls implemented to eliminate hazards or reduce the likelihood of the risk occurring), and - Reactive Controls (controls implemented to reduce the immediate impact of the risk occurring) Elimination Substitution Engineering controls Administrative controls Personal protective equipment (PPE) | N11: Consequence | O11: Likelihood | Q11: RCE Risk Control Effectiveness | R11: Include: - Preventative Controls (controls implemented to eliminate hazards or reduce the likelihood of the risk occurring), and - Reactive Controls (controls implemented to reduce the immediate impact of the risk occurring) Elimination Substitution Engineering controls Administrative controls Personal protective equipment (PPE) NB: The risk shall be evaluated, assessed and rated again once additional controls have been implemented and those controls listed as existing controls. | S11: How we know if we are succeeding. Include comments on effectiveness. This may include i.e. measurements, inspections, supervision where necessary. | T11: Person allocated the responsibility for implementing the agreed controls (if applicable) | U11: Where relevant, list the relevant legislative and or Eskom requirements that prescribe the control. | V11: Once a date has been agreed to, this can not be changed (if applicable) | W11: Pending, In Progress, Complete (if applicable) | X11: Where applicable, add IRM system reference number for tracking of treatment actions. (applicable to risks that have an impact on business objectives or require intervention from Senior or Executive management such as impementing major engineering projects as a control)
A12: Driving | B12: R | C12: 1 | D12: Ergonomic | E12: 1 | F12: discomfort | G12: Health | H12: driving for long periods, incorrect posture | I12: Principal Contractor | J12: Principal Contractor | K12: Daily | L12: ill health, back aches, strains, fatigue | M12: Currently no existing controls | N12: 6 | O12: C | P12: I | R12: Stop ,rest pereods review and monitor the existing controls. Ensure that ontrols are well designed for the risk, and address the root causes. | T12: Principal Contractor | U12: SHE Specification OHSA 85 of 1993
A13: Weather Conditions | B13: N | C13: 2 | D13: Adverse Weather Conditions | E13: 2 | F13: Extreme Temperatures, Floods, heavy mist | G13: Safety | H13: Natural causes | I13: Principal Contractor | J13: Principal Contractor | K13: Daily ± 8 Hours | L13: Medical treatment, Lost Time Incident, Fatality | M13: Currently no existing control | N13: 6 | O13: C | P13: I | R13: Work stoppage rule, Supervision, Weather monitoring & reporting, Competency & trainingsafe work procedures. | T13: Principal Contractor | U13: SHE Specification OHSA 85 of 1993
A14: General work | B14: N | C14: 3 | D14: Exposure to insects (ticks; bees, wasps, fleas, etc) | E14: 3 | F14: Insect bites | G14: Health | H14: contact with insects, inadequate protection; disturbance of habitat | I14: Principal Contractor | J14: Principal Contractor | K14: Daily /+-8hours | L14: injury, ill health | M14: Currently no existing controls | N14: 6 | O14: C | P14: I | R14: ongoing awareness including advising contractor employees on knowing their allergies e.g penicillin, advise supervisors of any known allergies. | T14: Principal Contractor | U14: SHE Specification OHSA 85 of 1993
A15: Site access/Gate control | B15: R | C15: 4 | D15: Temperature scanners | E15: 4 | F15: Persons being allowed to enter that may potentially be infected | G15: Health | H15: scanners providing inaccurate readings, poor maintenance of scanners, no calibration of equipment | I15: Principal Contractor | J15: Principal Contractor | K15: Daily | L15: ill-health (dry cough, sore throat, difficulty in breathing, tiredness, fever); fatalities | M15: Currently no existing controls | N15: 6 | O15: C | P15: I | R15: Readings should be monitored for trends. If readings are continuosly low, the scanner should be checked against another scanner to determine variance. | T15: Principal Contractor | U15: Government Gazzette
A16: Site access/Gate control | B16: R | C16: 5 | D16: Signing of the register at the entrances | E16: 5 | F16: Cross contamination and transmission of the corona virus | G16: Health | H16: everyone using the same pen and register, cross contamination | I16: Principal Contractor | J16: Principal Contractor | K16: Daily | L16: ill-health (dry cough, sore throat, difficulty in breathing, tiredness, fever); fatalities | M16: Currently no existing controls | N16: 6 | O16: C | P16: I | R16: Ensure that there is sufficient sanitising and cleaning material provided at the point of use. Where possible, the guards should fill in the registers. | T16: Principal Contractor | U16: Government Gazzette
A17: Working with computers | B17: R | C17: 6 | D17: Ergonomics | E17: 6 | F17: Muscle strain / Back injuries | H17: Excessive duration in seated position, incorrect set-up of work station and repetitive movements and glare. | I17: Principal Contractor | J17: Principal Contractors | K17: Daily | L17: Upper limb disorders, muscle strain, hunch back, eye strain, headache and fatigue, Carpal syndrome | M17: Currently No existing Controls | N17: 6 | O17: C | P17: I | R17: Administrative: Employees encouraged to take regular rest periods. Ergonomics presentation sent to employees, ERE redesigning and relocating workstations at request. Luminaires switched off as required. Ergonomic surveys and Health and Wellness department available. | T17: Principal Contractor | U17: OHSA,Ergonomics Regulations ,2019
A18: Working at height(assesment of existing structures) | B18: R | C18: 7 | D18: Falling | E18: 7 | F18: Falling from elevated position | G18: Safety | H18: Employees falling as result of un protected edges or unsecured openings in floors Employees falling as a results of rotten purlins or rotten timber. Employees falling as a result of unstable or unknown structural integrity. Employees falling as they may be scared of heights. Slipping and falling as result of wet structures, Employees falling because of insufficient fall protection or poorly erected fall protection, Employees fall as result of failure to attach fall arrest equipment to fall protection. | I18: Principal Contractor | J18: Principal Contractor | K18: Daily /+-8hours | L18: Medical treatment, Lost Time Incident, Fatality | M18: Currently no existing controls | N18: 6 | O18: C | P18: I | R18: Fall protection plan, fall rescue plan, emergency preparedness and response plan, application of fall arrest equipment training, monitoring of weather conditions, medical screening and review, induction, fall protection training, rescue team selection and training, pre task risk assessment before work commence, safe access permit, safe work procedure, planned task observation , job safety analysis, issue based risk assessment, toolbox talks, daily pre work workplace walkabout inspection and action, incident recall, notices and signs display , personal protective equipment survey and issue record, pre use inspection, , visible felt leadership. | T18: Principal Contractor | U18: CR 10_Fall 32-418 _Protection_Eskom Working at height Standard 32-136 _Contractor Health & Safety Requirements - Eskom SHE specification - OHSA 85 OF 1993
A19: Working on confined spaces | B19: R | C19: 8 | D19: Poor ventilation Dust Heat Stress Cables | E19: 8 | F19: Suffocation Ihailation of dust tripping and falling | G19: Health | H19: Tripping due to cables running on ceiling boards and lackof lighting. Inhaillation of dust. Hot working conditions | I19: Principal Contractor | J19: Principal Contractor | K19: Daily | L19: Medical Treatment, Lost Time Incident,Occupational deseases & Fatality | M19: Currently no existing controls | N19: 6 | O19: C | P19: I | R19: Awaremess on Environmental Regulations. Awsareness on General Safety Regulations Safety induction Activity Based Risk Assessment | U19: SHE Specification OHSA 85 of 1993

Sheet Contractor Baseline template
A3: Occupational Health and Safety Baseline risk assessment template
A4: Business/Operating unit: | B4: KZN | I4: 45463 | K4: Next Review Date (every 2 years): | L4: Template identifier:
A6: Date: | B6: 44733 | F6: Authorised by: | H6: Name: Khanyisile Zwane | K6: Document identifier | AA6: R | AB6: Safety | AC6: 1 | AD6: A | AE6: Fully effective | AF6: I
H7: Designation:SHEQ Manager | K7: Revision number: | L7: 4 | AA7: N | AB7: Health | AC7: 2 | AD7: B | AE7: Mostly effective | AF7: II
H8: Signed: | K8: Revision date: | L8: 45777 | AC8: 3 | AD8: C | AE8: Mostly ineffective | AF8: III
A9: Refer to Occupational Health and Safety Risk assessment procedure 32-520 | AC9: 5 | AD9: E
A10: List activity | B10: Hazard Identification | C10: Associated risk | D10: Risk type | E10: What are the possible consequences? | F10: Existing Controls | I10: Risk Priority Rating | K10: Control Owner | L10: Legal and Other Requirements | AC10: 6
A11: List specific activities to be performed taking into consideration the equipment to be used, the personnel involved in the task. | B11: Anything with potential to cause of harm. Note: A hazard can pose more than one risk. | C11: A chance that injury , ill health or damage could occur as a result of uncontrolled hazard. | D11: Safety or health | E11: Consider the worse case scenario without controls? | F11: Include: - Preventative Controls (controls implemented to eliminate hazards or reduce the likelihood of the risk occurring), and - Reactive Controls (controls implemented to reduce the immediate impact of the risk occurring) Elimination Substitution Engineering controls Administrative controls Personal protective equipment (PPE) | G11: Consequence | H11: Likelihood | J11: RCE Risk Control Effectiveness | K11: Person allocated the responsibility for implementing the agreed controls | L11: Where relevant, list the relevant legislative and or Eskom requirements that prescribe the control.
A12: =IF('OHS Risk Assessment Architects'!#REF!="","",'OHS Risk Assessment Architects'!#REF!) -> #REF! | B12: =IF('OHS Risk Assessment Architects'!#REF!="","",'OHS Risk Assessment Architects'!#REF!) -> #REF! | C12: =IF('OHS Risk Assessment Architects'!#REF!="","",'OHS Risk Assessment Architects'!#REF!) -> #REF! | E12: =IF('OHS Risk Assessment Architects'!#REF!="","",'OHS Risk Assessment Architects'!#REF!) -> #REF! | F12: =IF('OHS Risk Assessment Architects'!#REF!="","",'OHS Risk Assessment Architects'!#REF!) -> #REF! | K12: =IF('OHS Risk Assessment Architects'!#REF!="","",'OHS Risk Assessment Architects'!#REF!) -> #REF! | L12: =IF('OHS Risk Assessment Architects'!#REF!="","",'OHS Risk Assessment Architects'!#REF!) -> #REF!
A13: =IF('OHS Risk Assessment Architects'!#REF!="","",'OHS Risk Assessment Architects'!#REF!) -> #REF! | B13: =IF('OHS Risk Assessment Architects'!#REF!="","",'OHS Risk Assessment Architects'!#REF!) -> #REF! | C13: =IF('OHS Risk Assessment Architects'!#REF!="","",'OHS Risk Assessment Architects'!#REF!) -> #REF! | E13: =IF('OHS Risk Assessment Architects'!#REF!="","",'OHS Risk Assessment Architects'!#REF!) -> #REF! | F13: =IF('OHS Risk Assessment Architects'!#REF!="","",'OHS Risk Assessment Architects'!#REF!) -> #REF! | K13: Principal Contractor | L13: CR 10_Fall 32-418 _Protection_Eskom Working at height Standard 32-136 _Contractor Health & Safety Requirements - Eskom SHE specification - OHSA 85 OF 1993
A14: =IF('OHS Risk Assessment Architects'!#REF!="","",'OHS Risk Assessment Architects'!#REF!) -> #REF! | B14: Incorrect lifting method | C14: =IF('OHS Risk Assessment Architects'!#REF!="","",'OHS Risk Assessment Architects'!#REF!) -> #REF! | E14: =IF('OHS Risk Assessment Architects'!#REF!="","",'OHS Risk Assessment Architects'!#REF!) -> #REF! | F14: =IF('OHS Risk Assessment Architects'!#REF!="","",'OHS Risk Assessment Architects'!#REF!) -> #REF! | K14: =IF('OHS Risk Assessment Architects'!#REF!="","",'OHS Risk Assessment Architects'!#REF!) -> #REF! | L14: =IF('OHS Risk Assessment Architects'!#REF!="","",'OHS Risk Assessment Architects'!#REF!) -> #REF!
A15: =IF('OHS Risk Assessment Architects'!#REF!="","",'OHS Risk Assessment Architects'!#REF!) -> #REF! | B15: =IF('OHS Risk Assessment Architects'!#REF!="","",'OHS Risk Assessment Architects'!#REF!) -> #REF! | C15: =IF('OHS Risk Assessment Architects'!#REF!="","",'OHS Risk Assessment Architects'!#REF!) -> #REF! | E15: =IF('OHS Risk Assessment Architects'!#REF!="","",'OHS Risk Assessment Architects'!#REF!) -> #REF! | F15: =IF('OHS Risk Assessment Architects'!#REF!="","",'OHS Risk Assessment Architects'!#REF!) -> #REF! | K15: =IF('OHS Risk Assessment Architects'!#REF!="","",'OHS Risk Assessment Architects'!#REF!) -> #REF! | L15: =IF('OHS Risk Assessment Architects'!#REF!="","",'OHS Risk Assessment Architects'!#REF!) -> #REF!
A16: =IF('OHS Risk Assessment Architects'!#REF!="","",'OHS Risk Assessment Architects'!#REF!) -> #REF! | B16: =IF('OHS Risk Assessment Architects'!#REF!="","",'OHS Risk Assessment Architects'!#REF!) -> #REF! | C16: =IF('OHS Risk Assessment Architects'!#REF!="","",'OHS Risk Assessment Architects'!#REF!) -> #REF! | E16: =IF('OHS Risk Assessment Architects'!#REF!="","",'OHS Risk Assessment Architects'!#REF!) -> #REF! | F16: =IF('OHS Risk Assessment Architects'!#REF!="","",'OHS Risk Assessment Architects'!#REF!) -> #REF! | K16: =IF('OHS Risk Assessment Architects'!#REF!="","",'OHS Risk Assessment Architects'!#REF!) -> #REF! | L16: =IF('OHS Risk Assessment Architects'!#REF!="","",'OHS Risk Assessment Architects'!#REF!) -> #REF!
A17: =IF('OHS Risk Assessment Architects'!#REF!="","",'OHS Risk Assessment Architects'!#REF!) -> #REF! | B17: =IF('OHS Risk Assessment Architects'!#REF!="","",'OHS Risk Assessment Architects'!#REF!) -> #REF! | C17: =IF('OHS Risk Assessment Architects'!#REF!="","",'OHS Risk Assessment Architects'!#REF!) -> #REF! | E17: =IF('OHS Risk Assessment Architects'!#REF!="","",'OHS Risk Assessment Architects'!#REF!) -> #REF! | F17: =IF('OHS Risk Assessment Architects'!#REF!="","",'OHS Risk Assessment Architects'!#REF!) -> #REF! | K17: =IF('OHS Risk Assessment Architects'!#REF!="","",'OHS Risk Assessment Architects'!#REF!) -> #REF! | L17: =IF('OHS Risk Assessment Architects'!#REF!="","",'OHS Risk Assessment Architects'!#REF!) -> #REF!
A18: =IF('OHS Risk Assessment Architects'!#REF!="","",'OHS Risk Assessment Architects'!#REF!) -> #REF! | B18: =IF('OHS Risk Assessment Architects'!#REF!="","",'OHS Risk Assessment Architects'!#REF!) -> #REF! | C18: =IF('OHS Risk Assessment Architects'!#REF!="","",'OHS Risk Assessment Architects'!#REF!) -> #REF! | E18: =IF('OHS Risk Assessment Architects'!#REF!="","",'OHS Risk Assessment Architects'!#REF!) -> #REF! | F18: =IF('OHS Risk Assessment Architects'!#REF!="","",'OHS Risk Assessment Architects'!#REF!) -> #REF! | K18: =IF('OHS Risk Assessment Architects'!#REF!="","",'OHS Risk Assessment Architects'!#REF!) -> #REF! | L18: =IF('OHS Risk Assessment Architects'!#REF!="","",'OHS Risk Assessment Architects'!#REF!) -> #REF!
A19: =IF('OHS Risk Assessment Architects'!#REF!="","",'OHS Risk Assessment Architects'!#REF!) -> #REF! | B19: =IF('OHS Risk Assessment Architects'!#REF!="","",'OHS Risk Assessment Architects'!#REF!) -> #REF! | C19: =IF('OHS Risk Assessment Architects'!#REF!="","",'OHS Risk Assessment Architects'!#REF!) -> #REF! | E19: =IF('OHS Risk Assessment Architects'!#REF!="","",'OHS Risk Assessment Architects'!#REF!) -> #REF! | F19: =IF('OHS Risk Assessment Architects'!#REF!="","",'OHS Risk Assessment Architects'!#REF!) -> #REF! | K19: =IF('OHS Risk Assessment Architects'!#REF!="","",'OHS Risk Assessment Architects'!#REF!) -> #REF! | L19: =IF('OHS Risk Assessment Architects'!#REF!="","",'OHS Risk Assessment Architects'!#REF!) -> #REF!
A20: =IF('OHS Risk Assessment Architects'!#REF!="","",'OHS Risk Assessment Architects'!#REF!) -> #REF! | B20: =IF('OHS Risk Assessment Architects'!#REF!="","",'OHS Risk Assessment Architects'!#REF!) -> #REF! | C20: =IF('OHS Risk Assessment Architects'!#REF!="","",'OHS Risk Assessment Architects'!#REF!) -> #REF! | E20: =IF('OHS Risk Assessment Architects'!#REF!="","",'OHS Risk Assessment Architects'!#REF!) -> #REF! | F20: =IF('OHS Risk Assessment Architects'!#REF!="","",'OHS Risk Assessment Architects'!#REF!) -> #REF! | K20: =IF('OHS Risk Assessment Architects'!#REF!="","",'OHS Risk Assessment Architects'!#REF!) -> #REF! | L20: =IF('OHS Risk Assessment Architects'!#REF!="","",'OHS Risk Assessment Architects'!#REF!) -> #REF!
A21: =IF('OHS Risk Assessment Architects'!A12="","",'OHS Risk Assessment Architects'!A12) -> Driving | B21: =IF('OHS Risk Assessment Architects'!A12="","",'OHS Risk Assessment Architects'!D12) -> Ergonomic | C21: =IF('OHS Risk Assessment Architects'!A12="","",'OHS Risk Assessment Architects'!F12) -> discomfort | E21: =IF('OHS Risk Assessment Architects'!A12="","",'OHS Risk Assessment Architects'!L12) -> ill health, back aches, strains, fatigue | F21: =IF('OHS Risk Assessment Architects'!A12="","",'OHS Risk Assessment Architects'!M12) -> Currently no existing controls | K21: =IF('OHS Risk Assessment Architects'!A12="","",'OHS Risk Assessment Architects'!T12) -> Principal Contractor | L21: =IF('OHS Risk Assessment Architects'!A12="","",'OHS Risk Assessment Architects'!U12) -> SHE Specification OHSA 85 of 1993
A22: =IF('OHS Risk Assessment Architects'!A14="","",'OHS Risk Assessment Architects'!A14) -> General work | B22: =IF('OHS Risk Assessment Architects'!A14="","",'OHS Risk Assessment Architects'!D14) -> Exposure to insects (ticks; bees, wasps, fleas, etc) | C22: =IF('OHS Risk Assessment Architects'!A14="","",'OHS Risk Assessment Architects'!F14) -> Insect bites | E22: =IF('OHS Risk Assessment Architects'!A14="","",'OHS Risk Assessment Architects'!L14) -> injury, ill health | F22: =IF('OHS Risk Assessment Architects'!A14="","",'OHS Risk Assessment Architects'!M14) -> Currently no existing controls | K22: =IF('OHS Risk Assessment Architects'!A14="","",'OHS Risk Assessment Architects'!T13) -> Principal Contractor | L22: =IF('OHS Risk Assessment Architects'!A14="","",'OHS Risk Assessment Architects'!U13) -> SHE Specification OHSA 85 of 1993
A23: =IF('OHS Risk Assessment Architects'!#REF!="","",'OHS Risk Assessment Architects'!#REF!) -> #REF! | B23: =IF('OHS Risk Assessment Architects'!#REF!="","",'OHS Risk Assessment Architects'!#REF!) -> #REF! | C23: =IF('OHS Risk Assessment Architects'!#REF!="","",'OHS Risk Assessment Architects'!#REF!) -> #REF! | E23: =IF('OHS Risk Assessment Architects'!#REF!="","",'OHS Risk Assessment Architects'!#REF!) -> #REF! | F23: =IF('OHS Risk Assessment Architects'!#REF!="","",'OHS Risk Assessment Architects'!#REF!) -> #REF! | K23: =IF('OHS Risk Assessment Architects'!#REF!="","",'OHS Risk Assessment Architects'!T14) -> #REF! | L23: =IF('OHS Risk Assessment Architects'!#REF!="","",'OHS Risk Assessment Architects'!U14) -> #REF!
A24: =IF('OHS Risk Assessment Architects'!#REF!="","",'OHS Risk Assessment Architects'!#REF!) -> #REF! | B24: =IF('OHS Risk Assessment Architects'!#REF!="","",'OHS Risk Assessment Architects'!#REF!) -> #REF! | C24: =IF('OHS Risk Assessment Architects'!#REF!="","",'OHS Risk Assessment Architects'!#REF!) -> #REF! | E24: =IF('OHS Risk Assessment Architects'!#REF!="","",'OHS Risk Assessment Architects'!#REF!) -> #REF! | F24: =IF('OHS Risk Assessment Architects'!#REF!="","",'OHS Risk Assessment Architects'!#REF!) -> #REF! | K24: =IF('OHS Risk Assessment Architects'!#REF!="","",'OHS Risk Assessment Architects'!#REF!) -> #REF! | L24: =IF('OHS Risk Assessment Architects'!#REF!="","",'OHS Risk Assessment Architects'!#REF!) -> #REF!
A25: =IF('OHS Risk Assessment Architects'!A15="","",'OHS Risk Assessment Architects'!A15) -> Site access/Gate control | B25: =IF('OHS Risk Assessment Architects'!A15="","",'OHS Risk Assessment Architects'!D15) -> Temperature scanners | C25: =IF('OHS Risk Assessment Architects'!A15="","",'OHS Risk Assessment Architects'!F15) -> Persons being allowed to enter that may potentially be infected | E25: =IF('OHS Risk Assessment Architects'!A15="","",'OHS Risk Assessment Architects'!L15) -> ill-health (dry cough, sore throat, difficulty in breathing, tiredness, fever); fatalities | F25: =IF('OHS Risk Assessment Architects'!A15="","",'OHS Risk Assessment Architects'!M15) -> Currently no existing controls | K25: =IF('OHS Risk Assessment Architects'!A15="","",'OHS Risk Assessment Architects'!#REF!) -> #REF! | L25: =IF('OHS Risk Assessment Architects'!A15="","",'OHS Risk Assessment Architects'!#REF!) -> #REF!
A26: =IF('OHS Risk Assessment Architects'!#REF!="","",'OHS Risk Assessment Architects'!#REF!) -> #REF! | B26: =IF('OHS Risk Assessment Architects'!#REF!="","",'OHS Risk Assessment Architects'!#REF!) -> #REF! | C26: =IF('OHS Risk Assessment Architects'!#REF!="","",'OHS Risk Assessment Architects'!#REF!) -> #REF! | E26: =IF('OHS Risk Assessment Architects'!#REF!="","",'OHS Risk Assessment Architects'!#REF!) -> #REF! | F26: =IF('OHS Risk Assessment Architects'!#REF!="","",'OHS Risk Assessment Architects'!#REF!) -> #REF! | K26: =IF('OHS Risk Assessment Architects'!#REF!="","",'OHS Risk Assessment Architects'!T15) -> #REF! | L26: =IF('OHS Risk Assessment Architects'!#REF!="","",'OHS Risk Assessment Architects'!U15) -> #REF!
A27: =IF('OHS Risk Assessment Architects'!A16="","",'OHS Risk Assessment Architects'!A16) -> Site access/Gate control | B27: =IF('OHS Risk Assessment Architects'!A16="","",'OHS Risk Assessment Architects'!D16) -> Signing of the register at the entrances | C27: =IF('OHS Risk Assessment Architects'!A16="","",'OHS Risk Assessment Architects'!F16) -> Cross contamination and transmission of the corona virus | E27: =IF('OHS Risk Assessment Architects'!A16="","",'OHS Risk Assessment Architects'!L16) -> ill-health (dry cough, sore throat, difficulty in breathing, tiredness, fever); fatalities | F27: =IF('OHS Risk Assessment Architects'!A16="","",'OHS Risk Assessment Architects'!M16) -> Currently no existing controls | K27: =IF('OHS Risk Assessment Architects'!A16="","",'OHS Risk Assessment Architects'!#REF!) -> #REF! | L27: =IF('OHS Risk Assessment Architects'!A16="","",'OHS Risk Assessment Architects'!#REF!) -> #REF!
A28: =IF('OHS Risk Assessment Architects'!A17="","",'OHS Risk Assessment Architects'!A17) -> Working with computers | B28: =IF('OHS Risk Assessment Architects'!A17="","",'OHS Risk Assessment Architects'!D17) -> Ergonomics | C28: =IF('OHS Risk Assessment Architects'!A17="","",'OHS Risk Assessment Architects'!F17) -> Muscle strain / Back injuries | E28: =IF('OHS Risk Assessment Architects'!A17="","",'OHS Risk Assessment Architects'!L17) -> Upper limb disorders, muscle strain, hunch back, eye strain, headache and fatigue, Carpal syndrome | F28: =IF('OHS Risk Assessment Architects'!A17="","",'OHS Risk Assessment Architects'!M17) -> Currently No existing Controls | K28: =IF('OHS Risk Assessment Architects'!A17="","",'OHS Risk Assessment Architects'!T16) -> Principal Contractor | L28: =IF('OHS Risk Assessment Architects'!A17="","",'OHS Risk Assessment Architects'!U16) -> Government Gazzette
A29: =IF('OHS Risk Assessment Architects'!A18="","",'OHS Risk Assessment Architects'!A18) -> Working at height(assesment of existing structures) | B29: =IF('OHS Risk Assessment Architects'!A18="","",'OHS Risk Assessment Architects'!D18) -> Falling | C29: =IF('OHS Risk Assessment Architects'!A18="","",'OHS Risk Assessment Architects'!F18) -> Falling from elevated position | E29: =IF('OHS Risk Assessment Architects'!A18="","",'OHS Risk Assessment Architects'!L18) -> Medical treatment, Lost Time Incident, Fatality | F29: =IF('OHS Risk Assessment Architects'!A18="","",'OHS Risk Assessment Architects'!M18) -> Currently no existing controls | K29: =IF('OHS Risk Assessment Architects'!A18="","",'OHS Risk Assessment Architects'!T17) -> Principal Contractor | L29: =IF('OHS Risk Assessment Architects'!A18="","",'OHS Risk Assessment Architects'!U17) -> OHSA,Ergonomics Regulations ,2019
A30: =IF('OHS Risk Assessment Architects'!A19="","",'OHS Risk Assessment Architects'!A19) -> Working on confined spaces | B30: =IF('OHS Risk Assessment Architects'!A19="","",'OHS Risk Assessment Architects'!D19) -> Poor ventilation Dust Heat Stress Cables | C30: =IF('OHS Risk Assessment Architects'!A19="","",'OHS Risk Assessment Architects'!F19) -> Suffocation Ihailation of dust tripping and falling | E30: =IF('OHS Risk Assessment Architects'!A19="","",'OHS Risk Assessment Architects'!L19) -> Medical Treatment, Lost Time Incident,Occupational deseases & Fatality | F30: =IF('OHS Risk Assessment Architects'!A19="","",'OHS Risk Assessment Architects'!M19) -> Currently no existing controls | K30: =IF('OHS Risk Assessment Architects'!A19="","",'OHS Risk Assessment Architects'!T18) -> Principal Contractor | L30: =IF('OHS Risk Assessment Architects'!A19="","",'OHS Risk Assessment Architects'!U18) -> CR 10_Fall 32-418 _Protection_Eskom Working at height Standard 32-136 _Contractor Health & Safety Requirements - Eskom SHE specification - OHSA 85 OF 1993
A31: =IF('OHS Risk Assessment Architects'!A20="","",'OHS Risk Assessment Architects'!A20) | B31: =IF('OHS Risk Assessment Architects'!A20="","",'OHS Risk Assessment Architects'!D20) | C31: =IF('OHS Risk Assessment Architects'!A20="","",'OHS Risk Assessment Architects'!F20) | E31: =IF('OHS Risk Assessment Architects'!A20="","",'OHS Risk Assessment Architects'!L20) | F31: =IF('OHS Risk Assessment Architects'!A20="","",'OHS Risk Assessment Architects'!M20) | K31: =IF('OHS Risk Assessment Architects'!A20="","",'OHS Risk Assessment Architects'!T19) | L31: =IF('OHS Risk Assessment Architects'!A20="","",'OHS Risk Assessment Architects'!U19)
A32: =IF('OHS Risk Assessment Architects'!A21="","",'OHS Risk Assessment Architects'!A21) | B32: =IF('OHS Risk Assessment Architects'!A21="","",'OHS Risk Assessment Architects'!D21) | C32: =IF('OHS Risk Assessment Architects'!A21="","",'OHS Risk Assessment Architects'!F21) | E32: =IF('OHS Risk Assessment Architects'!A21="","",'OHS Risk Assessment Architects'!L21) | F32: =IF('OHS Risk Assessment Architects'!A21="","",'OHS Risk Assessment Architects'!M21) | K32: =IF('OHS Risk Assessment Architects'!A21="","",'OHS Risk Assessment Architects'!T20) | L32: =IF('OHS Risk Assessment Architects'!A21="","",'OHS Risk Assessment Architects'!U20)
A33: =IF('OHS Risk Assessment Architects'!A22="","",'OHS Risk Assessment Architects'!A22) | B33: =IF('OHS Risk Assessment Architects'!A22="","",'OHS Risk Assessment Architects'!D22) | C33: =IF('OHS Risk Assessment Architects'!A22="","",'OHS Risk Assessment Architects'!F22) | E33: =IF('OHS Risk Assessment Architects'!A22="","",'OHS Risk Assessment Architects'!L22) | F33: =IF('OHS Risk Assessment Architects'!A22="","",'OHS Risk Assessment Architects'!M22) | K33: =IF('OHS Risk Assessment Architects'!A22="","",'OHS Risk Assessment Architects'!T21) | L33: =IF('OHS Risk Assessment Architects'!A22="","",'OHS Risk Assessment Architects'!U21)
A34: =IF('OHS Risk Assessment Architects'!A23="","",'OHS Risk Assessment Architects'!A23) | B34: =IF('OHS Risk Assessment Architects'!A23="","",'OHS Risk Assessment Architects'!D23) | C34: =IF('OHS Risk Assessment Architects'!A23="","",'OHS Risk Assessment Architects'!F23) | E34: =IF('OHS Risk Assessment Architects'!A23="","",'OHS Risk Assessment Architects'!L23) | F34: =IF('OHS Risk Assessment Architects'!A23="","",'OHS Risk Assessment Architects'!M23) | K34: =IF('OHS Risk Assessment Architects'!A23="","",'OHS Risk Assessment Architects'!T22) | L34: =IF('OHS Risk Assessment Architects'!A23="","",'OHS Risk Assessment Architects'!U22)
A35: =IF('OHS Risk Assessment Architects'!A24="","",'OHS Risk Assessment Architects'!A24) | B35: =IF('OHS Risk Assessment Architects'!A24="","",'OHS Risk Assessment Architects'!D24) | C35: =IF('OHS Risk Assessment Architects'!A24="","",'OHS Risk Assessment Architects'!F24) | E35: =IF('OHS Risk Assessment Architects'!A24="","",'OHS Risk Assessment Architects'!L24) | F35: =IF('OHS Risk Assessment Architects'!A24="","",'OHS Risk Assessment Architects'!M24) | K35: =IF('OHS Risk Assessment Architects'!A24="","",'OHS Risk Assessment Architects'!T23) | L35: =IF('OHS Risk Assessment Architects'!A24="","",'OHS Risk Assessment Architects'!U23)
A36: =IF('OHS Risk Assessment Architects'!A25="","",'OHS Risk Assessment Architects'!A25) | B36: =IF('OHS Risk Assessment Architects'!A25="","",'OHS Risk Assessment Architects'!D25) | C36: =IF('OHS Risk Assessment Architects'!A25="","",'OHS Risk Assessment Architects'!F25) | E36: =IF('OHS Risk Assessment Architects'!A25="","",'OHS Risk Assessment Architects'!L25) | F36: =IF('OHS Risk Assessment Architects'!A25="","",'OHS Risk Assessment Architects'!M25) | K36: =IF('OHS Risk Assessment Architects'!A25="","",'OHS Risk Assessment Architects'!T24) | L36: =IF('OHS Risk Assessment Architects'!A25="","",'OHS Risk Assessment Architects'!U24)
A37: =IF('OHS Risk Assessment Architects'!A26="","",'OHS Risk Assessment Architects'!A26) | B37: =IF('OHS Risk Assessment Architects'!A26="","",'OHS Risk Assessment Architects'!D26) | C37: =IF('OHS Risk Assessment Architects'!A26="","",'OHS Risk Assessment Architects'!F26) | E37: =IF('OHS Risk Assessment Architects'!A26="","",'OHS Risk Assessment Architects'!L26) | F37: =IF('OHS Risk Assessment Architects'!A26="","",'OHS Risk Assessment Architects'!M26) | K37: =IF('OHS Risk Assessment Architects'!A26="","",'OHS Risk Assessment Architects'!T25) | L37: =IF('OHS Risk Assessment Architects'!A26="","",'OHS Risk Assessment Architects'!U25)
A38: =IF('OHS Risk Assessment Architects'!A27="","",'OHS Risk Assessment Architects'!A27) | B38: =IF('OHS Risk Assessment Architects'!A27="","",'OHS Risk Assessment Architects'!D27) | C38: =IF('OHS Risk Assessment Architects'!A27="","",'OHS Risk Assessment Architects'!F27) | E38: =IF('OHS Risk Assessment Architects'!A27="","",'OHS Risk Assessment Architects'!L27) | F38: =IF('OHS Risk Assessment Architects'!A27="","",'OHS Risk Assessment Architects'!M27) | K38: =IF('OHS Risk Assessment Architects'!A27="","",'OHS Risk Assessment Architects'!T26) | L38: =IF('OHS Risk Assessment Architects'!A27="","",'OHS Risk Assessment Architects'!U26)
A39: =IF('OHS Risk Assessment Architects'!A28="","",'OHS Risk Assessment Architects'!A28) | B39: =IF('OHS Risk Assessment Architects'!A28="","",'OHS Risk Assessment Architects'!D28) | C39: =IF('OHS Risk Assessment Architects'!A28="","",'OHS Risk Assessment Architects'!F28) | E39: =IF('OHS Risk Assessment Architects'!A28="","",'OHS Risk Assessment Architects'!L28) | F39: =IF('OHS Risk Assessment Architects'!A28="","",'OHS Risk Assessment Architects'!M28) | K39: =IF('OHS Risk Assessment Architects'!A28="","",'OHS Risk Assessment Architects'!T27) | L39: =IF('OHS Risk Assessment Architects'!A28="","",'OHS Risk Assessment Architects'!U27)
... A77: =IF('OHS Risk Assessment Architects'!A66="","",'OHS Risk Assessment Architects'!A66) | B77: =IF('OHS Risk Assessment Architects'!A66="","",'OHS Risk Assessment Architects'!D66) | C77: =IF('OHS Risk Assessment Architects'!A66="","",'OHS Risk Assessment Architects'!F66) | E77: =IF('OHS Risk Assessment Architects'!A66="","",'OHS Risk Assessment Architects'!L66) | F77: =IF('OHS Risk Assessment Architects'!A66="","",'OHS Risk Assessment Architects'!M66) | K77: =IF('OHS Risk Assessment Architects'!A66="","",'OHS Risk Assessment Architects'!T65) | L77: =IF('OHS Risk Assessment Architects'!A66="","",'OHS Risk Assessment Architects'!U65)
A78: s | B78: =IF('OHS Risk Assessment Architects'!A67="","",'OHS Risk Assessment Architects'!D67) | C78: =IF('OHS Risk Assessment Architects'!A67="","",'OHS Risk Assessment Architects'!F67) | E78: =IF('OHS Risk Assessment Architects'!A67="","",'OHS Risk Assessment Architects'!L67) | F78: =IF('OHS Risk Assessment Architects'!A67="","",'OHS Risk Assessment Architects'!M67) | K78: =IF('OHS Risk Assessment Architects'!A67="","",'OHS Risk Assessment Architects'!T66) | L78: =IF('OHS Risk Assessment Architects'!A67="","",'OHS Risk Assessment Architects'!U66)
A79: =IF('OHS Risk Assessment Architects'!A68="","",'OHS Risk Assessment Architects'!A68) | B79: =IF('OHS Risk Assessment Architects'!A68="","",'OHS Risk Assessment Architects'!D68) | C79: =IF('OHS Risk Assessment Architects'!A68="","",'OHS Risk Assessment Architects'!F68) | E79: =IF('OHS Risk Assessment Architects'!A68="","",'OHS Risk Assessment Architects'!L68) | F79: =IF('OHS Risk Assessment Architects'!A68="","",'OHS Risk Assessment Architects'!M68) | K79: =IF('OHS Risk Assessment Architects'!A68="","",'OHS Risk Assessment Architects'!T67) | L79: =IF('OHS Risk Assessment Architects'!A68="","",'OHS Risk Assessment Architects'!U67)
A80: =IF('OHS Risk Assessment Architects'!A69="","",'OHS Risk Assessment Architects'!A69) | B80: =IF('OHS Risk Assessment Architects'!A69="","",'OHS Risk Assessment Architects'!D69) | C80: =IF('OHS Risk Assessment Architects'!A69="","",'OHS Risk Assessment Architects'!F69) | E80: =IF('OHS Risk Assessment Architects'!A69="","",'OHS Risk Assessment Architects'!L69) | F80: =IF('OHS Risk Assessment Architects'!A69="","",'OHS Risk Assessment Architects'!M69) | K80: =IF('OHS Risk Assessment Architects'!A69="","",'OHS Risk Assessment Architects'!T68) | L80: =IF('OHS Risk Assessment Architects'!A69="","",'OHS Risk Assessment Architects'!U68)
A81: =IF('OHS Risk Assessment Architects'!A70="","",'OHS Risk Assessment Architects'!A70) | B81: =IF('OHS Risk Assessment Architects'!A70="","",'OHS Risk Assessment Architects'!D70) | C81: =IF('OHS Risk Assessment Architects'!A70="","",'OHS Risk Assessment Architects'!F70) | E81: =IF('OHS Risk Assessment Architects'!A70="","",'OHS Risk Assessment Architects'!L70) | F81: =IF('OHS Risk Assessment Architects'!A70="","",'OHS Risk Assessment Architects'!M70) | K81: =IF('OHS Risk Assessment Architects'!A70="","",'OHS Risk Assessment Architects'!T69) | L81: =IF('OHS Risk Assessment Architects'!A70="","",'OHS Risk Assessment Architects'!U69)
A82: =IF('OHS Risk Assessment Architects'!A71="","",'OHS Risk Assessment Architects'!A71) | B82: =IF('OHS Risk Assessment Architects'!A71="","",'OHS Risk Assessment Architects'!D71) | C82: =IF('OHS Risk Assessment Architects'!A71="","",'OHS Risk Assessment Architects'!F71) | E82: =IF('OHS Risk Assessment Architects'!A71="","",'OHS Risk Assessment Architects'!L71) | F82: =IF('OHS Risk Assessment Architects'!A71="","",'OHS Risk Assessment Architects'!M71) | K82: =IF('OHS Risk Assessment Architects'!A71="","",'OHS Risk Assessment Architects'!T70) | L82: =IF('OHS Risk Assessment Architects'!A71="","",'OHS Risk Assessment Architects'!U70)
A83: =IF('OHS Risk Assessment Architects'!A72="","",'OHS Risk Assessment Architects'!A72) | B83: =IF('OHS Risk Assessment Architects'!A72="","",'OHS Risk Assessment Architects'!D72) | C83: =IF('OHS Risk Assessment Architects'!A72="","",'OHS Risk Assessment Architects'!F72) | E83: =IF('OHS Risk Assessment Architects'!A72="","",'OHS Risk Assessment Architects'!L72) | F83: =IF('OHS Risk Assessment Architects'!A72="","",'OHS Risk Assessment Architects'!M72) | K83: =IF('OHS Risk Assessment Architects'!A72="","",'OHS Risk Assessment Architects'!T71) | L83: =IF('OHS Risk Assessment Architects'!A72="","",'OHS Risk Assessment Architects'!U71)
A84: =IF('OHS Risk Assessment Architects'!A73="","",'OHS Risk Assessment Architects'!A73) | B84: =IF('OHS Risk Assessment Architects'!A73="","",'OHS Risk Assessment Architects'!D73) | C84: =IF('OHS Risk Assessment Architects'!A73="","",'OHS Risk Assessment Architects'!F73) | E84: =IF('OHS Risk Assessment Architects'!A73="","",'OHS Risk Assessment Architects'!L73) | F84: =IF('OHS Risk Assessment Architects'!A73="","",'OHS Risk Assessment Architects'!M73) | K84: =IF('OHS Risk Assessment Architects'!A73="","",'OHS Risk Assessment Architects'!T72) | L84: =IF('OHS Risk Assessment Architects'!A73="","",'OHS Risk Assessment Architects'!U72)
A85: =IF('OHS Risk Assessment Architects'!A74="","",'OHS Risk Assessment Architects'!A74) | B85: =IF('OHS Risk Assessment Architects'!A74="","",'OHS Risk Assessment Architects'!D74) | C85: =IF('OHS Risk Assessment Architects'!A74="","",'OHS Risk Assessment Architects'!F74) | E85: =IF('OHS Risk Assessment Architects'!A74="","",'OHS Risk Assessment Architects'!L74) | F85: =IF('OHS Risk Assessment Architects'!A74="","",'OHS Risk Assessment Architects'!M74) | K85: =IF('OHS Risk Assessment Architects'!A74="","",'OHS Risk Assessment Architects'!T73) | L85: =IF('OHS Risk Assessment Architects'!A74="","",'OHS Risk Assessment Architects'!U73)
A86: =IF('OHS Risk Assessment Architects'!A75="","",'OHS Risk Assessment Architects'!A75) | B86: =IF('OHS Risk Assessment Architects'!A75="","",'OHS Risk Assessment Architects'!D75) | C86: =IF('OHS Risk Assessment Architects'!A75="","",'OHS Risk Assessment Architects'!F75) | E86: =IF('OHS Risk Assessment Architects'!A75="","",'OHS Risk Assessment Architects'!L75) | F86: =IF('OHS Risk Assessment Architects'!A75="","",'OHS Risk Assessment Architects'!M75) | K86: =IF('OHS Risk Assessment Architects'!A75="","",'OHS Risk Assessment Architects'!T74) | L86: =IF('OHS Risk Assessment Architects'!A75="","",'OHS Risk Assessment Architects'!U74)
A87: =IF('OHS Risk Assessment Architects'!A76="","",'OHS Risk Assessment Architects'!A76) | B87: =IF('OHS Risk Assessment Architects'!A76="","",'OHS Risk Assessment Architects'!D76) | C87: =IF('OHS Risk Assessment Architects'!A76="","",'OHS Risk Assessment Architects'!F76) | E87: =IF('OHS Risk Assessment Architects'!A76="","",'OHS Risk Assessment Architects'!L76) | F87: =IF('OHS Risk Assessment Architects'!A76="","",'OHS Risk Assessment Architects'!M76) | K87: =IF('OHS Risk Assessment Architects'!A76="","",'OHS Risk Assessment Architects'!T75) | L87: =IF('OHS Risk Assessment Architects'!A76="","",'OHS Risk Assessment Architects'!U75)
A88: =IF('OHS Risk Assessment Architects'!A77="","",'OHS Risk Assessment Architects'!A77) | B88: =IF('OHS Risk Assessment Architects'!A77="","",'OHS Risk Assessment Architects'!D77) | C88: =IF('OHS Risk Assessment Architects'!A77="","",'OHS Risk Assessment Architects'!F77) | E88: =IF('OHS Risk Assessment Architects'!A77="","",'OHS Risk Assessment Architects'!L77) | F88: =IF('OHS Risk Assessment Architects'!A77="","",'OHS Risk Assessment Architects'!M77) | K88: =IF('OHS Risk Assessment Architects'!A77="","",'OHS Risk Assessment Architects'!T76) | L88: =IF('OHS Risk Assessment Architects'!A77="","",'OHS Risk Assessment Architects'!U76)
A89: =IF('OHS Risk Assessment Architects'!A78="","",'OHS Risk Assessment Architects'!A78) | B89: =IF('OHS Risk Assessment Architects'!A78="","",'OHS Risk Assessment Architects'!D78) | C89: =IF('OHS Risk Assessment Architects'!A78="","",'OHS Risk Assessment Architects'!F78) | E89: =IF('OHS Risk Assessment Architects'!A78="","",'OHS Risk Assessment Architects'!L78) | F89: =IF('OHS Risk Assessment Architects'!A78="","",'OHS Risk Assessment Architects'!M78) | K89: =IF('OHS Risk Assessment Architects'!A78="","",'OHS Risk Assessment Architects'!T77) | L89: =IF('OHS Risk Assessment Architects'!A78="","",'OHS Risk Assessment Architects'!U77)
A90: =IF('OHS Risk Assessment Architects'!A79="","",'OHS Risk Assessment Architects'!A79) | B90: =IF('OHS Risk Assessment Architects'!A79="","",'OHS Risk Assessment Architects'!D79) | C90: =IF('OHS Risk Assessment Architects'!A79="","",'OHS Risk Assessment Architects'!F79) | E90: =IF('OHS Risk Assessment Architects'!A79="","",'OHS Risk Assessment Architects'!L79) | F90: =IF('OHS Risk Assessment Architects'!A79="","",'OHS Risk Assessment Architects'!M79) | K90: =IF('OHS Risk Assessment Architects'!A79="","",'OHS Risk Assessment Architects'!T78) | L90: =IF('OHS Risk Assessment Architects'!A79="","",'OHS Risk Assessment Architects'!U78)
... A174: =IF('OHS Risk Assessment Architects'!A163="","",'OHS Risk Assessment Architects'!A163) | B174: =IF('OHS Risk Assessment Architects'!A163="","",'OHS Risk Assessment Architects'!D163) | C174: =IF('OHS Risk Assessment Architects'!A163="","",'OHS Risk Assessment Architects'!F163) | E174: =IF('OHS Risk Assessment Architects'!A163="","",'OHS Risk Assessment Architects'!L163) | F174: =IF('OHS Risk Assessment Architects'!A163="","",'OHS Risk Assessment Architects'!M163) | K174: =IF('OHS Risk Assessment Architects'!A163="","",'OHS Risk Assessment Architects'!T162) | L174: =IF('OHS Risk Assessment Architects'!A163="","",'OHS Risk Assessment Architects'!U162)

Sheet Consequence rating
C2: Consequence criteria
B3: Consequence rating | C3: Description | Q3: R | R3: Safety | S3: 1 | T3: A | U3: Fully effective | V3: I
C4: Health and Safety | Q4: N | R4: Health | S4: 2 | T4: B | U4: Mostly effective | V4: II
B5: 1 | C5: No injuries or health effects(near misses) | S5: 3 | T5: C | U5: Mostly ineffective | V5: III
B6: 2 | C6: First-aid treatment case, and temporary discomfort case | S6: 4 | T6: D | U6: None | V6: IV
B7: 3 | C7: Medical treatment case; occupational disease with reversible/non-permanent effect | S7: 5 | T7: E
B8: 4 | C8: Lost Time Injury. Irreversible health effects/occupational disease with permanent consequence | S8: 6
B9: 5 | C9: Fatality or life threatening health effects | H9: Consequences | I9: 6 | J9: III | K9: II | L9: I | M9: I | N9: I
B10: 6 | C10: Multiple fatalities | I10: 5 | J10: III | K10: II | L10: II | M10: I | N10: I
I11: 4 | J11: IV | K11: III | L11: II | M11: I | N11: I
I12: 3 | J12: IV | K12: III | L12: II | M12: II | N12: I
I13: 2 | J13: IV | K13: IV | L13: III | M13: II | N13: II
I14: 1 | J14: IV | K14: IV | L14: III | M14: III | N14: III
J15: A | K15: B | L15: C | M15: D | N15: E
J16: Likelihood

Sheet Likelihood rating
A2: Likelihood criteria
B3: Score | C3: Descriptor | D3: Safety | E3: Occupational hygiene
E4: Exposure | F4: Probability of exceeding OEL
B5: A | C5: Highly unlikely | D5: § More than a “100 year event” | E5: Rare (once a year) | F5: No exposure (or exposure < 10% of OEL)
D6: § Exceptionally unlikely, even in the long-term future
D7: § < 5% probability.
B8: B | C8: Unlikely | D8: § Could occur in “years to decades” | E8: Short periods of time, a few times per day/ intermittent (once in six months, three months, or a month) | F8: Low exposure (< 50% of OEL)
D9: § May occur but not anticipated
D10: § ≥ 5% and < 20% probability.
B11: C | C11: Possible | D11: § Could occur within “months to years” | E11: Continuous for between one and two hours (often/ weekly) | F11: Moderate exposure (chronic exposure > 50% of OEL or acute exposure ≥ OEL)
D12: § May occur shortly but a distinct probability it will not, or ≥ 20% and < 70% probability.
B13: D | C13: Likely | D13: § Could occur within “weeks to months” | E13: Continuous for between two and four hours (frequent/daily) | F13: High exposure (chronic exposure > OEL, or exposure exceeding OEL-STEL)
D14: § Balance of probability will occur
D15: § ≥ 70% and < 90% probability.
B16: E | C16: Unavoidable | D16: § Could occur within “days to weeks” | E16: Continuous for eight-hour shift | F16: Very high exposure (chronic exposure > 2 x OEL or exposure exceeding OEL-C)
D17: § Impact is imminent
D18: § ≥ 90% probability.

Sheet Risk control effectiveness
B3: RISK CONTROL EFFECTIVENESS GUIDE
B4: RCE | C4: Guide
B5: Fully effective | C5: Nothing more to be done except review and monitor the existing controls. Controls are well designed for the risk, are largely preventive and address the root causes. Management believes that they are effective and reliable at all times. Reactive controls only support preventive controls.
B6: Mostly effective | C6: Most controls are designed correctly and are in place and effective. Some more work to be done to improve operating effectiveness or management has doubts about operational effectiveness and reliability of the controls.
B7: Mostly ineffective | C7: While the design of controls may be largely correct in that they treat most of the root causes of the risk, they are not currently operationally very effective. There may be an over-reliance on reactive controls, or some of the controls do not seem correctly designed in that they do not treat root causes.
B8: None | C8: Virtually no credible control. Management has no confidence that any degree of control is being achieved.

Sheet Risk matrix
E2: RISK MATRIX
C3: Consequences | D3: 6 | E3: I | F3: I | G3: I | H3: I | I3: I
D4: 5 | E4: II | F4: II | G4: II | H4: I | I4: I
D5: 4 | E5: III | F5: III | G5: II | H5: I | I5: I
D6: 3 | E6: IV | F6: III | G6: II | H6: II | I6: I
D7: 2 | E7: IV | F7: IV | G7: III | H7: II | I7: II
D8: 1 | E8: IV | F8: IV | G8: III | H8: III | I8: III
E9: A | F9: B | G9: C | H9: D | I9: E
E10: Likelihood
D13: Priority | E13: Risk ranking | F13: Action required
D14: I | E14: Very high | F14: Immediate action required, and these risks to be captured on IRM system.
D15: II | E15: High | F15: Strong mandatory action required, and these risks to be captured on IRM system.
D16: III | E16: Medium | F16: Action required, possibly at administrative level.
D17: IV | E17: Low | F17: Minor or no action required.
