Workbook

Sheet Pricing summary
A1: Items | B1: Description | C1: Total Price
C2: (R)
A3: A | B3: Assessment and Planning | C3: ='Assessment and Planning'!C10 -> 0
A4: B | B4: Civil and Building Works | C4: ='Civil and Building Works'!F15 -> 0
A5: C | B5: Network Equipment | C5: ='Network Equipment'!F40 -> 0
A6: D | B6: Cabling | C6: =Cabling!F31 -> 0
A7: E | B7: Installation, Provisioning and Integration | C7: ='Installation, Provisioning'!G14 -> 0
A8: F | B8: Training | C8: =Training!E7 -> 0
A9: G | B9: LAN Support and Maintenance (Current install base + New Install base) | C9: ='LAN Support and Maintenance'!C38 -> 0
A10: H | B10: LAN Management Services | C10: ='LAN Management Services'!F35 -> 0
A11: I | B11: Professional Services | C11: ='Professional Services'!F12 -> 0
A12: GRAND TOTAL (INCL 15% VAT) | C12: =SUM(C3:C11) -> 0
B14: NOTES
B15: #1: Please only complete areas highlighted in yellow
B16: #2: Please note that any blank fields would be evaluated as a zero value

Sheet Assessment and Planning
A1: Items | B1: Description | C1: Unit Price per school in each size category (R)
A2: A1 | B2: Assessment and Planning | C2: LSEN | D2: Small | E2: Medium | F2: Large | G2: Extra Large
A3: A1.1 | B3: Develop Site Assessment survey methodology, Conduct Site Assessment and Evaluation, Business Analysis. Sign off on Assessments by WCG | C3: 0 | D3: 0 | E3: 0 | F3: 0 | G3: 0
A4: A1.2 | B4: Preparation of Site Plan (LAN Design) and Project Plan per School including detailed design and bill of quantities. Sign off by Client (WCG or School Governing Body) | C4: 0 | D4: 0 | E4: 0 | F4: 0 | G4: 0
B5: Total Unit Cost per school | C5: =SUM(C3:C4) -> 0 | D5: =SUM(D3:D4) -> 0 | E5: =SUM(E3:E4) -> 0 | F5: =SUM(F3:F4) -> 0 | G5: =SUM(G3:G4) -> 0
B6: Number of Schools | C6: 34 | D6: 376 | E6: 247 | F6: 143 | G6: 3
B7: Subtotal= Unit Cost*no of schools | C7: =C6*C5 -> 0 | D7: =D6*D5 -> 0 | E7: =E6*E5 -> 0 | F7: =F6*F5 -> 0 | G7: =G6*G5 -> 0
B10: Schedule A Total | C10: =SUM(C7:G7) -> 0

Sheet Civil and Building Works
A1: Items | B1: Description | C1: Unit | D1: Qty | E1: Unit Price | F1: Total Price
E2: (R) | F2: (R)
A3: B1 | B3: Civil Works and Accessories
A4: B1.1 | B4: Supply and Installation of UPVC or HDPE direct burial ducts having 20-30mm OD with warning tapes, including hand excavation, backfilling, resurfacing, re-instatement, disposal of spoil off site, rodding test, duct plugs, guide rope, and other necessary works as per specification and drawings:0,6m- 1m depth | C4: Metre | D4: 209583 | E4: 0 | F4: =E4*D4 -> 0
A5: B1.2 | B5: Construct and install manhole from clay bricks or pre-cast concrete with dimensions 600x600x600mm. Manhole to have a heavy-duty lockable lid and entry points for UPVC or HDPE ducts | C5: No | D5: 803 | E5: 0 | F5: =E5*D5 -> 0
A6: B2 | B6: Core drilling into Customer building (plinth brickwork with concrete filled cavity, or 2 skin cavity wall or 2 skin solid wall):
A7: B2.1 | B7: 1 x 20mm dia | C7: Nos | D7: 803 | E7: 0 | F7: =E7*D7 -> 0
A8: B2.2 | B8: 2 x 20 mm dia | C8: Nos | D8: 402 | E8: 0 | F8: =E8*D8 -> 0
A9: B2.3 | B9: 1 x 50 mm dia | C9: Nos | D9: 402 | E9: 0 | F9: =E9*D9 -> 0
A10: B3 | B10: Site Restoration
A11: B3.1 | B11: On completion of the work, remove and convey away from site, all plant and surplus materials, together with all rubbish and debris. The site is to be restored in a neat and workmanlike manner to the satisfaction of the WCG. | C11: Sum per school | D11: 803 | E11: 0 | F11: =E11*D11 -> 0
A12: B4 | B12: Other
A13: B4.1 | B13: List any civils and infrastructure items required and not listed above that may be necessary for a complete solution. Add rows if required | C13: Sum per school | D13: 803 | E13: 0 | F13: =E13*D13 -> 0
A15: Schedule B Total | F15: =SUM(F4:F14) -> 0
A16: Note: The 5-year product warranty cost and 12-month installation guarantee must be included in the capital cost of the equipment
A17: All Capital cost of equipment is to include all License Fees for five years

Sheet Network Equipment
A1: Schedule C: Network Equipment
A2: Items | B2: Description | C2: Unit | D2: Qty | E2: Unit Price | F2: Total Price
E3: (R) | F3: (R)
A4: C1 | B4: Core switch
A5: C1.1 | B5: Supply and install Core Switch, including latest software version, connectors, SFPs, redundant power supply | C5: Nos | D5: 803 | E5: 0 | F5: =E5*D5 -> 0
A6: C2 | B6: Access switch
A7: C2.1 | B7: Supply and install 24 port Access Switch, including latest software version, connectors, SFPs. | C7: Nos | D7: 1606 | E7: 0 | F7: =E7*D7 -> 0
A8: C2.2 | B8: Supply and install 48 port Access Switch, including latest software version, connectors, SFPs. | C8: Nos | D8: 1847 | E8: 0 | F8: =E8*D8 -> 0
A9: C2.3 | B9: Supply and install 8 port Access Switch, including latest software version, connectors, SFPs. | C9: Nos | D9: 7 | E9: 0 | F9: =E9*D9 -> 0
A10: C2.4 | B10: Supply and install 16 port Access Switch, including latest software version, connectors, SFPs. | C10: Nos | D10: 7 | E10: 0 | F10: =E10*D10 -> 0
A11: C3 | B11: Wireless Controller | C11: Cloud based Centralized
A12: C3.1 | B12: Supply software licencing | C12: Nos | D12: 21681 | E12: 0 | F12: =E12*D12 -> 0
A13: C4 | B13: Wireless Access Points
A14: C4.1 | B14: Supply and install a Wireless Access Point (802.11a/b/g/n/ac/ax) with concurrent dual band support (5GHz and 2.4GHz). Installation should include Wall/Ceiling Mounting Kit, software, connectors and accessories. | C14: Nos | D14: 21681 | E14: 0 | F14: =E14*D14 -> 0
A15: C5 | B15: Cabinets/racks including patch panels. Supply and install as below
A16: C5.1 | B16: Cabinet type 1 6u 19", 4 rack units high Double Section wall mount 19” 600mm Wide x 600mm deep | C16: Nos | D16: 1044 | E16: 0 | F16: =E16*D16 -> 0
A17: C5.2 | B17: Cabinet type 2 9u 19", 9 rack units high Double Section wall mount 19” 600mm Wide x 600mm deep | C17: Nos | D17: 1526 | E17: 0 | F17: =E17*D17 -> 0
A18: C5.3 | B18: Cabinet type 3 12u 19", 12 rack units high Double Section wall mount 19” 600mm Wide x 600mm deep | C18: Nos | D18: 1205 | E18: 0 | F18: =E18*D18 -> 0
A19: C5.4 | B19: Cabinet type 4 22u 19", 22 rack units high 600 mm Wide x 800 mm deep | C19: Nos | D19: 12 | E19: 0 | F19: =E19*D19 -> 0
A20: C5.5 | B20: Cabinet type 5 42u 19", 42 rack units high 800mm Wide x 1000mm Deep. 42U usable with 19” mounting rails | C20: Nos | D20: 29 | E20: 0 | F20: =E20*D20 -> 0
A21: C5.6 | B21: Cabinet type 6 27u 19", 27 rack units high 600mm Wide x 1000mm Deep | C21: Nos | D21: 722 | E21: 0 | F21: =E21*D21 -> 0
A22: C5.7 | B22: Cabinet type 7 37u 19", 37 rack units high 600mm Wide x 1000mm Deep | C22: Nos | D22: 50 | E22: 0 | F22: =E22*D22 -> 0
A23: C6 | B23: UPS: The UPS will mainly provide power to the core switch and site server. Supply and install as below
A24: C6.1 | B24: UPS Type 1 Entry-level UPS single-phase online double-conversion uninterruptible power supply (UPS) Performance: Effective load-bearing capacity: 1000W UPS load-bearing rating (1350 Watts) UPS load-bearing rating (1kVA) Outputs: At least 6 IEC 320 type C13 (10A) output ports Software-controlled outputs | C24: Nos | D24: 13 | E24: 0 | F24: =E24*D24 -> 0
A25: C6.2 | B25: UPS Type 2 Midrange UPS single-phase online double-conversion uninterruptible power supply (UPS) Performance: • Effective load-bearing capacity: 2100W • UPS load-bearing rating (3000 Watts) • UPS load-bearing rating (3kVA) Outputs: • At least 8 IEC 320 type C13 (10A) output ports • At least 1 IEC 320 type C19 (16A) output ports • Software-controlled outputs | C25: Nos | D25: 95 | E25: 0 | F25: =E25*D25 -> 0
A26: C6.3 | B26: UPS Type 3 High-end UPS single-phase online double-conversion uninterruptible power supply (UPS) Performance: • Effective load-bearing capacity: 3500W • UPS load-bearing rating (5000 Watts) • UPS load-bearing rating (5kVA) Outputs: • At least 8 IEC 320 type C13 (10A) output ports • At least 1 IEC 320 type C19 (16A) output ports • Software-controlled outputs | C26: Nos | D26: 723 | E26: 0 | F26: =E26*D26 -> 0
A27: C7 | B27: Servers Supply and install as below:
A28: C7.1 | B28: Small School/Site: +-500 user’s capacity 1x CPU Socket, 1x 8-core (minimum) CPU 64GB Ram 4TB HDD/SSD (Total storage minimum SSD Preferred 3x 2TB Drives for 4TB total storage in RAID 5 or equivalent) 2x 1GB E-NIC (Teaming Capable) | C28: Nos | D28: 432 | E28: 0 | F28: =E28*D28 -> 0
A29: C7.2 | B29: Medium School/Site: +- 1000 user capacity 2x CPU Socket 1x 12-core (minimum) CPU 96GB Ram 6TB HDD/SSD (Total storage minimum SSD Preferred 4x 2TB Drives for 6TB total storage in RAID 5 or equivalent) 2x 1GB E-NIC (Teaming Capable) | C29: Nos | D29: 492 | E29: 0 | F29: =E29*D29 -> 0
A30: C7.3 | B30: Large School/Site: +-1500 user capacity 2x CPU Socket 2x 12-core (minimum) CPU 128GB Ram, 12TB HDD/SSD (Total storage minimum SSD Preferred 4x 4TB Drives for 12TB total storage in RAID 5 or equivalent) 2x 10GB E-NIC (Teaming Capable) | C30: Nos | D30: 143 | E30: 0 | F30: =E30*D30 -> 0
A31: C7.4 | B31: Extra Large School/Site: +-2000 user capacity 2x CPU Socket 2x 12-core (minimum) CPU 256GB Ram 18TB HDD/SSD (Total storage minimum SSD Preferred 4x 6TB drives in RAID 5 for total of 18TB usable storage or equivalent) 2x 10GB E-NIC (Teaming Capable) | C31: Nos | D31: 3 | E31: 0 | F31: =E31*D31 -> 0
A32: C8 | B32: Electrical Surge Protection systems
A33: C8.1 | B33: Supply and install Lightning Protection & Surge Arrestors. | C33: Nos | D33: 803 | E33: 0 | F33: =E33*D33 -> 0
A34: C9 | B34: Firewall
A35: C9.1 | B35: Firewall solution Centralised | C35: Nos | D35: 1 | E35: 0 | F35: =E35*D35 -> 0
A36: C9.2 | B36: Firewall solution on premises | C36: Nos | D36: 1520 | E36: 0 | F36: =E36*D36 -> 0
A37: C10 | B37: Other
A38: C10.1 | B38: Any other equipment, components and Systems required to complete the solution. | C38: Nos | D38: 803 | E38: 0 | F38: =E38*D38 -> 0
A40: Schedule C Total | F40: =SUM(F5:F39) -> 0
A41: Notes
...

Sheet Cabling
A2: Items | B2: Description | C2: Unit | D2: Qty | E2: Unit Price | F2: Total Price
E3: (R) | F3: (R)
A4: D1 | B4: Fibre Cabling
A5: D1.1 | B5: Supply and install 12-core indoor SMF fibre optic cable, including trunking and all materials/accessories necessary to complete installation as per specification. Fibres must be terminated with Single Mode Fibre Pigtail, SC-Style | C5: Metre | D5: 144540 | E5: 0 | F5: =E5*D5 -> 0
A6: D1.2 | B6: Supply and install 12-Fiber outdoor Single Mode 9/125um blown or drawn fibre optic cable in installed duct | C6: Metre | D6: 756426 | E6: 0 | F6: =E6*D6 -> 0
A7: D1.3 | B7: Supply and install 12-port SC Rack Mount Fibre Patch Enclosure c/w splice tray and accessories for TCR equipment Rack. | C7: Nos | D7: 803 | E7: 0 | F7: =E7*D7 -> 0
A8: D2 | B8: Copper CAT6 cabling
A9: D2.1 | B9: Supply, install and terminate Category 6 UTP copper cable from the associated distribution point to the designated work area, including conduit or trunking for complete installation as per specification. | C9: Metre | D9: 4889467 | E9: 0 | F9: =E9*D9 -> 0
A10: D2.2 | B10: To supply and install Category 6 UTP Patch Panel 24-port complete with rear cable support bar and designated labels for ease of identification at designated distribution point | C10: Nos | D10: 3614 | E10: 0 | F10: =E10*D10 -> 0
A11: D3 | B11: Network points
A12: D3.1 | B12: Supply, install and terminate data points using Category 6 UTP copper cable | C12: Nos | D12: 86724 | E12: 0 | F12: =E12*D12 -> 0
A13: D4 | B13: Patch cables
A14: D4.1 | B14: Patch cables- 1 metre length | C14: Nos | D14: 86724 | E14: 0 | F14: =E14*D14 -> 0
A15: D5 | B15: Fly leads
B16: Supply UTP Cat 6 (EIA/TIA) factory terminated patch cords c/w RJ45 connectors and boots from faceplate to Workstation, Wireless Access Point (AP), CCTV Cameras or Card Access Controllers
A17: D5.1 | B17: Fly Lead - 1 metre length | C17: Nos | D17: 16702 | E17: 0 | F17: =E17*D17 -> 0
A18: D5.2 | B18: Fly Lead - 2 metre length | C18: Nos | D18: 16702 | E18: 0 | F18: =E18*D18 -> 0
A19: D5.3 | B19: Fly Lead - 3 metre length | C19: Nos | D19: 41756 | E19: 0 | F19: =E19*D19 -> 0
A20: D5.4 | B20: Fly Lead - 5 metre length | C20: Nos | D20: 4176 | E20: 0 | F20: =E20*D20 -> 0
A21: D5.5 | B21: Fly Lead - 8 metre length | C21: Nos | D21: 4176 | E21: 0 | F21: =E21*D21 -> 0
A22: D6 | B22: Electrical Cable and power points
A23: D6.1 | B23: Supply, install and terminate electrical points 15A | C23: Nos | D23: 4818 | E23: 0 | F23: =E23*D23 -> 0
A24: D6.2 | B24: Supply, install and terminate electrical copper cable from the associated distribution point to the designated work area, including conduit or trunking for complete installation as per specification. | C24: Metre | D24: 273823 | E24: 0 | F24: =E24*D24 -> 0
A25: D7 | B25: Fibre to media converters
B26: Supply and install Fibre to media converters, Including all required GBICS
A27: D7.1 | B27: GBICS | D27: 10198 | E27: 0 | F27: =E27*D27 -> 0
A28: D7.2 | B28: 2 port converter | C28: Nos | D28: 50 | E28: 0 | F28: =E28*D28 -> 0
A29: D7.3 | B29: 3 port converter | C29: Nos | D29: 50 | E29: 0 | F29: =E29*D29 -> 0
A30: D7.4 | B30: 4 port converter | C30: Nos | D30: 50 | E30: 0 | F30: =E30*D30 -> 0
A31: Schedule D Total | F31: =SUM(F5:F30) -> 0
A32: The 5-year product warranty cost and 12-month installation guarantee must be included in the capital cost of the equipment.
A33: Note: the capital cost of all equipment provided must include License Fees for five years

Sheet Installation, Provisioning
A1: Items | B1: Description | C1: Unit Price per school in each size category (R)
A2: E1 | B2: Installation Provisioning and Integration Services | C2: LSEN | D2: Small | E2: Medium | F2: Large | G2: Extra Large
A3: E1.1 | B3: Site establishment on a School | C3: 0 | D3: 0 | E3: 0 | F3: 0 | G3: 0
A4: E1.2 | B4: To provide Project Management and Site Supervision for the duration of the installation | C4: 0 | D4: 0 | E4: 0 | F4: 0 | G4: 0
A5: E1.3 | B5: All costs incurred for complying with all Health and Safety Regulations, pertaining to all workpeople employed on the Site by the Service Provider | C5: 0 | D5: 0 | E5: 0 | F5: 0 | G5: 0
A6: E1.4 | B6: Prepare and submit to the WCG a complete set of As-Built documents which comprise Architectural, Structural, Mechanical, Electrical and ICT works pertaining to the work done, by contractors or sub-contractors, and a schedule of all installed equipment including model numbers and serial numbers, and all test results | C6: 0 | D6: 0 | E6: 0 | F6: 0 | G6: 0
A7: E1.5 | B7: Configuration, Provisioning and Integration, of LAN per school, including overall system testing – irrespective of whether the school has local or remote authentication and related management systems | C7: 0 | D7: 0 | E7: 0 | F7: 0 | G7: 0
A8: E2 | B8: General
A9: E2.1 | B9: Any other services required to complete the installation, in compliance with the specifications | C9: 0 | D9: 0 | E9: 0 | F9: 0 | G9: 0
B10: Subtotal per school | C10: =SUM(C3:C9) -> 0 | D10: =SUM(D3:D9) -> 0 | E10: =SUM(E3:E9) -> 0 | F10: =SUM(F3:F9) -> 0 | G10: =SUM(G3:G9) -> 0
B11: Number of Schools | C11: 34 | D11: 376 | E11: 247 | F11: 143 | G11: 3
B12: Subtotal - all schools | C12: =C11*C10 -> 0 | D12: =D11*D10 -> 0 | E12: =E11*E10 -> 0 | F12: =F11*F10 -> 0 | G12: =G11*G10 -> 0
C14: Schedule E Total = | G14: =SUM(C12:G12) -> 0

Sheet Training
A1: Items | B1: Description | C1: Unit price | D1: No of days | E1: Total Price
A2: F | B2: Training WCG staff to familiarise them with the technical and operating aspects of school LANS, Maximum of 50 max per session. All training will be in Cape Town: Venue, catering and copies of training materials will be provided by the WCG.
A3: F1.1 | B3: Design, Layout, Architecture, Operations, Cabling System (1-day course) | C3: 0 | D3: 1 | E3: =D3*C3 -> 0
A4: F1.2 | B4: LAN Equipment, LAN management System and administration (1-day course) | C4: 0 | D4: 1 | E4: =D4*C4 -> 0
A5: F1.3 | B5: Centralised LAN Management System and web-based tools (1 day course) | C5: 0 | D5: 1 | E5: =D5*C5 -> 0
A6: F1.4 | B6: Handover training | C6: 0 | D6: 803 | E6: =D6*C6 -> 0
A7: Schedule F Total | E7: =SUM(E3:E6) -> 0

Sheet LAN Support and Maintenance
A1: Current install base Support and Maintenance
A2: Items | B2: Description | C2: Unit Price per school per month in each size category (R) for Year 1
C3: LSEN | D3: Small | E3: Medium | F3: Large | G3: Extra Large
A4: G1 | B4: Bronze LAN Availability service level | C4: (R) | D4: (R) | E4: (R) | F4: (R) | G4: (R)
A5: G1.1 | B5: Cost of Support and Maintenance per School with Bronze Availability SLA per month | C5: 0 | D5: 0 | E5: 0 | F5: 0 | G5: 0
B6: Number of schools | C6: 38 | D6: 56 | E6: 245 | F6: 293 | G6: 85
A7: G1.2 | B7: Subtotal over 1 year = No of Schools*Unit Price*12 months | C7: =C6*C5*12 -> 0 | D7: =D6*D5*12 -> 0 | E7: =E6*E5*12 -> 0 | F7: =F6*F5*12 -> 0 | G7: =G6*G5*12 -> 0
A8: G2 | B8: Silver LAN Availability service level
A9: G2.1 | B9: Cost of Support and Maintenance per School with Silver Availability SLA per month | C9: 0 | D9: 0 | E9: 0 | F9: 0 | G9: 0
B10: Number of schools | C10: 1 | D10: 1 | E10: 6 | F10: 6 | G10: 6
A11: G2.2 | B11: Subtotal over 1 year = No of Schools*Unit Price*12 Months | C11: =C10*C9*12 -> 0 | D11: =D10*D9*12 -> 0 | E11: =E10*E9*12 -> 0 | F11: =F10*F9*12 -> 0 | G11: =G10*G9*12 -> 0
A12: G3 | B12: Gold LAN Availability service level
A13: G3.1 | B13: Cost of Support and Maintenance per School with Gold Availability SLA per month | C13: 0 | D13: 0 | E13: 0 | F13: 0 | G13: 0
B14: Number of schools | C14: 1 | D14: 1 | E14: 2 | F14: 2 | G14: 2
A15: G3.2 | B15: Subtotal over 1 year = No of Schools*Unit Price*12 months | C15: =C14*C13*12 -> 0 | D15: =D14*D13*12 -> 0 | E15: =E14*E13*12 -> 0 | F15: =F14*F13*12 -> 0 | G15: =G14*G13*12 -> 0
A16: Schedule G(Current) Total Year 1= Sum of Bronze + Silver + Gold SLA for Year 1 | G16: =SUM(C15:G15,C11:G11,C7:G7) -> 0
A17: Schedule G(Current) Total for 5 Years (Year 1 x 5) | G17: =G16*5 -> 0
A20: New Install base support and maintenance
A21: Items | B21: Description | C21: Unit Price per school per month in each size category (R) for Year 1
C22: LSEN | D22: Small | E22: Medium | F22: Large | G22: Extra Large
A23: G1 | B23: Bronze LAN Availability service level | C23: (R) | D23: (R) | E23: (R) | F23: (R) | G23: (R)
A24: G1.1 | B24: Cost of Support and Maintenance per School with Bronze Availability SLA per month | C24: 0 | D24: 0 | E24: 0 | F24: 0 | G24: 0
B25: Number of schools | C25: 34 | D25: 376 | E25: 247 | F25: 143 | G25: 3
A26: G1.2 | B26: Subtotal over 1 year = No of Schools*Unit Price*12 Months | C26: =C25*C24*12 -> 0 | D26: =D25*D24*12 -> 0 | E26: =E25*E24*12 -> 0 | F26: =F25*F24*12 -> 0 | G26: =G25*G24*12 -> 0
A27: G2 | B27: Silver LAN Availability service level
A28: G2.1 | B28: Cost of Support and Maintenance per School with Silver Availability SLA per month | C28: 0 | D28: 0 | E28: 0 | F28: 0 | G28: 0
B29: Number of schools | C29: 1 | D29: 1 | E29: 6 | F29: 6 | G29: 6
A30: G2.2 | B30: Subtotal over 1 year = No of Schools*Unit Price*12 Months | C30: =C29*C28*12 -> 0 | D30: =D29*D28*12 -> 0 | E30: =E29*E28*12 -> 0 | F30: =F29*F28*12 -> 0 | G30: =G29*G28*12 -> 0
A31: G3 | B31: Gold LAN Availability service level
A32: G3.1 | B32: Cost of Support and Maintenance per School with Gold Availability SLA per month | C32: 0 | D32: 0 | E32: 0 | F32: 0 | G32: 0
B33: Number of schools | C33: 1 | D33: 1 | E33: 2 | F33: 2 | G33: 2
A34: G3.2 | B34: Subtotal over 1 year = No of Schools*Unit Price*12 Months | C34: =C33*C32*12 -> 0 | D34: =D33*D32*12 -> 0 | E34: =E33*E32*12 -> 0 | F34: =F33*F32*12 -> 0 | G34: =G33*G32*12 -> 0
A35: Schedule G(New) Total Year 1= Sum of Bronze + Silver + Gold SLA for Year 1 | G35: =SUM(C34:G34,C30:G30,C26:G26) -> 0
A36: Schedule G(New) Total for 5 Years (Year 1 x 5) | G36: =G35*5 -> 0
B38: Schedule G Total = current + new install base support and maintenance | C38: =SUM(G36,G17) -> 0

Sheet LAN Management Services
A1: Items | B1: Description | C1: See Notes below | D1: Cost per Month | E1: No of Months | F1: Total Cost (R)
A2: H1 | B2: Centralised LAN management services: End-user devices
A3: H1.1 | B3: These are the Centralised LAN management services that are needed: *RADIUS Management *Centralised Authentication services *Microsoft services like SCCM, Ops Manager, DPM) MIM *Management of Network Security Services like IPS, IDS and NPAS *Firewall Services *Wireless controller services *VLAN routing, LAN Monitoring of devices
B4: 0-50 000 (This applies to the range (0-50 000) end-user devices connecting to the centralised services as described in H1 above) | C4: The per month value in column D must be based on the range and NOT on a single device/unit. | D4: 0 | E4: 24 | F4: =D4*E4 -> 0
B5: 50 001-150 000 (This applies to the range (50 001-150 000) end-user devices connecting to the centralised services as described in H1 above) | D5: 0 | E5: 18 | F5: =D5*E5 -> 0
B6: 150 001 – 500 000 (This applies to the range (150 001-500 000) end-user devices connecting to the centralised services as described in H1 above) | D6: 0 | E6: 12 | F6: =D6*E6 -> 0
B7: > 500 000 (This applies to the range (> 500 000) end-user devices connecting to the centralised services as described in H1 above) | D7: 0 | E7: 6 | F7: =D7*E7 -> 0
A9: H2 | B9: School Level LAN management services: Servers | C9: See Notes below | D9: Cost per Month | E9: No of Months | F9: Total Cost (R)
A10: H2.1 | B10: These are the school level LAN management services that are needed: *RADIUS Management *Local Authentication services *VLAN routing *Wireless controller services *Management of Network Security Services like IPS, IDS and NPAS *Firewall Services, LAN Monitoring of devices
B11: 0-500 (This applies to the range (0-500) servers connecting to the centralised services as described in H2 above) | C11: The per month value in column D must be based on the range and NOT on a single device/unit. | D11: 0 | E11: 12 | F11: =D11*E11 -> 0
B12: 501- 1 000 (This applies to the range (501- 1 000) servers connecting to the centralised services as described in H2 above) | D12: 0 | E12: 36 | F12: =D12*E12 -> 0
B13: >1 000 (This applies to the range (>1 000) servers connecting to the centralised services as described in H2 above) | D13: 0 | E13: 12 | F13: =D13*E13 -> 0
B14: Sub Total (i) | F14: =SUM(F4:F13) -> 0
B16: Other | C16: See Notes below | D16: Cost per Month | E16: No of Months | F16: Total Cost (R)
A17: H3 | B17: Asset tracking capability as part of hardware configuration management
B18: 0-50 000 (This applies to the range (0-50 000) end-user devices connecting to the centralised services as described) | C18: The per month value in column D must be based on the range and NOT on a single device/unit. | D18: 0 | E18: 24 | F18: =D18*E18 -> 0
B19: 50 001-150 000 (This applies to the range (50 001-150 000) end-user devices connecting to the centralised services as described) | D19: 0 | E19: 18 | F19: =D19*E19 -> 0
B20: 150 001 – 500 000 (This applies to the range (150 001-500 000) end-user devices connecting to the centralised services as described) | D20: 0 | E20: 12 | F20: =D20*E20 -> 0
B21: > 500 000 (This applies to the range (> 500 000) end-user devices connecting to the centralised services as described) | D21: 0 | E21: 6 | F21: =D21*E21 -> 0
A22: H4 | B22: CMDB capability as part of configuration management | C22: See Notes below | D22: Cost per Month | E22: No of Months | F22: Total Cost (R)
B23: 0-50 000 (This applies to the range (0-50 000) end-user devices connecting to the centralised services as described) | C23: The per month value in column D must be based on the range and NOT on a single device/unit. | D23: 0 | E23: 24 | F23: =D23*E23 -> 0
B24: 50 001-150 000 (This applies to the range (50 001-150 000) end-user devices connecting to the centralised services as described) | D24: 0 | E24: 18 | F24: =D24*E24 -> 0
B25: 150 001 – 500 000 (This applies to the range (150 001-500 000) end-user devices connecting to the centralised services as described) | D25: 0 | E25: 12 | F25: =D25*E25 -> 0
B26: > 500 000 (This applies to the range (> 500 000) end-user devices connecting to the centralised services as described) | D26: 0 | E26: 6 | F26: =D26*E26 -> 0
A27: H5 | B27: Web based Self Administration System *This system must be linked to WCED's Microsoft Active Directory from the onset: *To populate and update the userbase in the region of 1.2 million learners and 60 000 teachers and other members. | C27: The total value in column F must be based on the full service as described | D27: NA | E27: NA | F27: 0
A28: H6 | B28: Web based reporting tool *The current reporting tool excludes the current 20,000+ Xirrus AP's as it has it own reporting tool in the cloud. *The bidder needs to provide a single view for all connected LAN devices (Current install base and new install base) | C28: See Notes below | D28: Cost per Month | E28: No of Months | F28: Total Cost (R)
B29: 25 000 + 5 000 new LAN devices | C29: The per month value in column D must be based on the range and NOT on a single device/unit. | D29: 0 | E29: 12 | F29: =D29*E29 -> 0
B30: 25 000 + 5 000 + 6 000 new LAN devices | D30: 0 | E30: 16 | F30: =D30*E30 -> 0
B31: 25 000 + 5 000 + 6 000 + 7 000 new LAN devices | D31: 0 | E31: 16 | F31: =D31*E31 -> 0
B32: 25 000 + 5 000 + 6 000 + 7 000 + 8 000 new LAN devices | D32: 0 | E32: 16 | F32: =D32*E32 -> 0
B33: Sub Total (ii) | F33: =SUM(F18:F32) -> 0
A35: Schedule H Total for 5 Years = (i)+(ii) | F35: =SUM(F33+F14) -> 0

Sheet Professional Services
A1: Items | B1: Description | C1: Unit | D1: Price per Unit | E1: Number of Units | F1: Total Price (R)
A3: I | B3: Professional Services
A4: I1.1 | B4: Design service/s | C4: Hourly Rate | D4: 0 | E4: 1200 | F4: =D4*E4 -> 0
A5: I1.2 | B5: Implementation service/s | C5: Hourly Rate | D5: 0 | E5: 3000 | F5: =D5*E5 -> 0
A6: I1.3 | B6: Integration service/s | C6: Hourly Rate | D6: 0 | E6: 1370 | F6: =D6*E6 -> 0
A7: I1.4 | B7: Development/scripting | C7: Hourly Rate | D7: 0 | E7: 1200 | F7: =D7*E7 -> 0
A8: I1.5 | B8: Business Analysis | C8: Hourly Rate | D8: 0 | E8: 1200 | F8: =D8*E8 -> 0
A9: I1.6 | B9: Subsistence allowance | C9: Day Rate | D9: 0 | E9: 125 | F9: =D9*E9 -> 0
A10: I1.7 | B10: Travel cost | C10: Km | D10: 0 | E10: 12500 | F10: =D10*E10 -> 0
B11: Tools of the Trade | C11: Included in hourly rate | D11: N/A | E11: N/A | F11: N/A
A12: Schedule I Total | F12: =SUM(F4:F11) -> 0
