Workbook
Name _SEC1200: #REF!
Name Items_01: #REF!
Name Summary: #REF!

Sheet Read Me FIRST
A1: Project: | C1: KUSILE POWER STATION PROJECT
A2: Enquiry No. | C2: ='Tender Cover Sheet'!C19 -> 0
A3: Package Name: | C3: Provision for Station Cleaning at Kusile Power Station
A4: Tenderer's Name: | C4: ='Tender Cover Sheet'!C23 -> 0
A7: READ ME
B9: Read these notes BEFORE you commence input or make any changes to this workbook.
B11: The Tenderer must provide a clear indication on the Cover Sheet as to whether the offer is "main" or "alternative" (and if there are several alternatives, to number them). There must be a separate Excel file for each ooffer if applicable
B13: NOTE: ALL CALCULATIONS ARE THE RESPONSIBILITY OF THE TENDERER, AND MUST BE CHECKED THOROUGHLY. ANY DISCREPANCY FOUND IN THE CALCULATIONS IN THIS WORKBOOK MUST BE BROUGHT TO THE ATTENTION OF ESKOM, THROUGH THE DEIGNATED BUYER!
A16: 1 | B16: This workbook contains the following sheets:
B17: Read Me | C17: This sheet provides an overview to the Tenderer of the content and role of the sheets making up the Price Schedules. It will not form part of the tender or contract.
B18: Tender Cover Sheet | C18: This is the cover sheet for Section 5.1 and provides the total tender price. It is also the source of the package name, tenderer name etc for the other sheets.
B19: 5.1.1.1 Preamble | C19: This sheet provides general guidelines for this section.
B20: 5.1.2 Activity Schedule | C20: This is the main data entry sheet for the Tenderer to complete.
A25: 2 | B25: Conventions used in this workbook
B26: The following conventions have been used in this workbook to facilitate its accurate use:
B27: Red | C27: This GREEN shading is used for cells where DATA ENTRY is required from the Tenderer. The Tenderer must complete the information in these GREEN shaded cells
C28: PLEASE REFRAIN from tampering with ANY other cells contained in this workbook as it may affect Eskom's standard formulae and lead to data integrity issues.

Sheet Tender Cover Sheet
B2: KUSILE POWER STATION PROJECT
B15: PRICING INFORMATION
B17: TENDER INFORMATION
B19: ENQUIRY No.
B21: NAME OF PACKAGE: | C21: ='Read Me FIRST'!C3 -> Provision for Station Cleaning at Kusile Power Station
B23: TENDERER’S NAME:
B26: Annexure IT 5.1 Price Schedules
B29: THE PRICE: IN ZAR | C29: =BoQ!F97 -> 0
B30: (excluding VAT)
B31: RAND VALUE IN WORDS
B36: DATE :
B40: FULL NAMES OF SIGNATORY:
B44: DESIGNATION OF SIGNATORY:
B48: SIGNATURE :

Sheet 5.1.1.1 Preamble
A1: Project: | C1: KUSILE POWER STATION PROJECT
A2: Enquiry No. | C2: ='Tender Cover Sheet'!C19 -> 0
A3: Package Name: | C3: ='Tender Cover Sheet'!C21 -> Provision for Station Cleaning at Kusile Power Station
A4: Tenderer's Name: | C4: ='Tender Cover Sheet'!C23 -> 0
A6: 5.1.1.1 PREAMBLE TO PRICE SCHEDULE
A8: 1 | B8: The Provisional Price Schedule provides the basis of valuation of all the work activities and inputs and information for general contract progress monitoring.
A9: 2 | B9: The amount due at each application for payment date is based on activities and/or milestones completed as indicated on the Price Schedule/Bills of Quantities. The Tenderer must provide all necessary information which is required to determine amounts due in respect of each application for payment relative to the activities.
A10: 3 | B10: The total of the prices must include for all direct and indirect costs, overheads, profits, on costs, risks, liabilities, obligations, etc. relative to the contract.

Sheet 5.1.3 CPA Formulae
A1: KUSILE POWER STATION PROJECT
A2: ENQUIRY No. | D2: ='Tender Cover Sheet'!C19 -> 0
A3: TENDERER NAME: | D3: ='Tender Cover Sheet'!C23 -> 0
A4: NAME OF PACKAGE: | D4: ='Tender Cover Sheet'!C21 -> Provision for Station Cleaning at Kusile Power Station
A5: PRICE ADJUSTMENT FOR INFLATION
A6: Summary
A7: No | B7: Description
A8: A | B8: 0 | E8: Type in description of formula which is carried through below
A12: GENERAL NOTES :
A13: a. | B13: References to "indices" below have the meaning of "cost indices or reference prices", unless otherwise stated.
A14: b. | B14: Where historical information is applicable as requested below, internet address references which are accessible to the
B15: general public may be submitted instead, with the specific electronic route and web page reflecting the applicable data.
A16: c. | B16: Each formula is related to one unique currency. Mixing of currencies in a specific formula is not acceptable.
A17: CPA FORMULA REQUIREMENTS :
A18: i. | B18: Formulae must be linked to independent cost indices or other benchmarks ("reference prices") and must be clearly and
B19: completely defined. The source must be a recognised statistical publishing source and must not be in-house indices.
A20: ii. | B20: Local Indices: Where local indices other than SEIFSA or StatsSA are specified, the tenderer is to submit 5 years' historical data
B21: for such indices. Note that the Contractor must ensure that indices are published and recommended by the "Source" as
B22: applicable to the work involved. For example SEIFSA has terminated the publication of Table E and is replaced by Table E-A and
B23: or E-EX and the specific sub breakdown of such must be identified. Also SEIFSA recommends utilisation of Table L-2 for road
B24: transport rather than Table L-1.
A25: iii. | B25: Foreign Price Adjustments: In the case of foreign price adjustments, the Contractor is to submit 5 years' historical data for the
B26: tendered indices. Where a formula is linked to indices in a country, payment of the amounts for that formula must be in the
B27: currency of the same country. A formula may not be linked to indices of more than one country.
A28: iv. | B28: Commodity Price Linked Payments: The reference price is considered as the base price (index) for purpose of the CPA formula
B29: and is incuded in the applicable tables below and must be in the currency in which the CPA will be payable. The exchange
B30: rate applied to convert the base price in a foreign currency into that of the currency of the formula must also be indicated in
B31: the tables below if the price is not in the same currency as the applicable formula.. ie exposure to the movement in a
B32: reference price is in the same currency as that of the CPA formula. The Contractor is to submit 5 years' historical price data
B33: for such commodity,
A34: v. | B34: London Metal Exchange (LME) Prices: For metals traded on the LME, the tonnage will be required before contract award in
B35: order for Eskom to hedge the metal price fluctuations. This applies also for prices linked to local indices or reference prices.
B36: Though these metals are traded in US$, prices are daily quoted in various other currencies.
B37: The LME price in the currency of the formula must apply and thus not the US$ unless the amount payable in terms of the
B38: formula is US$. Refer to the "LME" Sheet in this file for more detail regarding this aspect. By indicating any of these metals in
B39: the formulae below, the contractor declares that neither he nor any other body avails or will avail of forward price and/or
B40: currency cover for the metal(s).
A41: vi. | B41: CPA Base Date: The CPA base date for calculating price movements is the Base Date as defined in the Particular Conditions,
B42: Clause 1.1.3.1. For indices or reference prices published as at certain dates, and where such a date is not the Base Date, the
B43: latest date for which it is published before the Base Date will be considered as the Base Date index or reference price. In
...

Sheet BoQ
B4: ='Read Me FIRST'!C3 -> Provision for Station Cleaning at Kusile Power Station
A6: Item | B6: Description | C6: Unit | D6: Qty | E6: Rate | F6: Amount
B7: BILL NO.1
B9: PRELIMINARY & GENERAL
B11: CONTRACTOR'S ESTABLISHMENT ON SITE AND GENERAL OBLIGATIONS
B13: The contractor's general obligations
A15: 1 | B15: Fixed Obligations | D15: 1 | E15: =SUM(F17:F22) -> 0 | F15: =D15*E15 -> 0
A17: 1.1 | B17: Establishment | C17: Sum | D17: 1 | F17: =D17*E17 -> 0
A18: 1.2 | B18: Medicals | C18: Sum | D18: 1 | F18: =D18*E18 -> 0
A19: 1.3 | B19: PPE | C19: Sum | D19: 1 | F19: =D19*E19 -> 0
A20: 1.4 | B20: Tools & Equipment | C20: Sum | D20: 1 | F20: =D20*E20 -> 0
A21: 1.5 | B21: De-establishment | C21: Sum | D21: 1 | F21: =D21*E21 -> 0
A22: 1.6 | B22: Exit Medicals | C22: Sum | D22: 1 | F22: =D22*E22 -> 0
A24: 2 | B24: Time-related Obligations | D24: 1 | E24: =SUM(F28:F50) -> 0 | F24: =D24*E24 -> 0
A26: 2.1 | B26: Personnel
A28: 2.1.1 | B28: Site Manager | C28: month | D28: 20 | F28: =D28*E28 -> 0
A29: 2.1.2 | B29: Safety Officer | C29: month | D29: 20 | F29: =D29*E29 -> 0
A30: 2.1.3 | B30: Environmental Officer | C30: month | D30: 20 | F30: =D30*E30 -> 0
A31: 2.1.4 | B31: Consumables | C31: month | D31: 20 | F31: =D31*E31 -> 0
A33: 2.2 | B33: Transport
A35: 2.2.1 | B35: Site LDV's (2 bakkies) | C35: month | D35: 20 | F35: =D35*E35 -> 0
A36: 2.2.2 | B36: Blue Collar Employees (2 x 16 Seater ) | C36: month | D36: 20 | F36: =D36*E36 -> 0
A38: 2.3 | B38: Offices (Excludes Ablution Facilities)
A40: 2.3.1 | B40: Offices (Monthly rental) | C40: month | D40: 20 | F40: =D40*E40 -> 0
A41: 2.3.2 | B41: Store room (Monthly rental) | C41: month | D41: 20 | F41: =D41*E41 -> 0
A43: 2.4 | B43: Plant
A45: 2.4.1 | B45: TLB | C45: month | D45: 20 | F45: =D45*E45 -> 0
A46: 2.4.2 | B46: Bobcat X2 | C46: month | D46: 20 | F46: =D46*E46 -> 0
A47: 2.4.3 | B47: Tipper Truck | C47: month | D47: 20 | F47: =D47*E47 -> 0
A48: 2.4.4 | B48: Vacuum Truck | C48: month | D48: 20 | F48: =D48*E48 -> 0
A49: 2.4.5 | B49: Water Pumps Submersible | C49: month | D49: 20 | F49: =D49*E49 -> 0
B52: Sub-total | F52: =SUM(F17:F22)+SUM(F28:F50) -> 0
B54: BILL NO.2
B56: STATION CLEANING RESOURCES
A58: 3 | B58: Weekdays
B59: Normal Time
A61: 3.1 | B61: Supervisor X2 | C61: hr | D61: 7560 | F61: =D61*E61 -> 0
A62: 3.2 | B62: Operator X4 | C62: hr | D62: 15120 | F62: =D62*E62 -> 0
A63: 3.3 | B63: General Worker X26 | C63: hr | D63: 98280 | F63: =D63*E63 -> 0
A65: 4 | B65: Saturday Work (From 07:00 - 16:30)
...
