Workbook
Name AA: #REF!
Name Answers_to_Template4_Q: #REF!
Name Answers_to_Template4_Q: #REF!
Name Answers_to_Template4_Q: #REF!
Name Answers_to_Template4_Q: #REF!
Name Cost_Changes: #REF!
Name Cost_Changes: #REF!
Name Cost_Changes: #REF!
Name Cost_Changes: #REF!
Name EE: #REF!
Name Names_cells: #REF!
Name Names_cells: #REF!
Name Names_cells: #REF!
Name Names_cells: #REF!
Name QQ: #REF!
Name RR: #REF!
Name SS: #REF!
Name TOTAL_E: #REF!
Name TOTAL_E: #REF!
Name TOTAL_E: #REF!
Name TOTAL_E: #REF!
Name TOTAL_I: #REF!
Name TOTAL_I: #REF!
Name TOTAL_I: #REF!
Name TOTAL_I: #REF!
Name TOTAL_M: #REF!
Name TOTAL_M: #REF!
Name TOTAL_M: #REF!
Name TOTAL_M: #REF!
Name TT: #REF!
Name WW: #REF!
Name XX: #REF!
Name XX: #REF!
Name Years: #REF!
Name Years: #REF!
Name Years: #REF!
Name Years: #REF!
Name YY: #REF!
Name YY: #REF!

Sheet COVER SHEET
K2: ANNEXURE A3
A14: PRICING SUBMISSION
A17: RFP NO: | E17: RFP XX-2017
A19: RFP NAME: | E19: THE PROVISION OF TRAVEL MANAGEMENT SERVICES FOR A PERIOD OF 36 MONTHS
A21: BIDDER NAME | E21: KKK
A24: PRICE INSTRUCTIONS
A26: 1. STRUCTURE OF THE TENDER
A27: This spreadsheet for RFP ________________ contains the financial response templates for the bid. The bid pricing submission instructions in this document must be read in conjunction with instructions or notes embedded in the various tabs of spreadsheet (Pricing Schedule).
A29: 2. GENERAL INSTRUCTIONS FOR COMPLETING THE PRICING SCHEDULE TEMPLATES
A30: 2.1 Tender submission format
A31: 2.1.1 Bidders must submit both a paper copy and an electronic copy of the Pricing Schedule. In the event of a discrepancy, the paper copy will prevail.
A32: 2.1.2 Bidders must sign all paper copies of their Pricing Schedule.
A33: 2.1.3 Bidders must complete and submit ALL templates 1.1 & 1.2,which are management fee model onsite and offsite, transactional fee model onsite and offsite
A34: 2.1.4 Bidders must reference main document section 9.2 for current travel volumes
A35: 2.2 Input spreadsheets
A36: 2.2.1 The Pricing Schedule templates are contained within the one (1) Excel spreadsheet .
A37: 2.2.2 All worksheets in the electronic copy of the Pricing Schedule are password protected.
... A47: 2.3.3 The Pricing Schedule template is designed such that VAT will be calculated on Bidders’ input pricing; therefore Bidders must complete the templates with unit prices excluding VAT.

Sheet  1. TRANSACTION FEE ONSITE
C1: TEMPLATE 1: TRANSACTION FEE MODEL
C4: ON-SITE SERVICES
A7: RFP NO: | C7: LAB 01/2023
A8: RFP NAME: | C8: ='COVER SHEET'!$E19 -> THE PROVISION OF TRAVEL MANAGEMENT SERVICES FOR A PERIOD OF 36 MONTHS
A9: BIDDER NAME | C9: ='COVER SHEET'!$E21 -> KKK
A11: 1.1 TRANSACTION FEES
D12: TRADITIONAL BOOKINGS | G12: ONLINE BOOKINGS
A13: ITEM | B13: Transaction Type | C13: Estimated Volume | D13: Unit Price (excl VAT) | E13: Unit Price (incl VAT) | F13: TOTAL Price (incl VAT) | G13: Unit Price (excl VAT) | H13: Unit Price (incl VAT) | I13: TOTAL Price (incl VAT)
A14: 1 | B14: Air Travel – International | E14: =D14*1.14 -> 0 | F14: =E14*C14 -> 0 | H14: =G14*1.14 -> 0 | I14: =H14*C14 -> 0
A15: 2 | B15: Air Travel – Regional | E15: =D15*1.14 -> 0 | F15: =E15*C15 -> 0 | H15: =G15*1.14 -> 0 | I15: =H15*C15 -> 0
A16: 3 | B16: Air Travel – Domestic | E16: =D16*1.14 -> 0 | F16: =E16*C16 -> 0 | H16: =G16*1.14 -> 0 | I16: =H16*C16 -> 0
A17: 4 | B17: Air Travel – International (Re-issue) | E17: =D17*1.14 -> 0 | F17: =E17*C17 -> 0 | H17: =G17*1.14 -> 0 | I17: =H17*C17 -> 0
A18: 5 | B18: Air Travel – Regional (Re-issue) | E18: =D18*1.14 -> 0 | F18: =E18*C18 -> 0 | H18: =G18*1.14 -> 0 | I18: =H18*C18 -> 0
A19: 6 | B19: Air Travel – Domestic (Re-issue) | E19: =D19*1.14 -> 0 | F19: =E19*C19 -> 0 | H19: =G19*1.14 -> 0 | I19: =H19*C19 -> 0
A20: 7 | B20: Refunds – Air Domestic | E20: =D20*1.14 -> 0 | F20: =E20*C20 -> 0 | H20: =G20*1.14 -> 0 | I20: =H20*C20 -> 0
A21: 8 | B21: Refunds – Air Regional | E21: =D21*1.14 -> 0 | F21: =E21*C21 -> 0 | H21: =G21*1.14 -> 0 | I21: =H21*C21 -> 0
A22: 9 | B22: Refunds – Air International | E22: =D22*1.14 -> 0 | F22: =E22*C22 -> 0 | H22: =G22*1.14 -> 0 | I22: =H22*C22 -> 0
A23: 10 | B23: Car Rental – Domestic | E23: =D23*1.14 -> 0 | F23: =E23*C23 -> 0 | H23: =G23*1.14 -> 0 | I23: =H23*C23 -> 0
A24: 11 | B24: Car Rental – Regional | E24: =D24*1.14 -> 0 | F24: =E24*C24 -> 0 | H24: =G24*1.14 -> 0 | I24: =H24*C24 -> 0
A25: 12 | B25: Car Rental – International | E25: =D25*1.14 -> 0 | F25: =E25*C25 -> 0 | H25: =G25*1.14 -> 0 | I25: =H25*C25 -> 0
... A50: 37 | B50: Other (Specify) | E50: =D50*1.14 -> 0 | F50: =E50*C50 -> 0 | H50: =G50*1.14 -> 0 | I50: =H50*C50 -> 0
B51: Total | C51: =SUM(C14:C50) -> 0 | F51: =SUM(F14:F50) -> 0 | I51: =SUM(I14:I50) -> 0
A52: Percentage Split between Online Booking and Traditional Booking | D52: Percentage Traditional | G52: Percentage Online
A54: 1.2 CONFERENCE TRANSACTION FEE
A55: Item | B55: Description | C55: Percentage Fee | D55: Comment
A56: 1 | B56: Conference Transaction Fee (as a % of the Total turnover of the event)
A59: 1.3 COST ELEMENT BREAKDOWN
A60: This cost breakdown will be used for price adjustment purposes. The formula for price adjustment is explained on the CPA tab.
A62: Item | B62: Cost Element | C62: Percentage weighted contribution | D62: Index
A63: 1 | B63: Compensation | C63: 0.5
A64: 2 | B64: Administration cost | C64: 0.1
A65: 3 | B65: Overheads | C65: 0.2
A66: 4 | B66: Interest on Overdraft | C66: 0.1
A67: 5 | B67: Other (Specify) | C67: 0.05
A68: 6 | B68: Other (Specify) | C68: 0.05
C69: =SUM(C63:C68) -> 1

Sheet 2. TRANSACTION FEE OFFSITE 
C1: TEMPLATE 2: TRANSACTION FEE MODEL
C4: OFF-SITE SERVICES
A7: RFP NO: | C7: LAB 01/2023
A8: RFP NAME: | C8: ='COVER SHEET'!$E19 -> THE PROVISION OF TRAVEL MANAGEMENT SERVICES FOR A PERIOD OF 36 MONTHS
A9: BIDDER NAME
A11: 1.1 TRANSACTION FEES
D12: TRADITIONAL BOOKINGS | G12: ONLINE BOOKINGS
A13: ITEM | B13: Transaction Type | C13: Estimated Volume | D13: Unit Price (excl VAT) | E13: Unit Price (incl VAT) | F13: TOTAL Price (incl VAT) | G13: Unit Price (excl VAT) | H13: Unit Price (incl VAT) | I13: TOTAL Price (incl VAT)
A14: 1 | B14: Air Travel – International | E14: =D14*1.14 -> 0 | F14: =E14*C14 -> 0 | H14: =G14*1.14 -> 0 | I14: =H14*C14 -> 0
A15: 2 | B15: Air Travel – Regional | E15: =D15*1.14 -> 0 | F15: =E15*C15 -> 0 | H15: =G15*1.14 -> 0 | I15: =H15*C15 -> 0
A16: 3 | B16: Air Travel – Domestic | E16: =D16*1.14 -> 0 | F16: =E16*C16 -> 0 | H16: =G16*1.14 -> 0 | I16: =H16*C16 -> 0
A17: 4 | B17: Air Travel – International (Re-issue) | E17: =D17*1.14 -> 0 | F17: =E17*C17 -> 0 | H17: =G17*1.14 -> 0 | I17: =H17*C17 -> 0
A18: 5 | B18: Air Travel – Regional (Re-issue) | E18: =D18*1.14 -> 0 | F18: =E18*C18 -> 0 | H18: =G18*1.14 -> 0 | I18: =H18*C18 -> 0
A19: 6 | B19: Air Travel – Domestic (Re-issue) | E19: =D19*1.14 -> 0 | F19: =E19*C19 -> 0 | H19: =G19*1.14 -> 0 | I19: =H19*C19 -> 0
A20: 7 | B20: Refunds – Air Domestic | E20: =D20*1.14 -> 0 | F20: =E20*C20 -> 0 | H20: =G20*1.14 -> 0 | I20: =H20*C20 -> 0
A21: 8 | B21: Refunds – Air Regional | E21: =D21*1.14 -> 0 | F21: =E21*C21 -> 0 | H21: =G21*1.14 -> 0 | I21: =H21*C21 -> 0
A22: 9 | B22: Refunds – Air International | E22: =D22*1.14 -> 0 | F22: =E22*C22 -> 0 | H22: =G22*1.14 -> 0 | I22: =H22*C22 -> 0
A23: 10 | B23: Car Rental – Domestic | E23: =D23*1.14 -> 0 | F23: =E23*C23 -> 0 | H23: =G23*1.14 -> 0 | I23: =H23*C23 -> 0
A24: 11 | B24: Car Rental – Regional | E24: =D24*1.14 -> 0 | F24: =E24*C24 -> 0 | H24: =G24*1.14 -> 0 | I24: =H24*C24 -> 0
A25: 12 | B25: Car Rental – International | E25: =D25*1.14 -> 0 | F25: =E25*C25 -> 0 | H25: =G25*1.14 -> 0 | I25: =H25*C25 -> 0
... A50: 37 | B50: Other (Specify) | E50: =D50*1.14 -> 0 | F50: =E50*C50 -> 0 | H50: =G50*1.14 -> 0 | I50: =H50*C50 -> 0
B51: Total | F51: =SUM(F14:F50) -> 0 | I51: =SUM(I14:I50) -> 0
A52: Percentage Split between Online Booking and Traditional Booking | D52: Percentage Traditional | G52: Percentage Online
A54: 1.2 CONFERENCE TRANSACTION FEE
A55: Item | B55: Description | C55: Percentage Fee | D55: Comment
A56: 1 | B56: Conference Transaction Fee (as a % of the Total turnover of the event)
A59: 1.3 COST ELEMENT BREAKDOWN
A60: This cost breakdown will be used for price adjustment purposes. The formula for price adjustment is explained on the CPA tab.
A62: Item | B62: Cost Element | C62: Percentage weighted contribution | D62: Index
A63: 1 | B63: Compensation | C63: 0.5
A64: 2 | B64: Administration cost | C64: 0.1
A65: 3 | B65: Overheads | C65: 0.2
A66: 4 | B66: Interest on Overdraft | C66: 0.1
A67: 5 | B67: Other (Specify) | C67: 0.05
A68: 6 | B68: Other (Specify) | C68: 0.05
C69: =SUM(C63:C68) -> 1

Sheet 3. MANAGEMENT FEE ONSITE
D1: TEMPLATE 3: MANAGEMENT FEE MODEL
D4: ON-SITE SERVICES
B7: RFP NO: | D7: LAB 01/2023
B8: RFP NAME: | D8: ='COVER SHEET'!$E19 -> THE PROVISION OF TRAVEL MANAGEMENT SERVICES FOR A PERIOD OF 36 MONTHS
B9: BIDDER NAME | D9: TTT
B11: ESTIMATED TRANSACTION VOLUMES *
D12: See Section 15.2 of the bid document
B13: 1.1 MANAGEMENT FEES
E14: TRADITIONAL BOOKINGS | F14: ONLINE BOOKINGS
B15: ITEM | C15: Transaction Type | E15: Annual Cost (Excl VAT) | F15: Annual Cost (Excl VAT)
C16: Fixed Costs (Management Fees) | D16: #
B17: 1 | C17: Compensation
C18: Receptionist
C19: Senior Travel Consultants
C20: Intermediate Travel Consultants
C21: Junior Travel Consultants
C22: Travel Manager
C23: Finance Manager / Accountant
C24: Admin Back Office (Creditors/ Debtors / Finance Processors
C25: Strategic Account Manager
C26: System Administrator
B27: 2 | C27: Standard Monthly Reports (3 Std Reports x 12 months)
B28: 3 | C28: Standard Weekly Reports (3 Weekly Report x 52 weeks)
B29: 4 | C29: * Communication (SMS, Email alerts, Industry updates)
B30: 5 | C30: Marketing
B31: 6 | C31: Technology (Software Licences)
B32: 7 | C32: Computing / GDS Fees
B33: 8 | C33: Office Leasing (not applicable for on-site)
B34: 9 | C34: Utility bills (phone, broadband, electricity, etc.
B35: 10 | C35: Assocciation membership fees
B36: 11 | C36: Banking Services (Interest, Merchant Fees, etc.)
B37: 12 | C37: Other (Specify)
B38: 13 | C38: Other (Specify)
... B42: 17 | C42: Profit
C43: Total Annual Cost (Excl VAT) | F43: =SUM(F17:F42) -> 0
C44: Total Annual Cost (Incl VAT) | F44: =F43*1.14 -> 0
C45: Fixed Monthly MANAGEMENT FEE (incl VAT) | F45: =F44/12 -> 0
C47: Variable Costs | D47: Estimated # | E47: Annual Cost (Excl VAT) | F47: Annual Cost (Excl VAT)
B48: 1 | C48: After-Hours (VIP/Executive Travel Consultant) (Estimated at 20 Calls per month
B49: 2 | C49: After-Hours Call Center / Contact Number(17h00 - 7h30 Weekdays; 24 hours weekends and public holidays) (Estimated at 50 Calls per month
...

Sheet 4. MANAGEMENT FEE OFFSITE
D1: TEMPLATE 4: MANAGEMENT FEE MODEL
D4: OFF-SITE SERVICES
B7: RFP NO: | D7: LAB 01/2023
B8: RFP NAME: | D8: ='COVER SHEET'!$E19 -> THE PROVISION OF TRAVEL MANAGEMENT SERVICES FOR A PERIOD OF 36 MONTHS
B9: BIDDER NAME
B11: ESTIMATED TRANSACTION VOLUMES *
D12: See Section 15.2 of the bid document
B13: 1.1 MANAGEMENT FEES
E14: TRADITIONAL BOOKINGS | F14: ONLINE BOOKINGS
B15: ITEM | C15: Transaction Type | E15: Annual Cost (Excl VAT) | F15: Annual Cost (Excl VAT)
C16: Fixed Costs (Management Fees) | D16: #
B17: 1 | C17: Compensation
C18: Receptionist
C19: Senior Travel Consultants
C20: Intermediate Travel Consultants
C21: Junior Travel Consultants
C22: Travel Manager
C23: Finance Manager / Accountant
C24: Admin Back Office (Creditors/ Debtors / Finance Processors
C25: Strategic Account Manager
C26: System Administrator
B27: 2 | C27: Standard Monthly Reports (3 Std Reports x 12 months)
B28: 3 | C28: Standard Weekly Reports (3 Weekly Report x 52 weeks)
B29: 4 | C29: * Communication (SMS, Email alerts, Industry updates)
B30: 5 | C30: Marketing
B31: 6 | C31: Technology (Software Licences)
B32: 7 | C32: Computing / GDS Fees
B33: 8 | C33: Office Leasing (if applicable)
B34: 9 | C34: Utility bills (phone, broadband, electricity, etc.
B35: 10 | C35: Assocciation membership fees
B36: 11 | C36: Banking Services (Interest, Merchant Fees, etc.)
B37: 12 | C37: Other (Specify)
B38: 13 | C38: Other (Specify)
... B42: 17 | C42: Profit
C43: Total Annual Cost (Excl VAT) | E43: =SUM(E17:E42) -> 0 | F43: =SUM(F17:F42) -> 0
C44: Total Annual Cost (Incl VAT) | E44: =E43*1.14 -> 0 | F44: =F43*1.14 -> 0
C45: Fixed Monthly MANAGEMENT FEE (incl VAT) | E45: =E44/12 -> 0 | F45: =F44/12 -> 0
C47: Variable Costs | D47: Estimated # | E47: Annual Cost (Excl VAT) | F47: Annual Cost (Excl VAT)
B48: 1 | C48: After-Hours (VIP/Executive Travel Consultant) (Estimated at 20 Calls per month
B49: 2 | C49: After-Hours Call Center / Contact Number(17h00 - 7h30 Weekdays; 24 hours weekends and public holidays) (Estimated at 50 Calls per month
...

Sheet Price Declaration 
A8: RFP NO: | C8: LAB 01/2023
A9: RFP NAME: | C9: ='COVER SHEET'!$E16 -> 0
A10: BIDDER NAME | C10: ='COVER SHEET'!$E18 -> 0
A13: Price Declaration
A14: Dear Sir/Madam,
A16: Having read through and examined the Request For Proposal (RFP) Document, the General Conditions, The Requirement and all other Annexures to the RFP Document, we offer to provide ON-SITE / OFF-SITE travel management service to the [institution name] at the following total amounts (including VAT)
A18: Template 1: Transaction Fee (On-Site)
A19: TRADITIONAL BOOKING | E19: ON-LINE BOOKING
A20: =' 1. TRANSACTION FEE ONSITE'!F51 -> 0 | C20: (incl. VAT) | E20: =' 1. TRANSACTION FEE ONSITE'!I51 -> 0 | H20: (incl. VAT)
A21: In words:
A25: Template 2: Transaction Fee (Off-Site)
A26: TRADITIONAL BOOKING | E26: ON-LINE BOOKING
A27: ='2. TRANSACTION FEE OFFSITE '!F51 -> 0 | C27: (incl. VAT) | E27: ='2. TRANSACTION FEE OFFSITE '!I51 -> 0 | H27: (incl. VAT)
A28: In words:
A32: Template 3: Management Fee (On-Site)
A33: TRADITIONAL BOOKING | E33: ON-LINE BOOKING
A34: ='3. MANAGEMENT FEE ONSITE'!E60 -> 0 | C34: (incl. VAT) | E34: ='3. MANAGEMENT FEE ONSITE'!F60 -> 0 | H34: (incl. VAT)
A35: In words:
A39: Template 4: Management Fee (Off-Site)
A40: TRADITIONAL BOOKING | E40: ON-LINE BOOKING
A41: ='4. MANAGEMENT FEE OFFSITE'!$E$60 -> 0 | C41: (incl. VAT) | E41: ='4. MANAGEMENT FEE OFFSITE'!$F$60 -> 0 | H41: (incl. VAT)
A42: In words:
A45: We undertake to hold this offer open for acceptance for a period of 180 days from the date of submission of offers. We further undertake that upon final acceptance of our offer, we will commence with the provision of service when required to do so by the [Institution Name]
A47: We understand that [Institution Name] are not bound to accept the lowest or any offer and that we must bear all costs which we have incurred in connection with preparing and submitting this bid.
A49: We hereby undertake for the period during which this bid remains open for acceptance not to divulge to any persons, other than the persons to which the bid is submitted, any information relating to the submission of this bid or the details therein except where such is necessary for the submission of this bid.
A51: Signature | E51: Date
A52: Print name of signatory: …………………………………………………………………………….
A53: Designation: ………………………………………………………………………………………….
A55: FOR AND ON BEHALF OF: COMPANY NAME
A57: Tel No: ……………………………………….
A58: Fax No: ……………………………………….
A59: Cell No: ……………………………………….
A60: Email:………………………………………….
