{"text_format":"3","workbook":"xlsx","n_sheets":6,"sheets":["Summary","Annual load test BOQ","6 Monthly inspection BOQ","3 Monthly Lifting tackles BOQ","Rates","Crane service"],"read":"whole","date_system":"1900"}

{"sheet":"Summary","index":0,"n_rows":48,"n_cols":8,"rows_kept":48,"merged":[[0,0,0,7],[1,0,1,7],[2,0,2,7],[10,0,10,1],[11,0,11,1],[12,0,12,1],[15,0,15,7],[16,0,16,7],[17,0,17,7],[18,0,18,7],[19,0,19,7],[20,0,20,7],[21,0,21,7],[23,0,23,7],[41,0,41,6],[42,0,42,6],[43,0,43,6],[44,0,44,6],[45,0,45,6],[46,0,46,6],[47,0,47,6]]}
["CSIR RFQ No.: 9536/11/09/2026 For the Inspection, Maintenance, Load Testing and Repairs of Lifting Equipment and Lifting Tackles at the CSIR Scientia, Kloppersbos, Paardefontein, Carlow Road, and Cottesloe Campuses for a period of 5 years."]
["BILL OF QUANTITIES - SUMMARY"]
["CONTRACT: Lifting Equipment Inspection & Testing at All CSIR Sites"]
[]
["Service Category","Frequency","Year 1","Year 2","Year 3","Year 4","Year 5","5 Year Total"]
["Annual Load Testing of Lifting Equipment","Annual",{"$f":"'Annual load test BOQ'!H126","v":{"v":0,"d":"R 0.00"}},{"$f":"'Annual load test BOQ'!J126","v":{"v":0,"d":"R 0.00"}},{"$f":"'Annual load test BOQ'!L126","v":{"v":0,"d":"R 0.00"}},{"$f":"'Annual load test BOQ'!N126","v":{"v":0,"d":"R 0.00"}},{"$f":"'Annual load test BOQ'!P126","v":{"v":0,"d":"R 0.00"}},{"$f":"SUM(C6:G6)","v":{"v":0,"d":"R 0.00"}}]
["6 Monthly Inspection of Lifting Equipment","6 Monthly",{"$f":"'6 Monthly inspection BOQ'!J124","v":{"v":0,"d":"R 0.00"}},{"$f":"'6 Monthly inspection BOQ'!N124","v":{"v":0,"d":"R 0.00"}},{"$f":"'6 Monthly inspection BOQ'!R124","v":{"v":0,"d":"R 0.00"}},{"$f":"'6 Monthly inspection BOQ'!V124","v":{"v":0,"d":"R 0.00"}},{"$f":"'6 Monthly inspection BOQ'!Z124","v":{"v":0,"d":"R 0.00"}},{"v":0,"d":"R 0.00"}]
["3 Monthly Cottesloe Crane Service","3 Monthly",{"$f":"SUM('Crane service'!I5:I10)","v":{"v":0,"d":"R 0.00"}},{"$f":"SUM('Crane service'!N5:N10)","v":{"v":0,"d":"R 0.00"}},{"$f":"SUM('Crane service'!S5:S10)","v":{"v":0,"d":"R 0.00"}},{"$f":"SUM('Crane service'!X5:X10)","v":{"v":0,"d":"R 0.00"}},{"$f":"SUM('Crane service'!AC5:AC10)","v":{"v":0,"d":"R 0.00"}},{"$f":"SUM(C8:G8)","v":{"v":0,"d":"R 0.00"}}]
["3 Monthly Scientia Crane Service","3 Monthly",{"$f":"SUM('Crane service'!I11:I13)","v":{"v":0,"d":"R 0.00"}},{"$f":"SUM('Crane service'!N11:N13)","v":{"v":0,"d":"R 0.00"}},{"$f":"SUM('Crane service'!S11:S13)","v":{"v":0,"d":"R 0.00"}},{"$f":"SUM('Crane service'!X11:X13)","v":{"v":0,"d":"R 0.00"}},{"$f":"SUM('Crane service'!AC11:AC13)","v":{"v":0,"d":"R 0.00"}},{"$f":"SUM(C9:G9)","v":{"v":0,"d":"R 0.00"}}]
["3 Monthly Inspection of Lifting Tackles","3 Monthly",{"$f":"'3 Monthly Lifting tackles BOQ'!L137","v":{"v":0,"d":"R 0.00"}},{"$f":"'3 Monthly Lifting tackles BOQ'!R137","v":{"v":0,"d":"R 0.00"}},{"$f":"'3 Monthly Lifting tackles BOQ'!X137","v":{"v":0,"d":"R 0.00"}},{"$f":"'3 Monthly Lifting tackles BOQ'!AD137","v":{"v":0,"d":"R 0.00"}},{"$f":"'3 Monthly Lifting tackles BOQ'!AJ137","v":{"v":0,"d":"R 0.00"}},{"v":0,"d":"R 0.00"}]
["SUBTOTAL (Excl. VAT)",null,{"$f":"SUM(C6:C10)","v":{"v":0,"d":"R 0.00"}},{"$f":"SUM(D6:D10)","v":{"v":0,"d":"R 0.00"}},{"$f":"SUM(E6:E10)","v":{"v":0,"d":"R 0.00"}},{"$f":"SUM(F6:F10)","v":{"v":0,"d":"R 0.00"}},{"$f":"SUM(G6:G10)","v":{"v":0,"d":"R 0.00"}},{"v":0,"d":"R 0.00"}]
["VAT (15%)",null,{"$f":"C11*0.15","v":{"v":0,"d":"R 0.00"}},{"$f":"D11*0.15","v":{"v":0,"d":"R 0.00"}},{"$f":"E11*0.15","v":{"v":0,"d":"R 0.00"}},{"$f":"F11*0.15","v":{"v":0,"d":"R 0.00"}},{"$f":"G11*0.15","v":{"v":0,"d":"R 0.00"}},{"v":0,"d":"R 0.00"}]
["GRAND TOTAL (Incl. VAT)",null,{"$f":"C11+C12","v":{"v":0,"d":"R 0.00"}},{"$f":"D11+D12","v":{"v":0,"d":"R 0.00"}},{"$f":"E11+E12","v":{"v":0,"d":"R 0.00"}},{"$f":"F11+F12","v":{"v":0,"d":"R 0.00"}},{"$f":"G11+G12","v":{"v":0,"d":"R 0.00"}},{"v":0,"d":"R 0.00"}]
[]
[]
["NOTES:"]
["1. All prices are exclusive of VAT unless stated otherwise."]
["2. Annual load testing includes testing on overhead cranes, chain hoists, forklifts, electric hoists, winches, crawls, engine lifters, and pallet trolleys."]
["3. Sites covered: Scientia, Cottesloe,Carlow Road, Kloppersbos, and Paardefontein."]
["4. Certificates of inspection/load testing to be provided within 3 days of inspection."]
["5. This summary links to the detailed BOQ sheets - values will update automatically when rates are entered. Suppliers to ensure that all the BoQ data is correct and adds correctly before submission "]
["6. For parts and materials, [approved supplier quotation amount + contracted markup percentage = amount payable by CSIR]"]
[]
["LABOUR AND TRANSPORT RATES SCHEDULE"]
[]
["Description","Unit of Measure","Year 1","Year 2","Year 3","Year 4","Year 5"]
[{"$f":"Rates!C4","v":"Lifting machinery Inspector NT"},{"$f":"Rates!D4","v":"hourly"},{"$f":"Rates!E4","v":{"v":0,"d":"R 0.00"}},{"$f":"Rates!F4","v":{"v":0,"d":"R 0.00"}},{"$f":"Rates!G4","v":{"v":0,"d":"R 0.00"}},{"$f":"Rates!H4","v":{"v":0,"d":"R 0.00"}},{"$f":"Rates!I4","v":{"v":0,"d":"R 0.00"}}]
[{"$f":"Rates!C5","v":"Lifting machinery inspector AH"},{"$f":"Rates!D5","v":"hourly"},{"$f":"Rates!E5","v":{"v":0,"d":"R 0.00"}},{"$f":"Rates!F5","v":{"v":0,"d":"R 0.00"}},{"$f":"Rates!G5","v":{"v":0,"d":"R 0.00"}},{"$f":"Rates!H5","v":{"v":0,"d":"R 0.00"}},{"$f":"Rates!I5","v":{"v":0,"d":"R 0.00"}}]
[{"$f":"Rates!C6","v":"Crane technician NT"},{"$f":"Rates!D6","v":"hourly"},{"$f":"Rates!E6","v":{"v":0,"d":"R 0.00"}},{"$f":"Rates!F6","v":{"v":0,"d":"R 0.00"}},{"$f":"Rates!G6","v":{"v":0,"d":"R 0.00"}},{"$f":"Rates!H6","v":{"v":0,"d":"R 0.00"}},{"$f":"Rates!I6","v":{"v":0,"d":"R 0.00"}}]
[{"$f":"Rates!C7","v":"Crane technician AH"},{"$f":"Rates!D7","v":"hourly"},{"$f":"Rates!E7","v":{"v":0,"d":"R 0.00"}},{"$f":"Rates!F7","v":{"v":0,"d":"R 0.00"}},{"$f":"Rates!G7","v":{"v":0,"d":"R 0.00"}},{"$f":"Rates!H7","v":{"v":0,"d":"R 0.00"}},{"$f":"Rates!I7","v":{"v":0,"d":"R 0.00"}}]
[{"$f":"Rates!C8","v":"Call out fee NT"},{"$f":"Rates!D8","v":"each"},{"$f":"Rates!E8","v":{"v":0,"d":"R 0.00"}},{"$f":"Rates!F8","v":{"v":0,"d":"R 0.00"}},{"$f":"Rates!G8","v":{"v":0,"d":"R 0.00"}},{"$f":"Rates!H8","v":{"v":0,"d":"R 0.00"}},{"$f":"Rates!I8","v":{"v":0,"d":"R 0.00"}}]
[{"$f":"Rates!C9","v":"Call out fee AH"},{"$f":"Rates!D9","v":"each"},{"$f":"Rates!E9","v":{"v":0,"d":"R 0.00"}},{"$f":"Rates!F9","v":{"v":0,"d":"R 0.00"}},{"$f":"Rates!G9","v":{"v":0,"d":"R 0.00"}},{"$f":"Rates!H9","v":{"v":0,"d":"R 0.00"}},{"$f":"Rates!I9","v":{"v":0,"d":"R 0.00"}}]
[{"$f":"Rates!C10","v":"Transport (normal)"},{"$f":"Rates!D10","v":"km"},{"$f":"Rates!E10","v":{"v":0,"d":"R 0.00"}},{"$f":"Rates!F10","v":{"v":0,"d":"R 0.00"}},{"$f":"Rates!G10","v":{"v":0,"d":"R 0.00"}},{"$f":"Rates!H10","v":{"v":0,"d":"R 0.00"}},{"$f":"Rates!I10","v":{"v":0,"d":"R 0.00"}}]
[{"$f":"Rates!C11","v":"Transport (weights)"},{"$f":"Rates!D11","v":"km"},{"$f":"Rates!E11","v":{"v":0,"d":"R 0.00"}},{"$f":"Rates!F11","v":{"v":0,"d":"R 0.00"}},{"$f":"Rates!G11","v":{"v":0,"d":"R 0.00"}},{"$f":"Rates!H11","v":{"v":0,"d":"R 0.00"}},{"$f":"Rates!I11","v":{"v":0,"d":"R 0.00"}}]
[{"$f":"Rates!C12","v":"Weights - 8,5T"},{"$f":"Rates!D12","v":"each"},{"$f":"Rates!E12","v":{"v":0,"d":"R 0.00"}},{"$f":"Rates!F12","v":{"v":0,"d":"R 0.00"}},{"$f":"Rates!G12","v":{"v":0,"d":"R 0.00"}},{"$f":"Rates!H12","v":{"v":0,"d":"R 0.00"}},{"$f":"Rates!I12","v":{"v":0,"d":"R 0.00"}}]
[{"$f":"Rates!C13","v":"Weights - 11T"},{"$f":"Rates!D13","v":"each"},{"$f":"Rates!E13","v":{"v":0,"d":"R 0.00"}},{"$f":"Rates!F13","v":{"v":0,"d":"R 0.00"}},{"$f":"Rates!G13","v":{"v":0,"d":"R 0.00"}},{"$f":"Rates!H13","v":{"v":0,"d":"R 0.00"}},{"$f":"Rates!I13","v":{"v":0,"d":"R 0.00"}}]
[{"$f":"Rates!C14","v":"Weights - 22T"},{"$f":"Rates!D14","v":"each"},{"$f":"Rates!E14","v":{"v":0,"d":"R 0.00"}},{"$f":"Rates!F14","v":{"v":0,"d":"R 0.00"}},{"$f":"Rates!G14","v":{"v":0,"d":"R 0.00"}},{"$f":"Rates!H14","v":{"v":0,"d":"R 0.00"}},{"$f":"Rates!I14","v":{"v":0,"d":"R 0.00"}}]
[{"$f":"Rates!C15","v":"Weights - 33T"},{"$f":"Rates!D15","v":"each"},{"$f":"Rates!E15","v":{"v":0,"d":"R 0.00"}},{"$f":"Rates!F15","v":{"v":0,"d":"R 0.00"}},{"$f":"Rates!G15","v":{"v":0,"d":"R 0.00"}},{"$f":"Rates!H15","v":{"v":0,"d":"R 0.00"}},{"$f":"Rates!I15","v":{"v":0,"d":"R 0.00"}}]
[{"$f":"Rates!C16","v":"Contractor markup on approved supplier quotations for parts and materials"},{"$f":"Rates!D16","v":"%"},{"$f":"Rates!E16","v":{"v":0,"d":"R 0.00"}},{"$f":"Rates!F16","v":{"v":0,"d":"R 0.00"}},{"$f":"Rates!G16","v":{"v":0,"d":"R 0.00"}},{"$f":"Rates!H16","v":{"v":0,"d":"R 0.00"}},{"$f":"Rates!I16","v":{"v":0,"d":"R 0.00"}}]
[{"$f":"Rates!C17","v":"Dye Penetrant Testing"},{"$f":"Rates!D17","v":"per hour"},{"$f":"Rates!E17","v":{"v":0,"d":"R 0.00"}},{"$f":"Rates!F17","v":{"v":0,"d":"R 0.00"}},{"$f":"Rates!G17","v":{"v":0,"d":"R 0.00"}},{"$f":"Rates!H17","v":{"v":0,"d":"R 0.00"}},{"$f":"Rates!I17","v":{"v":0,"d":"R 0.00"}}]
[]
["RATE NOTES:"]
[{"$f":"Rates!C21","v":"NT- Normal time"}]
[{"$f":"Rates!C22","v":"AH - After hours "}]
[{"$f":"Rates!C23","v":"Normal time is 08h00 to 16h30, Monday to Friday"}]
[{"$f":"Rates!C24","v":"AH - After hours is 16h30 to 07h00 Monday to Friday"}]
[{"$f":"Rates!C25","v":"Saturday & Sunday is after hours and the same AH will apply"}]
[{"$f":"Rates!C26","v":"Call out fee will only apply to emergency request and not planned work or scheduled inspection and load testing"}]

{"sheet":"Annual load test BOQ","index":1,"n_rows":133,"n_cols":16,"rows_kept":133,"merged":[[0,0,0,15],[1,0,1,15],[2,0,2,15],[3,0,4,0],[3,1,4,1],[3,2,4,2],[3,3,4,3],[3,4,4,4],[3,5,4,5],[3,6,3,7],[3,8,3,9],[3,10,3,11],[3,12,3,13],[3,14,3,15],[6,0,21,0],[6,1,17,1],[6,2,17,2],[18,1,21,1],[18,2,21,2],[22,0,33,0],[22,1,31,1],[22,2,31,2],[32,1,33,1],[32,2,33,2],[34,0,39,0],[34,1,37,1],[34,2,37,2],[40,0,52,0],[40,1,48,1],[40,2,48,2],[51,1,52,1],[51,2,52,2],[53,0,54,0],[55,0,66,0],[55,1,63,1],[55,2,63,2],[64,1,65,1],[64,2,65,2],[67,0,74,0],[67,1,74,1],[67,2,74,2],[75,0,77,0],[75,1,77,1],[75,2,77,2],[78,0,85,0],[78,1,83,1],[78,2,83,2],[84,1,85,1],[84,2,85,2],[87,0,95,0],[87,1,93,1],[87,2,93,2],[94,1,95,1],[94,2,95,2],[96,0,102,0],[96,1,99,1],[96,2,99,2],[100,1,101,1],[100,2,101,2],[103,0,108,0],[103,1,107,1],[103,2,107,2],[109,0,110,0],[109,1,110,1],[109,2,110,2],[111,0,115,0],[111,1,115,1],[111,2,115,2],[117,2,117,3],[118,2,118,3],[119,2,119,3],[120,2,120,3],[121,2,121,3],[122,2,122,3],[123,2,123,3],[124,2,124,3],[125,3,125,6],[126,3,126,6],[127,3,127,6],[131,0,131,8],[132,0,132,6]]}
["BILL OF QUANTITIES"]
["PROJECT NAME - ANNUAL LOAD TESTING OF LIFTING EQUIPMENT AT ALL CSIR SITES"]
["DEPARTMENT    -  FACILITIES DEPARTMENT"]
["Item ","Site","Description","Capacity  (Tons)","Unit of measure","Quantity","Year 1",null,"Year 2",null,"Year 3",null,"Year 4",null,"Year 5"]
[{"$nulls":6}," Unit Price (Exc VAT) ","Total Amount (Exc VAT)"," Unit Price (Exc VAT) ","Total Amount (Exc VAT)"," Unit Price (Exc VAT) ","Total Amount (Exc VAT)"," Unit Price (Exc VAT) ","Total Amount (Exc VAT)"," Unit Price (Exc VAT) ","Total Amount (Exc VAT)"]
[1,"All sites","Annual load testing on lifting equipment"]
[1.1,"Scientia","Perform annual load test on the overhead cranes as per the regulation",10,"Ea",3,null,{"$f":"F7*G7","v":0},null,{"$f":"F7*I7","v":0},null,{"$f":"F7*K7","v":0},null,{"$f":"F7*M7","v":0},null,{"$f":"F7*O7","v":0}]
[{"$nulls":3},3.2,"Ea",2,null,{"$f":"F8*G8","v":0},null,{"$f":"F8*I8","v":0},null,{"$f":"F8*K8","v":0},null,{"$f":"F8*M8","v":0},null,{"$f":"F8*O8","v":0}]
[{"$nulls":3},1.5,"Ea",3,null,{"$f":"F9*G9","v":0},null,0,null,0,null,0,null,{"$f":"F9*O9","v":0}]
[{"$nulls":3},1.6,"Ea",1,null,0,null,0,null,0,null,0,null,0]
[{"$nulls":3},3,"Ea",1,null,0,null,0,null,0,null,0,null,{"$f":"F11*O11","v":0}]
[{"$nulls":3},2,"Ea",3,null,0,null,0,null,0,null,0,null,0]
[{"$nulls":3},8,"Ea",1,null,0,null,0,null,0,null,0,null,0]
[{"$nulls":3},4,"Ea",4,null,0,null,0,null,0,null,0,null,0]
[{"$nulls":3},5,"Ea",5,null,0,null,0,null,0,null,0,null,0]
[{"$nulls":3},7.5,"Ea",4,null,0,null,0,null,0,null,0,null,0]
[{"$nulls":3},30,"Ea",1,null,0,null,0,null,0,null,0,null,0]
[{"$nulls":3},20,"Ea",1,null,0,null,0,null,0,null,0,null,0]
[null,"Cottesloe","Perform annual load test on the overhead cranes as per the regulation",2,"Ea",1,null,0,null,{"$f":"F19*I19","v":0},null,0,null,0,null,0]
[{"$nulls":3},5,"Ea",1,null,0,null,0,null,0,null,0,null,0]
[{"$nulls":3},7.5,"Ea",2,null,0,null,0,null,0,null,0,null,0]
[{"$nulls":3},1.6,"Ea",1,null,0,null,0,null,0,null,0,null,0]
[1.2,"Scientia","Perform annual load test on the  manual chain hoists/lever hoists as per the regulation",0.5,"Ea",11,null,0,null,0,null,0,null,0,null,0]
[{"$nulls":3},0.2,"Ea",1,null,{"$f":"F24*G24","v":0},null,0,null,0,null,0,null,0]
[{"$nulls":3},0.4,"Ea",2,null,0,null,0,null,0,null,0,null,0]
[{"$nulls":3},0.75,"Ea",1,null,0,null,0,null,0,null,0,null,0]
[{"$nulls":3},1,"Ea",15,null,0,null,0,null,0,null,0,null,0]
[{"$nulls":3},1.5,"Ea",2,null,0,null,0,null,0,null,0,null,0]
[{"$nulls":3},2,"Ea",9,null,0,null,0,null,0,null,0,null,0]
[{"$nulls":3},3,"Ea",2,null,0,null,0,null,0,null,0,null,0]
[{"$nulls":3},4,"Ea",1,null,0,null,0,null,0,null,0,null,0]
[{"$nulls":3},5,"Ea",1,null,0,null,0,null,0,null,0,null,0]
[null,"Kloppersboss","Perform annual load test on the  manual chain hoists/lever hoists as per the regulation",2,"Ea",1,null,0,null,0,null,0,null,0,null,0]
[{"$nulls":3},1.6,"Ea",1,null,0,null,0,null,0,null,0,null,0]
[1.3,"Scientia","Perform annual load test on the forklifts as per the regulation",1,"Ea",2,null,0,null,0,null,0,null,0,null,0]
[{"$nulls":3},2.5,"Ea",2,null,0,null,0,null,0,null,0,null,0]
[{"$nulls":3},3,"Ea",1,null,0,null,0,null,0,null,0,null,0]
[{"$nulls":3},3.5,"Ea",1,null,0,null,0,null,0,null,0,null,0]
[null,"Cottesloe","Perform 6 Monthly inspection on the forklifts as per the regulation",3.5,"Ea",1,null,0,null,0,null,0,null,0,null,0]
[null,"Paardefontein","Perform annual load test on the forklifts as per the regulation",3.5,"Ea",1,null,0,null,0,null,0,null,0,null,0]
[1.4,"Scientia","Perform annual load test on the electric hoists as per regulation",0.4,"Ea",1,null,0,null,0,null,0,null,0,null,0]
[{"$nulls":3},0.5,"Ea",1,null,0,null,0,null,0,null,0,null,0]
[{"$nulls":3},1,"Ea",3,null,0,null,0,null,0,null,0,null,0]
[{"$nulls":3},0.9,"Ea",1,null,0,null,0,null,0,null,0,null,0]
[{"$nulls":3},7.5,"Ea",1,null,0,null,0,null,0,null,0,null,0]
[{"$nulls":3},3,"Ea",1,null,0,null,0,null,0,null,0,null,0]
[{"$nulls":3},4,"Ea",1,null,0,null,0,null,0,null,0,null,0]
[{"$nulls":3},0.25,"Ea",1,null,0,null,0,null,0,null,0,null,0]
[{"$nulls":3},2,"Ea",2,null,0,null,0,null,0,null,0,null,0]
[null,"Kloppersboss","Perform annual load test on the electric hoists as per regulation",0.125,"Ea",1,null,0,null,0,null,0,null,0,null,0]
[null,"Paardefontein","Perform annual load test on the electric hoists as per regulation",1,"Ea",1,null,0,null,0,null,0,null,0,null,0]
[null,"Cottesloe","Perform annual load test on the electric hoists as per regulation",1.5,"Ea",1,null,0,null,0,null,0,null,0,null,0]
[{"$nulls":3},2,"Ea",1,null,0,null,0,null,0,null,0,null,0]
[1.5,"Scientia","Perform annual load test on the electric winch as per regulation",0.15,"Ea",2,null,0,null,0,null,0,null,0,null,0]
[null,"Paardefontein","Perform annual load test on the electric winch as per regulation",0.15,"Ea",1,null,0,null,0,null,0,null,0,null,0]
[1.6,"Scientia","Perform annual load test on the crawls as per regulation",0.4,"Ea",1,null,0,null,0,null,0,null,0,null,0]
[{"$nulls":3},0.25,"Ea",1,null,0,null,0,null,0,null,0,null,0]
[{"$nulls":3},0.5,"Ea",7,null,0,null,0,null,0,null,0,null,0]
[{"$nulls":3},1,"Ea",10,null,0,null,0,null,0,null,0,null,0]
[{"$nulls":3},1.5,"Ea",1,null,0,null,0,null,0,null,0,null,0]
[{"$nulls":3},2,"Ea",9,null,0,null,0,null,0,null,0,null,0]
[{"$nulls":3},3,"Ea",1,null,0,null,0,null,0,null,0,null,0]
[{"$nulls":3},0.9,"Ea",1,null,0,null,0,null,0,null,0,null,0]
[{"$nulls":3},0.2,"Ea",1,null,0,null,0,null,0,null,0,null,0]
[null,"Kloppersboss","Perform annual load test on the crawls as per regulation",2,"Ea",1,null,0,null,0,null,0,null,0,null,0]
[{"$nulls":3},0.125,"Ea",1,null,0,null,0,null,0,null,0,null,0]
[null,"Paardefontein","Perform annual load test on the crawls as per regulation",1,"Ea",1,null,0,null,0,null,0,null,0,null,0]
[1.7,"Scientia","Perform annual load test on the engine lifter/ stacker as per regulation",0.25,"Ea",1,null,0,null,0,null,0,null,0,null,0]
[{"$nulls":3},0.36,"Ea",1,null,0,null,0,null,0,null,0,null,0]
[{"$nulls":3},1,"Ea",1,null,0,null,0,null,0,null,0,null,0]
[{"$nulls":3},2,"Ea",2,null,0,null,0,null,0,null,0,null,0]
[{"$nulls":3},3,"Ea",1,null,0,null,{"$f":"F72*I72","v":0},null,{"$f":"F72*K72","v":0},null,{"$f":"F72*M72","v":0},null,{"$f":"F72*O72","v":0}]
[{"$nulls":3},5,"Ea",2,null,0,null,0,null,0,null,0,null,0]
[{"$nulls":3},10,"Ea",1,null,0,null,0,null,0,null,0,null,0]
[{"$nulls":3},0.2,"Ea",1,null,0,null,0,null,0,null,0,null,0]
[1.8,"Scientia","Perform annual load test on the drum lifter/plate gripper as per regulation",0.45,"Ea",1,null,0,null,0,null,0,null,0,null,0]
[{"$nulls":3},0.5,"Ea",2,null,0,null,0,null,0,null,0,null,0]
[{"$nulls":3},1,"Ea",1,null,0,null,0,null,0,null,0,null,0]
[1.9,"Scientia"," Perform annual load test on the pallet trolleys as per regulation",1,"Ea",4,null,0,null,0,null,0,null,0,null,0]
[{"$nulls":3},1.5,"Ea",6,null,0,null,0,null,0,null,0,null,0]
[{"$nulls":3},2,"Ea",4,null,0,null,0,null,0,null,0,null,0]
[{"$nulls":3},2.5,"Ea",13,null,0,null,0,null,0,null,0,null,0]
[{"$nulls":3},3,"Ea",4,null,0,null,0,null,0,null,0,null,0]
[{"$nulls":3},4,"Ea",1,null,0,null,0,null,0,null,0,null,0]
[null,"Paardefontein"," Perform annual load test on the pallet trolleys as per regulation",3,"Ea",2,null,0,null,0,null,0,null,0,null,0]
[{"$nulls":3},4,"Ea",1,null,0,null,0,null,0,null,0,null,0]
[{"v":1.1,"d":"1.10"},"Scientia","Perform annual load test on the vehicle lift as per regulation",4,"Ea",1,null,0,null,0,null,0,null,0,null,0]
[1.11,"Scientia","Perform annual load test on the lifting structure/ monorail beams as per regulation",0.5,"Ea",10,null,{"$f":"F88*G88","v":0},null,0,null,0,null,0,null,0]
[{"$nulls":3},1,"Ea",14,null,0,null,0,null,0,null,0,null,0]
[{"$nulls":3},1.5,"Ea",1,null,0,null,0,null,0,null,0,null,0]
[{"$nulls":3},2,"Ea",6,null,0,null,0,null,0,null,0,null,0]
[{"$nulls":3},3,"Ea",3,null,0,null,0,null,0,null,0,null,0]
[{"$nulls":3},5,"Ea",1,null,0,null,0,null,0,null,0,null,0]
[{"$nulls":3},10,"Ea",1,null,0,null,0,null,0,null,0,null,0]
[null,"Kloppersboss","Perform annual load test on the lifting structure/ monorail beams as per regulation",0.125,"Ea",1,null,0,null,0,null,0,null,0,null,0]
[{"$nulls":3},2,"Ea",1,null,0,null,0,null,0,null,0,null,0]
[1.12,"Scientia","Perform annual load test on the A-frame/ mobile gantry as per regulation",0.4,"Ea",3,null,0,null,0,null,0,null,0,null,0]
[{"$nulls":3},0.5,"Ea",6,null,0,null,0,null,0,null,0,null,0]
[{"$nulls":3},1,"Ea",6,null,0,null,0,null,0,null,0,null,0]
[{"$nulls":3},2,"Ea",3,null,0,null,0,null,0,null,0,null,0]
[null,"Paardefontein","Perform annual load test on the A-frame/ mobile gantry as per regulation",0.15,"Ea",1,null,0,null,0,null,0,null,0,null,0]
[{"$nulls":3},1,"Ea",1,null,0,null,0,null,0,null,0,null,0]
[null,"Cottesloe","Perform annual load test on the gantry as per regulation",3,"Ea",1,null,0,null,0,null,0,null,0,null,0]
[1.13,"Scientia","Perform annual load test on the wall mounted jib cranes as per regulation",0.4,"Ea",1,null,0,null,0,null,0,null,0,null,0]
[{"$nulls":3},0.25,"Ea",1,null,0,null,0,null,0,null,0,null,0]
[{"$nulls":3},0.5,"Ea",1,null,0,null,0,null,0,null,0,null,0]
[{"$nulls":3},0.6,"Ea",1,null,0,null,0,null,0,null,0,null,0]
[{"$nulls":3},1,"Ea",3,null,0,null,0,null,0,null,0,null,0]
[null,"Cottesloe","Perform annual load test on the wall mounted jib cranes as per regulation",0.2,"Ea",1,null,0,null,0,null,0,null,0,null,0]
[1.14,"Scientia","Perform annual load test on the lifting cage/platform as per regulation",0.2,"Ea",1,null,0,null,0,null,0,null,0,null,0]
[{"$nulls":3},0.3,"Ea",1,null,0,null,0,null,0,null,0,null,0]
[1.15,"Scientia","Perform annual load test on the plate grab as per regulation",2,"Ea",1,null,0,null,0,null,0,null,0,null,0]
[{"$nulls":3},4,"Ea",1,null,0,null,0,null,0,null,0,null,0]
[{"$nulls":3},6,"Ea",1,null,0,null,0,null,0,null,0,null,0]
[{"$nulls":3},2,"Ea",1,null,0,null,0,null,0,null,0,null,0]
[{"$nulls":3},2,"Ea",1,null,0,null,0,null,0,null,0,null,0]
[2,"All sites","Supply and attachment of inspection stickers",null,"Ea",{"$f":"SUM(F7:F116)","v":267},null,0,null,0,null,0,null,0,null,0]
[3,null,"Transportation"]
[3.1,"Scientia","Transportation costs per service",null,"Ea",1,null,0,null,0,null,0,null,0,null,0]
[3.2,"Cottesloe","Transportation costs per service",null,"Ea",1,null,0,null,0,null,0,null,0,null,0]
[3.3,"Paardefontein","Transportation costs per service",null,"Ea",1,null,0,null,0,null,0,null,0,null,0]
[3.4,"kloppersbos","Transportation costs per service",null,"Ea",1,null,0,null,0,null,0,null,0,null,0]
[4," ","Load Testing Weights"]
[4.1,"Scientia","Supply and transport to site 33 tonne weights",null,"Ea",1,null,0,null,0,null,0,null,0,null,0]
[4.2,"Cottesloe","Supply and transport to site 8.5 tonne weights",null,"Ea",1,null,0,null,0,null,0,null,0,null,0]
[{"$nulls":3},"Subtotal",{"$nulls":3},{"$f":"SUM(H7:H125)","v":0},null,{"$f":"SUM(J7:J125)","v":0},null,0,null,0,null,{"$f":"SUM(P7:P125)","v":0}]
[{"$nulls":3},"Add 15% VAT",{"$nulls":3},{"$f":"H126*15%","v":0},null,{"$f":"J126*15%","v":0},null,{"$f":"L126*15%","v":0},null,{"$f":"N126*15%","v":0},null,{"$f":"P126*15%","v":0}]
[{"$nulls":3},"Total",{"$nulls":3},{"$f":"SUM(H126+H127)","v":0},null,{"$f":"SUM(J126+J127)","v":0},null,{"$f":"SUM(L126+L127)","v":0},null,{"$f":"SUM(N126+N127)","v":0},null,{"$f":"SUM(P126+P127)","v":0}]
[]
[]
["Notes"]
["1. Annual load testing sticker specifying Service provider's name,LME number, LMI name, LMI number, Inspection date, Next inspection date, Lifting equipment number and building number to be provided by the service provider and to be attached on each lifting equipment."]
["2. Certificate of load testing to be provided for each lifting equipment within 3 days of inspection."]

{"sheet":"6 Monthly inspection BOQ","index":2,"n_rows":131,"n_cols":26,"rows_kept":131,"merged":[[3,0,4,0],[3,1,4,1],[3,2,4,2],[3,3,4,3],[3,4,4,4],[3,5,4,5],[3,6,3,9],[3,10,3,13],[3,14,3,17],[3,18,3,21],[3,22,3,25],[6,0,21,0],[6,1,17,1],[6,2,17,2],[18,1,21,1],[18,2,21,2],[22,0,33,0],[22,1,31,1],[22,2,31,2],[32,1,33,1],[32,2,33,2],[34,0,39,0],[34,1,37,1],[34,2,37,2],[40,0,52,0],[40,1,48,1],[40,2,48,2],[51,1,52,1],[51,2,52,2],[53,0,54,0],[55,0,66,0],[55,1,63,1],[55,2,63,2],[64,1,65,1],[64,2,65,2],[67,0,74,0],[67,1,74,1],[67,2,74,2],[75,0,77,0],[75,1,77,1],[75,2,77,2],[78,0,85,0],[78,1,83,1],[78,2,83,2],[84,1,85,1],[84,2,85,2],[87,0,95,0],[87,1,93,1],[87,2,93,2],[94,1,95,1],[94,2,95,2],[96,0,102,0],[96,1,99,1],[96,2,99,2],[100,1,101,1],[100,2,101,2],[103,0,108,0],[103,1,107,1],[103,2,107,2],[109,0,110,0],[109,1,110,1],[109,2,110,2],[111,0,115,0],[111,1,115,1],[111,2,115,2],[116,2,116,3],[117,2,117,3],[118,2,118,3],[119,2,119,3],[120,2,120,3],[121,2,121,3],[122,2,122,3],[123,3,123,6],[124,3,124,6],[125,3,125,6],[129,0,129,7],[130,0,130,7]]}
["BILL OF QUANTITIES"]
["PROJECT NAME - 6 MONTHLY INSPECTION OF LIFTING EQUIPMENT AT CSIR"]
["DEPARTMENT    -  FACILITIES DEPARTMENT"]
["Item ","Site","Description","Capacity  (Tons)","Unit of measure","Quantity","Year 1",{"$nulls":3},"Year 2",{"$nulls":3},"Year 3",{"$nulls":3},"Year 4",{"$nulls":3},"Year 5"]
[{"$nulls":6},"Unit price","Total Price (Exc VAT) 1st Service","Total Price (Exc VAT) 2nd Service","Total Amount ( Exc VAT) ","Unit price","Total Price (Exc VAT) 1st Service","Total Price (Exc VAT) 2nd Service","Total Amount ( Exc VAT) ","Unit price","Total Price (Exc VAT) 1st Service","Total Price (Exc VAT) 2nd Service","Total Amount ( Exc VAT) ","Unit price","Total Price (Exc VAT) 1st Service","Total Price (Exc VAT) 2nd Service","Total Amount ( Exc VAT) ","Unit price","Total Price (Exc VAT) 1st Service","Total Price (Exc VAT) 2nd Service","Total Amount ( Exc VAT) "]
[1,"All sites","6 Monthly inspection on lifting equipment"]
[1.1,"Scientia","Perform 6 Monthly inspection on the overhead cranes as per the regulation",10,"Ea",3,null,{"$f":"F7*G7","v":0},{"$f":"F7*G7","v":0},{"$f":"SUM(H7:I7)","v":0},null,{"$f":"J7*K7","v":0},{"$f":"J7*K7","v":0},{"$f":"SUM(L7:M7)","v":0},null,{"$f":"J7*O7","v":0},{"$f":"J7*O7","v":0},{"$f":"SUM(P7:Q7)","v":0},null,{"$f":"J7*S7","v":0},{"$f":"J7*S7","v":0},{"$f":"SUM(T7:U7)","v":0},null,{"$f":"J7*W7","v":0},{"$f":"J7*W7","v":0},{"$f":"SUM(X7:Y7)","v":0}]
[{"$nulls":3},3.2,"Ea",2,null,{"$f":"F8*G8","v":0},{"$f":"F8*G8","v":0},{"$f":"SUM(H8:I8)","v":0},null,{"$f":"J8*K8","v":0},{"$f":"J8*K8","v":0},{"$f":"SUM(L8:M8)","v":0},null,{"$f":"J8*O8","v":0},{"$f":"J8*O8","v":0},{"$f":"SUM(P8:Q8)","v":0},null,{"$f":"J8*S8","v":0},{"$f":"J8*S8","v":0},{"$f":"SUM(T8:U8)","v":0},null,{"$f":"J8*W8","v":0},{"$f":"J8*W8","v":0},{"$f":"SUM(X8:Y8)","v":0}]
[{"$nulls":3},1.5,"Ea",3,null,{"$f":"F9*G9","v":0},{"$f":"F9*G9","v":0},{"$f":"SUM(H9:I9)","v":0},null,0,0,0,null,0,0,0,null,0,0,0,null,0,0,0]
[{"$nulls":3},1.6,"Ea",1,null,{"$f":"F10*G10","v":0},{"$f":"F10*G10","v":0},{"$f":"SUM(H10:I10)","v":0},null,0,0,0,null,0,0,0,null,0,0,0,null,0,0,0]
[{"$nulls":3},3,"Ea",1,null,0,0,0,null,0,0,0,null,0,0,0,null,0,0,0,null,0,0,0]
[{"$nulls":3},2,"Ea",3,null,0,0,0,null,0,0,0,null,0,0,0,null,0,0,0,null,0,0,0]
[{"$nulls":3},8,"Ea",1,null,0,0,0,null,0,0,0,null,0,0,0,null,0,0,0,null,0,0,0]
[{"$nulls":3},4,"Ea",4,null,0,0,0,null,0,0,0,null,0,0,0,null,0,0,0,null,0,0,0]
[{"$nulls":3},5,"Ea",5,null,0,0,0,null,0,0,0,null,0,0,0,null,0,0,0,null,0,0,0]
[{"$nulls":3},7.5,"Ea",4,null,0,0,0,null,0,0,0,null,0,0,0,null,0,0,0,null,0,0,0]
[{"$nulls":3},30,"Ea",1,null,0,0,0,null,0,0,0,null,0,0,0,null,0,0,0,null,0,0,0]
[{"$nulls":3},20,"Ea",1,null,0,0,0,null,0,0,0,null,0,0,0,null,0,0,0,null,0,0,0]
[null,"Cottesloe","Perform 6 Monthly inspection on the overhead cranes as per the regulation",2,"Ea",1,null,{"$f":"F19*G19","v":0},{"$f":"F19*G19","v":0},{"$f":"SUM(H19:I19)","v":0},null,0,0,0,null,0,0,0,null,0,0,0,null,0,0,0]
[{"$nulls":3},5,"Ea",1,null,{"$f":"F20*G20","v":0},{"$f":"F20*G20","v":0},{"$f":"SUM(H20:I20)","v":0},null,0,0,0,null,0,0,0,null,0,0,0,null,0,0,0]
[{"$nulls":3},7.5,"Ea",2,null,0,0,0,null,0,0,0,null,0,0,0,null,0,0,0,null,0,0,0]
[{"$nulls":3},1.6,"Ea",1,null,0,0,0,null,0,0,0,null,0,0,0,null,0,0,0,null,0,0,0]
[1.2,"Scientia","Perform 6 Monthly inspection on the  manual chain hoists/lever hoists as per the regulation",0.5,"Ea",11,null,0,0,0,null,0,0,0,null,0,0,0,null,0,0,0,null,0,0,0]
[{"$nulls":3},0.2,"Ea",1,null,0,0,0,null,0,0,0,null,0,0,0,null,0,0,0,null,0,0,0]
[{"$nulls":3},0.4,"Ea",2,null,0,0,0,null,0,0,0,null,0,0,0,null,0,0,0,null,0,0,0]
[{"$nulls":3},0.75,"Ea",1,null,0,0,0,null,0,0,0,null,0,0,0,null,0,0,0,null,0,0,0]
[{"$nulls":3},1,"Ea",15,null,0,0,0,null,0,0,0,null,0,0,0,null,0,0,0,null,0,0,0]
[{"$nulls":3},1.5,"Ea",2,null,0,0,0,null,0,0,0,null,0,0,0,null,0,0,0,null,0,0,0]
[{"$nulls":3},2,"Ea",9,null,0,0,0,null,0,0,0,null,0,0,0,null,0,0,0,null,0,0,0]
[{"$nulls":3},3,"Ea",2,null,0,0,0,null,0,0,0,null,0,0,0,null,0,0,0,null,0,0,0]
[{"$nulls":3},4,"Ea",1,null,0,0,0,null,0,0,0,null,0,0,0,null,0,0,0,null,0,0,0]
[{"$nulls":3},5,"Ea",1,null,0,0,0,null,0,0,0,null,0,0,0,null,0,0,0,null,0,0,0]
[null,"Kloppersboss","Perform 6 Monthly inspection on the  manual chain hoists/lever hoists as per the regulation",2,"Ea",1,null,0,0,0,null,0,0,0,null,0,0,0,null,0,0,0,null,0,0,0]
[{"$nulls":3},1.6,"Ea",1,null,0,0,0,null,0,0,0,null,0,0,0,null,0,0,0,null,0,0,0]
[1.3,"Scientia","Perform 6 Monthly inspection on the forklifts as per the regulation",1,"Ea",2,null,0,0,0,null,0,0,0,null,0,0,0,null,0,0,0,null,0,0,0]
[{"$nulls":3},2.5,"Ea",2,null,0,0,0,null,0,0,0,null,0,0,0,null,0,0,0,null,0,0,0]
[{"$nulls":3},3,"Ea",1,null,0,0,0,null,0,0,0,null,0,0,0,null,0,0,0,null,0,0,0]
[{"$nulls":3},3.5,"Ea",1,null,0,0,0,null,0,0,0,null,0,0,0,null,0,0,0,null,0,0,0]
[null,"Cottesloe","Perform 6 Monthly inspection on the forklifts as per the regulation",3.5,"Ea",1,null,0,0,0,null,0,0,0,null,0,0,0,null,0,0,0,null,0,0,0]
[null,"Paardefontein","Perform 6 Monthly inspection on the forklifts as per the regulation",3.5,"Ea",1,null,0,0,0,null,0,0,0,null,0,0,0,null,0,0,0,null,0,0,0]
[1.4,"Scientia","Perform 6 Monthly inspection on the electric hoists as per regulation",0.4,"Ea",1,null,0,0,0,null,0,0,0,null,0,0,0,null,0,0,0,null,0,0,0]
[{"$nulls":3},0.5,"Ea",1,null,0,0,0,null,0,0,0,null,0,0,0,null,0,0,0,null,0,0,0]
[{"$nulls":3},1,"Ea",3,null,0,0,0,null,0,0,0,null,0,0,0,null,0,0,0,null,0,0,0]
[{"$nulls":3},0.9,"Ea",1,null,0,0,0,null,0,0,0,null,0,0,0,null,0,0,0,null,0,0,0]
[{"$nulls":3},7.5,"Ea",1,null,0,0,0,null,0,0,0,null,0,0,0,null,0,0,0,null,0,0,0]
[{"$nulls":3},3,"Ea",1,null,0,0,0,null,0,0,0,null,0,0,0,null,0,0,0,null,0,0,0]
[{"$nulls":3},4,"Ea",1,null,0,0,0,null,0,0,0,null,0,0,0,null,0,0,0,null,0,0,0]
[{"$nulls":3},0.25,"Ea",1,null,0,0,0,null,0,0,0,null,0,0,0,null,0,0,0,null,0,0,0]
[{"$nulls":3},2,"Ea",2,null,0,0,0,null,0,0,0,null,0,0,0,null,0,0,0,null,0,0,0]
[null,"Kloppersboss","Perform 6 Monthly inspection on the electric hoists as per regulation",0.125,"Ea",1,null,0,0,0,null,0,0,0,null,0,0,0,null,0,0,0,null,0,0,0]
[null,"Paardefontein","Perform 6 Monthly inspection on the electric hoists as per regulation",1,"Ea",1,null,0,0,0,null,0,0,0,null,0,0,0,null,0,0,0,null,0,0,0]
[null,"Cottesloe","Perform 6 Monthly inspection on the electric hoists as per regulation",1.5,"Ea",1,null,0,0,0,null,0,0,0,null,0,0,0,null,0,0,0,null,0,0,0]
[{"$nulls":3},2,"Ea",1,null,0,0,0,null,0,0,0,null,0,0,0,null,0,0,0,null,0,0,0]
[1.5,"Scientia","Perform 6 Monthly inspection on the electric winch as per regulation",0.15,"Ea",2,null,0,0,0,null,0,0,0,null,0,0,0,null,0,0,0,null,0,0,0]
[null,"Paardefontein","Perform 6 Monthly inspection on the electric winch as per regulation",0.15,"Ea",1,null,0,0,0,null,0,0,0,null,0,0,0,null,0,0,0,null,0,0,0]
[1.6,"Scientia","Perform 6 Monthly inspection on the crawls as per regulation",0.4,"Ea",1,null,{"$f":"F56*G56","v":0},{"$f":"F56*G56","v":0},{"$f":"SUM(H56:I56)","v":0},null,0,0,0,null,0,0,0,null,0,0,0,null,0,0,0]
[{"$nulls":3},0.25,"Ea",1,null,{"$f":"F57*G57","v":0},{"$f":"F57*G57","v":0},{"$f":"SUM(H57:I57)","v":0},null,0,0,0,null,0,0,0,null,0,0,0,null,0,0,0]
[{"$nulls":3},0.5,"Ea",7,null,0,0,0,null,0,0,0,null,0,0,0,null,0,0,0,null,0,0,0]
[{"$nulls":3},1,"Ea",10,null,0,0,0,null,0,0,0,null,0,0,0,null,0,0,0,null,0,0,0]
[{"$nulls":3},1.5,"Ea",1,null,0,0,0,null,0,0,0,null,0,0,0,null,0,0,0,null,0,0,0]
[{"$nulls":3},2,"Ea",9,null,0,0,0,null,0,0,0,null,0,0,0,null,0,0,0,null,0,0,0]
[{"$nulls":3},3,"Ea",1,null,0,0,0,null,0,0,0,null,0,0,0,null,0,0,0,null,0,0,0]
[{"$nulls":3},0.9,"Ea",1,null,0,0,0,null,0,0,0,null,0,0,0,null,0,0,0,null,0,0,0]
[{"$nulls":3},0.2,"Ea",1,null,0,0,0,null,0,0,0,null,0,0,0,null,0,0,0,null,0,0,0]
[null,"Kloppersboss","Perform 6 Monthly inspection on the crawls as per regulation",2,"Ea",1,null,0,0,0,null,0,0,0,null,0,0,0,null,0,0,0,null,0,0,0]
[{"$nulls":3},0.125,"Ea",1,null,0,0,0,null,0,0,0,null,0,0,0,null,0,0,0,null,0,0,0]
[null,"Paardefontein","Perform 6 Monthly inspection on the crawls as per regulation",1,"Ea",1,null,{"$f":"F67*G67","v":0},{"$f":"F67*G67","v":0},{"$f":"SUM(H67:I67)","v":0},null,0,0,0,null,0,0,0,null,0,0,0,null,0,0,0]
[1.7,"Scientia","Perform 6 Monthly inspection on the engine lifter/ stacker as per regulation",0.25,"Ea",1,null,{"$f":"F68*G68","v":0},{"$f":"F68*G68","v":0},{"$f":"SUM(H68:I68)","v":0},null,0,0,0,null,0,0,0,null,0,0,0,null,0,0,0]
[{"$nulls":3},0.36,"Ea",1,null,0,0,0,null,0,0,0,null,0,0,0,null,0,0,0,null,0,0,0]
[{"$nulls":3},1,"Ea",1,null,0,0,0,null,0,0,0,null,0,0,0,null,0,0,0,null,0,0,0]
[{"$nulls":3},2,"Ea",2,null,0,0,0,null,0,0,0,null,0,0,0,null,0,0,0,null,0,0,0]
[{"$nulls":3},3,"Ea",1,null,0,0,0,null,{"$f":"J72*K72","v":0},{"$f":"J72*K72","v":0},{"$f":"SUM(L72:M72)","v":0},null,{"$f":"J72*O72","v":0},{"$f":"J72*O72","v":0},{"$f":"SUM(P72:Q72)","v":0},null,{"$f":"J72*S72","v":0},{"$f":"J72*S72","v":0},{"$f":"SUM(T72:U72)","v":0},null,{"$f":"J72*W72","v":0},{"$f":"J72*W72","v":0},{"$f":"SUM(X72:Y72)","v":0}]
[{"$nulls":3},5,"Ea",2,null,0,0,0,null,0,0,0,null,0,0,0,null,0,0,0,null,0,0,0]
[{"$nulls":3},10,"Ea",1,null,0,0,0,null,0,0,0,null,0,0,0,null,0,0,0,null,0,0,0]
[{"$nulls":3},0.2,"Ea",1,null,{"$f":"F75*G75","v":0},{"$f":"F75*G75","v":0},{"$f":"SUM(H75:I75)","v":0},null,0,0,0,null,0,0,0,null,0,0,0,null,0,0,0]
[1.8,"Scientia","Perform 6 Monthly inspection on the drum lifter/plate gripper as per regulation",0.45,"Ea",1,null,{"$f":"F76*G76","v":0},{"$f":"F76*G76","v":0},{"$f":"SUM(H76:I76)","v":0},null,0,0,0,null,0,0,0,null,0,0,0,null,0,0,0]
[{"$nulls":3},0.5,"Ea",2,null,0,0,0,null,0,0,0,null,0,0,0,null,0,0,0,null,0,0,0]
[{"$nulls":3},1,"Ea",1,null,0,0,0,null,0,0,0,null,0,0,0,null,0,0,0,null,0,0,0]
[1.9,"Scientia"," Perform 6 Monthly inspection on the pallet trolleys as per regulation",1,"Ea",4,null,{"$f":"F79*G79","v":0},{"$f":"F79*G79","v":0},{"$f":"SUM(H79:I79)","v":0},null,0,0,0,null,0,0,0,null,0,0,0,null,0,0,0]
[{"$nulls":3},1.5,"Ea",6,null,{"$f":"F80*G80","v":0},{"$f":"F80*G80","v":0},{"$f":"SUM(H80:I80)","v":0},null,0,0,0,null,0,0,0,null,0,0,0,null,0,0,0]
[{"$nulls":3},2,"Ea",4,null,0,0,0,null,0,0,0,null,0,0,0,null,0,0,0,null,0,0,0]
[{"$nulls":3},2.5,"Ea",13,null,0,0,0,null,0,0,0,null,0,0,0,null,0,0,0,null,0,0,0]
[{"$nulls":3},3,"Ea",4,null,0,0,0,null,0,0,0,null,0,0,0,null,0,0,0,null,0,0,0]
[{"$nulls":3},4,"Ea",1,null,0,0,0,null,0,0,0,null,0,0,0,null,0,0,0,null,0,0,0]
[null,"Paardefontein"," Perform 6 Monthly inspection on the pallet trolleys as per regulation",3,"Ea",2,null,0,0,0,null,0,0,0,null,0,0,0,null,0,0,0,null,0,0,0]
[{"$nulls":3},4,"Ea",1,null,{"$f":"F86*G86","v":0},{"$f":"F86*G86","v":0},{"$f":"SUM(H86:I86)","v":0},null,0,0,0,null,0,0,0,null,0,0,0,null,0,0,0]
[{"v":1.1,"d":"1.10"},"Scientia","Perform 6 Monthly inspection on the vehicle lift as per regulation",4,"Ea",1,null,{"$f":"F87*G87","v":0},{"$f":"F87*G87","v":0},{"$f":"SUM(H87:I87)","v":0},null,0,0,0,null,0,0,0,null,0,0,0,null,0,0,0]
[1.11,"Scientia","Perform 6 Monthly inspection on the lifting structure/ monorail beams as per regulation",0.5,"Ea",10,null,0,0,0,null,0,0,0,null,0,0,0,null,0,0,0,null,0,0,0]
[{"$nulls":3},1,"Ea",14,null,0,0,0,null,0,0,0,null,0,0,0,null,0,0,0,null,0,0,0]
[{"$nulls":3},1.5,"Ea",1,null,0,0,0,null,0,0,0,null,0,0,0,null,0,0,0,null,0,0,0]
[{"$nulls":3},2,"Ea",6,null,0,0,0,null,0,0,0,null,0,0,0,null,0,0,0,null,0,0,0]
[{"$nulls":3},3,"Ea",3,null,0,0,0,null,0,0,0,null,0,0,0,null,0,0,0,null,0,0,0]
[{"$nulls":3},5,"Ea",1,null,0,0,0,null,0,0,0,null,0,0,0,null,0,0,0,null,0,0,0]
[{"$nulls":3},10,"Ea",1,null,0,0,0,null,0,0,0,null,0,0,0,null,0,0,0,null,0,0,0]
[null,"Kloppersboss","Perform 6 Monthly inspection on the lifting structure/ monorail beams as per regulation",0.125,"Ea",1,null,0,0,0,null,0,0,0,null,0,0,0,null,0,0,0,null,0,0,0]
[{"$nulls":3},2,"Ea",1,null,0,0,0,null,0,0,0,null,0,0,0,null,0,0,0,null,0,0,0]
[1.12,"Scientia","Perform 6 Monthly inspection on the A-frame/ mobile gantry as per regulation",0.4,"Ea",3,null,0,0,0,null,0,0,0,null,0,0,0,null,0,0,0,null,0,0,0]
[{"$nulls":3},0.5,"Ea",6,null,0,0,0,null,0,0,0,null,0,0,0,null,0,0,0,null,0,0,0]
[{"$nulls":3},1,"Ea",6,null,0,0,0,null,0,0,0,null,0,0,0,null,0,0,0,null,0,0,0]
[{"$nulls":3},2,"Ea",3,null,0,0,0,null,0,0,0,null,0,0,0,null,0,0,0,null,0,0,0]
[null,"Paardefontein","Perform 6 Monthly inspection on the A-frame/ mobile gantry as per regulation",0.15,"Ea",1,null,0,0,0,null,0,0,0,null,0,0,0,null,0,0,0,null,0,0,0]
[{"$nulls":3},1,"Ea",1,null,0,0,0,null,0,0,0,null,0,0,0,null,0,0,0,null,0,0,0]
[null,"Cottesloe","Perform 6 Monthly inspection on the gantry as per regulation",3,"Ea",1,null,0,0,0,null,0,0,0,null,0,0,0,null,0,0,0,null,0,0,0]
[1.13,"Scientia","Perform 6 Monthly inspection on the wall mounted jib cranes as per regulation",0.4,"Ea",1,null,0,0,0,null,0,0,0,null,0,0,0,null,0,0,0,null,0,0,0]
[{"$nulls":3},0.25,"Ea",1,null,0,0,0,null,0,0,0,null,0,0,0,null,0,0,0,null,0,0,0]
[{"$nulls":3},0.5,"Ea",1,null,0,0,0,null,0,0,0,null,0,0,0,null,0,0,0,null,0,0,0]
[{"$nulls":3},0.6,"Ea",1,null,0,0,0,null,0,0,0,null,0,0,0,null,0,0,0,null,0,0,0]
[{"$nulls":3},1,"Ea",3,null,0,0,0,null,0,0,0,null,0,0,0,null,0,0,0,null,0,0,0]
[null,"Cottesloe","Perform 6 Monthly inspection on the wall mounted jib cranes as per regulation",0.2,"Ea",1,null,0,0,0,null,0,0,0,null,0,0,0,null,0,0,0,null,0,0,0]
[1.14,"Scientia","Perform 6 Monthly inspection on the lifting cage/platform as per regulation",0.2,"Ea",1,null,0,0,0,null,0,0,0,null,0,0,0,null,0,0,0,null,0,0,0]
[{"$nulls":3},0.3,"Ea",1,null,0,0,0,null,0,0,0,null,0,0,0,null,0,0,0,null,0,0,0]
[1.15,"Scientia","Perform 6 Monthly inspection on the plate grab as per regulation",2,"Ea",1,null,0,0,0,null,0,0,0,null,0,0,0,null,0,0,0,null,0,0,0]
[{"$nulls":3},4,"Ea",1,null,0,0,0,null,0,0,0,null,0,0,0,null,0,0,0,null,0,0,0]
[{"$nulls":3},6,"Ea",1,null,0,0,0,null,0,0,0,null,0,0,0,null,0,0,0,null,0,0,0]
[{"$nulls":3},2,"Ea",1,null,0,0,0,null,0,0,0,null,0,0,0,null,0,0,0,null,0,0,0]
[{"$nulls":3},2,"Ea",1,null,{"$f":"F116*G116","v":0},{"$f":"F116*G116","v":0},0,null,0,0,0,null,0,0,0,null,0,0,0,null,0,0,0]
[2,"All sites","Supply and attachment of inspection stickers",null,"Ea",{"$f":"SUM(F7:F116)","v":267},null,{"$f":"F117*G117","v":0},{"$f":"F117*G117","v":0},{"$f":"SUM(H117:I117)","v":0},null,0,0,0,null,0,0,0,null,0,0,0,null,0,0,0]
[3,null,"Transportation"]
[3.1,"Scientia","Transportation costs per service",null,"Ea",1,null,{"$f":"F119*G119","v":0},{"$f":"F119*G119","v":0},{"$f":"SUM(H119:I119)","v":0},null,0,0,0,null,0,0,0,null,0,0,0,null,0,0,0]
[3.2,"Cottesloe","Transportation costs per service",null,"Ea",1,null,0,0,0,null,0,0,0,null,0,0,0,null,0,0,0,null,0,0,0]
[3.3,"Paardefontein","Transportation costs per service",null,"Ea",1,null,0,0,0,null,0,0,0,null,0,0,0,null,0,0,0,null,0,0,0]
[3.4,"kloppersbos","Transportation costs per service",null,"Ea",1,null,0,0,0,null,0,0,0,null,0,0,0,null,0,0,0,null,0,0,0]
[4,"All sites","Safety File (Once off fee) . Section 37.2 Mandatory agreement will have to be filled in and shown to the safety officer prior to inspection.",null,"Item",1,null,0,0,0,null,0,0,0,null,0,0,0,null,0,0,0,null,0,0,0]
[{"$nulls":3},"Subtotal",{"$nulls":3},{"$f":"SUM(H7:H123)","v":0},{"$f":"SUM(I7:I123)","v":0},{"$f":"SUM(J7:J123)","v":0},null,{"$f":"SUM(L7:L123)","v":0},{"$f":"SUM(M7:M123)","v":0},{"$f":"SUM(N7:N123)","v":0},null,{"$f":"SUM(P7:P123)","v":0},0,{"$f":"SUM(R7:R123)","v":0},null,{"$f":"SUM(T7:T123)","v":0},0,{"$f":"SUM(V7:V123)","v":0},null,{"$f":"SUM(X7:X123)","v":0},0,{"$f":"SUM(Z7:Z123)","v":0}]
[{"$nulls":3},"Add 15% VAT",{"$nulls":3},{"$f":"H124*15%","v":0},0,{"$f":"J124*15%","v":0},null,{"$f":"L124*15%","v":0},0,{"$f":"N124*15%","v":0},null,{"$f":"P124*15%","v":0},0,{"$f":"R124*15%","v":0},null,{"$f":"T124*15%","v":0},0,{"$f":"V124*15%","v":0},null,{"$f":"X124*15%","v":0},0,{"$f":"Z124*15%","v":0}]
[{"$nulls":3},"Total",{"$nulls":3},{"$f":"H124+H125","v":0},0,{"$f":"J124+J125","v":0},null,{"$f":"L124+L125","v":0},0,{"$f":"N124+N125","v":0},null,{"$f":"P124+P125","v":0},0,{"$f":"R124+R125","v":0},null,{"$f":"T124+T125","v":0},0,{"$f":"V124+V125","v":0},null,{"$f":"X124+X125","v":0},0,{"$f":"Z124+Z125","v":0}]
[]
[]
["Notes"]
["1. 6 Monthly inspection sticker specifying Service provider's name,LME number, LMI name, LMI number, Inspection date, Next inspection date, Lifting equipment number and building number to be provided by the service provider and to be attached on each lifting equipment."]
["2. Certificate of inspection to be provided for each lifting equipment within 3 days of inspection."]

{"sheet":"3 Monthly Lifting tackles BOQ","index":3,"n_rows":144,"n_cols":36,"rows_kept":144,"merged":[[0,0,0,23],[1,0,1,23],[2,0,2,23],[3,0,4,0],[3,1,4,1],[3,2,4,2],[3,3,4,3],[3,4,4,4],[3,5,4,5],[3,6,3,11],[3,12,3,17],[3,18,3,23],[3,24,3,29],[3,30,3,35],[6,0,85,0],[6,1,85,1],[86,0,110,0],[86,1,110,1],[111,0,115,0],[111,1,115,1],[116,0,130,0],[116,1,130,1],[131,2,131,3],[132,2,132,3],[133,2,133,3],[134,2,134,3],[135,2,135,3],[136,3,136,6],[137,3,137,6],[138,3,138,6],[142,0,142,8],[143,0,143,8]]}
["BILL OF QUANTITIES"]
["PROJECT NAME - 3 MONTHLY INSPECTION ON LIFTING TACKLES AT CSIR"]
["DEPARTMENT    -  FACILITIES DEPARTMENT"]
["Item ","Site","Description","Capacity  (Tons)","Unit of measure","Quantity","Year 1",{"$nulls":5},"Year 2",{"$nulls":5},"Year 3",{"$nulls":5},"Year 4",{"$nulls":5},"Year 5"]
[{"$nulls":6},"Unit Price","Total Price (Exc VAT) 1st Service","Total Price (Exc VAT) 2nd Service","Total Price (Exc VAT) 3rd Service","Total Price (Exc VAT) 4thService","Total price (Exc VAT) (Year 1)","Unit Price","Total Price (Exc VAT) 1st Service","Total Price (Exc VAT) 2nd Service","Total Price (Exc VAT) 3rd Service","Total Price (Exc VAT) 4thService","Total price (Exc VAT) (Year 2)","Unit Price","Total Price (Exc VAT) 1st Service","Total Price (Exc VAT) 2nd Service","Total Price (Exc VAT) 3rd Service","Total Price (Exc VAT) 4thService","Total price (Exc VAT) (Year 3)","Unit Price","Total Price (Exc VAT) 1st Service","Total Price (Exc VAT) 2nd Service","Total Price (Exc VAT) 3rd Service","Total Price (Exc VAT) 4thService","Total price (Exc VAT) (Year 4)","Unit Price","Total Price (Exc VAT) 1st Service","Total Price (Exc VAT) 2nd Service","Total Price (Exc VAT) 3rd Service","Total Price (Exc VAT) 4thService","Total price (Exc VAT) (Year 5)"]
[1,"All sites","Perform 3 Monthly Inspection on the following lifting tackles"]
[1.1,"Scientia","CHAIN SLING 2LEG 10MM",4.8,"Ea",6,null,{"$f":"F7*G7","v":0},{"$f":"F7*G7","v":0},{"$f":"F7*G7","v":0},{"$f":"F7*G7","v":0},{"$f":"SUM(H7:K7)","v":0},null,{"$f":"F7*M7","v":0},{"$f":"F7*M7","v":0},{"$f":"F7*M7","v":0},{"$f":"F7*M7","v":0},{"$f":"SUM(N7:Q7)","v":0},null,{"$f":"F7*S7","v":0},{"$f":"F7*S7","v":0},{"$f":"F7*S7","v":0},{"$f":"F7*S7","v":0},{"$f":"SUM(T7:W7)","v":0},null,{"$f":"F7*Y7","v":0},{"$f":"F7*Y7","v":0},{"$f":"F7*Y7","v":0},{"$f":"F7*Y7","v":0},{"$f":"SUM(Z7:AC7)","v":0},null,{"$f":"F7*AE7","v":0},{"$f":"F7*AE7","v":0},{"$f":"F7*AE7","v":0},{"$f":"F7*AE7","v":0},{"$f":"SUM(AF7:AI7)","v":0}]
[null,null,"CHAIN SLING 2LEG 10MM X 1.5M C/W PLATE ",4.8,"Ea",2,null,{"$f":"F8*G8","v":0},{"$f":"F8*G8","v":0},{"$f":"F8*G8","v":0},{"$f":"F8*G8","v":0},{"$f":"SUM(H8:K8)","v":0},null,{"$f":"F8*M8","v":0},{"$f":"F8*M8","v":0},{"$f":"F8*M8","v":0},{"$f":"F8*M8","v":0},{"$f":"SUM(N8:Q8)","v":0},null,{"$f":"F8*S8","v":0},{"$f":"F8*S8","v":0},{"$f":"F8*S8","v":0},{"$f":"F8*S8","v":0},{"$f":"SUM(T8:W8)","v":0},null,{"$f":"F8*Y8","v":0},{"$f":"F8*Y8","v":0},{"$f":"F8*Y8","v":0},{"$f":"F8*Y8","v":0},{"$f":"SUM(Z8:AC8)","v":0},null,{"$f":"F8*AE8","v":0},{"$f":"F8*AE8","v":0},{"$f":"F8*AE8","v":0},{"$f":"F8*AE8","v":0},{"$f":"SUM(AF8:AI8)","v":0}]
[null,null,"CHAIN SLING 2LEG 10MM X 2.3M",4.48,"Ea",2,null,{"$f":"F9*G9","v":0},{"$f":"F9*G9","v":0},{"$f":"F9*G9","v":0},{"$f":"F9*G9","v":0},{"$f":"SUM(H9:K9)","v":0},null,0,0,0,0,0,null,0,0,0,0,0,null,0,0,0,0,0,null,0,0,0,0,0]
[null,null,"CHAIN SLING 2LEG 10MM X 3.4M",4.48,"Ea",2,null,0,0,0,0,0,null,0,0,0,0,0,null,0,0,0,0,0,null,0,0,0,0,0,null,0,0,0,0,0]
[null,null,"CHAIN SLING 2LEG 13MM X 5.5M",7.56,"Ea",2,null,0,0,0,0,0,null,0,0,0,0,0,null,0,0,0,0,0,null,0,0,0,0,0,null,0,0,0,0,0]
[null,null,"CHAIN SLING 2LEG 7MM",2.72,"Ea",4,null,0,0,0,0,0,null,0,0,0,0,0,null,0,0,0,0,0,null,0,0,0,0,0,null,0,0,0,0,0]
[null,null,"CHAIN SLING 2LEG 10mm x 2.5M",4.48,"Ea",2,null,0,0,0,0,0,null,0,0,0,0,0,null,0,0,0,0,0,null,0,0,0,0,0,null,0,0,0,0,0]
[null,null,"CHAIN SLING 3LEG 0.6M",3.36,"Ea",2,null,0,0,0,0,0,null,0,0,0,0,0,null,0,0,0,0,0,null,0,0,0,0,0,null,0,0,0,0,0]
[null,null,"CHAIN SLING 3LEG 0.7M",2.52,"Ea",2,null,0,0,0,0,0,null,0,0,0,0,0,null,0,0,0,0,0,null,0,0,0,0,0,null,0,0,0,0,0]
[null,null,"CHAIN SLING 4LEG 1.5M",2.52,"Ea",2,null,0,0,0,0,0,null,0,0,0,0,0,null,0,0,0,0,0,null,0,0,0,0,0,null,0,0,0,0,0]
[null,null,"CHAIN SLING 1 LEG 7MM",1,"Ea",4,null,0,0,0,0,0,null,0,0,0,0,0,null,0,0,0,0,0,null,0,0,0,0,0,null,0,0,0,0,0]
[null,null,"BOW SHACKLE SCREWPIN",4.75,"Ea",14,null,0,0,0,0,0,null,0,0,0,0,0,null,0,0,0,0,0,null,0,0,0,0,0,null,0,0,0,0,0]
[null,null,"BOW SHACKLE SCREWPIN",12,"Ea",18,null,0,0,0,0,0,null,0,0,0,0,0,null,0,0,0,0,0,null,0,0,0,0,0,null,0,0,0,0,0]
[null,null,"BOW SHACKLE SCREWPIN",2,"Ea",8,null,{"$f":"F20*G20","v":0},0,0,0,{"$f":"SUM(H20:K20)","v":0},null,0,0,0,0,0,null,0,0,0,0,0,null,0,0,0,0,0,null,0,0,0,0,0]
[null,null,"BOW SHACKLE SCREWPIN",3.25,"Ea",4,null,0,0,0,0,0,null,0,0,0,0,0,null,0,0,0,0,0,null,0,0,0,0,0,null,0,0,0,0,0]
[null,null,"BOW SHACKLE SCREWPIN",5.25,"Ea",2,null,{"$f":"F22*G22","v":0},{"$f":"F22*G22","v":0},{"$f":"F22*G22","v":0},{"$f":"F22*G22","v":0},{"$f":"SUM(H22:K22)","v":0},null,0,0,0,0,0,null,0,0,0,0,0,null,0,0,0,0,0,null,0,0,0,0,0]
[null,null,"BOW SHACKLE SCREWPIN",6.5,"Ea",8,null,0,0,0,0,0,null,0,0,0,0,0,null,0,0,0,0,0,null,0,0,0,0,0,null,0,0,0,0,0]
[null,null,"BOW SHACKLE SCREWPIN",8.25,"Ea",2,null,0,0,0,0,0,null,0,0,0,0,0,null,0,0,0,0,0,null,0,0,0,0,0,null,0,0,0,0,0]
[null,null,"BOW SHACKLE SCREWPIN",8.5,"Ea",6,null,0,0,0,0,0,null,0,0,0,0,0,null,0,0,0,0,0,null,0,0,0,0,0,null,0,0,0,0,0]
[null,null,"BOW SHACKLE SCREWPIN",85,"Ea",2,null,0,0,0,0,0,null,0,0,0,0,0,null,0,0,0,0,0,null,0,0,0,0,0,null,0,0,0,0,0]
[null,null,"BOW SHACKLE SCREWPIN",9.5,"Ea",6,null,0,0,0,0,0,null,0,0,0,0,0,null,0,0,0,0,0,null,0,0,0,0,0,null,0,0,0,0,0]
[null,null,"DEE SHACKLE SCREW PIN",1,"Ea",26,null,0,0,0,0,0,null,0,0,0,0,0,null,0,0,0,0,0,null,0,0,0,0,0,null,0,0,0,0,0]
[null,null,"DEE SHACKLE SCREW PIN",1.5,"Ea",2,null,0,0,0,0,0,null,0,0,0,0,0,null,0,0,0,0,0,null,0,0,0,0,0,null,0,0,0,0,0]
[null,null,"DEE SHACKLE SCREW PIN",13.5,"Ea",2,null,0,0,0,0,0,null,0,0,0,0,0,null,0,0,0,0,0,null,0,0,0,0,0,null,0,0,0,0,0]
[null,null,"DEE SHACKLE SCREW PIN",2,"Ea",12,null,0,0,0,0,0,null,0,0,0,0,0,null,0,0,0,0,0,null,0,0,0,0,0,null,0,0,0,0,0]
[null,null,"DEE SHACKLE SCREW PIN",3.25,"Ea",20,null,0,0,0,0,0,null,0,0,0,0,0,null,0,0,0,0,0,null,0,0,0,0,0,null,0,0,0,0,0]
[null,null,"DEE SHACKLE SCREW PIN",3.75,"Ea",2,null,0,0,0,0,0,null,0,0,0,0,0,null,0,0,0,0,0,null,0,0,0,0,0,null,0,0,0,0,0]
[null,null,"DEE SHACKLE SCREW PIN",4.75,"Ea",16,null,0,0,0,0,0,null,0,0,0,0,0,null,0,0,0,0,0,null,0,0,0,0,0,null,0,0,0,0,0]
[null,null,"DEE SHACKLE SCREW PIN",6.5,"Ea",2,null,0,0,0,0,0,null,0,0,0,0,0,null,0,0,0,0,0,null,0,0,0,0,0,null,0,0,0,0,0]
[null,null,"DEE SHACKLE SCREW PIN",8.5,"Ea",2,null,0,0,0,0,0,null,0,0,0,0,0,null,0,0,0,0,0,null,0,0,0,0,0,null,0,0,0,0,0]
[null,null,"DEE SHACKLE SCREW PIN",9,"Ea",2,null,0,0,0,0,0,null,0,0,0,0,0,null,0,0,0,0,0,null,0,0,0,0,0,null,0,0,0,0,0]
[null,null,"DRUM LIFTER",0.5,"Ea",4,null,0,0,0,0,0,null,0,0,0,0,0,null,0,0,0,0,0,null,0,0,0,0,0,null,0,0,0,0,0]
[null,null,"ENDLESS ROUND SLING",1,"Ea",2,null,0,0,0,0,0,null,0,0,0,0,0,null,0,0,0,0,0,null,0,0,0,0,0,null,0,0,0,0,0]
[null,null,"ENDLESS ROUND SLING 1M",2,"Ea",2,null,0,0,0,0,0,null,0,0,0,0,0,null,0,0,0,0,0,null,0,0,0,0,0,null,0,0,0,0,0]
[null,null,"ENDLESS ROUND SLING 2M",1,"Ea",4,null,0,0,0,0,0,null,0,0,0,0,0,null,0,0,0,0,0,null,0,0,0,0,0,null,0,0,0,0,0]
[null,null,"ENDLESS ROUND SLING 4M",1,"Ea",4,null,0,0,0,0,0,null,0,0,0,0,0,null,0,0,0,0,0,null,0,0,0,0,0,null,0,0,0,0,0]
[null,null,"ENDLESS ROUND SLING 6M",1,"Ea",4,null,0,0,0,0,0,null,0,0,0,0,0,null,0,0,0,0,0,null,0,0,0,0,0,null,0,0,0,0,0]
[null,null,"ENDLESS ROUND SLING 6M",10,"Ea",8,null,0,0,0,0,0,null,0,0,0,0,0,null,0,0,0,0,0,null,0,0,0,0,0,null,0,0,0,0,0]
[null,null,"ENDLESS ROUND SLING 10M",10,"Ea",8,null,0,0,0,0,0,null,0,0,0,0,0,null,0,0,0,0,0,null,0,0,0,0,0,null,0,0,0,0,0]
[null,null,"ENDLESS ROUND SLING 2M",2,"Ea",16,null,0,0,0,0,0,null,0,0,0,0,0,null,0,0,0,0,0,null,0,0,0,0,0,null,0,0,0,0,0]
[null,null,"ENDLESS ROUND SLING 4M",2,"Ea",4,null,0,0,0,0,0,null,0,0,0,0,0,null,0,0,0,0,0,null,0,0,0,0,0,null,0,0,0,0,0]
[null,null,"ENDLESS ROUND SLING 5M",3,"Ea",8,null,0,0,0,0,0,null,0,0,0,0,0,null,0,0,0,0,0,null,0,0,0,0,0,null,0,0,0,0,0]
[null,null,"ENDLESS ROUND SLING 2M",3,"Ea",4,null,0,0,0,0,0,null,0,0,0,0,0,null,0,0,0,0,0,null,0,0,0,0,0,null,0,0,0,0,0]
[null,null,"ENDLESS ROUND SLING 2.5M",3,"Ea",2,null,0,0,0,0,0,null,0,0,0,0,0,null,0,0,0,0,0,null,0,0,0,0,0,null,0,0,0,0,0]
[null,null,"EYE BOLT M12",0.34,"Ea",4,null,0,0,0,0,0,null,0,0,0,0,0,null,0,0,0,0,0,null,0,0,0,0,0,null,0,0,0,0,0]
[null,null,"EYE BOLT M16",0.63,"Ea",12,null,0,0,0,0,0,null,0,0,0,0,0,null,0,0,0,0,0,null,0,0,0,0,0,null,0,0,0,0,0]
[null,null,"EYE BOLT M16",0.7,"Ea",22,null,0,0,0,0,0,null,0,0,0,0,0,null,0,0,0,0,0,null,0,0,0,0,0,null,0,0,0,0,0]
[null,null,"EYE BOLT M20",1.2,"Ea",40,null,0,0,0,0,0,null,0,0,0,0,0,null,0,0,0,0,0,null,0,0,0,0,0,null,0,0,0,0,0]
[null,null,"EYE BOLT M20",1.6,"Ea",4,null,0,0,0,0,0,null,0,0,0,0,0,null,0,0,0,0,0,null,0,0,0,0,0,null,0,0,0,0,0]
[null,null,"EYE BOLT M24",1.6,"Ea",4,null,0,0,0,0,0,null,0,0,0,0,0,null,0,0,0,0,0,null,0,0,0,0,0,null,0,0,0,0,0]
[null,null,"EYE BOLT M24",1.8,"Ea",6,null,0,0,0,0,0,null,0,0,0,0,0,null,0,0,0,0,0,null,0,0,0,0,0,null,0,0,0,0,0]
[null,null,"EYE BOLT M48",8.6,"Ea",8,null,0,0,0,0,0,null,0,0,0,0,0,null,0,0,0,0,0,null,0,0,0,0,0,null,0,0,0,0,0]
[null,null,"EYE NUT M12",0.34,"Ea",10,null,0,0,0,0,0,null,0,0,0,0,0,null,0,0,0,0,0,null,0,0,0,0,0,null,0,0,0,0,0]
[null,null,"EYE NUT M22",1.5,"Ea",14,null,0,0,0,0,0,null,0,0,0,0,0,null,0,0,0,0,0,null,0,0,0,0,0,null,0,0,0,0,0]
[null,null,"EYE NUT M24",1.6,"Ea",2,null,0,0,0,0,0,null,0,0,0,0,0,null,0,0,0,0,0,null,0,0,0,0,0,null,0,0,0,0,0]
[null,null,"FLAT WEBING SL, COVERED WITH POLYURATHANE",1,"Ea",4,null,0,0,0,0,0,null,0,0,0,0,0,null,0,0,0,0,0,null,0,0,0,0,0,null,0,0,0,0,0]
[null,null,"FLAT WEBBING SLING 1M",1,"Ea",24,null,0,0,0,0,0,null,0,0,0,0,0,null,0,0,0,0,0,null,0,0,0,0,0,null,0,0,0,0,0]
[null,null,"FLAT WEBBING SLING 1.25M",1,"Ea",4,null,0,0,0,0,0,null,0,0,0,0,0,null,0,0,0,0,0,null,0,0,0,0,0,null,0,0,0,0,0]
[null,null,"FLAT WEBBING SLING 2M",1,"Ea",2,null,0,0,0,0,0,null,0,0,0,0,0,null,0,0,0,0,0,null,0,0,0,0,0,null,0,0,0,0,0]
[null,null,"FLAT WEBBING SLING 3M",1,"Ea",8,null,0,0,0,0,0,null,0,0,0,0,0,null,0,0,0,0,0,null,0,0,0,0,0,null,0,0,0,0,0]
[null,null,"FLAT WEBBING SLING 2M",2,"Ea",20,null,0,0,0,0,0,null,0,0,0,0,0,null,0,0,0,0,0,null,0,0,0,0,0,null,0,0,0,0,0]
[null,null,"FLAT WEBBING SLING 3M",2,"Ea",8,null,0,0,0,0,0,null,0,0,0,0,0,null,0,0,0,0,0,null,0,0,0,0,0,null,0,0,0,0,0]
[null,null,"FLAT WEBBING SLING 3M",3,"Ea",2,null,0,0,0,0,0,null,0,0,0,0,0,null,0,0,0,0,0,null,0,0,0,0,0,null,0,0,0,0,0]
[null,null,"FLAT WEBBING SLING 2M",4,"Ea",4,null,0,0,0,0,0,null,0,0,0,0,0,null,0,0,0,0,0,null,0,0,0,0,0,null,0,0,0,0,0]
[null,null,"FLAT WEBBING SLING 3M",4,"Ea",12,null,0,0,0,0,0,null,0,0,0,0,0,null,0,0,0,0,0,null,0,0,0,0,0,null,0,0,0,0,0]
[null,null,"FLAT WEBBING SLING 4M",4,"Ea",4,null,0,0,0,0,0,null,{"$f":"F72*M72","v":0},{"$f":"F72*M72","v":0},{"$f":"F72*M72","v":0},{"$f":"F72*M72","v":0},{"$f":"SUM(N72:Q72)","v":0},null,{"$f":"F72*S72","v":0},{"$f":"F72*S72","v":0},{"$f":"F72*S72","v":0},{"$f":"F72*S72","v":0},{"$f":"SUM(T72:W72)","v":0},null,{"$f":"F72*Y72","v":0},{"$f":"F72*Y72","v":0},{"$f":"F72*Y72","v":0},{"$f":"F72*Y72","v":0},{"$f":"SUM(Z72:AC72)","v":0},null,{"$f":"F72*AE72","v":0},{"$f":"F72*AE72","v":0},{"$f":"F72*AE72","v":0},{"$f":"F72*AE72","v":0},{"$f":"SUM(AF72:AI72)","v":0}]
[null,null,"FLAT WEBBING SLING 1.5M",5,"Ea",2,null,0,0,0,0,0,null,0,0,0,0,0,null,0,0,0,0,0,null,0,0,0,0,0,null,0,0,0,0,0]
[null,null,"FLAT WEBBING SLING 2M",5,"Ea",2,null,0,0,0,0,0,null,0,0,0,0,0,null,0,0,0,0,0,null,0,0,0,0,0,null,0,0,0,0,0]
[null,null,"FLAT WEBBING SLING 3M",5,"Ea",6,null,0,0,0,0,0,null,0,0,0,0,0,null,0,0,0,0,0,null,0,0,0,0,0,null,0,0,0,0,0]
[null,null,"FLAT WEBBING SLING 4M",5,"Ea",2,null,0,0,0,0,0,null,0,0,0,0,0,null,0,0,0,0,0,null,0,0,0,0,0,null,0,0,0,0,0]
[null,null,"FLAT WEBBING SLING 6M",5,"Ea",2,null,0,0,0,0,0,null,0,0,0,0,0,null,0,0,0,0,0,null,0,0,0,0,0,null,0,0,0,0,0]
[null,null,"LIFTING HOOK",2,"Ea",2,null,0,0,0,0,0,null,0,0,0,0,0,null,0,0,0,0,0,null,0,0,0,0,0,null,0,0,0,0,0]
[null,null,"WIRE ROPE SLING 1M",0.64,"Ea",4,null,0,0,0,0,0,null,0,0,0,0,0,null,0,0,0,0,0,null,0,0,0,0,0,null,0,0,0,0,0]
[null,null,"WIRE ROPE SLING 1M",0.7,"Ea",4,null,0,0,0,0,0,null,0,0,0,0,0,null,0,0,0,0,0,null,0,0,0,0,0,null,0,0,0,0,0]
[null,null,"WIRE ROPE SLING, 3 LEG",3,"Ea",8,null,0,0,0,0,0,null,0,0,0,0,0,null,0,0,0,0,0,null,0,0,0,0,0,null,0,0,0,0,0]
[null,null,"WIRE ROPE SLING 8MM, 4LEG",2,"Ea",2,null,0,0,0,0,0,null,0,0,0,0,0,null,0,0,0,0,0,null,0,0,0,0,0,null,0,0,0,0,0]
[null,null,"VERTICAL PLATE GRAB",2,"Ea",6,null,0,0,0,0,0,null,0,0,0,0,0,null,0,0,0,0,0,null,0,0,0,0,0,null,0,0,0,0,0]
[null,null,"VERTICAL PLATE GRAB",4,"Ea",2,null,0,0,0,0,0,null,0,0,0,0,0,null,0,0,0,0,0,null,0,0,0,0,0,null,0,0,0,0,0]
[null,null,"VERTICAL PLATE GRAB",6,"Ea",2,null,0,0,0,0,0,null,0,0,0,0,0,null,0,0,0,0,0,null,0,0,0,0,0,null,0,0,0,0,0]
[null,null,"SPREADER BEAM C/W 2 EYEBOLTS",0.2,"Ea",4,null,{"$f":"F86*G86","v":0},{"$f":"F86*G86","v":0},{"$f":"F86*G86","v":0},{"$f":"F86*G86","v":0},{"$f":"SUM(H86:K86)","v":0},null,0,0,0,0,0,null,0,0,0,0,0,null,0,0,0,0,0,null,0,0,0,0,0]
[1.2,"Cottesloe","FLAT WEBBING SLING 2M",2,"Ea",14,null,0,0,0,0,0,null,0,0,0,0,0,null,0,0,0,0,0,null,0,0,0,0,0,null,0,0,0,0,0]
[null,null,"FLAT WEBBING SLING 2M",4,"Ea",2,null,{"$f":"F88*G88","v":0},{"$f":"F88*G88","v":0},{"$f":"F88*G88","v":0},{"$f":"F88*G88","v":0},{"$f":"SUM(H88:K88)","v":0},null,0,0,0,0,0,null,0,0,0,0,0,null,0,0,0,0,0,null,0,0,0,0,0]
[null,null,"FLAT WEBBING SLING 2M",5,"Ea",1,null,0,0,0,0,0,null,0,0,0,0,0,null,0,0,0,0,0,null,0,0,0,0,0,null,0,0,0,0,0]
[null,null,"FLAT WEBBING SLING 3M",2,"Ea",2,null,0,0,0,0,0,null,0,0,0,0,0,null,0,0,0,0,0,null,0,0,0,0,0,null,0,0,0,0,0]
[null,null,"FLAT WEBBING SLING 1.5M",4,"Ea",1,null,0,0,0,0,0,null,0,0,0,0,0,null,0,0,0,0,0,null,0,0,0,0,0,null,0,0,0,0,0]
[null,null,"CHAINSLING 10MM, 4 LEG, 3.2M WITH GRAB HOOKS",5,"Ea",1,null,0,0,0,0,0,null,0,0,0,0,0,null,0,0,0,0,0,null,0,0,0,0,0,null,0,0,0,0,0]
[null,null,"CHAINSLING 10MM, 7M WITH GRAB HOOKS AT THE END",3.2,"Ea",1,null,0,0,0,0,0,null,0,0,0,0,0,null,0,0,0,0,0,null,0,0,0,0,0,null,0,0,0,0,0]
[null,null,"WIRE ROPE SLING 13MM, 1 LEG",1.9,"Ea",2,null,0,0,0,0,0,null,0,0,0,0,0,null,0,0,0,0,0,null,0,0,0,0,0,null,0,0,0,0,0]
[null,null,"WIRE ROPE SLING 2 LEG , 1 X LEG 1.2M & 1 LEG 0.8M",1.4,"Ea",1,null,0,0,0,0,0,null,0,0,0,0,0,null,0,0,0,0,0,null,0,0,0,0,0,null,0,0,0,0,0]
[null,null,"WIRE ROPE SLING 22MM, 1 LEG",6,"Ea",2,null,0,0,0,0,0,null,0,0,0,0,0,null,0,0,0,0,0,null,0,0,0,0,0,null,0,0,0,0,0]
[null,null,"WIRE ROPE SLING 24MM, 1 LEG",5.7,"Ea",1,null,0,0,0,0,0,null,0,0,0,0,0,null,0,0,0,0,0,null,0,0,0,0,0,null,0,0,0,0,0]
[null,null,"WIRE ROPE SLING 26MM, 1 LEG",2.5,"Ea",1,null,0,0,0,0,0,null,0,0,0,0,0,null,0,0,0,0,0,null,0,0,0,0,0,null,0,0,0,0,0]
[null,null,"WIRE ROPE SLING 26MM, 2 LEG",9.3,"Ea",1,null,0,0,0,0,0,null,0,0,0,0,0,null,0,0,0,0,0,null,0,0,0,0,0,null,0,0,0,0,0]
[null,null,"WIRE ROPE SLING 32MM, 1 LEG",10.1,"Ea",1,null,0,0,0,0,0,null,0,0,0,0,0,null,0,0,0,0,0,null,0,0,0,0,0,null,0,0,0,0,0]
[null,null,"WIRE ROPE SLING 38MM, ROUND",14.4,"Ea",1,null,0,0,0,0,0,null,0,0,0,0,0,null,0,0,0,0,0,null,0,0,0,0,0,null,0,0,0,0,0]
[null,null,"WIRE ROPE SLING 1.2M, 4 LEG ",2.1,"Ea",1,null,0,0,0,0,0,null,0,0,0,0,0,null,0,0,0,0,0,null,0,0,0,0,0,null,0,0,0,0,0]
[null,null,"WIRE ROPE SLING 4 LEG , 2 X LEG 1.2M & 2 LEG 0.8M",2.1,"Ea",1,null,0,0,0,0,0,null,0,0,0,0,0,null,0,0,0,0,0,null,0,0,0,0,0,null,0,0,0,0,0]
[null,null,"BOW SHACKLE BOLT & NUT",2,"Ea",2,null,0,0,0,0,0,null,0,0,0,0,0,null,0,0,0,0,0,null,0,0,0,0,0,null,0,0,0,0,0]
[null,null,"CHAIN SLING, 1LEG EYE TO EYE 7MM",null,"Ea",1,null,0,0,0,0,0,null,0,0,0,0,0,null,0,0,0,0,0,null,0,0,0,0,0,null,0,0,0,0,0]
[null,null,"DEE SHACKLE SCREW PIN",6.5,"Ea",4,null,0,0,0,0,0,null,0,0,0,0,0,null,0,0,0,0,0,null,0,0,0,0,0,null,0,0,0,0,0]
[null,null,"DEE SHACKLE SCREW PIN",4.75,"Ea",2,null,0,0,0,0,0,null,0,0,0,0,0,null,0,0,0,0,0,null,0,0,0,0,0,null,0,0,0,0,0]
[null,null,"DEE SHACKLE SCREW PIN",8.5,"Ea",2,null,0,0,0,0,0,null,0,0,0,0,0,null,0,0,0,0,0,null,0,0,0,0,0,null,0,0,0,0,0]
[null,null,"EYE BOLT M16",0.63,"Ea",2,null,0,0,0,0,0,null,0,0,0,0,0,null,0,0,0,0,0,null,0,0,0,0,0,null,0,0,0,0,0]
[null,null,"WIRE ROPE SLING 0.6M",2,"Ea",1,null,0,0,0,0,0,null,0,0,0,0,0,null,0,0,0,0,0,null,0,0,0,0,0,null,0,0,0,0,0]
[null,null,"WIRE ROPE SLING, 1 LEG, 0.5M",0.7,"Ea",2,null,0,0,0,0,0,null,0,0,0,0,0,null,0,0,0,0,0,null,0,0,0,0,0,null,0,0,0,0,0]
[1.3,"Kloppersbos","ENDLESS ROUND SLING",2,"Ea",1,null,0,0,0,0,0,null,0,0,0,0,0,null,0,0,0,0,0,null,0,0,0,0,0,null,0,0,0,0,0]
[null,null,"ENDLESS ROUND SLING",1,"Ea",1,null,0,0,0,0,0,null,0,0,0,0,0,null,0,0,0,0,0,null,0,0,0,0,0,null,0,0,0,0,0]
[null,null,"WIRE ROPE TIFOR C/W 8MM",0.75,"Ea",1,null,0,0,0,0,0,null,0,0,0,0,0,null,0,0,0,0,0,null,0,0,0,0,0,null,0,0,0,0,0]
[null,null,"FLAT WEBB 2 LEG CW TRUCK HOOKS",1,"Ea",1,null,0,0,0,0,0,null,0,0,0,0,0,null,0,0,0,0,0,null,0,0,0,0,0,null,0,0,0,0,0]
[null,null,"BOSAL JACK",5,"Ea",1,null,0,0,0,0,0,null,0,0,0,0,0,null,0,0,0,0,0,null,0,0,0,0,0,null,0,0,0,0,0]
[1.4,"Paardefontein","2 LEG 13MM X 5M CW GRAB HOOK",1.65,"Ea",1,null,0,0,0,0,0,null,0,0,0,0,0,null,0,0,0,0,0,null,0,0,0,0,0,null,0,0,0,0,0]
[null,null,"4 LEG 10MM X 2M",6.8,"Ea",2,null,0,0,0,0,0,null,0,0,0,0,0,null,0,0,0,0,0,null,0,0,0,0,0,null,0,0,0,0,0]
[null,null,"4 LEG 16MM X 4M CW GRAB HOOKS",21.32,"Ea",1,null,0,0,0,0,0,null,0,0,0,0,0,null,0,0,0,0,0,null,0,0,0,0,0,null,0,0,0,0,0]
[null,null,"4 LEG CHAIN SLING ",6.8,"Ea",1,null,0,0,0,0,0,null,0,0,0,0,0,null,0,0,0,0,0,null,0,0,0,0,0,null,0,0,0,0,0]
[null,null,"4 LEG CHAIN SLING 16MM C/W CRAB HOOKS",21.32,"Ea",2,null,0,0,0,0,0,null,0,0,0,0,0,null,0,0,0,0,0,null,0,0,0,0,0,null,0,0,0,0,0]
[null,null,"BOW SHACKLE",12,"Ea",2,null,0,0,0,0,0,null,0,0,0,0,0,null,0,0,0,0,0,null,0,0,0,0,0,null,0,0,0,0,0]
[null,null,"BOW SHACKLE",17,"Ea",2,null,0,0,0,0,0,null,0,0,0,0,0,null,0,0,0,0,0,null,0,0,0,0,0,null,0,0,0,0,0]
[null,null,"BOW SHACKLE",2,"Ea",1,null,0,0,0,0,0,null,0,0,0,0,0,null,0,0,0,0,0,null,0,0,0,0,0,null,0,0,0,0,0]
[null,null,"BOW SHACKLE",25,"Ea",5,null,0,0,0,0,0,null,0,0,0,0,0,null,0,0,0,0,0,null,0,0,0,0,0,null,0,0,0,0,0]
[null,null,"DEE SHACKLE",2,"Ea",5,null,0,0,0,0,0,null,0,0,0,0,0,null,0,0,0,0,0,null,0,0,0,0,0,null,0,0,0,0,0]
[null,null,"DEE SHACKLE",6,"Ea",2,null,0,0,0,0,0,null,0,0,0,0,0,null,0,0,0,0,0,null,0,0,0,0,0,null,0,0,0,0,0]
[null,null,"EYE BOLT",0.7,"Ea",4,null,0,0,0,0,0,null,0,0,0,0,0,null,0,0,0,0,0,null,0,0,0,0,0,null,0,0,0,0,0]
[null,null,"EYE BOLT",1.2,"Ea",3,null,0,0,0,0,0,null,0,0,0,0,0,null,0,0,0,0,0,null,0,0,0,0,0,null,0,0,0,0,0]
[null,null,"EYE BOLT",1.8,"Ea",5,null,0,0,0,0,0,null,0,0,0,0,0,null,0,0,0,0,0,null,0,0,0,0,0,null,0,0,0,0,0]
[null,null,"EYE BOLT",8.6,"Ea",2,null,0,0,0,0,0,null,0,0,0,0,0,null,0,0,0,0,0,null,0,0,0,0,0,null,0,0,0,0,0]
[2,null,"Transportation",{"$nulls":4},0,0,{"$f":"F132*G132","v":0},0,0,null,0,0,0,0,0,null,0,0,0,0,0,null,0,0,0,0,0,null,0,0,0,0,0]
[2.1,"Scientia","Transportation costs per service",null,"Ea",1,null,{"$f":"F133*G133","v":0},{"$f":"F133*G133","v":0},{"$f":"F133*G133","v":0},{"$f":"F133*G133","v":0},{"$f":"SUM(H133:K133)","v":0},null,0,0,0,0,0,null,0,0,0,0,0,null,0,0,0,0,0,null,0,0,0,0,0]
[2.2,"Cottesloe","Transportation costs per service",null,"Ea",1,null,0,0,0,0,0,null,0,0,0,0,0,null,0,0,0,0,0,null,0,0,0,0,0,null,0,0,0,0,0]
[2.3,"Paardefontein","Transportation costs per service",null,"Ea",1,null,0,0,0,0,0,null,0,0,0,0,0,null,0,0,0,0,0,null,0,0,0,0,0,null,0,0,0,0,0]
[2.4,"kloppersbos","Transportation costs per service",null,"Ea",1,null,0,0,{"$f":"F136*G136","v":0},0,0,null,{"$f":"F136*M136","v":0},{"$f":"F136*M136","v":0},{"$f":"F136*M136","v":0},{"$f":"F136*M136","v":0},{"$f":"SUM(N136:Q136)","v":0},null,{"$f":"F136*S136","v":0},{"$f":"F136*S136","v":0},{"$f":"F136*S136","v":0},{"$f":"F136*S136","v":0},{"$f":"SUM(T136:W136)","v":0},null,{"$f":"F136*Y136","v":0},{"$f":"F136*Y136","v":0},{"$f":"F136*Y136","v":0},{"$f":"F136*Y136","v":0},{"$f":"SUM(Z136:AC136)","v":0},null,{"$f":"F136*AE136","v":0},{"$f":"F136*AE136","v":0},{"$f":"F136*AE136","v":0},{"$f":"F136*AE136","v":0},{"$f":"SUM(AF136:AI136)","v":0}]
[{"$nulls":3},"Subtotal",{"$nulls":7},{"$f":"SUM(L7:L136)","v":0},{"$nulls":5},{"$f":"SUM(R7:R136)","v":0},{"$nulls":5},{"$f":"SUM(X7:X136)","v":0},{"$nulls":5},{"$f":"SUM(AD7:AD136)","v":0},{"$nulls":5},{"$f":"SUM(AJ7:AJ136)","v":0}]
[{"$nulls":3},"Add 15% VAT",{"$nulls":7},{"$f":"L137*15%","v":0},{"$nulls":5},{"$f":"R137*15%","v":0},{"$nulls":5},{"$f":"X137*15%","v":0},{"$nulls":5},{"$f":"AD137*15%","v":0},{"$nulls":5},{"$f":"AJ137*15%","v":0}]
[{"$nulls":3},"Total",{"$nulls":7},{"$f":"L137+L138","v":0},{"$nulls":5},{"$f":"R137+R138","v":0},{"$nulls":5},{"$f":"X137+X138","v":0},{"$nulls":5},{"$f":"AD137+AD138","v":0},{"$nulls":5},{"$f":"AJ137+AJ138","v":0}]
[]
[]
["Notes"]
["1. Certificate of inspection to be provided for each lifting equipment within 3 days of inspection."]
["2. Colour coding tags for each tackle must correspond to the CSIR colour coding board for each quarter"]

{"sheet":"Rates","index":4,"n_rows":26,"n_cols":9,"rows_kept":26}
[]
[{"$nulls":3},"Labour and transport rates"]
[null,null,"Description","Unit of Measure","Rate Year 1 (excl Vat.)","Rate Year 2 (excl Vat.)","Rate Year 3 (excl Vat.)","Rate Year 4 (excl Vat.)","Rate Year 5 (excl Vat.)"]
[null,null,"Lifting machinery Inspector NT","hourly"]
[null,null,"Lifting machinery inspector AH","hourly"]
[null,null,"Crane technician NT","hourly"]
[null,null,"Crane technician AH","hourly"]
[null,null,"Call out fee NT","each"]
[null,null,"Call out fee AH","each"]
[null,null,"Transport (normal)","km"]
[null,null,"Transport (weights)","km"]
[null,null,"Weights - 8,5T","each"]
[null,null,"Weights - 11T","each"]
[null,null,"Weights - 22T","each"]
[null,null,"Weights - 33T","each"]
[null,null,"Contractor markup on approved supplier quotations for parts and materials","%"]
[null,null,"Dye Penetrant Testing","per hour"]
[]
[]
[null,null,"notes"]
[null,null,"NT- Normal time"]
[null,null,"AH - After hours "]
[null,null,"Normal time is 08h00 to 16h30, Monday to Friday"]
[null,null,"AH - After hours is 16h30 to 07h00 Monday to Friday"]
[null,null,"Saturday & Sunday is after hours and the same AH will apply"]
[null,null,"Call out fee will only apply to emergency request and not planned work or scheduled inspection and load testing"]

{"sheet":"Crane service","index":5,"n_rows":13,"n_cols":29,"rows_kept":13,"merged":[[2,4,2,8],[2,9,2,13],[2,14,2,18],[2,19,2,23],[2,24,2,28]]}
[{"$nulls":5},"3 monthly Crane servicing"]
[]
[{"$nulls":4},"Year 1",{"$nulls":4},"Year 2",{"$nulls":4},"Year 3",{"$nulls":4},"Year 4",{"$nulls":4},"Year 5"]
[null,null,"Description","Unit of \nmeasure","Total Price (Exc VAT) \n1st Service","Total Price (Exc VAT)\n 2nd Service","Total Price (Exc VAT) \n3rd Service","Total Price (Exc VAT)\n 4th Service","Total price (Exc VAT) \n(Year 1)","Total Price (Exc VAT) \n1st Service","Total Price (Exc VAT)\n 2nd Service","Total Price (Exc VAT) \n3rd Service","Total Price (Exc VAT)\n 4th Service","Total price (Exc VAT) \n(Year 2)","Total Price (Exc VAT) \n1st Service","Total Price (Exc VAT)\n 2nd Service","Total Price (Exc VAT) \n3rd Service","Total Price (Exc VAT)\n 4th Service","Total price (Exc VAT) \n(Year 3)","Total Price (Exc VAT) \n1st Service","Total Price (Exc VAT)\n 2nd Service","Total Price (Exc VAT) \n3rd Service","Total Price (Exc VAT)\n 4th Service","Total price (Exc VAT) \n(Year 4)","Total Price (Exc VAT) \n1st Service","Total Price (Exc VAT)\n 2nd Service","Total Price (Exc VAT) \n3rd Service","Total Price (Exc VAT)\n 4th Service","Total price (Exc VAT) \n(Year 5)"]
[null,null,"CT91 crane (JHB)","Ea",{"$nulls":4},{"$f":"SUM(E5:H5)","v":0},{"$nulls":4},{"$f":"SUM(J5:M5)","v":0},{"$nulls":4},{"$f":"SUM(O5:R5)","v":0},{"$nulls":4},{"$f":"SUM(T5:W5)","v":0},{"$nulls":4},{"$f":"SUM(Y5:AB5)","v":0}]
[null,null,"CT92 crane (JHB)","Ea",{"$nulls":4},{"$f":"SUM(E6:H6)","v":0},{"$nulls":4},{"$f":"SUM(J6:M6)","v":0},{"$nulls":4},{"$f":"SUM(O6:R6)","v":0},{"$nulls":4},{"$f":"SUM(T6:W6)","v":0},{"$nulls":4},{"$f":"SUM(Y6:AB6)","v":0}]
[null,null,"CT95 crane (JHB)","Ea",{"$nulls":4},0,{"$nulls":4},0,{"$nulls":4},0,{"$nulls":4},0,{"$nulls":4},0]
[null,null,"CT96 crane (JHB)","Ea",{"$nulls":4},0,{"$nulls":4},0,{"$nulls":4},0,{"$nulls":4},0,{"$nulls":4},0]
[null,null,"CT97 crane (JHB)","Ea",{"$nulls":4},0,{"$nulls":4},0,{"$nulls":4},0,{"$nulls":4},0,{"$nulls":4},0]
[null,null,"CT98/99 crane (JHB)","Ea",{"$nulls":4},0,{"$nulls":4},0,{"$nulls":4},0,{"$nulls":4},0,{"$nulls":4},0]
[null,null,"Building 45 (PTA)","Ea",{"$nulls":4},0,{"$nulls":4},0,{"$nulls":4},0,{"$nulls":4},0,{"$nulls":4},0]
[null,null,"Building 46 (PTA)","Ea",{"$nulls":4},0,{"$nulls":4},0,{"$nulls":4},0,{"$nulls":4},0,{"$nulls":4},0]
[null,null,"Building 46 (PTA)","Ea",{"$nulls":4},0,{"$nulls":4},0,{"$nulls":4},0,{"$nulls":4},0,{"$nulls":4},0]