Workbook
Name __xlnm.Print_Area_1: #REF!
Name __xlnm.Print_Area_1: #REF!
Name __xlnm.Print_Area_1: #REF!
Name __xlnm.Print_Area_13: #REF!
Name __xlnm.Print_Area_13: #REF!
Name __xlnm.Print_Area_2: #REF!
Name __xlnm.Print_Area_2: #REF!
Name __xlnm.Print_Area_3: #REF!
Name __xlnm.Print_Area_4: #REF!
Name __xlnm.Print_Area_5: #REF!
Name __xlnm.Print_Area_6: #REF!
Name __xlnm.Print_Area_6: #REF!
Name __xlnm.Print_Area_7: #REF!
Name __xlnm.Print_Area_7: #REF!
Name __xlnm.Print_Area_8: #REF!
Name __xlnm.Print_Area_8: #REF!
Name __xlnm.Print_Area_9: #REF!
Name __xlnm.Print_Titles_1: #REF!
Name __xlnm.Print_Titles_10: #REF!
Name __xlnm.Print_Titles_10: #REF!
Name __xlnm.Print_Titles_10: #REF!
Name _Hlt436488385_10: #N/A
Name Validity_2: #REF!
Name Validity_2: #REF!

Sheet Evaluation
A1: Categories | C1: % Score | D1: Weight | E1: Weighted Score
A2: Part B | E2: 0.4
A3: 1 | B3: Experience | C3: ='Technical Evaluation'!J3 -> 0 | D3: 0.1 | E3: =D3*C3 -> 0
A4: 2 | B4: Expertise | C4: ='Technical Evaluation'!J4 -> 0 | D4: 0.1 | E4: =D4*C4 -> 0
A5: 3 | B5: Methodology and Approach | C5: ='Technical Evaluation'!J5 -> 0 | D5: 0.1 | E5: =D5*C5 -> 0
A6: 4 | B6: Implementation Plan | C6: ='Technical Evaluation'!J6 -> 0 | D6: 0.05 | E6: =D6*C6 -> 0
A7: 5 | B7: References | C7: =References!H9 -> 1 | D7: 0.05 | E7: =D7*C7 -> 0.05
A8: 6 | B8: General Requirements | C8: 1 | D8: 0.08 | E8: =D8*C8 -> 0.08
A9: 7 | B9: Online Research Hub | C9: 1 | D9: 0.08 | E9: =D9*C9 -> 0.08
A10: 8 | B10: Online Career Guidance | C10: 1 | D10: 0.1 | E10: =D10*C10 -> 0.1
A11: 9 | B11: Monitoring and evaluation | C11: 1 | D11: 0.1 | E11: =D11*C11 -> 0.1
A12: 10 | B12: Quality Management system | C12: 1 | D12: 0.08 | E12: =D12*C12 -> 0.08
A13: 11 | B13: Support and Maintenance | C13: 1 | D13: 0.08 | E13: =D13*C13 -> 0.08
A14: 12 | B14: Modernisation of Website | C14: 1 | D14: 0.08 | E14: =D14*C14 -> 0.08
B15: Score | D15: =SUM(D8:D14) -> 0.6 | E15: =SUM(E8:E14) -> 0.6

Sheet Technical Evaluation
C1: Points
A2: Category | B2: Requirement | C2: 5 | D2: 4 | E2: 3 | F2: 2 | G2: 1 | H2: 0 | I2: Score | J2: % Score | K2: Comments
A3: Experience | B3: List of 3 projects in similar scope and price | C3: List of 3 projects in similar scope and price provided in the past 5-7 years | D3: List of 3 projects in similar scope and price provided in the past 3-5 years | E3: List of 3 projects in similar scope and price provided in the past 3 years | F3: List of 3 projects in similar scope and price provided in the past 1-2 years | G3: List of less than 3 projects provided in the past year | H3: Not meeting requirement | J3: =I3/$C$2 -> 0
A4: Expertise | B4: Provide CV's of prospective resources that includes the following: a) Certification in field of expertise b) Years of experience (at least 3 years) | C4: Certification and years of experience met | D4: Certified and 2 years experience | E4: Certified and 1 years experience | F4: Certified and 0 years of experience | G4: Not ertified and 0 years of experience | J4: =I4/$C$2 -> 0
A5: Approach and Methodology (A&M) | B5: To demonstrate their methodology and approach that will be used for the project and implementation of the scope of services within the stipulated timeframe. The following areas must be shown: Agile Approach Scrum framework ITIL Change and release Management Training framework Prince2/PMBOK Project approach | C5: All A&M areas required have been covered | D5: 4 A&M Areas have been covered | E5: 3 A&M Areas have been covered | F5: 2 A&M Areas have been covered | G5: 1 A&M Areas have been covered | J5: =I5/$C$2 -> 0
A6: Implementation Plan | B6: Project Plan that outlines the following areas: (a) Target Process design (b) Development (c) Testing (d) Training (e) Implementation (f) Post-implementation support and providing tasks/activities, timelines, milestones, duration and resources to be used | C6: Meets all requirements | D6: Tasks, activities, timelines, milestores, duration and resources are shown. Not all areas are covered | E6: Some of the tasks, activities, milestones, duration and resources are provided and not all areas are covered | F6: Project plan provided but with very limited detail | G6: Project plan provided but with very limited detail not inline to duration of services | J6: =I6/$C$2 -> 0

Sheet References
A1: ID | B1: Item | C1: Reference 1 | D1: Reference 2 | E1: Reference 3 | F1: Please add additional info if required | G1: Max Points | H1: Score
A2: 1 | B2: Online Research Hub | C2: Yes | D2: Yes | E2: Yes | G2: 3 | H2: 3
A3: 2 | B3: Online Career Guidance | C3: Yes | D3: Yes | E3: Yes | G3: 3 | H3: 3
A4: 3 | B4: Monitoring and evaluation | C4: Yes | D4: Yes | E4: Yes | G4: 3 | H4: 3
A5: 4 | B5: Quality Management system | C5: Yes | D5: Yes | E5: Yes | G5: 3 | H5: 3
A6: 5 | B6: Support and Maintenance | C6: Yes | D6: Yes | E6: Yes | G6: 3 | H6: 3
A7: 6 | B7: Modernisation of Website | C7: Yes | D7: Yes | E7: Yes | G7: 3 | H7: 3
G8: =SUM(G2:G7) -> 18 | H8: =SUM(H2:H7) -> 18
A9: % Score | H9: =H8/G8 -> 1
B11: Notes:
B12: References letters should not be more than 3 years old

Sheet General Requirements
B1: General Requirements | C1: Compliant (Y/P/N) | D1: Proof | E1: Please add additional info if required | F1: Max Points | G1: Score
A2: 1 | B2: Centralised Portal having the same look and feel. | C2: Yes | F2: 1 | G2: =IF(C2="Yes",F2,IF(C2="No",0,0.5*F2)) -> 1
A3: 2 | B3: Security (Confidentiality, integrity and availability of data) is of utmost importance. | C3: Yes | F3: 1 | G3: =IF(C3="Yes",F3,IF(C3="No",0,0.5*F3)) -> 1
A4: 3 | B4: The solution must be accessible from various software platforms i.e.
A5: 3.1 | B5: Microsoft Windows Platform | C5: Yes | F5: 1 | G5: =IF(C5="Yes",F5,IF(C5="No",0,0.5*F5)) -> 1
A6: 3.2 | B6: Apple Platform | C6: Yes | F6: 1 | G6: =IF(C6="Yes",F6,IF(C6="No",0,0.5*F6)) -> 1
A7: 3.3 | B7: Android Platform | C7: Yes | F7: 1 | G7: =IF(C7="Yes",F7,IF(C7="No",0,0.5*F7)) -> 1
A8: 3.4 | B8: And from various devices i.e., desktop, laptop, and android or smartphones. | C8: Yes | F8: 1 | G8: =IF(C8="Yes",F8,IF(C8="No",0,0.5*F8)) -> 1
A9: 4 | B9: Access to and interaction with the solution must allow for people with disabilities through the device(s) used (as mentioned above) and current technologies available. | C9: Yes | F9: 1 | G9: =IF(C9="Yes",F9,IF(C9="No",0,0.5*F9)) -> 1
A10: 5 | B10: Role based access control. | C10: Yes | F10: 1 | G10: =IF(C10="Yes",F10,IF(C10="No",0,0.5*F10)) -> 1
A11: 6 | B11: The solution must adhere and comply with current legislation and regulations, and specifically the POPI Act. | C11: Yes | F11: 1 | G11: =IF(C11="Yes",F11,IF(C11="No",0,0.5*F11)) -> 1
A12: 7 | B12: Should integrate/augment and/or be built with current technologies within the W&RSETA. | C12: Yes | F12: 1 | G12: =IF(C12="Yes",F12,IF(C12="No",0,0.5*F12)) -> 1
A13: 8 | B13: It is accessible to both internal and external parties. | C13: Yes | F13: 1 | G13: =IF(C13="Yes",F13,IF(C13="No",0,0.5*F13)) -> 1
A14: 9 | B14: Should be a centralised secure platform for dissemination of information and tools to service our stakeholders. | C14: Yes | F14: 1 | G14: =IF(C14="Yes",F14,IF(C14="No",0,0.5*F14)) -> 1
A15: 10 | B15: Provide a tracking mechanism to monitor stakeholder engagements and participation on content. | C15: Yes | F15: 1 | G15: =IF(C15="Yes",F15,IF(C15="No",0,0.5*F15)) -> 1
A16: 11 | B16: Provide management information and customisable reporting (Measure, report and evaluation) to improve on service delivery to all parties. | C16: Yes | F16: 1 | G16: =IF(C16="Yes",F16,IF(C16="No",0,0.5*F16)) -> 1
... A18: 13 | B18: It is expected that developed modules/components of solution be developed, implemented on, and hosted at W&RSETA data facility. | C18: Yes | F18: 1 | G18: =IF(C18="Yes",F18,IF(C18="No",0,0.5*F18)) -> 1
A19: 14 | B19: Documentation for all aspects of the systems must be provided. This will include but not limited to | G19: =IF(C19="Yes",F19,IF(C19="No",0,0.5*F19)) -> 0
A20: 14.1 | B20: System Architecture diagrams | C20: Yes | F20: 1 | G20: =IF(C20="Yes",F20,IF(C20="No",0,0.5*F20)) -> 1
A21: 14.2 | B21: Standard Operating procedures | C21: Yes | F21: 1 | G21: =IF(C21="Yes",F21,IF(C21="No",0,0.5*F21)) -> 1
A22: 14.3 | B22: Training materials | C22: Yes | F22: 1 | G22: =IF(C22="Yes",F22,IF(C22="No",0,0.5*F22)) -> 1
A23: 14.4 | B23: Process flows and responsibilities | C23: Yes | F23: 1 | G23: =IF(C23="Yes",F23,IF(C23="No",0,0.5*F23)) -> 1
A24: 14.5 | B24: Setup and configuration | C24: Yes | F24: 1 | G24: =IF(C24="Yes",F24,IF(C24="No",0,0.5*F24)) -> 1
A25: 15 | B25: Training must be provided to all staff and technical members on the developed Portal | C25: Yes | F25: 1 | G25: =IF(C25="Yes",F25,IF(C25="No",0,0.5*F25)) -> 1
A26: 16 | B26: Ongoing Support and administration to be provided for the duration of the contract | C26: Yes | F26: 1 | G26: =IF(C26="Yes",F26,IF(C26="No",0,0.5*F26)) -> 1
A27: 17 | B27: Coordinate the customization of system to W&RSETA | C27: Yes | F27: 1 | G27: =IF(C27="Yes",F27,IF(C27="No",0,0.5*F27)) -> 1
A28: 18 | B28: Conduct training with internal staff operating the system (system administrators) on system functionality to further manage system. | C28: Yes | F28: 1 | G28: =IF(C28="Yes",F28,IF(C28="No",0,0.5*F28)) -> 1
A29: 19 | B29: Project Management services to manage the on-time delivery of the various initiatives per an approved project plan. | C29: Yes | F29: 1 | G29: =IF(C29="Yes",F29,IF(C29="No",0,0.5*F29)) -> 1
A30: 20 | B30: Transfer skills to the relevant W&RSETA officials | C30: Yes | F30: 1 | G30: =IF(C30="Yes",F30,IF(C30="No",0,0.5*F30)) -> 1
F31: =SUM(F2:F30) -> 27 | G31: =SUM(G2:G30) -> 27
B32: % Score | G32: =G31/F31 -> 1
B34: Evaluation score
B35: Compliant (Y/N) : If Yes full points
B36: Compliant (Y/N) : If Partial 50% points
B37: Compliant (Y/N) : If No 0 points

Sheet Online Research Hub
B1: Online Research Hub | C1: Compliant (Y/P/N) | D1: Proof | E1: Please add additional info if required | F1: Max Points | G1: Score
A2: 1 | B2: Allow for stakeholders to register on the portal; | C2: Partial | F2: 1 | G2: =IF(C2="Yes",F2,IF(C2="No",0,0.5*F2)) -> 0.5
A3: 2 | B3: Allow internal administrators to monitor control of all publications to the portal; | C3: Yes | F3: 1 | G3: =IF(C3="Yes",F3,IF(C3="No",0,0.5*F3)) -> 1
A4: 3 | B4: A search feature that will allow users to search for content that has been published on the portal; | C4: Yes | F4: 1 | G4: =IF(C4="Yes",F4,IF(C4="No",0,0.5*F4)) -> 1
A5: 4 | B5: Provide Management Information on all research that is published on the portal; | C5: Yes | F5: 1 | G5: =IF(C5="Yes",F5,IF(C5="No",0,0.5*F5)) -> 1
A6: 5 | B6: A survey capability is required; | C6: Yes | F6: 1 | G6: =IF(C6="Yes",F6,IF(C6="No",0,0.5*F6)) -> 1
A7: 6 | B7: Notification features using various communication methods like sms, email, whatsapp and so one; | C7: Yes | F7: 1 | G7: =IF(C7="Yes",F7,IF(C7="No",0,0.5*F7)) -> 1
A8: 7 | B8: The Research Hub should be a SharePoint based solution that is accessible to both internal and external clients; | C8: Yes | F8: 1 | G8: =IF(C8="Yes",F8,IF(C8="No",0,0.5*F8)) -> 1
A9: 8 | B9: Create a platform for dissemination of research findings and recommendations; | C9: Yes | F9: 1 | G9: =IF(C9="Yes",F9,IF(C9="No",0,0.5*F9)) -> 1
A10: 9 | B10: The Research Hub portal should be accessible through a secure interface from the organisation’s website; | C10: Yes | F10: 1 | G10: =IF(C10="Yes",F10,IF(C10="No",0,0.5*F10)) -> 1
A11: 10 | B11: Research Hub tracking tool to monitor stakeholder engagements on the research and skills planning content; | C11: Yes | F11: 1 | G11: =IF(C11="Yes",F11,IF(C11="No",0,0.5*F11)) -> 1
A12: 11 | B12: Respond to low stakeholder participation and engagements in sector research activities; | C12: Yes | F12: 1 | G12: =IF(C12="Yes",F12,IF(C12="No",0,0.5*F12)) -> 1
A13: 12 | B13: The hub should have an access link to allow stakeholders to make comments, recommendations, and inputs; | C13: Yes | F13: 1 | G13: =IF(C13="Yes",F13,IF(C13="No",0,0.5*F13)) -> 1
F14: =SUM(F2:F13) -> 12 | G14: =SUM(G2:G13) -> 11.5
B15: % Score | G15: =G14/F14 -> 0.95833333
B17: Evaluation score
B18: Compliant (Y/N) : If Yes full points
B19: Compliant (Y/N) : If Partial 50% points
B20: Compliant (Y/N) : If No 0 points

Sheet Online Career Guidance
B1: Online Career Guidance System | C1: Compliant (Y/P/N) | D1: Proof | E1: Please add additional info if required | F1: Points | G1: Score
A2: 1 | B2: Complete a Career Assessment/Questionnaire | C2: Yes | F2: 1 | G2: =IF(C2="Yes",F2,IF(C2="No",0,0.5*F2)) -> 1
A3: 2 | B3: Develop your Career Path | C3: Yes | F3: 1 | G3: =IF(C3="Yes",F3,IF(C3="No",0,0.5*F3)) -> 1
A4: 3 | B4: Schedule an appointment with a career guidance practitioner | C4: Yes | F4: 1 | G4: =IF(C4="Yes",F4,IF(C4="No",0,0.5*F4)) -> 1
A5: 4 | B5: View an Online Diary | C5: Yes | F5: 1 | G5: =IF(C5="Yes",F5,IF(C5="No",0,0.5*F5)) -> 1
A6: 5 | B6: Subscribe to the Career Guidance Portal | C6: Yes | F6: 1 | G6: =IF(C6="Yes",F6,IF(C6="No",0,0.5*F6)) -> 1
A7: 6 | B7: View Information on the Wholesale and Retail Sector | C7: Yes | F7: 1 | G7: =IF(C7="Yes",F7,IF(C7="No",0,0.5*F7)) -> 1
A8: 7 | B8: View Information on the W&R SETA Career Development Unit | C8: Yes | F8: 1 | G8: =IF(C8="Yes",F8,IF(C8="No",0,0.5*F8)) -> 1
A9: 8 | B9: View Information on Careers in the W&R Sector | C9: Yes | F9: 1 | G9: =IF(C9="Yes",F9,IF(C9="No",0,0.5*F9)) -> 1
A10: 9 | B10: View Information on Learning programmes | C10: Yes | F10: 1 | G10: =IF(C10="Yes",F10,IF(C10="No",0,0.5*F10)) -> 1
A11: 10 | B11: View Information on Learning Providers | C11: Yes | F11: 1 | G11: =IF(C11="Yes",F11,IF(C11="No",0,0.5*F11)) -> 1
A12: 11 | B12: View Information on Employment Opportunities | C12: Yes | F12: 1 | G12: =IF(C12="Yes",F12,IF(C12="No",0,0.5*F12)) -> 1
A13: 12 | B13: View Information on Bursaries | C13: Yes | F13: 1 | G13: =IF(C13="Yes",F13,IF(C13="No",0,0.5*F13)) -> 1
... A24: 23 | B24: Display Disclaimer | C24: Yes | F24: 1 | G24: =IF(C24="Yes",F24,IF(C24="No",0,0.5*F24)) -> 1
F25: =SUM(F2:F24) -> 23 | G25: =SUM(G2:G24) -> 23
B26: % Score | G26: =G25/F25 -> 1
B28: Evaluation score
B29: Compliant (Y/N) : If Yes full points
B30: Compliant (Y/N) : If Partial 50% points
B31: Compliant (Y/N) : If No 0 points

Sheet QMS
B1: Quality Management system | C1: Compliant (Y/P/N) | D1: Proof | E1: Please add additional info if required | F1: Max Points | G1: Score
A2: 1 | B2: Provide a central system for the storage of W&RSETA Policies, Procedures, Templates, and related documentation; | C2: Yes | F2: 1 | G2: =IF(C2="Yes",F2,IF(C2="No",0,0.5*F2)) -> 1
A3: 2 | B3: Solution to encompass functionality to develop new policies or revise existing policies whilst on the system (automated); | C3: Yes | F3: 1 | G3: =IF(C3="Yes",F3,IF(C3="No",0,0.5*F3)) -> 1
A4: 3 | B4: Enable automated version control, submission, approval and review of Policies, Procedures, Templates and related documentation on the system; | F4: 1 | G4: =IF(C4="Yes",F4,IF(C4="No",0,0.5*F4)) -> 0.5
A5: 4 | B5: In this regard, automated reviews should entail the system sending out review notifications for policies and routing to various authors to undertake reviews on the system. | C5: Yes | F5: 1 | G5: =IF(C5="Yes",F5,IF(C5="No",0,0.5*F5)) -> 1
A6: 5 | B6: Approval functionality by routing documents in the QMS to respective officials for approval and/or comments post submission (through various approval layers/channels); | C6: Yes | F6: 1 | G6: =IF(C6="Yes",F6,IF(C6="No",0,0.5*F6)) -> 1
A7: 6 | B7: Functionality for the communication of Policies, Procedures, Templates and related documentation to each user in W&RSETA (desktop icon), as well as external users (portal access) to view Policies, Procedures, Templates and related documentation. | C7: Yes | F7: 1 | G7: =IF(C7="Yes",F7,IF(C7="No",0,0.5*F7)) -> 1
A8: 7 | B8: The system should contain a mechanism for training of internal users on policies and recording which users have undergone training/accessed policies (Digital badges or similar); | C8: Yes | F8: 1 | G8: =IF(C8="Yes",F8,IF(C8="No",0,0.5*F8)) -> 1
A9: 8 | B9: Automated recording, routing, and closing of non-compliances uncovered during daily operations or audits (Non-conformance reporting module); | C9: Yes | F9: 1 | G9: =IF(C9="Yes",F9,IF(C9="No",0,0.5*F9)) -> 1
A10: 9 | B10: System must comprise provision for planning, conducting, and storing of QMS audits (Audit module); | C10: Yes | F10: 1 | G10: =IF(C10="Yes",F10,IF(C10="No",0,0.5*F10)) -> 1
A11: 10 | B11: The solution should be a SharePoint compatible application; and | C11: Yes | F11: 1 | G11: =IF(C11="Yes",F11,IF(C11="No",0,0.5*F11)) -> 1
A12: 11 | B12: Support and maintenance will be required to ensure the day to day running of the solution and to develop and maintain future enhancements/customisation to the solution. | C12: Yes | F12: 1 | G12: =IF(C12="Yes",F12,IF(C12="No",0,0.5*F12)) -> 1
F13: =SUM(F2:F12) -> 11 | G13: =SUM(G2:G12) -> 10.5
B14: % Score | G14: =G13/F13 -> 0.95454545
B16: Evaluation score
B17: Compliant (Y/N) : If Yes full points
B18: Compliant (Y/N) : If Partial 50% points
B19: Compliant (Y/N) : If No 0 points

Sheet Monitoring and Evaluation
B1: Monitoring and evaluation system | C1: Compliant (Y/P/N) | D1: Proof | E1: Please add additional info if required | F1: Points | G1: Score
A2: 1 | B2: Create, maintain a Monitoring and Evaluation Plan | F2: 1 | G2: =IF(C2="Yes",F2,IF(C2="No",0,0.5*F2)) -> 0.5
A3: 1.1 | B3: M&E Framework (Theory of change) that shows clear linkages between Outcomes, Outputs, Activities, and Inputs | C3: Yes
A4: 2 | B4: Create, maintain a M&E Framework which should cover the following areas: | F4: 1 | G4: =IF(C4="Yes",F4,IF(C4="No",0,0.5*F4)) -> 0.5
A5: 2.1 | B5: Strategy and direction | C5: Yes | F5: 1 | G5: =IF(C5="Yes",F5,IF(C5="No",0,0.5*F5)) -> 1
A6: 2.2 | B6: Management and Governance | C6: Yes | F6: 1 | G6: =IF(C6="Yes",F6,IF(C6="No",0,0.5*F6)) -> 1
A7: 2.3 | B7: Project specific outputs | C7: Yes | F7: 1 | G7: =IF(C7="Yes",F7,IF(C7="No",0,0.5*F7)) -> 1
A8: 2.4 | B8: Adoption and/or uptake | C8: Yes | F8: 1 | G8: =IF(C8="Yes",F8,IF(C8="No",0,0.5*F8)) -> 1
A9: 2.5 | B9: Outcomes and impacts | C9: Yes | F9: 1 | G9: =IF(C9="Yes",F9,IF(C9="No",0,0.5*F9)) -> 1
A10: 2.6 | B10: Context | C10: Yes | F10: 1 | G10: =IF(C10="Yes",F10,IF(C10="No",0,0.5*F10)) -> 1
A11: 3 | B11: The system will have the following functionalities
A12: 3.01 | B12: Planning - data entry | C12: Yes
A13: 3.02 | B13: Monitoring – data entry, export in various formats | C13: Yes
A14: 3.03 | B14: Dashboard Reporting – geographical (provincial) view, reports, graphs, and ad-hoc custom reporting capability | C14: Yes
A15: 3.04 | B15: Create, maintain Indicators for each of the M&E Framework areas | C15: Yes | F15: 1 | G15: =IF(C15="Yes",F15,IF(C15="No",0,0.5*F15)) -> 1
A16: 3.05 | B16: Allow for various types of indicators | C16: Yes | F16: 1 | G16: =IF(C16="Yes",F16,IF(C16="No",0,0.5*F16)) -> 1
A17: 3.06 | B17: Manual and automated data collection capability | C17: Yes | F17: 1 | G17: =IF(C17="Yes",F17,IF(C17="No",0,0.5*F17)) -> 1
A18: 3.07 | B18: Setting of indicator categories | C18: Yes | F18: 1 | G18: =IF(C18="Yes",F18,IF(C18="No",0,0.5*F18)) -> 1
A19: 3.08 | B19: Manual and automated evaluation against indicators | C19: Yes | F19: 1 | G19: =IF(C19="Yes",F19,IF(C19="No",0,0.5*F19)) -> 1
A20: 3.09 | B20: User Customisable reports from a central dashboard | C20: Yes | F20: 1 | G20: =IF(C20="Yes",F20,IF(C20="No",0,0.5*F20)) -> 1
A21: 3.1 | B21: Presents dashboard showing progress towards outcomes, outputs and set targets
A22: 4 | B22: Collaboration tools and methods with internal stakeholders | C22: Yes | F22: 1 | G22: =IF(C22="Yes",F22,IF(C22="No",0,0.5*F22)) -> 1
A23: 5 | B23: Integration with current datasets within W&R Seta | C23: Yes | F23: 1 | G23: =IF(C23="Yes",F23,IF(C23="No",0,0.5*F23)) -> 1
A24: 6 | B24: Uploading of adhoc information into a central M&E repository for data | C24: Yes | F24: 1 | G24: =IF(C24="Yes",F24,IF(C24="No",0,0.5*F24)) -> 1
A25: 7 | B25: Role Based Access control | C25: Yes | F25: 1 | G25: =IF(C25="Yes",F25,IF(C25="No",0,0.5*F25)) -> 1
A26: 8 | B26: Allow for flexible frequency of data collection, monitoring and evaluation time periods | C26: Yes | F26: 1 | G26: =IF(C26="Yes",F26,IF(C26="No",0,0.5*F26)) -> 1
A27: 9 | B27: Evaluation of outcomes and targets against financial indicators | C27: Yes | F27: 1 | G27: =IF(C27="Yes",F27,IF(C27="No",0,0.5*F27)) -> 1
A28: 10 | B28: Formative evaluation should cater for several evaluation types: | F28: 1 | G28: =IF(C28="Yes",F28,IF(C28="No",0,0.5*F28)) -> 0.5
A29: 10.01 | B29: needs assessment determines who needs the program, how great the need is, and what might work to meet the need | C29: Yes | F29: 1 | G29: =IF(C29="Yes",F29,IF(C29="No",0,0.5*F29)) -> 1
A30: 10.02 | B30: evaluability assessment determines whether an evaluation is feasible and how stakeholders can help shape its usefulness | C30: Yes | F30: 1 | G30: =IF(C30="Yes",F30,IF(C30="No",0,0.5*F30)) -> 1
A31: 10.03 | B31: structured conceptualization helps stakeholders define the program or technology, the target population, and the possible outcomes | C31: Yes | F31: 1 | G31: =IF(C31="Yes",F31,IF(C31="No",0,0.5*F31)) -> 1
A32: 10.04 | B32: implementation evaluation monitors the fidelity of the program or technology delivery | C32: Yes | F32: 1 | G32: =IF(C32="Yes",F32,IF(C32="No",0,0.5*F32)) -> 1
A33: 10.05 | B33: process evaluation investigates the process of delivering the program or technology, including alternative delivery procedures | C33: Yes | F33: 1 | G33: =IF(C33="Yes",F33,IF(C33="No",0,0.5*F33)) -> 1
A34: 11 | B34: Summative evaluation should cater for the following: | F34: 1 | G34: =IF(C34="Yes",F34,IF(C34="No",0,0.5*F34)) -> 0.5
A35: 11.01 | B35: outcome evaluations investigate whether the program or technology caused demonstrable effects on specifically defined target outcomes | C35: Yes | F35: 1 | G35: =IF(C35="Yes",F35,IF(C35="No",0,0.5*F35)) -> 1
A36: 11.02 | B36: impact evaluation is broader and assesses the overall or net effects -- intended or unintended -- of the program or technology as a whole | C36: Yes | F36: 1 | G36: =IF(C36="Yes",F36,IF(C36="No",0,0.5*F36)) -> 1
A37: 11.03 | B37: cost-effectiveness and cost-benefit analysis address questions of efficiency by standardizing outcomes in terms of their dollar costs and values | C37: Yes | F37: 1 | G37: =IF(C37="Yes",F37,IF(C37="No",0,0.5*F37)) -> 1
A38: 11.04 | B38: secondary analysis determining existing data to address new questions or use methods not previously employed | C38: Yes | F38: 1 | G38: =IF(C38="Yes",F38,IF(C38="No",0,0.5*F38)) -> 1
A39: 11.05 | B39: meta-analysis integrates the outcome estimates from multiple studies to arrive at an overall or summary judgment on an evaluation question | C39: Yes | F39: 1 | G39: =IF(C39="Yes",F39,IF(C39="No",0,0.5*F39)) -> 1
F40: =SUM(F2:F39) -> 32 | G40: =SUM(G2:G39) -> 30
...

Sheet W&RSETA Website
B1: Quality Management system | C1: Compliant (Y/P/N) | D1: Proof | E1: Please add additional info if required | F1: Points | G1: Score
A2: 1 | B2: Reconfigure the website to ensure faster performance and interactivity in line with current trends | C2: Yes | F2: 1 | G2: =IF(C2="Yes",F2,IF(C2="No",0,0.5*F2)) -> 1
A3: 2 | B3: Redesign pages and implement recommended functionalities | C3: Yes | F3: 1 | G3: =IF(C3="Yes",F3,IF(C3="No",0,0.5*F3)) -> 1
A4: 3 | B4: Copy writing | C4: Yes | F4: 1 | G4: =IF(C4="Yes",F4,IF(C4="No",0,0.5*F4)) -> 1
A5: 4 | B5: Develop summaries for landing pages | C5: Yes | F5: 1 | G5: =IF(C5="Yes",F5,IF(C5="No",0,0.5*F5)) -> 1
A6: 5 | B6: Graphic design services | C6: Yes | F6: 1 | G6: =IF(C6="Yes",F6,IF(C6="No",0,0.5*F6)) -> 1
A7: 5.01 | B7: Design banners for various campaigns per list provided which is not exhaustive of the organisation’s activities and additional design work will be required based on organisational developments. | C7: Yes | F7: 1 | G7: =IF(C7="Yes",F7,IF(C7="No",0,0.5*F7)) -> 1
A8: 6 | B8: Design and management of interactive portals and intranet | C8: Yes | F8: 1 | G8: =IF(C8="Yes",F8,IF(C8="No",0,0.5*F8)) -> 1
A9: 7 | B9: The provider will also be required to provide same service to the intranet including migration of information that is currently on the SharePoint. | C9: Yes | F9: 1 | G9: =IF(C9="Yes",F9,IF(C9="No",0,0.5*F9)) -> 1
A10: 8 | B10: Redesign logos in line with the website look and feel. | C10: Yes | F10: 1 | G10: =IF(C10="Yes",F10,IF(C10="No",0,0.5*F10)) -> 1
A11: 9 | B11: Design landing page banners, organogram, info graphics, skills metrics with an option for clickable links. | C11: Yes | F11: 1 | G11: =IF(C11="Yes",F11,IF(C11="No",0,0.5*F11)) -> 1
A12: 10 | B12: Design a count-up feature on the W&RSETA’s key highlights | C12: Yes | F12: 1 | G12: =IF(C12="Yes",F12,IF(C12="No",0,0.5*F12)) -> 1
A13: 11 | B13: Website management, updates, changes, maintenance and support | C13: Yes | F13: 1 | G13: =IF(C13="Yes",F13,IF(C13="No",0,0.5*F13)) -> 1
... A19: 17 | B19: Link HTML version of mailers to the website and enable real time editing of mailers that are distributed to internal and external stakeholders. | C19: Yes | F19: 1 | G19: =IF(C19="Yes",F19,IF(C19="No",0,0.5*F19)) -> 1
F20: =SUM(F2:F19) -> 18 | G20: =SUM(G2:G19) -> 18
B21: % Score | G21: =G20/F20 -> 1
B23: Evaluation score
B24: Compliant (Y/N) : If Yes full points
B25: Compliant (Y/N) : If Partial 50% points
B26: Compliant (Y/N) : If No 0 points

Sheet Support and Maintenance
B1: Support and Maintenance | C1: Compliant (Y/N) | D1: Proof | E1: Please add additional info if required | F1: Max Points | G1: Score
A2: 1 | B2: Support hours
B3: At a minimum, maintenance and support hours will cover 08:00 to 17:00 Monday to Thursday and 08:00 - 16:00 on Friday, excluding public holidays. | C3: Yes | F3: 2 | G3: =IF(C3="Yes",F3,IF(C3="No",0,0.5*F3)) -> 2
B4: Log support calls with a helpdesk by email, phone or service portal | C4: Yes | F4: 1 | G4: =IF(C4="Yes",F4,IF(C4="No",0,0.5*F4)) -> 1
B5: Receive telephone support for all products | C5: Yes | F5: 1 | G5: =IF(C5="Yes",F5,IF(C5="No",0,0.5*F5)) -> 1
B6: Receive remote support via the network where this is specifically authorised and facilitated by the W&R SETA network and IT security staff | C6: Yes | F6: 1 | G6: =IF(C6="Yes",F6,IF(C6="No",0,0.5*F6)) -> 1
B7: Provide specialist IT telephone, remote access and field support when requested by the W&R SETA | C7: Yes | F7: 1 | G7: =IF(C7="Yes",F7,IF(C7="No",0,0.5*F7)) -> 1
B8: The W&R SETA may require extended service hours, be that for weekends, public holidays, 7x24, 5x24 or other additional hours, which will be agreed between the W&R SETA and the successful tenderer and may involve extra costs | C8: Yes | F8: 1 | G8: =IF(C8="Yes",F8,IF(C8="No",0,0.5*F8)) -> 1
A9: 2 | B9: Staff | G9: =IF(C9="Yes",1*#REF!,IF(C9="No",0,IF(C9="partial",0.5*#REF!,0))) -> 0
B10: All staff delivering maintenance, support, additional development or training will be fully trained for the work they are undertaking. | C10: Yes | F10: 1 | G10: =IF(C10="Yes",F10,IF(C10="No",0,0.5*F10)) -> 1
B11: All staff must be vetted, instructed and trained by the successful tenderer to ensure that W&R SETAs’ security, safety and confidentiality requirements are met in full by the successful tenderer’s staff at all times. Successful tenderers are obliged to ensure that all staff has been security vetted and approved to Criminal Records Bureau relevant standards or similar. | C11: Yes | F11: 1 | G11: =IF(C11="Yes",F11,IF(C11="No",0,0.5*F11)) -> 1
A12: 3 | B12: Maintenance Services | C12: The service provider shall provide Maintenance Services to the Customer from the delivery of the Software to the Customer until the end of the Term. | G12: =IF(C12="Yes",1*#REF!,IF(C12="No",0,IF(C12="partial",0.5*#REF!,0))) -> 0
B13: The Service Provider shall provide the Maintenance Services with reasonable skill and care | C13: Yes | F13: 1 | G13: =IF(C13="Yes",F13,IF(C13="No",0,0.5*F13)) -> 1
B14: The Service Provider shall provide the Maintenance Services in accordance with Schedule 1 (Maintenance SLA). | C14: Yes | F14: 1 | G14: =IF(C14="Yes",F14,IF(C14="No",0,0.5*F14)) -> 1
B15: The Service Provider warrants to the Customer that the application of Updates to the Software by the Service Provider will not introduce any Software Defects into the Software. | C15: Yes | F15: 1 | G15: =IF(C15="Yes",F15,IF(C15="No",0,0.5*F15)) -> 1
B16: The Service Provider warrants to the Customer that the application of Updates to the Software by the Customer in accordance with the instructions of the Service Provider will not introduce any Software Defects into the Software. | C16: Yes | F16: 1 | G16: =IF(C16="Yes",F16,IF(C16="No",0,0.5*F16)) -> 1
A17: 4 | B17: Support Services | C17: The Service Provider shall provide the Support Services to the Customer during the Term. | G17: =IF(C17="Yes",1*#REF!,IF(C17="No",0,IF(C17="partial",0.5*#REF!,0))) -> 0
B18: The Service Provider shall provide the Support Services with reasonable skill and care | C18: Yes | F18: 1 | G18: =IF(C18="Yes",F18,IF(C18="No",0,0.5*F18)) -> 1
B19: The Service Provider shall provide the Support Services in accordance with Schedule 2 (Support SLA). | C19: Yes | F19: 1 | G19: =IF(C19="Yes",F19,IF(C19="No",0,0.5*F19)) -> 1
B20: Issues raised through the Support Services shall be categorised as follows: | C20: Yes | F20: 1 | G20: =IF(C20="Yes",F20,IF(C20="No",0,0.5*F20)) -> 1
B21: (a) critical: the Hosted Services are inoperable or a core function of the Hosted Services is unavailable; | C21: Yes | F21: 1 | G21: =IF(C21="Yes",F21,IF(C21="No",0,0.5*F21)) -> 1
B22: (b) serious: a core function of the Hosted Services is significantly impaired; | C22: Yes | F22: 1 | G22: =IF(C22="Yes",F22,IF(C22="No",0,0.5*F22)) -> 1
B23: (c) moderate: a core function of the Hosted Services is impaired, where the impairment does not constitute a serious issue; or a non-core function of the Hosted Services is significantly impaired; and | C23: Yes | F23: 1 | G23: =IF(C23="Yes",F23,IF(C23="No",0,0.5*F23)) -> 1
B24: (d) minor: any impairment of the Hosted Services not falling into the above categories; and any cosmetic issue affecting the Hosted Services. | C24: Yes | F24: 1 | G24: =IF(C24="Yes",F24,IF(C24="No",0,0.5*F24)) -> 1
B25: 3.2 The Service Provider shall determine, acting reasonably, into which severity category an issue falls. | C25: Yes | F25: 1 | G25: =IF(C25="Yes",F25,IF(C25="No",0,0.5*F25)) -> 1
B26: 3.3 The Service Provider shall use reasonable endeavours to respond to requests for Support Services promptly, and in any case in accordance with the following time periods: | C26: Yes | F26: 1 | G26: =IF(C26="Yes",F26,IF(C26="No",0,0.5*F26)) -> 1
B27: (a) critical: 1 Business Hour; | C27: Yes | F27: 1 | G27: =IF(C27="Yes",F27,IF(C27="No",0,0.5*F27)) -> 1
B28: (b) serious: 4 Business Hours; | C28: Yes | F28: 1 | G28: =IF(C28="Yes",F28,IF(C28="No",0,0.5*F28)) -> 1
B29: (c) moderate: 1 Business Day; and | C29: Yes | F29: 1 | G29: =IF(C29="Yes",F29,IF(C29="No",0,0.5*F29)) -> 1
... B36: (d) minor: a commitment to fix the issue. | C36: Yes | F36: 1 | G36: =IF(C36="Yes",F36,IF(C36="No",0,0.5*F36)) -> 1
F37: =SUM(F3:F36) -> 32 | G37: =SUM(G3:G36) -> 32
B38: % Score | G38: =G37/F37 -> 1
B40: Evaluation score
B41: Compliant (Y/N) : If Yes full points
B42: Compliant (Y/N) : If Partial 50% points
B43: Compliant (Y/N) : If No 0 points

Sheet Fixed Pricing Schedule
B1: Year 1 | F1: Year 2
A2: Item | B2: Comment | C2: Monthly Cost | D2: Once of Cost | E2: Comment | F2: Monthly Cost | G2: Once of Cost
A3: Fixed Pricing
A4: Project Management
A5: Online Research Portal
A6: Online Career Guidance Portal
A7: Monitoring and evaluation system
A8: Quality Management Portal
A9: W&RSETA Website
A10: Support and Maintenance
A11: Other
A12: Other
A13: Other
A14: Other
A15: Other
B18: Subtotal (monthly)
B19: Subtotal (once off)
B20: Yearly Cost
B22: Total Cost for 2 years
A24: Notes:
A25: This pricing schedule is a summary of pricing for the difference categories based on the specifications contained in the TOR.
A26: Increases/Decreases in pricing year on year must worked into the schedule
A27: Adhoc pricing must be included in the pricing schedule as we need to get a as detailed pricing schedule over the term of the contract.
A28: Pricing schedules used for determining the Fixed pricing must be included with the proposal (where possible)

Sheet Variable Pricing Schedule
A1: Category | B1: Line Item | C1: Description | D1: Comment | E1: Unit | F1: No of Units | G1: Unit Price | H1: Billing Period | I1: Price
A2: Development | B2: Senior Developer | E2: Rate per hour | F2: 1 | G2: 750 | H2: monthly | I2: =G2*F2 -> 750
A3: Development | B3: Junior Developer | E3: Rate per hour | F3: 1 | G3: 350 | H3: monthly | I3: =G3*F3 -> 350
A4: Project Management | B4: Project administrator | E4: Rate per hour | F4: 1 | G4: 750 | H4: monthly | I4: =G4*F4 -> 750
A11: Definitions
A12: Category | B12: This refers to the Category in the Pricing schedule which is linked to the TOR and evaluation requirements
A13: Line Item | B13: Item shows the items for a specific category for example Hardware, Software, Services or licenses.
A14: Description | B14: A description of the item
A15: Comment | B15: A field to provide comments
A16: Unit | B16: The unit of measurement for a specific line item.
A17: No of units | B17: Refers to the number of units of the line item.
A18: Unit price | B18: The price per unit per period
A19: Period | B19: This indicates the period of measurement for billing eg. per month.
A20: Price | B20: The price per line item is calculated by (No of Units * Unit Price) = Price per period

Sheet Project Template
I1: Month/Week
A2: Task Name | B2: Comments | C2: Duration | D2: Work | E2: Start | F2: Finish | G2: Predecessors | H2: Resource Names | I2: 1 | J2: 2 | K2: 3 | L2: 4 | M2: 5 | N2: 6 | O2: 7 | P2: 8 | Q2: 9 | R2: 10 | S2: 11 | T2: 12 | U2: 13 | V2: 14 | W2: 15 | X2: 16 | Y2: 17 | Z2: 18
A3: Project Initiation and Planning
A4: Project Scoping Workshop | B4: Project Scope Document (Sign off)
A5: Business Process Analysis
A6: Workshops to map business process, roles and responsibilities | B6: Business Process (sign-off)
A7: Functional Requirement Scoping Workshop | B7: Functional Requirement Specifications (Sign off)
B8: Non-Functional Requirements Specifications (Sign off)
A9: Technical Requirement Specifications Workshop (Technology stack, CMS, Architecture, Security, Hosting, Database, Programming, etc)
A10: Establish Agile Team
A11: Definition of Sprints - as defined by priorities
A12: Sprint Cycles - for each sprint the below activities apply (each sprint not to exceed 1 month)
A13: Design
A14: Create site map & wireframe | B14: Review and approve
A15: Front-end design (graphic elements) & User Interface | B15: Review and approve
A16: Marketing Plan | B16: Sign off Plan
A17: Infrastruture Setup - Dev, UAT and Production | B17: Sign off provision
A18: Development
A19: Incorporate graphic elements | B19: Review and approve
A20: Content Development | B20: Review and approve
A21: Develop tools | B21: Review and approve
A22: Develop application programming interface (API) | B22: Review and approve
A23: Implement Frameworks test against approved design | B23: Review and approve
A24: SEO Optimisation of website elements i.e. title description key word | B24: Review and approve
A25: Develop and sign off test plan | B25: Sign off development
A26: Data Population and Integration
A27: Data population of content | B27: Review and approve
A28: Testing and Review
A29: Functionality testing | B29: Review and approve
A30: Useability, Interface, database, compatibility, performance and security testing.
A31: Training and Handover
A32: Training
A33: Handover | B33: Sign off on deliverable
A34: Implementation
A35: Implement Sprint
A36: Post implementation support and maintenance
A37: Sprint Cycle Repeats
