Workbook
Name _Hlk149752705: '1. HVAC EQUIPMENT '!$B$3

Sheet 1. HVAC EQUIPMENT 
B1: SUPPLY CHAIN MANAGEMENT
B2: Pricing schedule
A3: RFx No | B3: RFB 3201/2025
A4: RFx Title | B4: REQUEST FOR BID FOR THE APPOINTMENT OF A SERVICE PROVIDER TO PROVIDE HVAC INFRASTRUCTURE UPGRADES AT SITA BETA DATA CENTRE FOR A PERIOD OF 42 MONTHS. | E4: SHEET 1. HVAC EQUIPMENT
A5: Bidder Name
A7: 1. INSTRUCTION FOR COMPLETING THE PRICING SCHEDULE
A8: (a) Bidder must complete/enter YELLOW cells only
A9: (b) Unit and Line prices must be VAT EXCLUSIVE and in South African Rand (ZAR) currency.
A10: (c) The price must include all cost to deliver the goods or render the service, including all applicable taxes, duty fees, logistics/delivery, storage, labour, overtime and subsistance and travel
A11: (d) Bidders must complete and submit bid pricing in the provided Excel spreadsheet format, and any pricing schedule submitted in a different format will not be considered.
A12: Item No | B12: Goods/Service description | C12: Unit of measure | D12: Qty | E12: Unit Cost | F12: Line Price Term (Excl VAT) | G12: BRAND / MODEL | H12: Price clarification comment
A13: 1 | B13: PRELIMINARY AND GENERAL | F13: =SUBTOTAL(9,F14:F22) -> 0
A14: 1.1 | B14: Preliminary and General work, services meetings and inspections for which no specific items are listed in the price schedule. | C14: Sum | D14: 1 | F14: =ROUND(E14*D14,2) -> 0
A15: 1.2 | B15: Provide for storage of plant and equipment on site including protection thereof and for obtaining insurance called for in terms of this contract. | C15: Sum | D15: 1 | F15: =ROUND(E15*D15,2) -> 0
A16: 1.3 | B16: Permits, notices and co-operation with other trades. | C16: Sum | D16: 1 | F16: =ROUND(E16*D16,2) -> 0
A17: 1.4 | B17: Shop drawings, engineering and equipment submissions | C17: Sum | D17: 1 | F17: =ROUND(E17*D17,2) -> 0
A18: 1.5 | B18: Provide "as-built" drawings & maintenance and operational manuals | C18: Sum | D18: 1 | F18: =ROUND(E18*D18,2) -> 0
A19: 1.6 | B19: Provide and maintain a quality system | C19: Sum | D19: 1 | F19: =ROUND(E19*D19,2) -> 0
A20: 1.7 | B20: Provide security | C20: Sum | D20: 1 | F20: =ROUND(E20*D20,2) -> 0
A21: 1.8 | B21: Management of building and other subcontractors | C21: Sum | D21: 1 | F21: =ROUND(E21*D21,2) -> 0
A22: 1.9 | B22: 12 Month Extended warranty all systems | C22: Sum | D22: 1 | F22: =ROUND(E22*D22,2) -> 0
A23: 2 | B23: CONTRACTORS SITE ESTABLISHMENT | F23: =SUBTOTAL(9,F24) -> 0
A24: 2.1 | B24: Fixed charges | C24: Sum | D24: 1 | F24: =ROUND(E24*D24,2) -> 0
A25: 3 | B25: AIRCOOLED CHILLERS COMPLETE WITH ASSOCIATED PIPING All costs related to the PHASED supply and delivery to site connecting and commissioning of chiller systems complete as specified with rigging, hoisting, installation, commissioning as specified | F25: =SUBTOTAL(9,F26:F35) -> 0
A26: 3.1 | B26: Manufacture and supply only of air cooled chiller with integrated free cooling as per specification 1000kw chiller complete with chiller plant controllers as specified | C26: Each | D26: 3 | F26: =ROUND(E26*D26,2) -> 0
A27: 3.2 | B27: Supply of duty and standby chiller plant controllers for system ( primary, secondary pump operation, motorised control valve operation & chiller management as specified ( standalone of integrated into chiller) | C27: Each | D27: 2 | F27: =ROUND(E27*D27,2) -> 0
A28: 3.3 | B28: Hoisting rigging of chiller 1 into position complete | C28: Sum | D28: 1 | F28: =ROUND(E28*D28,2) -> 0
A29: 3.4 | B29: Spring mounts set per chiller as detailed in the specification per chiller | C29: Each | D29: 1 | F29: =ROUND(E29*D29,2) -> 0
A30: 3.5 | B30: Commissioning of chiller 1 by supplier | C30: Sum | D30: 1 | F30: =ROUND(E30*D30,2) -> 0
A31: 3.6 | B31: Hoisting rigging of chiller 2 into position complete | C31: Sum | D31: 1 | F31: =ROUND(E31*D31,2) -> 0
A32: 3.7 | B32: Spring mounts set per chiller as detailed in the specification per chiller | C32: Each | D32: 1 | F32: =ROUND(E32*D32,2) -> 0
A33: 3.8 | B33: Hoisting rigging of chiller 3 into position complete | C33: Sum | D33: 1 | F33: =ROUND(E33*D33,2) -> 0
A34: 3.9 | B34: Spring mounts set per chiller as detailed in the specification per chiller | C34: Each | D34: 3 | F34: =ROUND(E34*D34,2) -> 0
A35: 3.10 | B35: Final commissioning of all chillers by supplier | C35: Sum | D35: 1 | F35: =ROUND(E35*D35,2) -> 0
A36: 4 | B36: CHILLER PLANT RELATED PIPING AND COMPONENTS All costs related to the supply and installation of all external chiller plant piping and components, insulated and sheet metal clad. Cost to include external piping supports to suite | F36: =SUBTOTAL(9,F37:F55) -> 0
A37: 4.1 | B37: Strainers 150mm | C37: Each | D37: 3 | F37: =ROUND(E37*D37,2) -> 0
A38: 4.2 | B38: Ball valve 25mm dia ( Temp and pressure gauges) | C38: Each | D38: 15 | F38: =ROUND(E38*D38,2) -> 0
A39: 4.3 | B39: Isolating valve 65mm dia | C39: Each | D39: 3 | F39: =ROUND(E39*D39,2) -> 0
A40: 4.4 | B40: Isolating valve 150mm dia | C40: Each | D40: 12 | F40: =ROUND(E40*D40,2) -> 0
A41: 4.5 | B41: Non return valves 150mm dia | C41: Each | D41: 3 | F41: =ROUND(E41*D41,2) -> 0
...

Sheet 2. CIVIL AND EARTHWORKS
B1: SUPPLY CHAIN MANAGEMENT
B2: Pricing schedule
A3: RFx No | B3: RFB 3201/2025
A4: RFx Title | B4: REQUEST FOR BID FOR THE APPOINTMENT OF A SERVICE PROVIDER TO PROVIDE HVAC INFRASTRUCTURE UPGRADES AT SITA BETA DATA CENTRE FOR A PERIOD OF 42 MONTHS. | E4: SHEET 2. CIVLL AND EARTHWORKS
A5: Bidder Name
A7: 1. INSTRUCTION FOR COMPLETING THE PRICING SCHEDULE
A8: (a) Bidder must complete/enter YELLOW cells only
A9: (b) Unit and Line prices must be VAT EXCLUSIVE and in South African Rand (ZAR) currency.
A10: (c) The price must include all cost to deliver the goods or render the service, including all applicable taxes, duty fees, logistics/delivery, storage, labour, overtime and subsistance and travel
A11: (d) Bidders must complete and submit bid pricing in the provided Excel spreadsheet format, and any pricing schedule submitted in a different format will not be considered.
A12: Item No | B12: Goods/Service description | C12: Unit of measure | D12: Qty | E12: Unit Cost | F12: Line Price Term (Excl VAT) | G12: BRAND / MODEL | H12: Price clarification comment
A13: 21 | B13: BUILDING CONSTRUCTION WORKS All costs relating to the external and internal builders works to accommodate HVAC system installation | F13: =SUBTOTAL(9, F14:F15) -> 0
A14: 21.1 | B14: Clearing and grubbing | C14: Ha | D14: 0.03762 | F14: =ROUND(E14*D14,2) -> 0
A15: 21.2 | B15: Re-clearing of surfaces (on the written Instruction) | C15: Ha | D15: 0.01881 | F15: =ROUND(E15*D15,2) -> 0
A16: 22 | B16: DRAINS - APRON CHANNELS AROUND PLINTHS | F16: =SUBTOTAL(9, F17:F19) -> 0
A17: 22.1 | B17: Excavate in soft material up to 0.5m deep | C17: m3 | D17: 31.02 | F17: =ROUND(E17*D17,2) -> 0
A18: 22.2 | B18: Concrete Inlet and Outlet Structures | C18: No | D18: 2 | F18: =ROUND(E18*D18,2) -> 0
A19: 22.3 | B19: Selected backfill material under concrete lined side drains compacted to 93% modified AASHTO density | C19: m3 | D19: 7.755 | F19: =ROUND(E19*D19,2) -> 0
A20: 23 | B20: LOCATING OF EXISTING SERVICES | F20: =SUBTOTAL(9, F21) -> 0
A21: 23.1 | B21: Locate existing services, expose by hand and protect for the duration of construction period | C21: m3 | D21: 28.2 | F21: =ROUND(E21*D21,2) -> 0
A22: 24 | B22: DEMOLISHING AND REMOVAL | F22: =SUBTOTAL(9, F23:F26) -> 0
A23: 24.1 | B23: Lifting of Existing Paving and dispose of to a site provided by the contractor | C23: m2 | D23: 300 | F23: =ROUND(E23*D23,2) -> 0
A24: 24.2 | B24: Remove existing brick wall complete with foundations and cart away rubble | C24: m3 | D24: 42 | F24: =ROUND(E24*D24,2) -> 0
A25: 24.3 | B25: Break-down existing concrete portal structures and cart away rubble | C25: m3 | D25: 31.02 | F25: =ROUND(E25*D25,2) -> 0
A26: 24.4 | B26: Break-down existing concrete plinths and cart away rubble | C26: m3 | D26: 59.22 | F26: =ROUND(E26*D26,2) -> 0
A27: 25 | B27: MASS EARTHWORKS | F27: =SUBTOTAL(9, F28:F32) -> 0
A28: 25.1 | B28: Cut to reduce levels and spoil, including free-haul up 2km, Platforms (Up to 1.0m depth) | C28: m3 | D28: 376.2 | F28: =ROUND(E28*D28,2) -> 0
A29: 25.2 | B29: Compact bottom of excavation, Eight-roller-passes compaction | C29: Roller-day | D29: 3 | F29: =ROUND(E29*D29,2) -> 0
A30: 25.3 | B30: Extra over Item 6.1 - Intermediate Excavation | C30: m3 | D30: 37.62 | F30: =ROUND(E30*D30,2) -> 0
A31: 25.4 | B31: Extra over Item 6.1 - Hard Excavation | C31: m3 | D31: 7.524 | F31: =ROUND(E31*D31,2) -> 0
A32: 25.5 | B32: Backfill and compact, Soil Mattresses for plinths at least 1.5m thickness, using a G6 (TRH14) Quality Material | C32: m3 | D32: 565 | F32: =ROUND(E32*D32,2) -> 0
A33: 26 | B33: SURFACING - PAVING | F33: =SUBTOTAL(9, F34) -> 0
A34: 26.1 | B34: Walkways interfacing with plant and buildings, 60mm thick Interlocking concrete paving bedded on 25mm thick sand layer | C34: m2 | D34: 68 | F34: =ROUND(E34*D34,2) -> 0
A35: 27 | B35: PAVEMENT LAYERS OF GRAVEL MATERIAL | F35: =SUBTOTAL(9, F36) -> 0
A36: 27.1 | B36: 19mm crushed aggregate places 1m around plinths, 100mm Layer | C36: m3 | D36: 14.4 | F36: =ROUND(E36*D36,2) -> 0
A37: 28 | B37: LANDSCAPING / SITE SHAPING | F37: =SUBTOTAL(9, F38:F39) -> 0
A38: 28.1 | B38: Trimming: Machine | C38: m2 | D38: 38 | F38: =ROUND(E38*D38,2) -> 0
A39: 28.2 | B39: Trimming: Hand | C39: m2 | D39: 38 | F39: =ROUND(E39*D39,2) -> 0
A40: 29 | B40: BOUNDARY WALL REINSTATMENT | F40: =SUBTOTAL(9, F41:F42) -> 0
A41: 29.1 | B41: Foundations - 600x300 Deep, Class 25/19 Mass concrete | C41: m3 | D41: 18 | F41: =ROUND(E41*D41,2) -> 0
...

Sheet 3. DEMOLITION WORKS & COOLING 
B1: SUPPLY CHAIN MANAGEMENT
B2: Pricing schedule
A3: RFx No | B3: RFB 3201/2025
A4: RFx Title | B4: REQUEST FOR BID FOR THE APPOINTMENT OF A SERVICE PROVIDER TO PROVIDE HVAC INFRASTRUCTURE UPGRADES AT SITA BETA DATA CENTRE FOR A PERIOD OF 42 MONTHS. | E4: SHEET 3. DEMOLITION WORKS & COOLING TOWERS
A5: Bidder Name
A7: 1. INSTRUCTION FOR COMPLETING THE PRICING SCHEDULE
A8: (a) Bidder must complete/enter YELLOW cells only
A9: (b) Unit and Line prices must be VAT EXCLUSIVE and in South African Rand (ZAR) currency.
A10: (c) The price must include all cost to deliver the goods or render the service, including all applicable taxes, duty fees, logistics/delivery, storage, labour, overtime and subsistance and travel
A11: (d) Bidders must complete and submit bid pricing in the provided Excel spreadsheet format, and any pricing schedule submitted in a different format will not be considered.
A12: Item No | B12: Goods/Service description | C12: Unit of measure | D12: Qty | E12: Unit Cost | F12: Line Price Term (Excl VAT) | G12: BRAND / MODEL | H12: Price clarification comment
A13: 39 | B13: DEMOLITION WORKS & COOLING TOWER WORK | F13: =SUBTOTAL(9,F14:F32) -> 0
A14: 39.1 | B14: Decommissioning, dismantle of existing cooling tower 1 during works complete with associated piping and components | C14: Sum | D14: 1 | F14: =ROUND(E14*D14,2) -> 0
A15: 39.2 | B15: Decommissioning, dismantle of existing cooling tower 2 during works complete with associated piping and components | C15: Sum | D15: 1 | F15: =ROUND(E15*D15,2) -> 0
A16: 39.3 | B16: Decommissioning, dismantle of existing cooling tower 3 during works complete with associated piping and components | C16: Sum | D16: 1 | F16: =ROUND(E16*D16,2) -> 0
A17: 39.4 | B17: Rigging and transport of 3 x cooling towers to Centurion SITA site, offload in position as agreed with Client | C17: Sum | D17: 1 | F17: =ROUND(E17*D17,2) -> 0
A18: 39.5 | B18: Phased removal of redundant external and rooftop condenser water piping and pump systems once new chiller system is fully operational | C18: Sum | D18: 1 | F18: =ROUND(E18*D18,2) -> 0
A19: 39.6 | B19: Decommissioning, stripping, removal & disposal of ALL existing in-floor void condensate piping systems serving existing DX CRAC units as indicated on drawings | C19: Sum | D19: 1 | F19: =ROUND(E19*D19,2) -> 0
A20: 39.7 | B20: Decommissioning stripping removal & handover to Client all existing pillar type FCU in police offices rooms complete. | C20: Each | D20: 3 | F20: =ROUND(E20*D20,2) -> 0
A21: 39.8 | B21: Decommissioning stripping removal & handover to Client all existing CRAC units located in UPS room complete. | C21: Each | D21: 4 | F21: =ROUND(E21*D21,2) -> 0
A22: 39.9 | B22: Decommissioning stripping removal & handover to Client all existing CRAC units located in data halls complete. | C22: Each | D22: 9 | F22: =ROUND(E22*D22,2) -> 0
A23: 39.10 | B23: Decommissioning stripping removal & handover to Client all existing CRAC units located in switch centre room complete. | C23: Each | D23: 2 | F23: =ROUND(E23*D23,2) -> 0
A24: 39.11 | B24: Decommissioning stripping removal & disposal of existing small redundant water storage vessel located in data hall as shown on demolition drawing with all piping, electrics, controls, complete. | C24: Sum | D24: 1 | F24: =ROUND(E24*D24,2) -> 0
A25: 39.12 | B25: Removal of existing fresh air fan filter unit under expanded metal grating on rooftop complete with external ducting as shown on demolition drawing. | C25: Sum | D25: 1 | F25: =ROUND(E25*D25,2) -> 0
... A32: 39.19 | B32: Rebate offered by Tenderer for scrap value of equipment and components removed. ( negative value in BOQ to be indicated) | C32: Sum | D32: 1 | F32: =ROUND(E32*D32,2) -> 0
A33: 39.20 | B33: PROVISIONAL SUM: DEMOLITION WORKS | C33: sum | D33: 1 | E33: =+ROUND(SUBTOTAL(9,F13:F32)*20%,2) -> 0 | F33: =ROUND(E33*D33,2) -> 0
A34: DEMOLITION WORKS & COOLING TOWERS SUBTOTAL PRICE (EXCL VAT) | F34: =+SUBTOTAL(9,F14:F33) -> 0
B37: I, the bidder, confirm that the price(s) and rate(s) quoted cover all the goods and/or works specified in the bidding documents; that the price(s) or rate(s) cover all my obligations and I accept that any mistakes regarding price(s), rate(s) or calculations will be at my own risk. [Note: First convert to PDF, then add signature]
C38: Name
C40: Signature (above)

Sheet 4. FIRE PROTECTION SYSTEM HVAC
B1: SUPPLY CHAIN MANAGEMENT
B2: Pricing schedule
A3: RFx No | B3: RFB 3201/2025
A4: RFx Title | B4: REQUEST FOR BID FOR THE APPOINTMENT OF A SERVICE PROVIDER TO PROVIDE HVAC INFRASTRUCTURE UPGRADES AT SITA BETA DATA CENTRE FOR A PERIOD OF 42 MONTHS. | E4: SHEET 4. FIRE PROTECTION SYSTEM HVAC
A5: Bidder Name
A7: 1. INSTRUCTION FOR COMPLETING THE PRICING SCHEDULE
A8: (a) Bidder must complete/enter YELLOW cells only
A9: (b) Unit and Line prices must be VAT EXCLUSIVE and in South African Rand (ZAR) currency.
A10: (c) The price must include all cost to deliver the goods or render the service, including all applicable taxes, duty fees, logistics/delivery, storage, labour, overtime and subsistance and travel
A11: (d) Bidders must complete and submit bid pricing in the provided Excel spreadsheet format, and any pricing schedule submitted in a different format will not be considered.
A12: Item No | B12: Goods/Service description | C12: Unit of measure | D12: Qty | E12: Unit Cost | F12: Line Price Term (Excl VAT) | G12: BRAND / MODEL | H12: Price clarification comment
A13: 40 | B13: FIRE PROTECTION SYSTEM HVAC RELATED WORK : DATA HALL OFFICES AND STORE AREAS | F13: =SUBTOTAL(9,F14:F18) -> 0
A14: 40.1 | B14: Servicing and checking for correct operation, inclusive of actuators, of all fire dampers in the floor void at areas adjacent to the main office block | C14: Each | D14: 5 | F14: =ROUND(E14*D14,2) -> 0
A15: 40.2 | B15: Cleaning servicing and checking for operation of all in floor void axial flow fan systems to ensure they are operational. | C15: Each | D15: 6 | F15: =ROUND(E15*D15,2) -> 0
A16: 40.3 | B16: Checking all axial flow fan systems to ensure they are properly interfaced with the fire protection systems. ( to switch off on fire signal) | C16: Each | D16: 6 | F16: =ROUND(E16*D16,2) -> 0
A17: 40.4 | B17: Checking and rectifying of all HVAC grille outlets in the offices equipped with reheat systems to ensure that they are equipped with the required safety systems, i.e. overheat stats and flow switches. | C17: Each | D17: 6 | F17: =ROUND(E17*D17,2) -> 0
A18: 40.5 | B18: Removal of in floor ducting between store area 007 & 008. | C18: Sum | D18: 1 | F18: =ROUND(E18*D18,2) -> 0
A19: 41 | B19: DATA HALL ABLUTIONS AND REST AREA | F19: =SUBTOTAL(9,F20:F22) -> 0
A20: 41.1 | B20: Servicing and checking for the correct operation, inclusive of actuators of all induct and wall mounted fire dampers interfaced with fire protection systems in ducting and wall. | C20: Each | D20: 4 | F20: =ROUND(E20*D20,2) -> 0
A21: 41.2 | B21: Cleaning servicing and checking for operation of all in floor void axial flow fan systems to ensure they are operational. | C21: Each | D21: 2 | F21: =ROUND(E21*D21,2) -> 0
A22: 41.3 | B22: Checking for the correct operation of the interface between fan system and fire protection systems | C22: Each | D22: 2 | F22: =ROUND(E22*D22,2) -> 0
A23: 42 | B23: FIRE PROTECTION SYSTEM HVAC RELATED WORK : WORKSHOP AREA | F23: =SUBTOTAL(9,F24:F27) -> 0
A24: 42.1 | B24: Install a new 500 x 300 fire damper in the compartment walling supplying air from the computer room floor void to the workshop offices complete with actuator for interfacing to the fire protection systems | C24: Each | D24: 1 | F24: =ROUND(E24*D24,2) -> 0
A25: 42.3 | B25: Checking and rectifying of all HVAC grille outlets in the offices with reheat systems to ensure that they are equipped with the required safety systems, i.e. overheat stats and flow switches. Install new wall mounted controller x 1 | C25: Each | D25: 4 | F25: =ROUND(E25*D25,2) -> 0
A26: 42.5 | B26: Cleaning servicing and checking for operation of in floor void axial flow fan systems to ensure they are operational. | C26: Each | D26: 1 | F26: =ROUND(E26*D26,2) -> 0
A27: 42.7 | B27: Checking for the correct operation of the interface between the fire protection systems and fan system. | C27: Each | D27: 1 | F27: =ROUND(E27*D27,2) -> 0
A28: 43 | B28: FIRE PROTECTION SYSTEM HVAC RELATED WORK : SERVICE PASSAGES FRESH AIR AND EXTRACTION SYSTEMS | F28: =SUBTOTAL(9,F29:F38) -> 0
A29: 43.1 | B29: Servicing and checking for the correct operation of fire dampers installed in the fresh air systems at high level penetrating through the perimeter walls. | C29: Each | D29: 5 | F29: =ROUND(E29*D29,2) -> 0
A30: 43.2 | B30: Checking for the correct operation of the interface between gas suppressant systems and fire dampers installed in the fresh air systems penetrating through the perimeter walls. | C30: Each | D30: 5 | F30: =ROUND(E30*D30,2) -> 0
A31: 43.3 | B31: Servicing and checking for the correct operation of fire dampers installed in the extraction systems penetrating through the perimeter walls. | C31: Each | D31: 2 | F31: =ROUND(E31*D31,2) -> 0
A32: 43.4 | B32: Checking for the correct operation of the interface between gas suppressant systems and fire dampers installed in the extraction systems penetrating through the perimeter walls. | C32: Each | D32: 2 | F32: =ROUND(E32*D32,2) -> 0
A33: 43.5 | B33: Servicing and checking for the correct operation of the two fire dampers installed in the Archive vault walling penetrating through the perimeter walls. | C33: Each | D33: 2 | F33: =ROUND(E33*D33,2) -> 0
A34: 43.6 | B34: Checking for the correct operation of the interface between gas suppressant systems and the two fire dampers installed in the Archive vault walling penetrating through the perimeter walls. | C34: Each | D34: 2 | F34: =ROUND(E34*D34,2) -> 0
A35: 43.7 | B35: Servicing and checking for the correct operation of fire dampers installed in the ducted extract system serving the store 091 walls. | C35: Each | D35: 1 | F35: =ROUND(E35*D35,2) -> 0
A36: 43.8 | B36: Checking for the correct operation of the interface between gas suppressant systems and fire dampers installed in the ducted extract system serving the store 091 walls. | C36: Each | D36: 1 | F36: =ROUND(E36*D36,2) -> 0
A37: 43.9 | B37: Checking for the correct operation of the interface between fire protection systems and the extract fan serving store 091. | C37: Each | D37: 1 | F37: =ROUND(E37*D37,2) -> 0
A38: 43.10 | B38: Checking for the correct operation of the interface between fire protection system and the rooftop fresh air filter unit. | C38: Each | D38: 1 | F38: =ROUND(E38*D38,2) -> 0
A39: 44 | B39: NEW FIRE DAMPERS Supply and installation of new fire dampers complete with actuators and fire interface complete and commissioned | F39: =SUBTOTAL(9,F40:F52) -> 0
A40: 44.1 | B40: 1000 x 546 fire damper installed in CO2 extract fan duct at high level | C40: Each | D40: 2 | F40: =ROUND(E40*D40,2) -> 0
A41: 44.2 | B41: 500 x 300 fire damper installed in wall between passages | C41: Each | D41: 1 | F41: =ROUND(E41*D41,2) -> 0
...

Sheet 5. ELECTRICAL
B1: SUPPLY CHAIN MANAGEMENT
B2: Pricing schedule
A3: RFx No | B3: RFB 3201/2025
A4: RFx Title | B4: REQUEST FOR BID FOR THE APPOINTMENT OF A SERVICE PROVIDER TO PROVIDE HVAC INFRASTRUCTURE UPGRADES AT SITA BETA DATA CENTRE FOR A PERIOD OF 42 MONTHS. | E4: SHEET 5. ELECTRICAL
A5: Bidder Name
A7: 1. INSTRUCTION FOR COMPLETING THE PRICING SCHEDULE
A8: (a) Bidder must complete/enter YELLOW cells only
A9: (b) Unit and Line prices must be VAT EXCLUSIVE and in South African Rand (ZAR) currency.
A10: (c) The price must include all cost to deliver the goods or render the service, including all applicable taxes, duty fees, logistics/delivery, storage, labour, overtime and subsistance and travel
A11: (d) Bidders must complete and submit bid pricing in the provided Excel spreadsheet format, and any pricing schedule submitted in a different format will not be considered.
F12: TOTAL
A13: Item No | B13: Goods/Service description | C13: Unit of measure | D13: Qty | E13: Unit Cost | F13: Line Price Term (Excl VAT) | G13: BRAND / MODEL | H13: Price clarification comment
A14: 53 | B14: LOW VOLTAGE MCC - SUPPLY, DELIVERY AND OFF-LOADING All costs for preparing distribution boards for shipping loading at works, transportation from works to site. Cost for packing material, wrapping or crating of distribution boards to be included. Cost for off loading on site and placing distribution boards in designated laydown area including required barricading and protection on site. | F14: =SUBTOTAL(9,F15:F18) -> 0
A15: 53.1 | B15: MCC 1 as per 1001668-DRG-EL-180 and fully assebled with: 1. Support Frame 2. K/U Clamp Mounting Brackets 3. Doors and Covers 4. Panel Server, IFM's and IFE's 5. Network Switch for accumulation 6. 24Vdc Power Supply 7. VSD's | C15: Each | D15: 2 | F15: =ROUND(E15*D15,2) -> 0
A16: 53.2 | B16: MCC 2 as per 1001668-DRG-EL-181 and fully assebled with: 1. Support Frame 2. K/U Clamp Mounting Brackets 3. Doors and Covers 4. Panel Server, IFM's and IFE's 5. Network Switch for accumulation 6. 24Vdc Power Supply 7. VSD's | C16: Each | D16: 2 | F16: =ROUND(E16*D16,2) -> 0
A17: 53.3 | B17: Stop/Start button | C17: Each | D17: 7 | F17: =ROUND(E17*D17,2) -> 0
A18: 53.4 | B18: 1m Steel pedestal with mounting bracket for Stop/Start | C18: Each | D18: 7 | F18: =ROUND(E18*D18,2) -> 0
A19: 54 | B19: LOW VOLTAGE DB's - SUPPLY, DELIVERY AND OFF-LOADING All costs for preparing distribution boards for shipping loading at works, transportation from works to site. Cost for packing material, wrapping or crating of distribution boards to be included. Cost for off loading on site and placing distribution boards in designated laydown area including required barricading and protection on site. | F19: =SUBTOTAL(9,F20:F27) -> 0
A20: 54.1 | B20: CRAH DB 1 as per 1001668-0000-DRG-EL-162a-DB-CRAH DB 1 and fully assembled with: 1. Support Frame 2. K/U Clamp Mounting Brackets 3. Doors and Covers 4. Panel Server, IFM's and IFE's 5. Network Switch for accumulation 6. 24Vdc Power Supply | C20: Each | D20: 1 | F20: =ROUND(E20*D20,2) -> 0
A21: 54.2 | B21: CRAH DB 2 as per 1001668-0000-DRG-EL-163a-DB-CRAH DB 2 and fully assembled with: 1. Support Frame 2. K/U Clamp Mounting Brackets 3. Doors and Covers 4. Panel Server, IFM's and IFE's 5. Network Switch for accumulation 6. 24Vdc Power Supply | C21: Each | D21: 1 | F21: =ROUND(E21*D21,2) -> 0
A22: 54.3 | B22: CRAH DB 3 as per 1001668-0000-DRG-EL-163a-DB-CRAH DB 3 and fully assembled with: 1. Support Frame 2. K/U Clamp Mounting Brackets 3. Doors and Covers 4. Panel Server, IFM's and IFE's 5. Network Switch for accumulation 6. 24Vdc Power Supply | C22: Each | D22: 1 | F22: =ROUND(E22*D22,2) -> 0
A23: 54.4 | B23: CRAH DB 4 as per 1001668-0000-DRG-EL-165a-DB-CRAH DB 4 and fully assembled with: 1. Support Frame 2. K/U Clamp Mounting Brackets 3. Doors and Covers 4. Panel Server, IFM's and IFE's 5. Network Switch for accumulation 6. 24Vdc Power Supply | C23: Each | D23: 1 | F23: =ROUND(E23*D23,2) -> 0
A24: 54.5 | B24: CRAH DB 5 as per 1001668-0000-DRG-EL-162b-DB-CRAH DB 5 and fully assembled with: 1. Support Frame 2. K/U Clamp Mounting Brackets 3. Doors and Covers 4. Panel Server, IFM's and IFE's 5. Network Switch for accumulation 6. 24Vdc Power Supply | C24: Each | D24: 1 | F24: =ROUND(E24*D24,2) -> 0
A25: 54.6 | B25: CRAH DB 6 as per 1001668-0000-DRG-EL-163a-DB-CRAH DB 6 and fully assembled with: 1. Support Frame 2. K/U Clamp Mounting Brackets 3. Doors and Covers 4. Panel Server, IFM's and IFE's 5. Network Switch for accumulation 6. 24Vdc Power Supply | C25: Each | D25: 1 | F25: =ROUND(E25*D25,2) -> 0
A26: 54.7 | B26: CRAH DB 7 as per 1001668-0000-DRG-EL-164a-DB-CRAH DB 7 and fully assembled with: 1. Support Frame 2. K/U Clamp Mounting Brackets 3. Doors and Covers 4. Panel Server, IFM's and IFE's 5. Network Switch for accumulation 6. 24Vdc Power Supply | C26: Each | D26: 1 | F26: =ROUND(E26*D26,2) -> 0
A27: 54.8 | B27: CRAH DB 8 as per 1001668-0000-DRG-EL-102-LV DB-C and fully assembled with: 1. Support Frame 2. K/U Clamp Mounting Brackets 3. Doors and Covers 4. Panel Server, IFM's and IFE's 5. Network Switch for accumulation 6. 24Vdc Power Supply | C27: Each | D27: 1 | F27: =ROUND(E27*D27,2) -> 0
A28: 55 | B28: LOW VOLTAGE MCC's and SWITCHBOARDS - INSTALLATION 1. All cost for moving of the distribution boards from designated storage area into the room to be included. Removal of package materials, placing distribution boards in position, installation of busbars/cabling as well as bolting down to floor. this will include costs for equipment, labour and other expenses for the on-site testing and commissioning of equipment shall be included in the tendered rates for testing and commissioning as set out in the measurement and payment clauses of each pieces of equipment and in the schedule of quantities. Any additional tests specified in the standard and detail specifications shall also be included in the tendered rates. | F28: =SUBTOTAL(9,F29:F40) -> 0
A29: 55.1 | B29: MCC 1 as per 1001668-DRG-EL-180 and fully assebled | C29: Each | D29: 2 | F29: =ROUND(E29*D29,2) -> 0
A30: 55.2 | B30: MCC 2 as per 1001668-DRG-EL-181 and fully assebled with: | C30: Each | D30: 2 | F30: =ROUND(E30*D30,2) -> 0
A31: 55.3 | B31: CRAH DB 1 as per 1001668-0000-DRG-EL-162a-DB-CRAH DB 1 and fully assembled | C31: Each | D31: 1 | F31: =ROUND(E31*D31,2) -> 0
A32: 55.4 | B32: CRAH DB 2 as per 1001668-0000-DRG-EL-163a-DB-CRAH DB 2 and fully assembled | C32: Each | D32: 1 | F32: =ROUND(E32*D32,2) -> 0
A33: 55.5 | B33: CRAH DB 3 as per 1001668-0000-DRG-EL-163a-DB-CRAH DB 3 and fully assembled | C33: Each | D33: 1 | F33: =ROUND(E33*D33,2) -> 0
A34: 55.6 | B34: CRAH DB 4 as per 1001668-0000-DRG-EL-165a-DB-CRAH DB 4 and fully assembled | C34: Each | D34: 1 | F34: =ROUND(E34*D34,2) -> 0
A35: 55.7 | B35: CRAH DB 5 as per 1001668-0000-DRG-EL-162b-DB-CRAH DB 5 and fully assembled | C35: Each | D35: 1 | F35: =ROUND(E35*D35,2) -> 0
A36: 55.8 | B36: CRAH DB 6 as per 1001668-0000-DRG-EL-163a-DB-CRAH DB 6 and fully assembled | C36: Each | D36: 1 | F36: =ROUND(E36*D36,2) -> 0
A37: 55.9 | B37: CRAH DB 7 as per 1001668-0000-DRG-EL-164a-DB-CRAH DB 7 and fully assembled with: | C37: Each | D37: 1 | F37: =ROUND(E37*D37,2) -> 0
A38: 55.10 | B38: CRAH DB 8 as per 1001668-0000-DRG-EL-102-LV DB-C and fully assembled | C38: Each | D38: 1 | F38: =ROUND(E38*D38,2) -> 0
A39: 55.11 | B39: Stop/Start button | C39: Each | D39: 7 | F39: =ROUND(E39*D39,2) -> 0
A40: 55.12 | B40: 1m Steel pedestal with mounting bracket for Stop/Start | C40: Each | D40: 7 | F40: =ROUND(E40*D40,2) -> 0
A41: 56 | B41: DISCONNECTION AND RECONNECTION OF EXISTING CABLING AND BUSBARS All costs for equipment, labour and other expenses shall be included in the tendered rates inclusive of terminations and modifications. | F41: =SUBTOTAL(9,F42:F47) -> 0
...

Sheet 6. BMS
B1: SUPPLY CHAIN MANAGEMENT
B2: Pricing schedule
A3: RFx No | B3: RFB 3201/2025 | E3: SHEET 6. BMS
A4: RFx Title | B4: Appointment Of A Service Provider For HVAC Infrastructure Upgrades at SITA Beta Data Centre
A5: Bidder Name
A7: 1. INSTRUCTION FOR COMPLETING THE PRICING SCHEDULE
A8: (a) Bidder must complete/enter YELLOW cells only
A9: (b) Unit and Line prices must be VAT EXCLUSIVE and in South African Rand (ZAR) currency.
A10: (c) The price must include all cost to deliver the goods or render the service, including all applicable taxes, duty fees, logistics/delivery, storage, labour, overtime and subsistence and travel
A12: Item No | B12: Goods/Service description | C12: Unit of measure | D12: Qty | E12: Unit Cost | F12: Line Price Term (Excl VAT) | G12: BRAND / MODEL | H12: Price clarification comment
A13: 72 | B13: CRAH UNITS (ALL) Containment / Wiring and Wireways as per specification | F13: =SUBTOTAL(9, F14:F17) -> 0
A14: 72.1 | B14: Fibre | C14: m | D14: =386*1.5 -> 579 | F14: =ROUND(E14*D14,2) -> 0 | K14: Distance to bms air airconworkshop X 1.5SF
A15: 72.2 | B15: CAT 6 Network Cable | C15: m | D15: =386*2*1.5 -> 1158 | F15: =ROUND(E15*D15,2) -> 0 | K15: Data centre -2 & -1 perimeter cabling x 2 x 1.5sf
A16: 72.3 | B16: I/O | C16: Each | D16: =1064*1.2 -> 1276.8 | F16: =ROUND(E16*D16,2) -> 0 | K16: BMS points list for L-2 & -1 X1.2 sf
A17: 72.4 | B17: Labour for installation | C17: Sum | D17: 1 | F17: =ROUND(E17*D17,2) -> 0 | K17: Sum all
A18: 73 | B18: CRAH UNITS (ALL): Cable management and containment as per specification to ensure a complete installation | F18: =SUBTOTAL(9, F19:F22) -> 0
A19: 73.1 | B19: Fibre | C19: m | D19: =+D14 -> 579 | F19: =ROUND(E19*D19,2) -> 0 | K19: Distance to bms air airconworkshop x 1.5 sf
A20: 73.2 | B20: CAT 6 Network Cable | C20: m | D20: =386*2 -> 772 | F20: =ROUND(E20*D20,2) -> 0 | K20: Data centre -2 & -1 perimeter cabling x 1.3 sf
A21: 73.3 | B21: I/O | C21: m | D21: =20*41 -> 820 | F21: =ROUND(E21*D21,2) -> 0 | K21: 20m/CRAH unit
A22: 73.4 | B22: Labour for installation | C22: Sum | D22: 1 | F22: =ROUND(E22*D22,2) -> 0 | K22: Sum all
A23: 74 | B23: CRAH UNITS (ALL): Termination of devices in network at field devices and controllers | F23: =SUBTOTAL(9, F24:F27) -> 0
A24: 74.1 | B24: Fibre | C24: Each | D24: 8 | F24: =ROUND(E24*D24,2) -> 0
A25: 74.2 | B25: CAT 6 Network Cable | C25: Each | D25: 4 | F25: =ROUND(E25*D25,2) -> 0
A26: 74.3 | B26: I/O | C26: Each | D26: =+D16 -> 1276.8 | F26: =ROUND(E26*D26,2) -> 0
A27: 74.4 | B27: Labour for installation | C27: Sum | D27: 1 | F27: =ROUND(E27*D27,2) -> 0
A28: 75 | B28: CRAH UNITS (ALL) Field sensors | F28: =SUBTOTAL(9, F29:F33) -> 0
A29: 75.1 | B29: Cabling / Wiring as per specification | C29: m | D29: =20*40 -> 800 | F29: =ROUND(E29*D29,2) -> 0 | K29: 20m/ahu
A30: 75.2 | B30: Fibre | C30: m | D30: 10 | F30: =ROUND(E30*D30,2) -> 0
A31: 75.3 | B31: CAT 6 Network Cable | C31: m | D31: 220 | F31: =ROUND(E31*D31,2) -> 0
A32: 75.4 | B32: I/O | C32: Each | D32: =40*3 -> 120 | F32: =ROUND(E32*D32,2) -> 0
A33: 75.5 | B33: Labour for installation | C33: Sum | D33: 1 | F33: =ROUND(E33*D33,2) -> 0
A34: 76 | B34: CRAH UNITS (ALL): Supply and install infrastructure for the controlling and monitoring of all CRAH units as listed complete as required as per the point list. CRAH unit supplied with BACnet, Modbus TCP/IP compatible controls. Include extension modules as needed. | F34: =SUBTOTAL(9, F35:F36) -> 0
A35: 76.1 | B35: Computer room and mainframe area (CRAC unit Nr) | C35: Each | D35: 13 | F35: =ROUND(E35*D35,2) -> 0
A36: 76.2 | B36: UPS area (CRAH unit Nr) | C36: Each | D36: 2 | F36: =ROUND(E36*D36,2) -> 0
A37: 77 | B37: FIRE DAMPERS: Cabling / Wiring as per specification | F37: =SUBTOTAL(9, F38:F41) -> 0
A38: 77.1 | B38: Fibre | C38: m | D38: =386*1.2 -> 463.2 | F38: =ROUND(E38*D38,2) -> 0 | K38: Distance to bms air airconworkshop X 1.2SF
A39: 77.2 | B39: CAT 6 Network Cable | C39: m | D39: =386*1.2 -> 463.2 | F39: =ROUND(E39*D39,2) -> 0 | K39: Data centre -2 perimeter cabling x 1.5sf
A40: 77.3 | B40: I/O | C40: Each | D40: =72*3 -> 216 | F40: =ROUND(E40*D40,2) -> 0 | K40: BMS points list for dampers
A41: 77.4 | B41: Labour for installation | C41: Sum | D41: 1 | F41: =ROUND(E41*D41,2) -> 0 | K41: Sum all
A42: 78 | B42: FIRE DAMPERS: Cable management and containment as per specification to ensure a complete installation | F42: =SUBTOTAL(9, F43:F46) -> 0
...

Sheet 7. DAYWORK RATES
B1: SUPPLY CHAIN MANAGEMENT
B2: Pricing schedule
A3: RFx No | B3: RFB 3201/2025
A4: RFx Title | B4: REQUEST FOR BID FOR THE APPOINTMENT OF A SERVICE PROVIDER TO PROVIDE HVAC INFRASTRUCTURE UPGRADES AT SITA BETA DATA CENTRE FOR A PERIOD OF 42 MONTHS. | E4: SHEET 7. DAYWORK RATES
A5: Bidder Name
A7: 1. INSTRUCTION FOR COMPLETING THE PRICING SCHEDULE
A8: (a) Bidder must complete/enter YELLOW cells only
A9: (b) Unit and Line prices must be VAT EXCLUSIVE and in South African Rand (ZAR) currency.
A10: (c) The price must include all cost to deliver the goods or render the service, including all applicable taxes, duty fees, logistics/delivery, storage, labour, overtime and subsistance and travel
A11: (d) Bidders must complete and submit bid pricing in the provided Excel spreadsheet format, and any pricing schedule submitted in a different format will not be considered.
F12: TOTAL
A13: Item No | B13: Goods/Service description | C13: Unit of measure | D13: Qty | E13: Unit Cost | F13: Line Price Term (Excl VAT) | G13: BRAND / MODEL | H13: Price clarification comment
A15: BETA DATA CENTRE
A16: 90 | B16: DAYWORK UNIT RATES: LABOUR Note that the quantities indicated below are only for evaluation purposes and to determine the contract unit rates. The final quantities will be based on works orders. | F16: =SUBTOTAL(9, F17:F21) -> 0
A17: 90.1 | B17: Labour | C17: Unit rate per hour | D17: 3000 | F17: =ROUND(E17*D17,2) -> 0
A18: 90.2 | B18: Unskilled labourers | C18: Unit rate per hour | D18: 3000 | F18: =ROUND(E18*D18,2) -> 0
A19: 90.3 | B19: Semi - skilled labourers | C19: Unit rate per hour | D19: 3000 | F19: =ROUND(E19*D19,2) -> 0
A20: 90.4 | B20: Artisans | C20: Unit rate per hour | D20: 3000 | F20: =ROUND(E20*D20,2) -> 0
A21: 90.5 | B21: Foreman/supervision | C21: Unit rate per hour | D21: 3000 | F21: =ROUND(E21*D21,2) -> 0
A22: DAYWORK TOTAL BID PRICE (EXCL VAT) | F22: =+SUBTOTAL(9,F16:F21) -> 0
B25: I, the bidder, confirm that the price(s) and rate(s) quoted cover all the goods and/or works specified in the bidding documents; that the price(s) or rate(s) cover all my obligations and I accept that any mistakes regarding price(s), rate(s) or calculations will be at my own risk. [Note: First convert to PDF, then add signature]
C26: Name
C28: Signature (above)

Sheet 8. MAINTENANCE SUPPORT
B1: SUPPLY CHAIN MANAGEMENT
B2: Pricing schedule
A3: RFB No | B3: RFB 3201/2025
A4: RFB Title | B4: REQUEST FOR BID FOR THE APPOINTMENT OF A SERVICE PROVIDER TO PROVIDE HVAC INFRASTRUCTURE UPGRADES AT SITA BETA DATA CENTRE FOR A PERIOD OF 42 MONTHS. | E4: SHEET 8. MAINTENANCE SUPPORT
A5: Bidder Name
A7: 1. INSTRUCTION FOR COMPLETING THE PRICING SCHEDULE
A8: (a) Bidder must complete/enter YELLOW cells only
A9: (b) Unit and Line prices must be VAT EXCLUSIVE and in South African Rand (ZAR) currency.
A10: (c) The price must include all cost to deliver the goods or render the service, including all applicable taxes, duty fees, logistics/delivery, storage, labour, overtime and subsistance and travel
A11: (d) Bidders must complete and submit bid pricing in the provided Excel spreadsheet format, and any pricing schedule submitted in a different format will not be considered.
D12: YEAR 1 | G12: YEAR 2 | J12: TOTAL
A13: Item No | B13: Goods/Service description | C13: Unit of measure | D13: Qty | E13: Unit Price (Excl VAT) | F13: Line Price Year 1 | G13: Qty | H13: Unit Price (Excl VAT) | I13: Line Price Year 2 | J13: Line Price Term (Excl VAT) | K13: Price clarification comment
A14: 91 | B14: CHILLER UNITS: Monthly Inspection and Maintenance The Rate must include travel to the relevant site, labour, material, spares, consumables, equipment and tools, the specified service pack, and to perform the specified services | F14: =SUBTOTAL(9, F15:F17) -> 0 | I14: =SUBTOTAL(9, I15:I17) -> 0 | J14: =SUBTOTAL(9,J15:J17) -> 0
A15: 91.1 | B15: Chillers 1 | C15: Monthly | D15: 12 | F15: =ROUND(E15*D15,2) -> 0 | G15: 12 | I15: =ROUND(H15*G15,2) -> 0 | J15: =+SUM(F15,I15) -> 0
A16: 91.2 | B16: Chillers 2 | C16: Monthly | D16: 12 | F16: =ROUND(E16*D16,2) -> 0 | G16: 12 | I16: =ROUND(H16*G16,2) -> 0 | J16: =+SUM(F16,I16) -> 0
A17: 91.3 | B17: Chillers 3 | C17: Monthly | D17: 12 | F17: =ROUND(E17*D17,2) -> 0 | G17: 12 | I17: =ROUND(H17*G17,2) -> 0 | J17: =+SUM(F17,I17) -> 0
A18: 92 | B18: CRAC UNITS: Monthly Inspection and Maintenance The Rate must include travel to the relevant site, labour, material, spares, consumables, equipment and tools, the specified service pack, and to perform the specified services | F18: =SUBTOTAL(9,F19:F34) -> 0 | I18: =SUBTOTAL(9,I19:I34) -> 0 | J18: =SUBTOTAL(9,J19:J34) -> 0
A19: 92.1 | B19: DATA HALL CRAC AIRCONDITIONING UNIT 1 | C19: Monthly | D19: 12 | F19: =ROUND(E19*D19,2) -> 0 | G19: 12 | I19: =ROUND(H19*G19,2) -> 0 | J19: =+SUM(F19,I19) -> 0
A20: 92.2 | B20: DATA HALL CRAC AIRCONDITIONING UNIT 2 | C20: Monthly | D20: 12 | F20: =ROUND(E20*D20,2) -> 0 | G20: 12 | I20: =ROUND(H20*G20,2) -> 0 | J20: =+SUM(F20,I20) -> 0
A21: 92.3 | B21: DATA HALL CRAC AIRCONDITIONING UNIT 3 | C21: Monthly | D21: 12 | F21: =ROUND(E21*D21,2) -> 0 | G21: 12 | I21: =ROUND(H21*G21,2) -> 0 | J21: =+SUM(F21,I21) -> 0
A22: 92.4 | B22: DATA HALL CRAC AIRCONDITIONING UNIT 4 | C22: Monthly | D22: 12 | F22: =ROUND(E22*D22,2) -> 0 | G22: 12 | I22: =ROUND(H22*G22,2) -> 0 | J22: =+SUM(F22,I22) -> 0
A23: 92.5 | B23: DATA HALL CRAC AIRCONDITIONING UNIT 5 | C23: Monthly | D23: 12 | F23: =ROUND(E23*D23,2) -> 0 | G23: 12 | I23: =ROUND(H23*G23,2) -> 0 | J23: =+SUM(F23,I23) -> 0
A24: 92.6 | B24: DATA HALL CRAC AIRCONDITIONING UNIT 6 | C24: Monthly | D24: 12 | F24: =ROUND(E24*D24,2) -> 0 | G24: 12 | I24: =ROUND(H24*G24,2) -> 0 | J24: =+SUM(F24,I24) -> 0
A25: 92.7 | B25: DATA HALL CRAC AIRCONDITIONING UNIT 7 | C25: Monthly | D25: 12 | F25: =ROUND(E25*D25,2) -> 0 | G25: 12 | I25: =ROUND(H25*G25,2) -> 0 | J25: =+SUM(F25,I25) -> 0
A26: 92.8 | B26: DATA HALL CRAC AIRCONDITIONING UNIT 8 | C26: Monthly | D26: 12 | F26: =ROUND(E26*D26,2) -> 0 | G26: 12 | I26: =ROUND(H26*G26,2) -> 0 | J26: =+SUM(F26,I26) -> 0
A27: 92.9 | B27: DATA HALL CRAC AIRCONDITIONING UNIT 9 | C27: Monthly | D27: 12 | F27: =ROUND(E27*D27,2) -> 0 | G27: 12 | I27: =ROUND(H27*G27,2) -> 0 | J27: =+SUM(F27,I27) -> 0
A28: 92.10 | B28: DATA HALL CRAC AIRCONDITIONING UNIT 10 | C28: Monthly | D28: 12 | F28: =ROUND(E28*D28,2) -> 0 | G28: 12 | I28: =ROUND(H28*G28,2) -> 0 | J28: =+SUM(F28,I28) -> 0
A29: 92.11 | B29: DATA HALL CRAC AIRCONDITIONING UNIT 11 | C29: Monthly | D29: 12 | F29: =ROUND(E29*D29,2) -> 0 | G29: 12 | I29: =ROUND(H29*G29,2) -> 0 | J29: =+SUM(F29,I29) -> 0
A30: 92.12 | B30: DATA HALL CRAC AIRCONDITIONING UNIT 12 | C30: Monthly | D30: 12 | F30: =ROUND(E30*D30,2) -> 0 | G30: 12 | I30: =ROUND(H30*G30,2) -> 0 | J30: =+SUM(F30,I30) -> 0
... A34: 92.16 | B34: FRESH AIR PACKAGE UNIT | C34: Monthly | D34: 12 | F34: =ROUND(E34*D34,2) -> 0 | G34: 12 | I34: =ROUND(H34*G34,2) -> 0 | J34: =+SUM(F34,I34) -> 0
A35: 93 | B35: PUMPS: Monthly Inspection and Maintenance The Rate must include travel to the relevant site, labour, material, spares, consumables, equipment and tools, the specified service pack, and to perform the specified services | F35: =SUBTOTAL(9, F36:F42) -> 0 | I35: =SUBTOTAL(9, I36:I42) -> 0 | J35: =SUBTOTAL(9, J36:J42) -> 0
A36: 93.1 | B36: PRIMARY CHILLED WATER PUMP 1 | C36: Monthly | D36: 12 | F36: =ROUND(E36*D36,2) -> 0 | G36: 12 | I36: =ROUND(H36*G36,2) -> 0 | J36: =+SUM(F36,I36) -> 0
A37: 93.2 | B37: PRIMARY CHILLED WATER PUMP 2 | C37: Monthly | D37: 12 | F37: =ROUND(E37*D37,2) -> 0 | G37: 12 | I37: =ROUND(H37*G37,2) -> 0 | J37: =+SUM(F37,I37) -> 0
A38: 93.3 | B38: PRIMARY CHILLED WATER PUMP 3 | C38: Monthly | D38: 12 | F38: =ROUND(E38*D38,2) -> 0 | G38: 12 | I38: =ROUND(H38*G38,2) -> 0 | J38: =+SUM(F38,I38) -> 0
A39: 93.4 | B39: SECONDARY CHILLED WATER PUMP 1 (Small) | C39: Monthly | D39: 12 | F39: =ROUND(E39*D39,2) -> 0 | G39: 12 | I39: =ROUND(H39*G39,2) -> 0 | J39: =+SUM(F39,I39) -> 0
A40: 93.5 | B40: SECONDARY CHILLED WATER PUMP 2 (Small) | C40: Monthly | D40: 12 | F40: =ROUND(E40*D40,2) -> 0 | G40: 12 | I40: =ROUND(H40*G40,2) -> 0 | J40: =+SUM(F40,I40) -> 0
A41: 93.6 | B41: SECONDARY CHILLED WATER PUMPS 1 (LARGE) | C41: Monthly | D41: 12 | F41: =ROUND(E41*D41,2) -> 0 | G41: 12 | I41: =ROUND(H41*G41,2) -> 0 | J41: =+SUM(F41,I41) -> 0
A42: 93.7 | B42: SECONDARY CHILLED WATER PUMPS 2 (LARGE) | C42: Monthly | D42: 12 | F42: =ROUND(E42*D42,2) -> 0 | G42: 12 | I42: =ROUND(H42*G42,2) -> 0 | J42: =+SUM(F42,I42) -> 0
A43: 94 | B43: Other Equupments and System: Periodic Inspection and Maintenance The Rate must include travel to the relevant site, labour, material, spares, consumables, equipment and tools, the specified service pack, and to perform the specified services | F43: {=SUBTOTAL(9, F44:I59F48)} -> #NAME? | I43: =SUBTOTAL(9, I44:I48) -> 0 | J43: =SUBTOTAL(9, J44:J48) -> 0
A44: 94.1 | B44: VENTILATION FANS | C44: Monthly | D44: 12 | F44: =ROUND(E44*D44,2) -> 0 | G44: 12 | I44: =ROUND(H44*G44,2) -> 0 | J44: =+SUM(F44,I44) -> 0
...

Sheet 9. TOTALS
B1: SUPPLY CHAIN MANAGEMENT
B2: Pricing schedule
A3: RFx No | B3: RFB 3201/2025
A4: RFx Title | B4: REQUEST FOR BID FOR THE APPOINTMENT OF A SERVICE PROVIDER TO PROVIDE HVAC INFRASTRUCTURE UPGRADES AT SITA BETA DATA CENTRE FOR A PERIOD OF 42 MONTHS. | C4: SHEET 9. TOTALS
A5: Bidder Name
A7: 1. INSTRUCTION FOR COMPLETING THE PRICING SCHEDULE
A8: (a) Bidder must complete/enter YELLOW cells only
A9: (b) Unit and Line prices must be VAT EXCLUSIVE and in South African Rand (ZAR) currency.
A10: (c) The price must include all cost to deliver the goods or render the service, including all applicable taxes, duty fees, logistics/delivery, storage, labour, overtime and subsistance and travel
A11: (d) Bidders must complete and submit bid pricing in the provided Excel spreadsheet format, and any pricing schedule submitted in a different format will not be considered.
A12: Item No | B12: Goods/Service description | C12: Line Price Term (Excl VAT) | D12: Price clarification comment
A13: 1 | B13: HVAC EQUIPMENT SUBTOTAL PRICE (EXCL VAT) | C13: =+'1. HVAC EQUIPMENT '!F291 -> 0
A14: 2 | B14: CIVIL AND EARTHWORKS SUBTOTAL PRICE (EXCL VAT) | C14: =+'2. CIVIL AND EARTHWORKS'!F83 -> 0
A15: 3 | B15: DEMOLITION WORKS & COOLING TOWER WORK TOTAL BID PRICE (EXCL VAT) | C15: =+'3. DEMOLITION WORKS & COOLING '!F34 -> 0
A16: 4 | B16: FIRE PROTECTION SYSTEM HVAC RELATED WORK TOTAL BID PRICE (EXCL VAT) | C16: =+'4. FIRE PROTECTION SYSTEM HVAC'!F90 -> 0
A17: 5 | B17: ELECTRICAL TOTAL BID PRICE (EXCL VAT) | C17: =+'5. ELECTRICAL'!F194 -> 0
A18: 6 | B18: BMS SYSTEM TOTAL BID PRICE (EXCL VAT) | C18: =+'6. BMS'!F111 -> 0
A19: 7 | B19: DAYWORK TOTAL BID PRICE (EXCL VAT) | C19: =+'7. DAYWORK RATES'!F22 -> 0
A20: 8 | B20: MAINTENANCE SUPPORT | C20: =+'8. MAINTENANCE SUPPORT'!J68 -> 0
A21: TOTAL BID PRICE (EXCL VAT) | C21: =+SUBTOTAL(9,C13:C20) -> 0
A22: VAT (@15%) | C22: =+ROUND(C21*15%,2) -> 0
A23: TOTAL BID PRICE (INCL VAT) | C23: =+C21+C22 -> 0
B26: I, the bidder, confirm that the price(s) and rate(s) quoted cover all the goods and/or works specified in the bidding documents; that the price(s) or rate(s) cover all my obligations and I accept that any mistakes regarding price(s), rate(s) or calculations will be at my own risk. [Note: First convert to PDF, then add signature]
C27: Name
C29: Signature (above)
