Workbook
Name \a: #N/A
Name \b: [1]DCF!#REF!
Name \b: [1]DCF!#REF!
Name \b: [1]DCF!#REF!
Name \b: [1]DCF!#REF!
Name \b: [1]DCF!#REF!
Name \b: [1]DCF!#REF!
Name \c: [1]DCF!#REF!
Name \c: [1]DCF!#REF!
Name \c: [1]DCF!#REF!
Name \c: [1]DCF!#REF!
Name \c: [1]DCF!#REF!
Name \c: [1]DCF!#REF!
Name \d: #N/A
Name \e: [1]DCF!#REF!
Name \e: [1]DCF!#REF!
Name \e: [1]DCF!#REF!
Name \f: [1]DCF!#REF!
Name \f: [1]DCF!#REF!
Name \f: [1]DCF!#REF!
Name \g: [1]DCF!#REF!
Name \g: [1]DCF!#REF!
Name \g: [1]DCF!#REF!
Name \h: [1]DCF!#REF!
Name \i: [1]DCF!#REF!
Name \s: #REF!
Name \s: #REF!
Name \s: #REF!
Name \s: #REF!
Name \se: #REF!
Name \se: #REF!
Name \se: #REF!
Name \ss: #REF!
Name \ss: #REF!
Name \ss: #REF!
Name \ss: #REF!
Name ______CXX1: '[2]1'!$F$175:$F$182
Name ______CXX2: '[2]2'!$F$175:$F$182
Name ______CXX3: '[2]3'!$F$175:$F$182
Name ______CXX4: '[2]4'!$F$175:$F$182
Name ______CXX5: '[2]5'!$F$175:$F$182
Name ______CXX6: '[2]6'!$F$175:$F$182
Name ______CXX7: '[2]7'!$F$175:$F$182
Name ______CXX8: '[2]8'!$F$175:$F$182
Name ______CXX9: '[2]9'!$F$175:$F$182
Name ______EXX1: '[2]1'!$F$129:$F$168
Name ______EXX2: '[2]2'!$F$129:$F$168
Name ______EXX3: '[2]3'!$F$129:$F$168
Name ______EXX4: '[2]4'!$F$129:$F$168
Name ______EXX5: '[2]5'!$F$129:$F$168
Name ______EXX6: '[2]6'!$F$129:$F$168
Name ______EXX7: '[2]7'!$F$129:$F$168
Name ______EXX8: '[2]8'!$F$129:$F$168
Name ______EXX9: '[2]9'!$F$129:$F$168
Name ______MXX1: '[2]1'!$F$13:$F$64
Name ______MXX2: '[2]2'!$F$13:$F$64
Name ______MXX3: '[2]3'!$F$13:$F$64
Name ______MXX4: '[2]4'!$F$13:$F$64
Name ______MXX5: '[2]5'!$F$13:$F$64
Name ______MXX6: '[2]6'!$F$13:$F$64

Sheet Rest of cables (2)
A2: Tutuka Power Station: GX COAL PROJECTS
A4: Pricing Schudule | F4: CONTRACT BOQ
J5: U6 Sub east
B6: ITEM | C6: DESCRIPTION | D6: CPA Formula | E6: UOM | F6: Qty | G6: Rate | H6: Total | J6: Qty | K6: Rate | L6: CPA | M6: Grand Rate | N6: -Profit Margin 20% | O6: Amount
C7: UNIT 1 - 6 MV CABLES | E7: m
C8: Installation of New MV Cables including fixing materials | D8: ` | E8: m
C9: XLPE 11KV | E9: m
C10: 500mm2 x 1 core (EXX01WCV) 6.35kV/11kV (Trefoil clamps) Cut & Join | E10: m
A11: =C10 -> 500mm2 x 1 core (EXX01WCV) 6.35kV/11kV (Trefoil clamps) Cut & Join | B11: 2.001 | C11: Supply | D11: E | E11: m | F11: 20000 | G11: 1422.22 | H11: =G11*F11 -> 28444400 | K11: 1422.22 | L11: =0.330975870321115*K11 -> 470.7205 | M11: =L11+K11 -> 1892.9405 | N11: 1577.45 | O11: =N11*J11 -> 0
A12: =C10 -> 500mm2 x 1 core (EXX01WCV) 6.35kV/11kV (Trefoil clamps) Cut & Join | B12: 2.002 | C12: Installation | D12: A | E12: m | F12: 20000 | G12: 117.05 | H12: =G12*F12 -> 2341000 | L12: =0.330975870321115*K12 -> 0 | M12: =L12+K12 -> 0 | N12: 0 | O12: =N12*J12 -> 0
C13: 500mm2 x 1 core (EXX01WCV) 6.35kV/11kV (Trefoil clamps) New | E13: m | H13: =G13*F13 -> 0 | L13: =0.330975870321115*K13 -> 0 | M13: =L13+K13 -> 0 | N13: 0 | O13: =N13*J13 -> 0
A14: =C13 -> 500mm2 x 1 core (EXX01WCV) 6.35kV/11kV (Trefoil clamps) New | B14: 2.003 | C14: Supply | D14: E | E14: m | F14: 8020 | G14: 1422.22 | H14: =G14*F14 -> 11406204 | J14: 7800 | K14: 1422.22 | L14: =0.330975870321115*K14 -> 470.7205 | M14: =L14+K14 -> 1892.9405 | N14: 1577.45 | O14: =N14*J14 -> 12304110
A15: =C13 -> 500mm2 x 1 core (EXX01WCV) 6.35kV/11kV (Trefoil clamps) New | B15: 2.004 | C15: Installation | D15: A | E15: m | F15: 8020 | G15: 117.05 | H15: =G15*F15 -> 938741 | L15: =0.330975870321115*K15 -> 0 | M15: =L15+K15 -> 0 | N15: 0 | O15: =N15*J15 -> 0
C16: XLPE 11KV | E16: m | H16: =G16*F16 -> 0 | L16: =0.330975870321115*K16 -> 0 | M16: =L16+K16 -> 0 | N16: 0 | O16: =N16*J16 -> 0
C17: 300mm2 x 1 core (EXX01UCM) 6.35kV/11kV | E17: m | H17: =G17*F17 -> 0 | L17: =0.330975870321115*K17 -> 0 | M17: =L17+K17 -> 0 | N17: 0 | O17: =N17*J17 -> 0
A18: =C17 -> 300mm2 x 1 core (EXX01UCM) 6.35kV/11kV | B18: 2.005 | C18: Supply | D18: E | E18: m | F18: 7500 | G18: 905.62 | H18: =G18*F18 -> 6792150 | K18: 905.62 | L18: =0.330975870321115*K18 -> 299.73837 | M18: =L18+K18 -> 1205.3584 | N18: 1004.47 | O18: =N18*J18 -> 0
A19: =C17 -> 300mm2 x 1 core (EXX01UCM) 6.35kV/11kV | B19: 2.006 | C19: Installation | D19: A | E19: m | F19: 7500 | G19: 103.38 | H19: =G19*F19 -> 775350 | L19: =0.330975870321115*K19 -> 0 | M19: =L19+K19 -> 0 | N19: 0 | O19: =N19*J19 -> 0
C20: 120mm2 x 1core (EXX01QCV) 6.35 kV/11kV New | E20: m | H20: =G20*F20 -> 0 | L20: =0.330975870321115*K20 -> 0 | M20: =L20+K20 -> 0 | N20: 0 | O20: =N20*J20 -> 0
A21: =C20 -> 120mm2 x 1core (EXX01QCV) 6.35 kV/11kV New | B21: 2.007 | C21: Supply | D21: E | E21: m | F21: 14400 | G21: 417.34 | H21: =G21*F21 -> 6009696 | K21: 417.34 | L21: =0.330975870321115*K21 -> 138.12947 | M21: =L21+K21 -> 555.46947 | N21: 462.89 | O21: =N21*J21 -> 0
A22: =C20 -> 120mm2 x 1core (EXX01QCV) 6.35 kV/11kV New | B22: 2.008 | C22: Installation | D22: A | E22: m | F22: 14400 | G22: 52.17 | H22: =G22*F22 -> 751248 | L22: =0.330975870321115*K22 -> 0 | M22: =L22+K22 -> 0 | N22: 0 | O22: =N22*J22 -> 0
C23: 150mm2 x 1core (EXX01RCV) 6.35 kV/11kV Cut & Join | E23: m | H23: =G23*F23 -> 0 | L23: =0.330975870321115*K23 -> 0 | M23: =L23+K23 -> 0 | N23: 0 | O23: =N23*J23 -> 0
A24: =C23 -> 150mm2 x 1core (EXX01RCV) 6.35 kV/11kV Cut & Join | B24: 2.009 | C24: Supply | D24: E | E24: m | F24: 1200 | G24: 501.98 | H24: =G24*F24 -> 602376 | K24: 501.98 | L24: =0.330975870321115*K24 -> 166.14327 | M24: =L24+K24 -> 668.12327 | N24: 556.77 | O24: =N24*J24 -> 0
A25: =C23 -> 150mm2 x 1core (EXX01RCV) 6.35 kV/11kV Cut & Join | B25: 2.01 | C25: Installation | D25: A | E25: m | F25: 1200 | G25: 76.72 | H25: =G25*F25 -> 92064 | L25: =0.330975870321115*K25 -> 0 | M25: =L25+K25 -> 0 | N25: 0 | O25: =N25*J25 -> 0
C26: XLPE 3.3kV | E26: m | H26: =G26*F26 -> 0 | L26: =0.330975870321115*K26 -> 0 | M26: =L26+K26 -> 0 | N26: 0 | O26: =N26*J26 -> 0
C27: 630mm2 x 1core (CXX01XCV) 3.8kV/6.6kV | E27: m | H27: =G27*F27 -> 0 | L27: =0.330975870321115*K27 -> 0 | M27: =L27+K27 -> 0 | N27: 0 | O27: =N27*J27 -> 0
A28: =C27 -> 630mm2 x 1core (CXX01XCV) 3.8kV/6.6kV | B28: 2.011 | C28: Supply | D28: E | E28: m | F28: 5000 | G28: 1820.02 | H28: =G28*F28 -> 9100100 | J28: 2700 | K28: 1820.02 | L28: =0.330975870321115*K28 -> 602.3827 | M28: =L28+K28 -> 2422.4027 | N28: 2018.67 | O28: =N28*J28 -> 5450409
A29: =C27 -> 630mm2 x 1core (CXX01XCV) 3.8kV/6.6kV | B29: 2.012 | C29: Installation | D29: A | E29: m | F29: 5000 | G29: 117.05 | H29: =G29*F29 -> 585250 | L29: =0.330975870321115*K29 -> 0 | M29: =L29+K29 -> 0 | N29: 0 | O29: =N29*J29 -> 0
C30: 120mm x 3 core (CXX03QCV) 3.8kV/6.6kV | E30: m | H30: =G30*F30 -> 0 | L30: =0.330975870321115*K30 -> 0 | M30: =L30+K30 -> 0 | N30: 0 | O30: =N30*J30 -> 0
A31: =C30 -> 120mm x 3 core (CXX03QCV) 3.8kV/6.6kV | B31: 2.013 | C31: Supply | D31: E | E31: m | F31: 720 | G31: 1472.65 | H31: =G31*F31 -> 1060308 | J31: 300 | K31: 1472.65 | L31: =0.330975870321115*K31 -> 487.41162 | M31: =L31+K31 -> 1960.0616 | N31: 1633.38 | O31: =N31*J31 -> 490014
A32: =C30 -> 120mm x 3 core (CXX03QCV) 3.8kV/6.6kV | B32: 2.014 | C32: Installation | D32: A | E32: m | F32: 720 | G32: 73.47 | H32: =G32*F32 -> 52898.4 | L32: =0.330975870321115*K32 -> 0 | M32: =L32+K32 -> 0 | N32: 0 | O32: =N32*J32 -> 0
C33: 70mm2 x 3 core (CXX03NCV) 3.8kV/6.6kV | E33: m | H33: =G33*F33 -> 0 | L33: =0.330975870321115*K33 -> 0 | M33: =L33+K33 -> 0 | N33: 0 | O33: =N33*J33 -> 0
A34: =C33 -> 70mm2 x 3 core (CXX03NCV) 3.8kV/6.6kV | B34: 2.015 | C34: Supply | D34: E | E34: m | F34: 2160 | G34: 860.35 | H34: =G34*F34 -> 1858356 | J34: 600 | K34: 860.35 | L34: =0.330975870321115*K34 -> 284.75509 | M34: =L34+K34 -> 1145.1051 | N34: 954.25 | O34: =N34*J34 -> 572550
A35: =C33 -> 70mm2 x 3 core (CXX03NCV) 3.8kV/6.6kV | B35: 2.016 | C35: Installation | D35: A | E35: m | F35: 2160 | G35: 64.61 | H35: =G35*F35 -> 139557.6 | L35: =0.330975870321115*K35 -> 0 | M35: =L35+K35 -> 0 | N35: 0 | O35: =N35*J35 -> 0
C36: 240mm2 x 3 core (CXX03TCV) 3.8kV/6.6kV | E36: m | H36: =G36*F36 -> 0 | L36: =0.330975870321115*K36 -> 0 | M36: =L36+K36 -> 0 | N36: 0 | O36: =N36*J36 -> 0
A37: =C36 -> 240mm2 x 3 core (CXX03TCV) 3.8kV/6.6kV | B37: 2.017 | C37: Supply | D37: E | E37: m | F37: 1080 | G37: 2399.34 | H37: =G37*F37 -> 2591287.2 | J37: =300+300 -> 600 | K37: 2399.34 | L37: =0.330975870321115*K37 -> 794.12364 | M37: =L37+K37 -> 3193.4636 | N37: 2661.22 | O37: =N37*J37 -> 1596732
A38: =C36 -> 240mm2 x 3 core (CXX03TCV) 3.8kV/6.6kV | B38: 2.018 | C38: Installation | D38: A | E38: m | F38: 1080 | G38: 167.14 | H38: =G38*F38 -> 180511.2 | L38: =0.330975870321115*K38 -> 0 | M38: =L38+K38 -> 0 | N38: 0 | O38: =N38*J38 -> 0
E39: m | H39: =G39*F39 -> 0 | L39: =0.330975870321115*K39 -> 0 | M39: =L39+K39 -> 0 | N39: 0 | O39: =N39*J39 -> 0
C40: Sub-Total for per unit | E40: m | H40: =G40*F40 -> 0 | L40: =0.330975870321115*K40 -> 0 | M40: =L40+K40 -> 0 | N40: 0 | O40: =N40*J40 -> 0
E41: m | H41: =G41*F41 -> 0 | L41: =0.330975870321115*K41 -> 0 | M41: =L41+K41 -> 0 | N41: 0 | O41: =N41*J41 -> 0
E42: m | H42: =G42*F42 -> 0 | L42: =0.330975870321115*K42 -> 0 | M42: =L42+K42 -> 0 | N42: 0 | O42: =N42*J42 -> 0
...

Sheet Rest of cables (3)
A2: Tutuka Power Station: GX COAL PROJECTS
A4: Pricing Schudule | F4: CONTRACT BOQ
J5: U6 Sub east
B6: ITEM | C6: DESCRIPTION | D6: CPA Formula | E6: UOM | F6: Qty | G6: Rate | H6: Total | J6: Qty | K6: Rate | L6: CPA | M6: Grand Rate | N6: -Profit Margin 20% | O6: Amount
C7: UNIT 1 - 6 MV CABLES | E7: m
C8: Installation of New MV Cables including fixing materials | D8: ` | E8: m
C9: XLPE 11KV | E9: m
C10: 500mm2 x 1 core (EXX01WCV) 6.35kV/11kV (Trefoil clamps) Cut & Join | E10: m
A11: =C10 -> 500mm2 x 1 core (EXX01WCV) 6.35kV/11kV (Trefoil clamps) Cut & Join | B11: 2.001 | C11: Supply | D11: E | E11: m | F11: 20000 | G11: 1422.22 | H11: =G11*F11 -> 28444400 | K11: 1422.22 | L11: =0.330975870321115*K11 -> 470.7205 | M11: =L11+K11 -> 1892.9405 | N11: 1577.45 | O11: =N11*J11 -> 0 | P11: =F11-J11 -> 20000
C12: 500mm2 x 1 core (EXX01WCV) 6.35kV/11kV (Trefoil clamps) New | E12: m | H12: =G12*F12 -> 0 | L12: =0.330975870321115*K12 -> 0 | M12: =L12+K12 -> 0 | N12: 0 | O12: =N12*J12 -> 0 | P12: =F12-J12 -> 0
A13: =C12 -> 500mm2 x 1 core (EXX01WCV) 6.35kV/11kV (Trefoil clamps) New | B13: 2.003 | C13: Supply | D13: E | E13: m | F13: 8020 | G13: 1422.22 | H13: =G13*F13 -> 11406204 | J13: 7800 | K13: 1422.22 | L13: =0.330975870321115*K13 -> 470.7205 | M13: =L13+K13 -> 1892.9405 | N13: 1577.45 | O13: =N13*J13 -> 12304110 | P13: =F13-J13 -> 220
C14: XLPE 11KV | E14: m | H14: =G14*F14 -> 0 | L14: =0.330975870321115*K14 -> 0 | M14: =L14+K14 -> 0 | N14: 0 | O14: =N14*J14 -> 0 | P14: =F14-J14 -> 0
C15: 300mm2 x 1 core (EXX01UCM) 6.35kV/11kV | E15: m | H15: =G15*F15 -> 0 | L15: =0.330975870321115*K15 -> 0 | M15: =L15+K15 -> 0 | N15: 0 | O15: =N15*J15 -> 0 | P15: =F15-J15 -> 0
A16: =C15 -> 300mm2 x 1 core (EXX01UCM) 6.35kV/11kV | B16: 2.005 | C16: Supply | D16: E | E16: m | F16: 7500 | G16: 905.62 | H16: =G16*F16 -> 6792150 | K16: 905.62 | L16: =0.330975870321115*K16 -> 299.73837 | M16: =L16+K16 -> 1205.3584 | N16: 1004.47 | O16: =N16*J16 -> 0 | P16: =F16-J16 -> 7500
C17: 120mm2 x 1core (EXX01QCV) 6.35 kV/11kV New | E17: m | H17: =G17*F17 -> 0 | L17: =0.330975870321115*K17 -> 0 | M17: =L17+K17 -> 0 | N17: 0 | O17: =N17*J17 -> 0 | P17: =F17-J17 -> 0
A18: =C17 -> 120mm2 x 1core (EXX01QCV) 6.35 kV/11kV New | B18: 2.007 | C18: Supply | D18: E | E18: m | F18: 14400 | G18: 417.34 | H18: =G18*F18 -> 6009696 | K18: 417.34 | L18: =0.330975870321115*K18 -> 138.12947 | M18: =L18+K18 -> 555.46947 | N18: 462.89 | O18: =N18*J18 -> 0 | P18: =F18-J18 -> 14400
C19: 150mm2 x 1core (EXX01RCV) 6.35 kV/11kV Cut & Join | E19: m | H19: =G19*F19 -> 0 | L19: =0.330975870321115*K19 -> 0 | M19: =L19+K19 -> 0 | N19: 0 | O19: =N19*J19 -> 0 | P19: =F19-J19 -> 0
A20: =C19 -> 150mm2 x 1core (EXX01RCV) 6.35 kV/11kV Cut & Join | B20: 2.009 | C20: Supply | D20: E | E20: m | F20: 1200 | G20: 501.98 | H20: =G20*F20 -> 602376 | K20: 501.98 | L20: =0.330975870321115*K20 -> 166.14327 | M20: =L20+K20 -> 668.12327 | N20: 556.77 | O20: =N20*J20 -> 0 | P20: =F20-J20 -> 1200
C21: XLPE 3.3kV | E21: m | H21: =G21*F21 -> 0 | L21: =0.330975870321115*K21 -> 0 | M21: =L21+K21 -> 0 | N21: 0 | O21: =N21*J21 -> 0 | P21: =F21-J21 -> 0
C22: 630mm2 x 1core (CXX01XCV) 3.8kV/6.6kV | E22: m | H22: =G22*F22 -> 0 | L22: =0.330975870321115*K22 -> 0 | M22: =L22+K22 -> 0 | N22: 0 | O22: =N22*J22 -> 0 | P22: =F22-J22 -> 0
A23: =C22 -> 630mm2 x 1core (CXX01XCV) 3.8kV/6.6kV | B23: 2.011 | C23: Supply | D23: E | E23: m | F23: 5000 | G23: 1820.02 | H23: =G23*F23 -> 9100100 | J23: 2700 | K23: 1820.02 | L23: =0.330975870321115*K23 -> 602.3827 | M23: =L23+K23 -> 2422.4027 | N23: 2018.67 | O23: =N23*J23 -> 5450409 | P23: =F23-J23 -> 2300
C24: 120mm x 3 core (CXX03QCV) 3.8kV/6.6kV | E24: m | H24: =G24*F24 -> 0 | L24: =0.330975870321115*K24 -> 0 | M24: =L24+K24 -> 0 | N24: 0 | O24: =N24*J24 -> 0 | P24: =F24-J24 -> 0
A25: =C24 -> 120mm x 3 core (CXX03QCV) 3.8kV/6.6kV | B25: 2.013 | C25: Supply | D25: E | E25: m | F25: 720 | G25: 1472.65 | H25: =G25*F25 -> 1060308 | J25: 300 | K25: 1472.65 | L25: =0.330975870321115*K25 -> 487.41162 | M25: =L25+K25 -> 1960.0616 | N25: 1633.38 | O25: =N25*J25 -> 490014 | P25: =F25-J25 -> 420
C26: 70mm2 x 3 core (CXX03NCV) 3.8kV/6.6kV | E26: m | H26: =G26*F26 -> 0 | L26: =0.330975870321115*K26 -> 0 | M26: =L26+K26 -> 0 | N26: 0 | O26: =N26*J26 -> 0 | P26: =F26-J26 -> 0
A27: =C26 -> 70mm2 x 3 core (CXX03NCV) 3.8kV/6.6kV | B27: 2.015 | C27: Supply | D27: E | E27: m | F27: 2160 | G27: 860.35 | H27: =G27*F27 -> 1858356 | J27: 600 | K27: 860.35 | L27: =0.330975870321115*K27 -> 284.75509 | M27: =L27+K27 -> 1145.1051 | N27: 954.25 | O27: =N27*J27 -> 572550 | P27: =F27-J27 -> 1560
C28: 240mm2 x 3 core (CXX03TCV) 3.8kV/6.6kV | E28: m | H28: =G28*F28 -> 0 | L28: =0.330975870321115*K28 -> 0 | M28: =L28+K28 -> 0 | N28: 0 | O28: =N28*J28 -> 0 | P28: =F28-J28 -> 0
A29: =C28 -> 240mm2 x 3 core (CXX03TCV) 3.8kV/6.6kV | B29: 2.017 | C29: Supply | D29: E | E29: m | F29: 1080 | G29: 2399.34 | H29: =G29*F29 -> 2591287.2 | J29: =300+300 -> 600 | K29: 2399.34 | L29: =0.330975870321115*K29 -> 794.12364 | M29: =L29+K29 -> 3193.4636 | N29: 2661.22 | O29: =N29*J29 -> 1596732 | P29: =F29-J29 -> 480
E30: m | H30: =G30*F30 -> 0 | L30: =0.330975870321115*K30 -> 0 | M30: =L30+K30 -> 0 | N30: 0 | O30: =N30*J30 -> 0 | P30: =F30-J30 -> 0
C31: Sub-Total for per unit | E31: m | H31: =G31*F31 -> 0 | L31: =0.330975870321115*K31 -> 0 | M31: =L31+K31 -> 0 | N31: 0 | O31: =N31*J31 -> 0 | P31: =F31-J31 -> 0
E32: m | H32: =G32*F32 -> 0 | L32: =0.330975870321115*K32 -> 0 | M32: =L32+K32 -> 0 | N32: 0 | O32: =N32*J32 -> 0 | P32: =F32-J32 -> 0
E33: m | H33: =G33*F33 -> 0 | L33: =0.330975870321115*K33 -> 0 | M33: =L33+K33 -> 0 | N33: 0 | O33: =N33*J33 -> 0 | P33: =F33-J33 -> 0
C34: COMMON PLANT - MV CABLES | E34: m | H34: =G34*F34 -> 0 | L34: =0.330975870321115*K34 -> 0 | M34: =L34+K34 -> 0 | N34: 0 | O34: =N34*J34 -> 0 | P34: =F34-J34 -> 0
C35: Installation of New MV Cables includiding fixing materials | E35: m | H35: =G35*F35 -> 0 | L35: =0.330975870321115*K35 -> 0 | M35: =L35+K35 -> 0 | N35: 0 | O35: =N35*J35 -> 0 | P35: =F35-J35 -> 0
C36: XLPE 11kV | E36: m | H36: =G36*F36 -> 0 | L36: =0.330975870321115*K36 -> 0 | M36: =L36+K36 -> 0 | N36: 0 | O36: =N36*J36 -> 0 | P36: =F36-J36 -> 0
C37: 500mm2 x 1 core (EXX01WCV) 6.35kV/11kV (Trefoil clamps) | E37: m | H37: =G37*F37 -> 0 | L37: =0.330975870321115*K37 -> 0 | M37: =L37+K37 -> 0 | N37: 0 | O37: =N37*J37 -> 0 | P37: =F37-J37 -> 0
A38: =C37 -> 500mm2 x 1 core (EXX01WCV) 6.35kV/11kV (Trefoil clamps) | B38: 2.059 | C38: Supply | D38: E | E38: m | F38: 5940 | G38: 1400.31 | H38: =G38*F38 -> 8317841.4 | J38: 4200 | K38: 1400.31 | L38: =0.330975870321115*K38 -> 463.46882 | M38: =L38+K38 -> 1863.7788 | N38: 1553.15 | O38: =N38*J38 -> 6523230 | P38: =F38-J38 -> 1740
C39: 185mm2 x 3 core (EXX03SCV) 6.35 kV/11kV | E39: m | H39: =G39*F39 -> 0 | L39: =0.330975870321115*K39 -> 0 | M39: =L39+K39 -> 0 | N39: 0 | O39: =N39*J39 -> 0 | P39: =F39-J39 -> 0
A40: =C39 -> 185mm2 x 3 core (EXX03SCV) 6.35 kV/11kV | B40: 2.061 | C40: Supply | D40: E | E40: m | F40: 400 | G40: 2555.47 | H40: =G40*F40 -> 1022188 | K40: 2555.47 | L40: =0.330975870321115*K40 -> 845.79891 | M40: =L40+K40 -> 3401.2689 | N40: 2834.39 | O40: =N40*J40 -> 0 | P40: =F40-J40 -> 400
C41: 150mm2 x 1core (EXX01RCV) 6.35 kV/11kV | E41: m | H41: =G41*F41 -> 0 | L41: =0.330975870321115*K41 -> 0 | M41: =L41+K41 -> 0 | N41: 0 | O41: =N41*J41 -> 0 | P41: =F41-J41 -> 0
A42: =C41 -> 150mm2 x 1core (EXX01RCV) 6.35 kV/11kV | B42: 2.063 | C42: Supply | D42: E | E42: m | F42: 6910 | G42: 510.09 | H42: =G42*F42 -> 3524721.9 | J42: 3000 | K42: 510.09 | L42: =0.330975870321115*K42 -> 168.82748 | M42: =L42+K42 -> 678.91748 | N42: 565.76 | O42: =N42*J42 -> 1697280 | P42: =F42-J42 -> 3910
...

Sheet Combined
A1: Tutuka Racking Quantifications
A2: Description | B2: Unit | C2: Qty | D2: Rate
A3: Wire mesh cable tray Hot dip galvanized 5mm wire with 75mm sidewall height
A4: 300mm width | B4: m | C4: =[19]unit_6!G4+[19]Sub_East!F4 -> 3150 | D4: 225.03333 | E4: =C4*D4 -> 708855
A5: 600mm width | B5: m | C5: =[19]unit_6!G5+[19]Sub_East!F5 -> 3150 | D5: 380.41667 | E5: =C5*D5 -> 1198312.5
A6: Wire Mesh Cable Trays WM75 and WM75/1 | E6: =C6*D6 -> 0
A7: Horizontal Bend wire mesh cable tray 300m | B7: Ea | C7: 20 | D7: 418.6 | E7: =C7*D7 -> 8372
A8: Internal Bend wire mesh cable tray 300m | B8: Ea | C8: 10 | D8: 338 | E8: =C8*D8 -> 3380
A9: External Bend wire mesh cable tray 300m | B9: Ea | C9: 10 | D9: 338 | E9: =C9*D9 -> 3380
A10: Tee wire mesh cable tray 300m | B10: Ea | C10: 10 | D10: 915.2 | E10: =C10*D10 -> 9152
A11: Horizontal Bend wire mesh cable tray 600m | B11: Ea | C11: 20 | D11: 657.8 | E11: =C11*D11 -> 13156
A12: Internal Bend wire mesh cable tray 600m | B12: Ea | C12: 10 | D12: 533 | E12: =C12*D12 -> 5330
A13: External Bend wire mesh cable tray 600m | B13: Ea | C13: 10 | D13: 533 | E13: =C13*D13 -> 5330
A14: Tee wire mesh cable tray 600m | B14: Ea | C14: 10 | D14: 1424.8 | E14: =C14*D14 -> 14248
E15: =C15*D15 -> 0
A16: Fixings | E16: =C16*D16 -> 0
A17: Wire connector set for wire mesh 75mm wall (splice) | B17: ea | C17: =[19]unit_6!G17+[19]Sub_East!F13 -> 14000 | D17: 4.07 | E17: =C17*D17 -> 56980
A18: Hold down clamps for wire mesh 75mm wall | B18: ea | C18: =[19]unit_6!G18+[19]Sub_East!F14 -> 14000 | D18: 3.05 | E18: =C18*D18 -> 42700
E19: =C19*D19 -> 0
A20: Hot dip galvanised single Unistrut P1000 6m length | B20: m | C20: =[19]unit_6!G20+[19]Sub_East!F16 -> 800 | D20: 290 | E20: =C20*D20 -> 232000
A21: Hot dip galvanised double Unistrut P1001 6m length | B21: m | C21: =[19]unit_6!G21+[19]Sub_East!F17 -> 1100 | D21: 336 | E21: =C21*D21 -> 369600
E22: =C22*D22 -> 0
A23: Hot diped galvanised General Fittings | E23: =C23*D23 -> 0
A24: Hot diped galvanised F2072/S1 Post base | B24: ea | C24: =[19]unit_6!G24 -> 360 | D24: =165/20 -> 8.25 | E24: =C24*D24 -> 2970
A25: Hot diped galvanised F2073/A Post base | B25: ea | C25: =[19]unit_6!G25 -> 600 | D25: =400/10 -> 40 | E25: =C25*D25 -> 24000
A26: Hot diped galvanised F1271 Beam clamps | B26: ea | C26: =[19]unit_6!G26 -> 600 | D26: =137/10 -> 13.7 | E26: =C26*D26 -> 8220
A27: Hot diped galvanised F2785 Beam clamps | B27: ea | C27: =[19]unit_6!G27 -> 720 | D27: =120/20 -> 6 | E27: =C27*D27 -> 4320
A28: Hot diped galvanised F1796 Beam clamps | B28: ea | C28: =[19]unit_6!G28 -> 720 | D28: =144/20 -> 7.2 | E28: =C28*D28 -> 5184
A29: Hot diped galvanised F2786 Beam clamps | B29: ea | C29: =[19]unit_6!G29 -> 1200 | D29: =135/20 -> 6.75 | E29: =C29*D29 -> 8100
E30: =C30*D30 -> 0
A31: Hot diped galvanised FLAT fittings | E31: =C31*D31 -> 0
A32: F1062 | B32: ea | C32: =[19]unit_6!G32+[19]Sub_East!F20 -> 2800 | D32: 3.97 | E32: =C32*D32 -> 11116
A33: F1031 | B33: ea | C33: =[19]unit_6!G33+[19]Sub_East!F21 -> 1700 | D33: =90/25 -> 3.6 | E33: =C33*D33 -> 6120
A34: F1036 | B34: ea | C34: =[19]unit_6!G34 -> 720 | D34: =118/25 -> 4.72 | E34: =C34*D34 -> 3398.4
A35: F1028 | B35: ea | C35: =[19]unit_6!G35 -> 480 | D35: =247/15 -> 16.466667 | E35: =C35*D35 -> 7904
A36: F1067 | B36: ea | C36: =[19]unit_6!G36 -> 600 | D36: =101/25 -> 4.04 | E36: =C36*D36 -> 2424
E37: =C37*D37 -> 0
A38: Hot diped galvanised "U" fittings | E38: =C38*D38 -> 0
A39: F1377 | B39: ea | C39: =[19]unit_6!G39 -> 480 | D39: 28 | E39: =C39*D39 -> 13440
A40: F4047 | B40: ea | C40: =[19]unit_6!G40 -> 180 | D40: =90/25 -> 3.6 | E40: =C40*D40 -> 648
...

Sheet Racking
A2: Tutuka, Duvha and Kusile Power Station
A4: Pricing Schudule: Racking and Earthing
B6: ITEM | C6: DESCRIPTION | D6: CPA | E6: UOM | F6: Qty | G6: Rate | H6: Total
B7: 1 | C7: MV Cables
B8: 2 | C8: RACKING
B9: 3 | C9: CABLE TRAY AND ACCESSORIES
B10: 4 | C10: Wire mesh cable tray Hot dip galvanized 5mm wire with 75mm sidewall height-Straight Rack
B11: 5 | C11: 650mm Long x 89mm high (O-L 251-650)
B12: 6 | C12: Supply | D12: C | E12: each | F12: 300 | H12: =G12*F12 -> 0
B13: 7 | C13: UNI-STRUT
B14: 8 | C14: Double Uni-strut (90 x 45mm) Rack Support
B15: 9 | C15: Supply | D15: C | E15: m | F15: =3500+500+3900 -> 7900 | H15: =G15*F15 -> 0
B16: 10 | C16: Single Uni-strut (45 x 45mm) Rack Support
B17: 11 | C17: Supply | D17: C | E17: m | F17: =1800+2400+9000 -> 13200 | H17: =G17*F17 -> 0
B18: 12 | C18: CABLE TRAY AND ACCESSORIES
B19: 13 | C19: Wire mesh cable tray Hot dip galvanized 5mm wire with 75mm sidewall height-Straight Rack
B20: 14 | C20: 300mm x 75mm
B21: 15 | C21: Supply | D21: C | E21: m | F21: 13500 | H21: =G21*F21 -> 0
B22: 16 | C22: 600mm x 75mm
B23: 17 | C23: Supply | D23: C | E23: m | F23: 13500 | H23: =G23*F23 -> 0
B24: 18 | C24: Hot dipped galvanized wire mesh cable tray fittings / accessories normal bending radius
B25: 19 | C25: 300mm Wide x 75mm 90 degree horizontal bend
B26: 20 | C26: Supply | D26: C | E26: each | F26: 350 | H26: =G26*F26 -> 0
B27: 21 | C27: 300mm Wide x 75mm 90 degree external/int bend
B28: 22 | C28: Supply | D28: C | E28: each | F28: 350 | H28: =G28*F28 -> 0
B29: 23 | C29: 600mm Wide x 75mm 90 degree horizontal bend
B30: 24 | C30: Supply | D30: C | E30: each | F30: 350 | H30: =G30*F30 -> 0
B31: 25 | C31: 600mm Wide x 75mm 90 degree external/int bend
B32: 26 | C32: Supply | D32: C | E32: each | F32: 350 | H32: =G32*F32 -> 0
B33: 27 | C33: 300mm Wide x 75mm tee
B34: 28 | C34: Supply | D34: C | E34: each | F34: 160 | H34: =G34*F34 -> 0
B35: 29 | C35: 600mm Wide x 75mm tee
B36: 30 | C36: Supply | D36: C | E36: each | F36: 160 | H36: =G36*F36 -> 0
B37: 31 | C37: CABLE SUPPORT SYSTEM
B38: 32 | C38: Hot Dipped Galvanized steel channel forming frame support
B39: 33 | C39: Complete with bolts, spring nuts, nuts and washers, fixed in all positions, to all heights above floor level, and to all areas.
B40: 34 | C40: 41.3mm x 41.3mm x 2.5mm Thick (O-L 1000)
B41: 35 | C41: Supply | D41: C | E41: m | F41: 0 | H41: =G41*F41 -> 0
B42: 36 | C42: 82.6mm x 41.3mm x 2.5mm Thick (O-L 1001)
B43: 37 | C43: Supply | D43: C | E43: m | F43: 0 | H43: =G43*F43 -> 0
...

Sheet FRI

Sheet Duvha Ps
B2: Item No | C2: Description | F2: Qty | G2: Rate | H2: Amount
B3: 1 | C3: Cab -strut Aluminuim Trefoil clamps
B4: 2 | C4: 3 x 30 O.D TR.30 | F4: 1000 | G4: 3.2266667 | H4: =G4*F4 -> 3226.6667
B5: 3 | C5: 3 x 37 O.D TR.37 | F5: 1000 | G5: 5.26 | H5: =G5*F5 -> 5260
B6: 4 | C6: 3 x 42 O.D TR.42 | F6: 6000 | G6: 6.08 | H6: =G6*F6 -> 36480
B7: 5 | C7: 3 x 57 O.D TR.57 | F7: 9000 | G7: 7 | H7: =G7*F7 -> 63000
B8: 6 | C8: 3 x 63 O.D TR.63 | F8: 12000 | G8: 7.14 | H8: =G8*F8 -> 85680
B9: 7 | H9: =G9*F9 -> 0
B10: 8 | C10: White PVC Bosal End cabs | H10: =G10*F10 -> 0
B11: 9 | C11: 20mm | F11: 1000 | G11: 2.5 | H11: =G11*F11 -> 2500
B12: 10 | C12: 25mm | F12: 2000 | G12: 5.35 | H12: =G12*F12 -> 10700
B13: 11 | C13: 32mm | F13: 2000 | G13: 9.3 | H13: =G13*F13 -> 18600
B14: 12 | C14: 50mm | F14: 500 | G14: 13.25 | H14: =G14*F14 -> 6625
B15: 13 | H15: =G15*F15 -> 0
B16: 14 | C16: K & U pipes and cables clamps strut | H16: =G16*F16 -> 0
B17: 15 | H17: =G17*F17 -> 0
B18: 16 | C18: 26mm | F18: 500 | G18: 0.7 | H18: =G18*F18 -> 350
B19: 17 | C19: 32mm | F19: 500 | G19: 0.85 | H19: =G19*F19 -> 425
B20: 18 | C20: 52mm | F20: 500 | G20: 1.3 | H20: =G20*F20 -> 650
B21: 19 | H21: =G21*F21 -> 0 | J21: =18*3 -> 54
B22: 20 | C22: Heavy duty Galvanised saddles | H22: =G22*F22 -> 0
B23: 21 | C23: 20mm | F23: 3000 | G23: 2.5 | H23: =G23*F23 -> 7500 | J23: 55
B24: 22 | C24: 25mm | F24: 5000 | G24: 2.5 | H24: =G24*F24 -> 12500
B25: 23 | C25: 32mm | F25: 5000 | G25: 2.5 | H25: =G25*F25 -> 12500
B26: 24 | C26: 50mm | F26: 1000 | G26: 4.5 | H26: =G26*F26 -> 4500
B27: 25 | H27: =G27*F27 -> 0
B28: 26 | C28: Half round galvanised electrical saddles | H28: =G28*F28 -> 0
B29: 27 | C29: 20mm | F29: 3000 | G29: 2.5 | H29: =G29*F29 -> 7500
B30: 28 | C30: 25mm | F30: 5000 | G30: 2.5 | H30: =G30*F30 -> 12500
B31: 29 | C31: 32mm | F31: 5000 | G31: 2.5 | H31: =G31*F31 -> 12500
B32: 30 | C32: 50mm | F32: 1000 | G32: 4.5 | H32: =G32*F32 -> 4500
B33: 31 | C33: Stainless steel Bandic strap | H33: =G33*F33 -> 0
B34: 32 | C34: 30m roll | F34: 100 | G34: 200 | H34: =G34*F34 -> 20000
B35: 33 | H35: =G35*F35 -> 0
B36: 34 | C36: Stainless steel Buckles/tensioner 3/4 | H36: =G36*F36 -> 0
B37: 35 | C37: 3/4 boxes | F37: 500 | G37: =95 -> 95 | H37: =G37*F37 -> 47500
B38: 36 | H38: =G38*F38 -> 0
B39: 37 | C39: Rawl bolts/Steel anchor | H39: =G39*F39 -> 0
B40: 38 | C40: M6 | F40: 500 | G40: 6.9 | H40: =G40*F40 -> 3450
B41: 39 | C41: M8 | F41: 1000 | G41: 8.3 | H41: =G41*F41 -> 8300
...

Sheet Duvha
A2: Cab -strut Aluminuim Trefoil clamps
A3: 3 x 30 O.D | B3: TR.30 | E3: 1000
A4: 3 x 37 O.D | B4: TR.37 | E4: 1000
A5: 3 x 42 O.D | B5: TR.42 | E5: 6000
A6: 3 x 57 O.D | B6: TR.57 | E6: 9000
A7: 3 x 63 O.D | B7: TR.63 | E7: 12000
A9: White PVC Bosal End cabs
A10: 20mm | E10: 1000
A11: 25mm | E11: 2000
A12: 32mm | E12: 2000
A13: 50mm | E13: 500
A15: K & U pipes and cables clamps strut
A17: 26mm | E17: 500
A18: 32mm | E18: 500
A19: 52mm | E19: 500
A21: Heavy duty Galvanised saddles
A22: 20mm | E22: 3000
A23: 25mm | E23: 5000
A24: 32mm | E24: 5000
A25: 50mm | E25: 1000
A27: Half round galvanised electrical saddles
A28: 20mm | E28: 3000
A29: 25mm | E29: 5000
A30: 32mm | E30: 5000
A31: 50mm | E31: 1000
A32: Stainless steel Bandic strap
A33: 30m roll | E33: 100
A35: Stainless steel Buckles/tensioner 3/4
A36: 3/4 boxes | E36: 500
A38: Rawl bolts/Steel anchor
A39: M6 | E39: 500
A40: M8 | E40: 1000
A41: M10 | E41: 1000
A43: Stainless steel Hilti anchor
A44: M16/65 | E44: 2000
A46: P2000 Material
A47: 6m P2000 trunking 41/41/1mm | E47: 3000
A48: Internal splices P2000 | E48: 400
A49: Horizontal elbow P2000 | E49: 400
A50: Tee piece P2000 | E50: 100
...

Sheet Kusile
C4: Straight Cover HDG | E4: Metre | F4: Price | G4: Qty | H4: Amount
C6: 150mm | E6: Metre | F6: 155.5 | G6: 1000 | H6: =F6*G6 -> 155500
C7: 200mm | E7: Metre | F7: 180.2 | G7: 1000 | H7: =F7*G7 -> 180200
C8: 300mm | E8: Metre | F8: 283.7 | G8: 1000 | H8: =F8*G8 -> 283700
C9: 400mm | E9: Metre | F9: 356.5 | G9: 1000 | H9: =F9*G9 -> 356500
C10: 500mm | E10: Metre | F10: 371.9 | G10: 1000 | H10: =F10*G10 -> 371900
C11: 600mm | E11: Metre | F11: 425.8 | G11: 1000 | H11: =F11*G11 -> 425800
C12: 800mm | E12: Metre | F12: 656.4 | G12: 1000 | H12: =F12*G12 -> 656400
C13: 1000mm | E13: Metre | F13: 778.6 | G13: 1000 | H13: =F13*G13 -> 778600
H14: =F14*G14 -> 0
C15: PS Cover Clamp EG | E15: Ea | F15: 9.1 | G15: 20000 | H15: =F15*G15 -> 182000
H16: =F16*G16 -> 0
C17: 90° Horizontal Bend Cover - 650R HDG | H17: =F17*G17 -> 0
H18: =F18*G18 -> 0
C19: 150mm | E19: Ea | F19: 487.2 | G19: 600 | H19: =F19*G19 -> 292320
C20: 200mm | E20: Ea | F20: 593.7 | G20: 600 | H20: =F20*G20 -> 356220
C21: 300mm | E21: Ea | F21: 681 | G21: 600 | H21: =F21*G21 -> 408600
C22: 400mm | E22: Ea | F22: 809.5 | G22: 600 | H22: =F22*G22 -> 485700
C23: 500mm | E23: Ea | F23: 1144.9 | G23: 600 | H23: =F23*G23 -> 686940
C24: 600mm | E24: Ea | F24: 2202.2 | G24: 600 | H24: =F24*G24 -> 1321320
C25: 800mm | E25: Ea | F25: 2307.6 | G25: 600 | H25: =F25*G25 -> 1384560
C26: 1000mm | E26: Ea | F26: 2459.8 | G26: 600 | H26: =F26*G26 -> 1475880
H27: =F27*G27 -> 0
C28: 45° Horizontal Bend Cover - 650R HDG | H28: =F28*G28 -> 0
H29: =F29*G29 -> 0
C30: 150mm | E30: Ea | F30: 312.3 | G30: 600 | H30: =F30*G30 -> 187380
C31: 200mm | E31: Ea | F31: 347.9 | G31: 600 | H31: =F31*G31 -> 208740
C32: 300mm | E32: Ea | F32: 424.2 | G32: 600 | H32: =F32*G32 -> 254520
C33: 400mm | E33: Ea | F33: 509 | G33: 600 | H33: =F33*G33 -> 305400
C34: 500mm | E34: Ea | F34: 1355.6 | G34: 600 | H34: =F34*G34 -> 813360
C35: 600mm | E35: Ea | F35: 1577 | G35: 600 | H35: =F35*G35 -> 946200
C36: 800mm | E36: Ea | F36: 2048.3 | G36: 600 | H36: =F36*G36 -> 1228980
C37: 1000mm | E37: Ea | F37: 2580.8 | G37: 600 | H37: =F37*G37 -> 1548480
H38: =F38*G38 -> 0
H39: =F39*G39 -> 0
C40: Perforated Sun Shield lids HDG | H40: =F40*G40 -> 0
H41: =F41*G41 -> 0
C42: Straight Cover | H42: =F42*G42 -> 0
C43: 76mm | E43: ea | F43: 93 | G43: 5000 | H43: =F43*G43 -> 465000
C44: 114mm | E44: ea | F44: 119 | G44: 2000 | H44: =F44*G44 -> 238000
...

Sheet Racking and Earthing
A2: Tutuka Power Station: GX COAL PROJECTS
A4: Pricing Schudule | F4: CONTRACT BOQ
B6: ITEM | C6: DESCRIPTION | D6: CPA Formula | E6: UOM | F6: Qty | G6: Rate | H6: Total
C7: MV Cables | H7: =G7*F7 -> 0
C8: RACKING | H8: =G8*F8 -> 0
C9: CABLE TRAY AND ACCESSORIES | H9: =G9*F9 -> 0
C10: Cold drawn high tensile galvanized wire mesh cable tray (O-L GRIDSPAN GS 50x50) fixed in all positions, etc., to all heights above floor level, etc and to all areas. Complete with splice clamp sets, hold down brackets, bolts, nuts and washers, etc. | H10: =G10*F10 -> 0
C11: 650mm Long x 89mm high (O-L 251-650) | H11: =G11*F11 -> 0
A12: =C11 -> 650mm Long x 89mm high (O-L 251-650) | B12: 2.115 | C12: Supply | D12: C | E12: each | F12: 150 | G12: 126.45 | H12: =G12*F12 -> 18967.5 | K12: 150 | M12: =K12+F12 -> 300 | O12: 300
A13: =C11 -> 650mm Long x 89mm high (O-L 251-650) | B13: 2.116 | C13: Installation | D13: A | E13: each | F13: 150 | G13: 161.71 | H13: =G13*F13 -> 24256.5 | K13: 150 | M13: =K13+F13 -> 300 | O13: 300
C14: UNI-STRUT | H14: =G14*F14 -> 0 | M14: =K14+F14 -> 0 | O14: 0
C15: Double Uni-strut (90 x 45mm) Rack Support | H15: =G15*F15 -> 0 | M15: =K15+F15 -> 0 | O15: 0
A16: =C15 -> Double Uni-strut (90 x 45mm) Rack Support | B16: 2.117 | C16: Supply | D16: C | E16: m | F16: 3500 | G16: 297.03 | H16: =G16*F16 -> 1039605 | K16: 500 | M16: =K16+F16 -> 4000 | O16: 4000
A17: =C15 -> Double Uni-strut (90 x 45mm) Rack Support | B17: 2.118 | C17: Installation | D17: A | E17: m | F17: 3500 | G17: 242.45 | H17: =G17*F17 -> 848575 | K17: 500 | M17: =K17+F17 -> 4000 | O17: 4000
C18: Single Uni-strut (45 x 45mm) Rack Support | H18: =G18*F18 -> 0 | M18: =K18+F18 -> 0 | O18: 0
A19: =C18 -> Single Uni-strut (45 x 45mm) Rack Support | B19: 2.119 | C19: Supply | D19: C | E19: m | F19: 1800 | G19: 131.66 | H19: =G19*F19 -> 236988 | K19: 2400 | M19: =K19+F19 -> 4200 | O19: 4200
A20: =C18 -> Single Uni-strut (45 x 45mm) Rack Support | B20: 2.12 | C20: Installation | D20: A | E20: m | F20: 1800 | G20: 220.41 | H20: =G20*F20 -> 396738 | K20: 2400 | M20: =K20+F20 -> 4200 | O20: 4200
H21: =G21*F21 -> 0 | M21: =K21+F21 -> 0 | O21: 0
C22: CABLE TRAY AND ACCESSORIES | H22: =G22*F22 -> 0 | M22: =K22+F22 -> 0 | O22: 0
C23: Cold drawn high tensile galvanized wire mesh cable tray (O-L GRIDSPAN GS 50x50) fixed in all positions, to all heights above floor level, brackets, bolts, nuts and washers, etc. | H23: =G23*F23 -> 0 | M23: =K23+F23 -> 0 | O23: 0
C24: 300mm x 75mm | H24: =G24*F24 -> 0 | M24: =K24+F24 -> 0 | O24: 0
A25: =C24 -> 300mm x 75mm | B25: 2.121 | C25: Supply | D25: C | E25: m | F25: 700 | G25: 254.06 | H25: =G25*F25 -> 177842 | K25: 12800 | M25: =K25+F25 -> 13500 | O25: 13500
A26: =C24 -> 300mm x 75mm | B26: 2.122 | C26: Installation | D26: A | E26: m | F26: 700 | G26: 194.04 | H26: =G26*F26 -> 135828 | K26: 12800 | M26: =K26+F26 -> 13500 | O26: 13500
C27: 600mm x 75mm | H27: =G27*F27 -> 0 | M27: =K27+F27 -> 0 | O27: 0
A28: =C27 -> 600mm x 75mm | B28: 2.123 | C28: Supply | D28: C | E28: m | F28: 700 | G28: 290.24 | H28: =G28*F28 -> 203168 | K28: 12800 | M28: =K28+F28 -> 13500 | O28: 13500
A29: =C27 -> 600mm x 75mm | B29: 2.124 | C29: Installation | D29: A | E29: m | F29: 700 | G29: 277.2 | H29: =G29*F29 -> 194040 | K29: 12800 | M29: =K29+F29 -> 13500 | O29: 13500
C30: Cold drawn high tensile galvanized wire mesh cable tray fittings / accessories normal bending radius | H30: =G30*F30 -> 0 | M30: =K30+F30 -> 0 | O30: 0
C31: 300mm Wide x 75mm 90 degree horizontal bend | H31: =G31*F31 -> 0 | M31: =K31+F31 -> 0 | O31: 0
A32: =C31 -> 300mm Wide x 75mm 90 degree horizontal bend | B32: 2.125 | C32: Supply | D32: C | E32: each | F32: 50 | G32: 617.01 | H32: =G32*F32 -> 30850.5 | K32: 300 | M32: =K32+F32 -> 350 | O32: 350
A33: =C31 -> 300mm Wide x 75mm 90 degree horizontal bend | B33: 2.126 | C33: Installation | D33: A | E33: each | F33: 50 | G33: 323.4 | H33: =G33*F33 -> 16170 | K33: 300 | M33: =K33+F33 -> 350 | O33: 350
C34: 300mm Wide x 75mm 90 degree external/int bend | H34: =G34*F34 -> 0 | M34: =K34+F34 -> 0 | O34: 0
A35: =C34 -> 300mm Wide x 75mm 90 degree external/int bend | B35: 2.127 | C35: Supply | D35: C | E35: each | F35: 50 | G35: 397.07 | H35: =G35*F35 -> 19853.5 | K35: 300 | M35: =K35+F35 -> 350 | O35: 350
A36: =C34 -> 300mm Wide x 75mm 90 degree external/int bend | B36: 2.128 | C36: Installation | D36: A | E36: each | F36: 50 | G36: 323.4 | H36: =G36*F36 -> 16170 | K36: 300 | M36: =K36+F36 -> 350 | O36: 350
C37: 600mm Wide x 75mm 90 degree horizontal bend | H37: =G37*F37 -> 0 | M37: =K37+F37 -> 0 | O37: 0
A38: =C37 -> 600mm Wide x 75mm 90 degree horizontal bend | B38: 2.129 | C38: Supply | D38: C | E38: each | F38: 50 | G38: 1473.45 | H38: =G38*F38 -> 73672.5 | K38: 300 | M38: =K38+F38 -> 350 | O38: 350
A39: =C37 -> 600mm Wide x 75mm 90 degree horizontal bend | B39: 2.13 | C39: Installation | D39: A | E39: each | F39: 50 | G39: 527.07 | H39: =G39*F39 -> 26353.5 | K39: 300 | M39: =K39+F39 -> 350 | O39: 350
C40: 600mm Wide x 75mm 90 degree external/int bend | H40: =G40*F40 -> 0 | M40: =K40+F40 -> 0 | O40: 0
A41: =C40 -> 600mm Wide x 75mm 90 degree external/int bend | B41: 2.131 | C41: Supply | D41: C | E41: each | F41: 50 | G41: 524.46 | H41: =G41*F41 -> 26223 | K41: 300 | M41: =K41+F41 -> 350 | O41: 350
A42: =C40 -> 600mm Wide x 75mm 90 degree external/int bend | B42: 2.132 | C42: Installation | D42: A | E42: each | F42: 50 | G42: 527.07 | H42: =G42*F42 -> 26353.5 | K42: 300 | M42: =K42+F42 -> 350 | O42: 350
C43: 300mm Wide x 75mm tee | H43: =G43*F43 -> 0 | M43: =K43+F43 -> 0 | O43: 0
...

Sheet BOQ
A2: Tutuka Power Station: GX COAL PROJECTS
A4: Pricing Schudule | F4: CONTRACT BOQ | S4: Total | U4: Total | W4: Total | Y4: Total | AA4: Total
R5: Qty | S5: 44593 | T5: Qty | U5: 44621 | W5: 44652 | Y5: 44682 | AA5: 44713 | AB5: 44743 | AC5: 44774 | AD5: 44805 | AE5: 44835 | AF5: 44866 | AG5: 44896
B6: ITEM | C6: DESCRIPTION | D6: CPA Formula | E6: UOM | F6: Qty | G6: Rate | H6: Total | K6: Cumulative Qty | L6: Claimed Previous (ZAR) | M6: Claimed to date (ZAR) | O6: Qty remaining | P6: Balance to date (ZAR) | S6: Cert.1 | U6: Cert.2 | W6: Cert.3 | Y6: Cert.4 | AA6: Cert.5 | AB6: Cert.6 | AC6: Cert.7 | AD6: Cert.8 | AE6: Cert.9 | AF6: Cert.10 | AG6: Cert.11 | AH6: Cert.12 | AI6: Cert.13 | AJ6: Cert.14 | AK6: Cert.15 | AL6: Cert.16 | AM6: Cert.17 | AN6: Cert.18 | AO6: Cert.19 | AP6: Cert.20 | AQ6: Cert.21 | AR6: Cert.22 | AS6: Cert.23 | AT6: Cert.24 | AU6: Cert.25 | AV6: Cert.26 | AW6: Cert.27 | AX6: Cert.28 | AY6: Cert.29 | AZ6: Cert.30 | BA6: Cert.31 | BB6: Cert.32 | BC6: Cert.33 | BD6: Cert.34 | BE6: Cert.35 | BF6: Cert.36 | BG6: Cert.37 | BH6: Cert.38 | BI6: Cert.39 | BJ6: Cert.40 | BK6: Cert.41 | BL6: Cert.42 | BM6: Cert.43 | BN6: Cert.44 | BO6: Cert.45 | BP6: Cert.46 | BQ6: Cert.47 | BR6: Cert.48 | BS6: Cert.49 | BT6: Cert.50 | BU6: Cert.51 | BV6: Cert.52 | BW6: Cert.53 | BX6: Cert.54
C7: UNIT 1 - 6 MV CABLES
C8: Installation of New MV Cables including fixing materials | D8: `
C9: XLPE 11KV
C10: 500mm2 x 1 core (EXX01WCV) 6.35kV/11kV (Trefoil clamps) Cut & Join
A11: =C10 -> 500mm2 x 1 core (EXX01WCV) 6.35kV/11kV (Trefoil clamps) Cut & Join | B11: 2.001 | C11: Supply | D11: E | E11: m | F11: 20000 | G11: 1422.22 | H11: =G11*F11 -> 28444400 | K11: =M11/G11 -> #VALUE! | L11: =SUMIF(R4:Y4,S4,R11:Y11) -> #VALUE! | M11: =SUMIF(R4:BX4,S4,R11:BX11) -> #VALUE! | O11: =F11-K11 -> #VALUE! | P11: =H11-M11 -> #VALUE! | R11: =SUMIFS('[20]WorkDone DATA'!$L:$L,'[20]WorkDone DATA'!$N:$N,BOQ!S$6,'[20]WorkDone DATA'!$G:$G,BOQ!$B11) -> #VALUE! | S11: =R11*G11 -> #VALUE! | T11: =SUMIFS('[20]WorkDone DATA'!$L:$L,'[20]WorkDone DATA'!$N:$N,BOQ!U$6,'[20]WorkDone DATA'!$G:$G,BOQ!$B11) -> #VALUE! | U11: =T11*G11 -> #VALUE! | W11: =SUMIFS('[20]WorkDone DATA'!$L:$L,'[20]WorkDone DATA'!$N:$N,BOQ!W$6,'[20]WorkDone DATA'!$G:$G,BOQ!$B11)*$G11 -> #VALUE! | Y11: =SUMIFS('[20]WorkDone DATA'!$L:$L,'[20]WorkDone DATA'!$N:$N,BOQ!Y$6,'[20]WorkDone DATA'!$G:$G,BOQ!$B11)*$G11 -> #VALUE! | AA11: =SUMIFS('[20]WorkDone DATA'!$L:$L,'[20]WorkDone DATA'!$N:$N,BOQ!AA$6,'[20]WorkDone DATA'!$G:$G,BOQ!$B11)*$G11 -> #VALUE! | AB11: =SUMIFS('[20]WorkDone DATA'!$L:$L,'[20]WorkDone DATA'!$N:$N,BOQ!AB$6,'[20]WorkDone DATA'!$G:$G,BOQ!$B11)*$G11 -> #VALUE! | AC11: =SUMIFS('[20]WorkDone DATA'!$L:$L,'[20]WorkDone DATA'!$N:$N,BOQ!AC$6,'[20]WorkDone DATA'!$G:$G,BOQ!$B11)*$G11 -> #VALUE! | AD11: =SUMIFS('[20]WorkDone DATA'!$L:$L,'[20]WorkDone DATA'!$N:$N,BOQ!AD$6,'[20]WorkDone DATA'!$G:$G,BOQ!$B11)*$G11 -> #VALUE! | AE11: =SUMIFS('[20]WorkDone DATA'!$L:$L,'[20]WorkDone DATA'!$N:$N,BOQ!AE$6,'[20]WorkDone DATA'!$G:$G,BOQ!$B11)*$G11 -> #VALUE! | AF11: =SUMIFS('[20]WorkDone DATA'!$L:$L,'[20]WorkDone DATA'!$N:$N,BOQ!AF$6,'[20]WorkDone DATA'!$G:$G,BOQ!$B11)*$G11 -> #VALUE! | AG11: =SUMIFS('[20]WorkDone DATA'!$L:$L,'[20]WorkDone DATA'!$N:$N,BOQ!AG$6,'[20]WorkDone DATA'!$G:$G,BOQ!$B11)*$G11 -> #VALUE! | AH11: =SUMIFS('[20]WorkDone DATA'!$L:$L,'[20]WorkDone DATA'!$N:$N,BOQ!AH$6,'[20]WorkDone DATA'!$G:$G,BOQ!$B11)*$G11 -> #VALUE! | ... BX11: =SUMIFS('[20]WorkDone DATA'!$L:$L,'[20]WorkDone DATA'!$N:$N,BOQ!BX$6,'[20]WorkDone DATA'!$G:$G,BOQ!$B11)*$G11 -> #VALUE!
A12: =C10 -> 500mm2 x 1 core (EXX01WCV) 6.35kV/11kV (Trefoil clamps) Cut & Join | B12: 2.002 | C12: Installation | D12: A | E12: m | F12: 20000 | G12: 117.05 | H12: =G12*F12 -> 2341000 | K12: =M12/G12 -> #VALUE! | L12: =SUMIF(R5:Y5,S5,R12:Y12) -> #VALUE! | M12: =SUMIF(R5:BX5,S5,R12:BX12) -> #VALUE! | O12: =F12-K12 -> #VALUE! | P12: =H12-M12 -> #VALUE! | R12: =SUMIFS('[20]WorkDone DATA'!$L:$L,'[20]WorkDone DATA'!$N:$N,BOQ!S$6,'[20]WorkDone DATA'!$G:$G,BOQ!$B12) -> #VALUE! | S12: =R12*G12 -> #VALUE! | T12: =SUMIFS('[20]WorkDone DATA'!$L:$L,'[20]WorkDone DATA'!$N:$N,BOQ!U$6,'[20]WorkDone DATA'!$G:$G,BOQ!$B12) -> #VALUE! | U12: =T12*G12 -> #VALUE! | W12: =SUMIFS('[20]WorkDone DATA'!$L:$L,'[20]WorkDone DATA'!$N:$N,BOQ!W$6,'[20]WorkDone DATA'!$G:$G,BOQ!$B12)*$G12 -> #VALUE! | Y12: =SUMIFS('[20]WorkDone DATA'!$L:$L,'[20]WorkDone DATA'!$N:$N,BOQ!Y$6,'[20]WorkDone DATA'!$G:$G,BOQ!$B12)*$G12 -> #VALUE! | AA12: =SUMIFS('[20]WorkDone DATA'!$L:$L,'[20]WorkDone DATA'!$N:$N,BOQ!AA$6,'[20]WorkDone DATA'!$G:$G,BOQ!$B12)*$G12 -> #VALUE! | AB12: =SUMIFS('[20]WorkDone DATA'!$L:$L,'[20]WorkDone DATA'!$N:$N,BOQ!AB$6,'[20]WorkDone DATA'!$G:$G,BOQ!$B12)*$G12 -> #VALUE! | AC12: =SUMIFS('[20]WorkDone DATA'!$L:$L,'[20]WorkDone DATA'!$N:$N,BOQ!AC$6,'[20]WorkDone DATA'!$G:$G,BOQ!$B12)*$G12 -> #VALUE! | AD12: =SUMIFS('[20]WorkDone DATA'!$L:$L,'[20]WorkDone DATA'!$N:$N,BOQ!AD$6,'[20]WorkDone DATA'!$G:$G,BOQ!$B12)*$G12 -> #VALUE! | AE12: =SUMIFS('[20]WorkDone DATA'!$L:$L,'[20]WorkDone DATA'!$N:$N,BOQ!AE$6,'[20]WorkDone DATA'!$G:$G,BOQ!$B12)*$G12 -> #VALUE! | AF12: =SUMIFS('[20]WorkDone DATA'!$L:$L,'[20]WorkDone DATA'!$N:$N,BOQ!AF$6,'[20]WorkDone DATA'!$G:$G,BOQ!$B12)*$G12 -> #VALUE! | AG12: =SUMIFS('[20]WorkDone DATA'!$L:$L,'[20]WorkDone DATA'!$N:$N,BOQ!AG$6,'[20]WorkDone DATA'!$G:$G,BOQ!$B12)*$G12 -> #VALUE! | AH12: =SUMIFS('[20]WorkDone DATA'!$L:$L,'[20]WorkDone DATA'!$N:$N,BOQ!AH$6,'[20]WorkDone DATA'!$G:$G,BOQ!$B12)*$G12 -> #VALUE! | ... BX12: =SUMIFS('[20]WorkDone DATA'!$L:$L,'[20]WorkDone DATA'!$N:$N,BOQ!BX$6,'[20]WorkDone DATA'!$G:$G,BOQ!$B12)*$G12 -> #VALUE!
C13: 500mm2 x 1 core (EXX01WCV) 6.35kV/11kV (Trefoil clamps) New | H13: =G13*F13 -> 0 | L13: =SUMIF(R6:Y6,S6,R13:Y13) -> #VALUE! | M13: =SUMIF(R6:BX6,S6,R13:BX13) -> #VALUE! | O13: =F13-K13 -> 0 | P13: =H13-M13 -> #VALUE! | R13: =SUMIFS('[20]WorkDone DATA'!$L:$L,'[20]WorkDone DATA'!$N:$N,BOQ!S$6,'[20]WorkDone DATA'!$G:$G,BOQ!$B13) -> #VALUE! | S13: =R13*G13 -> #VALUE! | T13: =SUMIFS('[20]WorkDone DATA'!$L:$L,'[20]WorkDone DATA'!$N:$N,BOQ!U$6,'[20]WorkDone DATA'!$G:$G,BOQ!$B13) -> #VALUE! | U13: =T13*G13 -> #VALUE! | W13: =SUMIFS('[20]WorkDone DATA'!$L:$L,'[20]WorkDone DATA'!$N:$N,BOQ!W$6,'[20]WorkDone DATA'!$G:$G,BOQ!$B13)*$G13 -> #VALUE! | Y13: =SUMIFS('[20]WorkDone DATA'!$L:$L,'[20]WorkDone DATA'!$N:$N,BOQ!Y$6,'[20]WorkDone DATA'!$G:$G,BOQ!$B13)*$G13 -> #VALUE! | AA13: =SUMIFS('[20]WorkDone DATA'!$L:$L,'[20]WorkDone DATA'!$N:$N,BOQ!AA$6,'[20]WorkDone DATA'!$G:$G,BOQ!$B13)*$G13 -> #VALUE! | AB13: =SUMIFS('[20]WorkDone DATA'!$L:$L,'[20]WorkDone DATA'!$N:$N,BOQ!AB$6,'[20]WorkDone DATA'!$G:$G,BOQ!$B13)*$G13 -> #VALUE! | AC13: =SUMIFS('[20]WorkDone DATA'!$L:$L,'[20]WorkDone DATA'!$N:$N,BOQ!AC$6,'[20]WorkDone DATA'!$G:$G,BOQ!$B13)*$G13 -> #VALUE! | AD13: =SUMIFS('[20]WorkDone DATA'!$L:$L,'[20]WorkDone DATA'!$N:$N,BOQ!AD$6,'[20]WorkDone DATA'!$G:$G,BOQ!$B13)*$G13 -> #VALUE! | AE13: =SUMIFS('[20]WorkDone DATA'!$L:$L,'[20]WorkDone DATA'!$N:$N,BOQ!AE$6,'[20]WorkDone DATA'!$G:$G,BOQ!$B13)*$G13 -> #VALUE! | AF13: =SUMIFS('[20]WorkDone DATA'!$L:$L,'[20]WorkDone DATA'!$N:$N,BOQ!AF$6,'[20]WorkDone DATA'!$G:$G,BOQ!$B13)*$G13 -> #VALUE! | AG13: =SUMIFS('[20]WorkDone DATA'!$L:$L,'[20]WorkDone DATA'!$N:$N,BOQ!AG$6,'[20]WorkDone DATA'!$G:$G,BOQ!$B13)*$G13 -> #VALUE! | AH13: =SUMIFS('[20]WorkDone DATA'!$L:$L,'[20]WorkDone DATA'!$N:$N,BOQ!AH$6,'[20]WorkDone DATA'!$G:$G,BOQ!$B13)*$G13 -> #VALUE! | ... BX13: =SUMIFS('[20]WorkDone DATA'!$L:$L,'[20]WorkDone DATA'!$N:$N,BOQ!BX$6,'[20]WorkDone DATA'!$G:$G,BOQ!$B13)*$G13 -> #VALUE!
A14: =C13 -> 500mm2 x 1 core (EXX01WCV) 6.35kV/11kV (Trefoil clamps) New | B14: 2.003 | C14: Supply | D14: E | E14: m | F14: 8020 | G14: 1422.22 | H14: =G14*F14 -> 11406204 | K14: =M14/G14 -> 0 | L14: =SUMIF(R7:Y7,S7,R14:Y14) -> 0 | M14: =SUMIF(R7:BX7,S7,R14:BX14) -> 0 | O14: =F14-K14 -> 8020 | P14: =H14-M14 -> 11406204 | R14: =SUMIFS('[20]WorkDone DATA'!$L:$L,'[20]WorkDone DATA'!$N:$N,BOQ!S$6,'[20]WorkDone DATA'!$G:$G,BOQ!$B14) -> #VALUE! | S14: =R14*G14 -> #VALUE! | T14: =SUMIFS('[20]WorkDone DATA'!$L:$L,'[20]WorkDone DATA'!$N:$N,BOQ!U$6,'[20]WorkDone DATA'!$G:$G,BOQ!$B14) -> #VALUE! | U14: =T14*G14 -> #VALUE! | W14: =SUMIFS('[20]WorkDone DATA'!$L:$L,'[20]WorkDone DATA'!$N:$N,BOQ!W$6,'[20]WorkDone DATA'!$G:$G,BOQ!$B14)*$G14 -> #VALUE! | Y14: =SUMIFS('[20]WorkDone DATA'!$L:$L,'[20]WorkDone DATA'!$N:$N,BOQ!Y$6,'[20]WorkDone DATA'!$G:$G,BOQ!$B14)*$G14 -> #VALUE! | AA14: =SUMIFS('[20]WorkDone DATA'!$L:$L,'[20]WorkDone DATA'!$N:$N,BOQ!AA$6,'[20]WorkDone DATA'!$G:$G,BOQ!$B14)*$G14 -> #VALUE! | AB14: =SUMIFS('[20]WorkDone DATA'!$L:$L,'[20]WorkDone DATA'!$N:$N,BOQ!AB$6,'[20]WorkDone DATA'!$G:$G,BOQ!$B14)*$G14 -> #VALUE! | AC14: =SUMIFS('[20]WorkDone DATA'!$L:$L,'[20]WorkDone DATA'!$N:$N,BOQ!AC$6,'[20]WorkDone DATA'!$G:$G,BOQ!$B14)*$G14 -> #VALUE! | AD14: =SUMIFS('[20]WorkDone DATA'!$L:$L,'[20]WorkDone DATA'!$N:$N,BOQ!AD$6,'[20]WorkDone DATA'!$G:$G,BOQ!$B14)*$G14 -> #VALUE! | AE14: =SUMIFS('[20]WorkDone DATA'!$L:$L,'[20]WorkDone DATA'!$N:$N,BOQ!AE$6,'[20]WorkDone DATA'!$G:$G,BOQ!$B14)*$G14 -> #VALUE! | AF14: =SUMIFS('[20]WorkDone DATA'!$L:$L,'[20]WorkDone DATA'!$N:$N,BOQ!AF$6,'[20]WorkDone DATA'!$G:$G,BOQ!$B14)*$G14 -> #VALUE! | AG14: =SUMIFS('[20]WorkDone DATA'!$L:$L,'[20]WorkDone DATA'!$N:$N,BOQ!AG$6,'[20]WorkDone DATA'!$G:$G,BOQ!$B14)*$G14 -> #VALUE! | AH14: =SUMIFS('[20]WorkDone DATA'!$L:$L,'[20]WorkDone DATA'!$N:$N,BOQ!AH$6,'[20]WorkDone DATA'!$G:$G,BOQ!$B14)*$G14 -> #VALUE! | ... BX14: =SUMIFS('[20]WorkDone DATA'!$L:$L,'[20]WorkDone DATA'!$N:$N,BOQ!BX$6,'[20]WorkDone DATA'!$G:$G,BOQ!$B14)*$G14 -> #VALUE!
A15: =C13 -> 500mm2 x 1 core (EXX01WCV) 6.35kV/11kV (Trefoil clamps) New | B15: 2.004 | C15: Installation | D15: A | E15: m | F15: 8020 | G15: 117.05 | H15: =G15*F15 -> 938741 | K15: =M15/G15 -> 0 | L15: =SUMIF(R8:Y8,S8,R15:Y15) -> 0 | M15: =SUMIF(R8:BX8,S8,R15:BX15) -> 0 | O15: =F15-K15 -> 8020 | P15: =H15-M15 -> 938741 | R15: =SUMIFS('[20]WorkDone DATA'!$L:$L,'[20]WorkDone DATA'!$N:$N,BOQ!S$6,'[20]WorkDone DATA'!$G:$G,BOQ!$B15) -> #VALUE! | S15: =R15*G15 -> #VALUE! | T15: =SUMIFS('[20]WorkDone DATA'!$L:$L,'[20]WorkDone DATA'!$N:$N,BOQ!U$6,'[20]WorkDone DATA'!$G:$G,BOQ!$B15) -> #VALUE! | U15: =T15*G15 -> #VALUE! | W15: =SUMIFS('[20]WorkDone DATA'!$L:$L,'[20]WorkDone DATA'!$N:$N,BOQ!W$6,'[20]WorkDone DATA'!$G:$G,BOQ!$B15)*$G15 -> #VALUE! | Y15: =SUMIFS('[20]WorkDone DATA'!$L:$L,'[20]WorkDone DATA'!$N:$N,BOQ!Y$6,'[20]WorkDone DATA'!$G:$G,BOQ!$B15)*$G15 -> #VALUE! | AA15: =SUMIFS('[20]WorkDone DATA'!$L:$L,'[20]WorkDone DATA'!$N:$N,BOQ!AA$6,'[20]WorkDone DATA'!$G:$G,BOQ!$B15)*$G15 -> #VALUE! | AB15: =SUMIFS('[20]WorkDone DATA'!$L:$L,'[20]WorkDone DATA'!$N:$N,BOQ!AB$6,'[20]WorkDone DATA'!$G:$G,BOQ!$B15)*$G15 -> #VALUE! | AC15: =SUMIFS('[20]WorkDone DATA'!$L:$L,'[20]WorkDone DATA'!$N:$N,BOQ!AC$6,'[20]WorkDone DATA'!$G:$G,BOQ!$B15)*$G15 -> #VALUE! | AD15: =SUMIFS('[20]WorkDone DATA'!$L:$L,'[20]WorkDone DATA'!$N:$N,BOQ!AD$6,'[20]WorkDone DATA'!$G:$G,BOQ!$B15)*$G15 -> #VALUE! | AE15: =SUMIFS('[20]WorkDone DATA'!$L:$L,'[20]WorkDone DATA'!$N:$N,BOQ!AE$6,'[20]WorkDone DATA'!$G:$G,BOQ!$B15)*$G15 -> #VALUE! | AF15: =SUMIFS('[20]WorkDone DATA'!$L:$L,'[20]WorkDone DATA'!$N:$N,BOQ!AF$6,'[20]WorkDone DATA'!$G:$G,BOQ!$B15)*$G15 -> #VALUE! | AG15: =SUMIFS('[20]WorkDone DATA'!$L:$L,'[20]WorkDone DATA'!$N:$N,BOQ!AG$6,'[20]WorkDone DATA'!$G:$G,BOQ!$B15)*$G15 -> #VALUE! | AH15: =SUMIFS('[20]WorkDone DATA'!$L:$L,'[20]WorkDone DATA'!$N:$N,BOQ!AH$6,'[20]WorkDone DATA'!$G:$G,BOQ!$B15)*$G15 -> #VALUE! | ... BX15: =SUMIFS('[20]WorkDone DATA'!$L:$L,'[20]WorkDone DATA'!$N:$N,BOQ!BX$6,'[20]WorkDone DATA'!$G:$G,BOQ!$B15)*$G15 -> #VALUE!
C16: XLPE 11KV | H16: =G16*F16 -> 0 | L16: =SUMIF(R9:Y9,S9,R16:Y16) -> 0 | M16: =SUMIF(R9:BX9,S9,R16:BX16) -> 0 | O16: =F16-K16 -> 0 | P16: =H16-M16 -> 0 | R16: =SUMIFS('[20]WorkDone DATA'!$L:$L,'[20]WorkDone DATA'!$N:$N,BOQ!S$6,'[20]WorkDone DATA'!$G:$G,BOQ!$B16) -> #VALUE! | S16: =R16*G16 -> #VALUE! | T16: =SUMIFS('[20]WorkDone DATA'!$L:$L,'[20]WorkDone DATA'!$N:$N,BOQ!U$6,'[20]WorkDone DATA'!$G:$G,BOQ!$B16) -> #VALUE! | U16: =T16*G16 -> #VALUE! | W16: =SUMIFS('[20]WorkDone DATA'!$L:$L,'[20]WorkDone DATA'!$N:$N,BOQ!W$6,'[20]WorkDone DATA'!$G:$G,BOQ!$B16)*$G16 -> #VALUE! | Y16: =SUMIFS('[20]WorkDone DATA'!$L:$L,'[20]WorkDone DATA'!$N:$N,BOQ!Y$6,'[20]WorkDone DATA'!$G:$G,BOQ!$B16)*$G16 -> #VALUE! | AA16: =SUMIFS('[20]WorkDone DATA'!$L:$L,'[20]WorkDone DATA'!$N:$N,BOQ!AA$6,'[20]WorkDone DATA'!$G:$G,BOQ!$B16)*$G16 -> #VALUE! | AB16: =SUMIFS('[20]WorkDone DATA'!$L:$L,'[20]WorkDone DATA'!$N:$N,BOQ!AB$6,'[20]WorkDone DATA'!$G:$G,BOQ!$B16)*$G16 -> #VALUE! | AC16: =SUMIFS('[20]WorkDone DATA'!$L:$L,'[20]WorkDone DATA'!$N:$N,BOQ!AC$6,'[20]WorkDone DATA'!$G:$G,BOQ!$B16)*$G16 -> #VALUE! | AD16: =SUMIFS('[20]WorkDone DATA'!$L:$L,'[20]WorkDone DATA'!$N:$N,BOQ!AD$6,'[20]WorkDone DATA'!$G:$G,BOQ!$B16)*$G16 -> #VALUE! | AE16: =SUMIFS('[20]WorkDone DATA'!$L:$L,'[20]WorkDone DATA'!$N:$N,BOQ!AE$6,'[20]WorkDone DATA'!$G:$G,BOQ!$B16)*$G16 -> #VALUE! | AF16: =SUMIFS('[20]WorkDone DATA'!$L:$L,'[20]WorkDone DATA'!$N:$N,BOQ!AF$6,'[20]WorkDone DATA'!$G:$G,BOQ!$B16)*$G16 -> #VALUE! | AG16: =SUMIFS('[20]WorkDone DATA'!$L:$L,'[20]WorkDone DATA'!$N:$N,BOQ!AG$6,'[20]WorkDone DATA'!$G:$G,BOQ!$B16)*$G16 -> #VALUE! | AH16: =SUMIFS('[20]WorkDone DATA'!$L:$L,'[20]WorkDone DATA'!$N:$N,BOQ!AH$6,'[20]WorkDone DATA'!$G:$G,BOQ!$B16)*$G16 -> #VALUE! | ... BX16: =SUMIFS('[20]WorkDone DATA'!$L:$L,'[20]WorkDone DATA'!$N:$N,BOQ!BX$6,'[20]WorkDone DATA'!$G:$G,BOQ!$B16)*$G16 -> #VALUE!
C17: 300mm2 x 1 core (EXX01UCM) 6.35kV/11kV | H17: =G17*F17 -> 0 | L17: =SUMIF(R10:Y10,S10,R17:Y17) -> 0 | M17: =SUMIF(R10:BX10,S10,R17:BX17) -> 0 | O17: =F17-K17 -> 0 | P17: =H17-M17 -> 0 | R17: =SUMIFS('[20]WorkDone DATA'!$L:$L,'[20]WorkDone DATA'!$N:$N,BOQ!S$6,'[20]WorkDone DATA'!$G:$G,BOQ!$B17) -> #VALUE! | S17: =R17*G17 -> #VALUE! | T17: =SUMIFS('[20]WorkDone DATA'!$L:$L,'[20]WorkDone DATA'!$N:$N,BOQ!U$6,'[20]WorkDone DATA'!$G:$G,BOQ!$B17) -> #VALUE! | U17: =T17*G17 -> #VALUE! | W17: =SUMIFS('[20]WorkDone DATA'!$L:$L,'[20]WorkDone DATA'!$N:$N,BOQ!W$6,'[20]WorkDone DATA'!$G:$G,BOQ!$B17)*$G17 -> #VALUE! | Y17: =SUMIFS('[20]WorkDone DATA'!$L:$L,'[20]WorkDone DATA'!$N:$N,BOQ!Y$6,'[20]WorkDone DATA'!$G:$G,BOQ!$B17)*$G17 -> #VALUE! | AA17: =SUMIFS('[20]WorkDone DATA'!$L:$L,'[20]WorkDone DATA'!$N:$N,BOQ!AA$6,'[20]WorkDone DATA'!$G:$G,BOQ!$B17)*$G17 -> #VALUE! | AB17: =SUMIFS('[20]WorkDone DATA'!$L:$L,'[20]WorkDone DATA'!$N:$N,BOQ!AB$6,'[20]WorkDone DATA'!$G:$G,BOQ!$B17)*$G17 -> #VALUE! | AC17: =SUMIFS('[20]WorkDone DATA'!$L:$L,'[20]WorkDone DATA'!$N:$N,BOQ!AC$6,'[20]WorkDone DATA'!$G:$G,BOQ!$B17)*$G17 -> #VALUE! | AD17: =SUMIFS('[20]WorkDone DATA'!$L:$L,'[20]WorkDone DATA'!$N:$N,BOQ!AD$6,'[20]WorkDone DATA'!$G:$G,BOQ!$B17)*$G17 -> #VALUE! | AE17: =SUMIFS('[20]WorkDone DATA'!$L:$L,'[20]WorkDone DATA'!$N:$N,BOQ!AE$6,'[20]WorkDone DATA'!$G:$G,BOQ!$B17)*$G17 -> #VALUE! | AF17: =SUMIFS('[20]WorkDone DATA'!$L:$L,'[20]WorkDone DATA'!$N:$N,BOQ!AF$6,'[20]WorkDone DATA'!$G:$G,BOQ!$B17)*$G17 -> #VALUE! | AG17: =SUMIFS('[20]WorkDone DATA'!$L:$L,'[20]WorkDone DATA'!$N:$N,BOQ!AG$6,'[20]WorkDone DATA'!$G:$G,BOQ!$B17)*$G17 -> #VALUE! | AH17: =SUMIFS('[20]WorkDone DATA'!$L:$L,'[20]WorkDone DATA'!$N:$N,BOQ!AH$6,'[20]WorkDone DATA'!$G:$G,BOQ!$B17)*$G17 -> #VALUE! | ... BX17: =SUMIFS('[20]WorkDone DATA'!$L:$L,'[20]WorkDone DATA'!$N:$N,BOQ!BX$6,'[20]WorkDone DATA'!$G:$G,BOQ!$B17)*$G17 -> #VALUE!
A18: =C17 -> 300mm2 x 1 core (EXX01UCM) 6.35kV/11kV | B18: 2.005 | C18: Supply | D18: E | E18: m | F18: 7500 | G18: 905.62 | H18: =G18*F18 -> 6792150 | K18: =M18/G18 -> #VALUE! | L18: =SUMIF(R11:Y11,S11,R18:Y18) -> #VALUE! | M18: =SUMIF(R11:BX11,S11,R18:BX18) -> #VALUE! | O18: =F18-K18 -> #VALUE! | P18: =H18-M18 -> #VALUE! | R18: =SUMIFS('[20]WorkDone DATA'!$L:$L,'[20]WorkDone DATA'!$N:$N,BOQ!S$6,'[20]WorkDone DATA'!$G:$G,BOQ!$B18) -> #VALUE! | S18: =R18*G18 -> #VALUE! | T18: =SUMIFS('[20]WorkDone DATA'!$L:$L,'[20]WorkDone DATA'!$N:$N,BOQ!U$6,'[20]WorkDone DATA'!$G:$G,BOQ!$B18) -> #VALUE! | U18: =T18*G18 -> #VALUE! | W18: =SUMIFS('[20]WorkDone DATA'!$L:$L,'[20]WorkDone DATA'!$N:$N,BOQ!W$6,'[20]WorkDone DATA'!$G:$G,BOQ!$B18)*$G18 -> #VALUE! | Y18: =SUMIFS('[20]WorkDone DATA'!$L:$L,'[20]WorkDone DATA'!$N:$N,BOQ!Y$6,'[20]WorkDone DATA'!$G:$G,BOQ!$B18)*$G18 -> #VALUE! | AA18: =SUMIFS('[20]WorkDone DATA'!$L:$L,'[20]WorkDone DATA'!$N:$N,BOQ!AA$6,'[20]WorkDone DATA'!$G:$G,BOQ!$B18)*$G18 -> #VALUE! | AB18: =SUMIFS('[20]WorkDone DATA'!$L:$L,'[20]WorkDone DATA'!$N:$N,BOQ!AB$6,'[20]WorkDone DATA'!$G:$G,BOQ!$B18)*$G18 -> #VALUE! | AC18: =SUMIFS('[20]WorkDone DATA'!$L:$L,'[20]WorkDone DATA'!$N:$N,BOQ!AC$6,'[20]WorkDone DATA'!$G:$G,BOQ!$B18)*$G18 -> #VALUE! | AD18: =SUMIFS('[20]WorkDone DATA'!$L:$L,'[20]WorkDone DATA'!$N:$N,BOQ!AD$6,'[20]WorkDone DATA'!$G:$G,BOQ!$B18)*$G18 -> #VALUE! | AE18: =SUMIFS('[20]WorkDone DATA'!$L:$L,'[20]WorkDone DATA'!$N:$N,BOQ!AE$6,'[20]WorkDone DATA'!$G:$G,BOQ!$B18)*$G18 -> #VALUE! | AF18: =SUMIFS('[20]WorkDone DATA'!$L:$L,'[20]WorkDone DATA'!$N:$N,BOQ!AF$6,'[20]WorkDone DATA'!$G:$G,BOQ!$B18)*$G18 -> #VALUE! | AG18: =SUMIFS('[20]WorkDone DATA'!$L:$L,'[20]WorkDone DATA'!$N:$N,BOQ!AG$6,'[20]WorkDone DATA'!$G:$G,BOQ!$B18)*$G18 -> #VALUE! | AH18: =SUMIFS('[20]WorkDone DATA'!$L:$L,'[20]WorkDone DATA'!$N:$N,BOQ!AH$6,'[20]WorkDone DATA'!$G:$G,BOQ!$B18)*$G18 -> #VALUE! | ... BX18: =SUMIFS('[20]WorkDone DATA'!$L:$L,'[20]WorkDone DATA'!$N:$N,BOQ!BX$6,'[20]WorkDone DATA'!$G:$G,BOQ!$B18)*$G18 -> #VALUE!
A19: =C17 -> 300mm2 x 1 core (EXX01UCM) 6.35kV/11kV | B19: 2.006 | C19: Installation | D19: A | E19: m | F19: 7500 | G19: 103.38 | H19: =G19*F19 -> 775350 | K19: =M19/G19 -> #VALUE! | L19: =SUMIF(R12:Y12,S12,R19:Y19) -> #VALUE! | M19: =SUMIF(R12:BX12,S12,R19:BX19) -> #VALUE! | O19: =F19-K19 -> #VALUE! | P19: =H19-M19 -> #VALUE! | R19: =SUMIFS('[20]WorkDone DATA'!$L:$L,'[20]WorkDone DATA'!$N:$N,BOQ!S$6,'[20]WorkDone DATA'!$G:$G,BOQ!$B19) -> #VALUE! | S19: =R19*G19 -> #VALUE! | T19: =SUMIFS('[20]WorkDone DATA'!$L:$L,'[20]WorkDone DATA'!$N:$N,BOQ!U$6,'[20]WorkDone DATA'!$G:$G,BOQ!$B19) -> #VALUE! | U19: =T19*G19 -> #VALUE! | W19: =SUMIFS('[20]WorkDone DATA'!$L:$L,'[20]WorkDone DATA'!$N:$N,BOQ!W$6,'[20]WorkDone DATA'!$G:$G,BOQ!$B19)*$G19 -> #VALUE! | Y19: =SUMIFS('[20]WorkDone DATA'!$L:$L,'[20]WorkDone DATA'!$N:$N,BOQ!Y$6,'[20]WorkDone DATA'!$G:$G,BOQ!$B19)*$G19 -> #VALUE! | AA19: =SUMIFS('[20]WorkDone DATA'!$L:$L,'[20]WorkDone DATA'!$N:$N,BOQ!AA$6,'[20]WorkDone DATA'!$G:$G,BOQ!$B19)*$G19 -> #VALUE! | AB19: =SUMIFS('[20]WorkDone DATA'!$L:$L,'[20]WorkDone DATA'!$N:$N,BOQ!AB$6,'[20]WorkDone DATA'!$G:$G,BOQ!$B19)*$G19 -> #VALUE! | AC19: =SUMIFS('[20]WorkDone DATA'!$L:$L,'[20]WorkDone DATA'!$N:$N,BOQ!AC$6,'[20]WorkDone DATA'!$G:$G,BOQ!$B19)*$G19 -> #VALUE! | AD19: =SUMIFS('[20]WorkDone DATA'!$L:$L,'[20]WorkDone DATA'!$N:$N,BOQ!AD$6,'[20]WorkDone DATA'!$G:$G,BOQ!$B19)*$G19 -> #VALUE! | AE19: =SUMIFS('[20]WorkDone DATA'!$L:$L,'[20]WorkDone DATA'!$N:$N,BOQ!AE$6,'[20]WorkDone DATA'!$G:$G,BOQ!$B19)*$G19 -> #VALUE! | AF19: =SUMIFS('[20]WorkDone DATA'!$L:$L,'[20]WorkDone DATA'!$N:$N,BOQ!AF$6,'[20]WorkDone DATA'!$G:$G,BOQ!$B19)*$G19 -> #VALUE! | AG19: =SUMIFS('[20]WorkDone DATA'!$L:$L,'[20]WorkDone DATA'!$N:$N,BOQ!AG$6,'[20]WorkDone DATA'!$G:$G,BOQ!$B19)*$G19 -> #VALUE! | AH19: =SUMIFS('[20]WorkDone DATA'!$L:$L,'[20]WorkDone DATA'!$N:$N,BOQ!AH$6,'[20]WorkDone DATA'!$G:$G,BOQ!$B19)*$G19 -> #VALUE! | ... BX19: =SUMIFS('[20]WorkDone DATA'!$L:$L,'[20]WorkDone DATA'!$N:$N,BOQ!BX$6,'[20]WorkDone DATA'!$G:$G,BOQ!$B19)*$G19 -> #VALUE!
C20: 120mm2 x 1core (EXX01QCV) 6.35 kV/11kV New | H20: =G20*F20 -> 0 | L20: =SUMIF(R13:Y13,S13,R20:Y20) -> #VALUE! | M20: =SUMIF(R13:BX13,S13,R20:BX20) -> #VALUE! | O20: =F20-K20 -> 0 | P20: =H20-M20 -> #VALUE! | R20: =SUMIFS('[20]WorkDone DATA'!$L:$L,'[20]WorkDone DATA'!$N:$N,BOQ!S$6,'[20]WorkDone DATA'!$G:$G,BOQ!$B20) -> #VALUE! | S20: =R20*G20 -> #VALUE! | T20: =SUMIFS('[20]WorkDone DATA'!$L:$L,'[20]WorkDone DATA'!$N:$N,BOQ!U$6,'[20]WorkDone DATA'!$G:$G,BOQ!$B20) -> #VALUE! | U20: =T20*G20 -> #VALUE! | W20: =SUMIFS('[20]WorkDone DATA'!$L:$L,'[20]WorkDone DATA'!$N:$N,BOQ!W$6,'[20]WorkDone DATA'!$G:$G,BOQ!$B20)*$G20 -> #VALUE! | Y20: =SUMIFS('[20]WorkDone DATA'!$L:$L,'[20]WorkDone DATA'!$N:$N,BOQ!Y$6,'[20]WorkDone DATA'!$G:$G,BOQ!$B20)*$G20 -> #VALUE! | AA20: =SUMIFS('[20]WorkDone DATA'!$L:$L,'[20]WorkDone DATA'!$N:$N,BOQ!AA$6,'[20]WorkDone DATA'!$G:$G,BOQ!$B20)*$G20 -> #VALUE! | AB20: =SUMIFS('[20]WorkDone DATA'!$L:$L,'[20]WorkDone DATA'!$N:$N,BOQ!AB$6,'[20]WorkDone DATA'!$G:$G,BOQ!$B20)*$G20 -> #VALUE! | AC20: =SUMIFS('[20]WorkDone DATA'!$L:$L,'[20]WorkDone DATA'!$N:$N,BOQ!AC$6,'[20]WorkDone DATA'!$G:$G,BOQ!$B20)*$G20 -> #VALUE! | AD20: =SUMIFS('[20]WorkDone DATA'!$L:$L,'[20]WorkDone DATA'!$N:$N,BOQ!AD$6,'[20]WorkDone DATA'!$G:$G,BOQ!$B20)*$G20 -> #VALUE! | AE20: =SUMIFS('[20]WorkDone DATA'!$L:$L,'[20]WorkDone DATA'!$N:$N,BOQ!AE$6,'[20]WorkDone DATA'!$G:$G,BOQ!$B20)*$G20 -> #VALUE! | AF20: =SUMIFS('[20]WorkDone DATA'!$L:$L,'[20]WorkDone DATA'!$N:$N,BOQ!AF$6,'[20]WorkDone DATA'!$G:$G,BOQ!$B20)*$G20 -> #VALUE! | AG20: =SUMIFS('[20]WorkDone DATA'!$L:$L,'[20]WorkDone DATA'!$N:$N,BOQ!AG$6,'[20]WorkDone DATA'!$G:$G,BOQ!$B20)*$G20 -> #VALUE! | AH20: =SUMIFS('[20]WorkDone DATA'!$L:$L,'[20]WorkDone DATA'!$N:$N,BOQ!AH$6,'[20]WorkDone DATA'!$G:$G,BOQ!$B20)*$G20 -> #VALUE! | ... BX20: =SUMIFS('[20]WorkDone DATA'!$L:$L,'[20]WorkDone DATA'!$N:$N,BOQ!BX$6,'[20]WorkDone DATA'!$G:$G,BOQ!$B20)*$G20 -> #VALUE!
A21: =C20 -> 120mm2 x 1core (EXX01QCV) 6.35 kV/11kV New | B21: 2.007 | C21: Supply | D21: E | E21: m | F21: 14400 | G21: 417.34 | H21: =G21*F21 -> 6009696 | K21: =M21/G21 -> #VALUE! | L21: =SUMIF(R14:Y14,S14,R21:Y21) -> #VALUE! | M21: =SUMIF(R14:BX14,S14,R21:BX21) -> #VALUE! | O21: =F21-K21 -> #VALUE! | P21: =H21-M21 -> #VALUE! | R21: =SUMIFS('[20]WorkDone DATA'!$L:$L,'[20]WorkDone DATA'!$N:$N,BOQ!S$6,'[20]WorkDone DATA'!$G:$G,BOQ!$B21) -> #VALUE! | S21: =R21*G21 -> #VALUE! | T21: =SUMIFS('[20]WorkDone DATA'!$L:$L,'[20]WorkDone DATA'!$N:$N,BOQ!U$6,'[20]WorkDone DATA'!$G:$G,BOQ!$B21) -> #VALUE! | U21: =T21*G21 -> #VALUE! | W21: =SUMIFS('[20]WorkDone DATA'!$L:$L,'[20]WorkDone DATA'!$N:$N,BOQ!W$6,'[20]WorkDone DATA'!$G:$G,BOQ!$B21)*$G21 -> #VALUE! | Y21: =SUMIFS('[20]WorkDone DATA'!$L:$L,'[20]WorkDone DATA'!$N:$N,BOQ!Y$6,'[20]WorkDone DATA'!$G:$G,BOQ!$B21)*$G21 -> #VALUE! | AA21: =SUMIFS('[20]WorkDone DATA'!$L:$L,'[20]WorkDone DATA'!$N:$N,BOQ!AA$6,'[20]WorkDone DATA'!$G:$G,BOQ!$B21)*$G21 -> #VALUE! | AB21: =SUMIFS('[20]WorkDone DATA'!$L:$L,'[20]WorkDone DATA'!$N:$N,BOQ!AB$6,'[20]WorkDone DATA'!$G:$G,BOQ!$B21)*$G21 -> #VALUE! | AC21: =SUMIFS('[20]WorkDone DATA'!$L:$L,'[20]WorkDone DATA'!$N:$N,BOQ!AC$6,'[20]WorkDone DATA'!$G:$G,BOQ!$B21)*$G21 -> #VALUE! | AD21: =SUMIFS('[20]WorkDone DATA'!$L:$L,'[20]WorkDone DATA'!$N:$N,BOQ!AD$6,'[20]WorkDone DATA'!$G:$G,BOQ!$B21)*$G21 -> #VALUE! | AE21: =SUMIFS('[20]WorkDone DATA'!$L:$L,'[20]WorkDone DATA'!$N:$N,BOQ!AE$6,'[20]WorkDone DATA'!$G:$G,BOQ!$B21)*$G21 -> #VALUE! | AF21: =SUMIFS('[20]WorkDone DATA'!$L:$L,'[20]WorkDone DATA'!$N:$N,BOQ!AF$6,'[20]WorkDone DATA'!$G:$G,BOQ!$B21)*$G21 -> #VALUE! | AG21: =SUMIFS('[20]WorkDone DATA'!$L:$L,'[20]WorkDone DATA'!$N:$N,BOQ!AG$6,'[20]WorkDone DATA'!$G:$G,BOQ!$B21)*$G21 -> #VALUE! | AH21: =SUMIFS('[20]WorkDone DATA'!$L:$L,'[20]WorkDone DATA'!$N:$N,BOQ!AH$6,'[20]WorkDone DATA'!$G:$G,BOQ!$B21)*$G21 -> #VALUE! | ... BX21: =SUMIFS('[20]WorkDone DATA'!$L:$L,'[20]WorkDone DATA'!$N:$N,BOQ!BX$6,'[20]WorkDone DATA'!$G:$G,BOQ!$B21)*$G21 -> #VALUE!
