Workbook
Name _.: #REF!
Name _.: #REF!
Name _R: #REF!
Name _R: #REF!
Name Area_Print: #REF!
Name Area_Print: #REF!
Name Clear_CAST_Price_Summary: AVEVA!Clear_CAST_Price_Summary
Name Clear_CAST_Price_Summary: Currency!Clear_CAST_Price_Summary
Name Clear_CAST_Price_Summary: [0]!Clear_CAST_Price_Summary
Name Cost_Allocation: [1]Data!$C$2:$C$12
Name Cost_Allocation: [2]Data!$C$2:$C$12
Name CPA_Data: [1]Data!$F$2:$F$14
Name CPA_Data: [2]Data!$F$2:$F$14
Name Currency: [1]Data!$E$2:$E$19
Name Currency: [2]Data!$E$2:$E$19
Name Currency_A: [3]Data!$E$2:$E$19
Name Currency_A: [4]Data!$E$2:$E$19
Name Currency_Allocated: '[5]Option X3'!$D$9:$D$26
Name Currency_Allocated: '[6]Option X3'!$D$9:$D$26
Name CurrencyA: [7]Data!$E$2:$E$19
Name D: #REF!
Name D: #REF!
Name Data: AVEVA!#REF!
Name Data: #REF!
Name Data_Daywork: #REF!
Name Data_Daywork: #REF!
Name Data_Opt_Bill5: #REF!
Name Data_Opt_Bill5: #REF!
Name Option_N: '[5]Option X5'!$H$9:$H$18
Name Option_N: '[6]Option X5'!$H$9:$H$18
Name P: #REF!
Name P: #REF!
Name PS5_Allocation: [1]Data!$B$2:$B$20
Name PS5_Allocation: [2]Data!$B$2:$B$20
Name Q: #REF!
Name Q: #REF!
Name S: #REF!
Name S: #REF!
Name Sort_Data: #REF!
Name Sort_Data: #REF!
Name w: AVEVA!w
Name w: Currency!w
Name w: [0]!w

Sheet AVEVA
C1: Pricing Schedule : Aveva Support
C3: VENDOR NAME
C7: IMPORTANT NOTES
C8: All cells highlighted in GREEN must be completed
C9: Quoted prices MUST be in ZAR, EXCLUDING VAT and ESCALATIONS
C11: Aveva Support
C12: Prices MUST be quoted based on the SCOPE provided
C13: Estimated quantities are based on the required number of Licenses
C14: Select the currency from the CURRENCY drop-down list in COLUMN "I"
C16: Capture the applicable Currency, ROE and ROE Published Date on the "Currency sheet".
C17: The adjustments for prevailing rates and the basis for future price adjustments will be determined at time of contracting.
C18: Exchange rate variations may not be claimed for the local mark-up in the pricing structure
... C22: All Prices must be exclusive of VAT
L28: YEAR 1 | Q28: YEAR 2 | V28: YEAR 3 | AA28: YEAR 4 | AF28: YEAR 5
C29: Site Name | D29: Licence Part No | E29: Licence Description | F29: Product Support Phase | G29: Unit charge | H29: CURRENCY | K29: Total Estimated Quantity | L29: Unit Price in Nominated Currency | M29: Unit Price in ZAR | N29: Total [Nominated Currency] | O29: Total in ZAR | P29: Total Estimated Quantity | Q29: Unit Price in Nominated Currency | R29: Unit Price in ZAR | S29: Total [Nominated Currency] | T29: Total in ZAR | U29: Total Estimated Quantity | V29: Unit Price in Nominated Currency | W29: Unit Price in ZAR | X29: Total [Nominated Currency] | Y29: Total in ZAR | Z29: Total Estimated Quantity | AA29: Unit Price in Nominated Currency | AB29: Unit Price in ZAR | AC29: Total [Nominated Currency] | AD29: Total in ZAR | AE29: Total Estimated Quantity | AF29: Unit Price in Nominated Currency | AG29: Unit Price in ZAR | AH29: Total [Nominated Currency] | AI29: Total in ZAR | AK29: CONTRACT PRICE ADJUSTMENT
C30: 111210 Port Rex | D30: InTch-05-C-23 | E30: UpgC, AVEVA InTouch HMI 2023 Workstation 10K Tag with I/O | F30: Full Support | G30: sum | H30: =IF(I30="","",IF(I30="ZAR","Local","Foreign")) -> Local | I30: ZAR | J30: =IF(H30="","",IF(H30="Foreign",VLOOKUP(I30,Currency!$E$20:$F$33,2,FALSE),1)) -> 1 | K30: 3 | L30: 0 | M30: =L30*$J30 -> 0 | N30: =L30*$K30 -> 0 | O30: =M30*$K30 -> 0 | P30: 3 | Q30: 0 | R30: =Q30*$J30 -> 0 | S30: =Q30*$P30 -> 0 | T30: =R30*$P30 -> 0 | U30: 3 | V30: 0 | W30: =V30*$J30 -> 0 | X30: =V30*$U30 -> 0 | Y30: =W30*$U30 -> 0 | Z30: 3 | AA30: 0 | AB30: =AA30*$J30 -> 0 | AC30: =AA30*Z30 -> 0 | AD30: =AB30*Z30 -> 0 | AE30: 3 | AF30: 0 | AG30: =AF30*$J30 -> 0 | AH30: =AF30*AE30 -> 0 | AI30: =AG30*AE30 -> 0
D31: HstStd-05-C-23 | E31: UpgC, AVEVA Historian 2023, Standard 25,000 Tag | F31: Full Support | G31: sum | H31: =IF(I31="","",IF(I31="ZAR","Local","Foreign")) -> Local | I31: ZAR | J31: =IF(H31="","",IF(H31="Foreign",VLOOKUP(I31,Currency!$E$20:$F$33,2,FALSE),1)) -> 1 | K31: 1 | L31: 0 | M31: =L31*$J31 -> 0 | N31: =L31*$K31 -> 0 | O31: =M31*$K31 -> 0 | P31: 1 | Q31: 0 | R31: =Q31*$J31 -> 0 | S31: =Q31*$P31 -> 0 | T31: =R31*$P31 -> 0 | U31: 1 | V31: 0 | W31: =V31*$J31 -> 0 | X31: =V31*$U31 -> 0 | Y31: =W31*$U31 -> 0 | Z31: 1 | AA31: 0 | AB31: =AA31*$J31 -> 0 | AC31: =AA31*Z31 -> 0 | AD31: =AB31*Z31 -> 0 | AE31: 1 | AF31: 0 | AG31: =AF31*$J31 -> 0 | AH31: =AF31*AE31 -> 0 | AI31: =AG31*AE31 -> 0
C32: 114345 Durbanville | D32: DevStd-04-C-23 | E32: UpgC, AVEVA Development Studio 2023 Unlimited, Unlim/Unlim/500 | F32: Full Support | G32: sum | H32: =IF(I32="","",IF(I32="ZAR","Local","Foreign")) -> Local | I32: ZAR | J32: =IF(H32="","",IF(H32="Foreign",VLOOKUP(I32,Currency!$E$20:$F$33,2,FALSE),1)) -> 1 | K32: 1 | L32: 0 | M32: =L32*$J32 -> 0 | N32: =L32*$K32 -> 0 | O32: =M32*$K32 -> 0 | P32: 1 | Q32: 0 | R32: =Q32*$J32 -> 0 | S32: =Q32*$P32 -> 0 | T32: =R32*$P32 -> 0 | U32: 1 | V32: 0 | W32: =V32*$J32 -> 0 | X32: =V32*$U32 -> 0 | Y32: =W32*$U32 -> 0 | Z32: 1 | AA32: 0 | AB32: =AA32*$J32 -> 0 | AC32: =AA32*Z32 -> 0 | AD32: =AB32*Z32 -> 0 | AE32: 1 | AF32: 0 | AG32: =AF32*$J32 -> 0 | AH32: =AF32*AE32 -> 0 | AI32: =AG32*AE32 -> 0
D33: BPM-51-C-17 | E33: UpgC, Wonderware Skelta BPM 2017 Developer Edition, 1 Seat | F33: Tech Support | G33: sum | H33: =IF(I33="","",IF(I33="ZAR","Local","Foreign")) -> Local | I33: ZAR | J33: =IF(H33="","",IF(H33="Foreign",VLOOKUP(I33,Currency!$E$20:$F$33,2,FALSE),1)) -> 1 | K33: 1 | L33: 0 | M33: =L33*$J33 -> 0 | N33: =L33*$K33 -> 0 | O33: =M33*$K33 -> 0 | P33: 1 | Q33: 0 | R33: =Q33*$J33 -> 0 | S33: =Q33*$P33 -> 0 | T33: =R33*$P33 -> 0 | U33: 1 | V33: 0 | W33: =V33*$J33 -> 0 | X33: =V33*$U33 -> 0 | Y33: =W33*$U33 -> 0 | Z33: 1 | AA33: 0 | AB33: =AA33*$J33 -> 0 | AC33: =AA33*Z33 -> 0 | AD33: =AB33*Z33 -> 0 | AE33: 1 | AF33: 0 | AG33: =AF33*$J33 -> 0 | AH33: =AF33*AE33 -> 0 | AI33: =AG33*AE33 -> 0
D34: DevStd-04-C-20 | E34: UpgC, AVEVA Development Studio 2020 Unlimited, Unlim/60K/500 | F34: Limited Support | G34: sum | H34: =IF(I34="","",IF(I34="ZAR","Local","Foreign")) -> Local | I34: ZAR | J34: =IF(H34="","",IF(H34="Foreign",VLOOKUP(I34,Currency!$E$20:$F$33,2,FALSE),1)) -> 1 | K34: 3 | L34: 0 | M34: =L34*$J34 -> 0 | N34: =L34*$K34 -> 0 | O34: =M34*$K34 -> 0 | P34: 3 | Q34: 0 | R34: =Q34*$J34 -> 0 | S34: =Q34*$P34 -> 0 | T34: =R34*$P34 -> 0 | U34: 3 | V34: 0 | W34: =V34*$J34 -> 0 | X34: =V34*$U34 -> 0 | Y34: =W34*$U34 -> 0 | Z34: 3 | AA34: 0 | AB34: =AA34*$J34 -> 0 | AC34: =AA34*Z34 -> 0 | AD34: =AB34*Z34 -> 0 | AE34: 3 | AF34: 0 | AG34: =AF34*$J34 -> 0 | AH34: =AF34*AE34 -> 0 | AI34: =AG34*AE34 -> 0
D35: HstStd-03-C-20 | E35: UpgC, AVEVA Historian 2020, Standard 5,000 Tag | F35: Limited Support | G35: sum | H35: =IF(I35="","",IF(I35="ZAR","Local","Foreign")) -> Local | I35: ZAR | J35: =IF(H35="","",IF(H35="Foreign",VLOOKUP(I35,Currency!$E$20:$F$33,2,FALSE),1)) -> 1 | K35: 1 | L35: 0 | M35: =L35*$J35 -> 0 | N35: =L35*$K35 -> 0 | O35: =M35*$K35 -> 0 | P35: 1 | Q35: 0 | R35: =Q35*$J35 -> 0 | S35: =Q35*$P35 -> 0 | T35: =R35*$P35 -> 0 | U35: 1 | V35: 0 | W35: =V35*$J35 -> 0 | X35: =V35*$U35 -> 0 | Y35: =W35*$U35 -> 0 | Z35: 1 | AA35: 0 | AB35: =AA35*$J35 -> 0 | AC35: =AA35*Z35 -> 0 | AD35: =AB35*Z35 -> 0 | AE35: 1 | AF35: 0 | AG35: =AF35*$J35 -> 0 | AH35: =AF35*AE35 -> 0 | AI35: =AG35*AE35 -> 0
D36: HstClt-04-C-20 | E36: UpgC, AVEVA Historian Client Desktop 2020, Concurrent User 20 Pack | F36: Limited Support | G36: sum | H36: =IF(I36="","",IF(I36="ZAR","Local","Foreign")) -> Local | I36: ZAR | J36: =IF(H36="","",IF(H36="Foreign",VLOOKUP(I36,Currency!$E$20:$F$33,2,FALSE),1)) -> 1 | K36: 1 | L36: 0 | M36: =L36*$J36 -> 0 | N36: =L36*$K36 -> 0 | O36: =M36*$K36 -> 0 | P36: 1 | Q36: 0 | R36: =Q36*$J36 -> 0 | S36: =Q36*$P36 -> 0 | T36: =R36*$P36 -> 0 | U36: 1 | V36: 0 | W36: =V36*$J36 -> 0 | X36: =V36*$U36 -> 0 | Y36: =W36*$U36 -> 0 | Z36: 1 | AA36: 0 | AB36: =AA36*$J36 -> 0 | AC36: =AA36*Z36 -> 0 | AD36: =AB36*Z36 -> 0 | AE36: 1 | AF36: 0 | AG36: =AF36*$J36 -> 0 | AH36: =AF36*AE36 -> 0 | AI36: =AG36*AE36 -> 0
D37: HstClt-01-C-20 | E37: UpgC, AVEVA Historian Client Desktop 2020, Concurrent User Single | F37: Limited Support | G37: sum | H37: =IF(I37="","",IF(I37="ZAR","Local","Foreign")) -> Local | I37: ZAR | J37: =IF(H37="","",IF(H37="Foreign",VLOOKUP(I37,Currency!$E$20:$F$33,2,FALSE),1)) -> 1 | K37: 3 | L37: 0 | M37: =L37*$J37 -> 0 | N37: =L37*$K37 -> 0 | O37: =M37*$K37 -> 0 | P37: 3 | Q37: 0 | R37: =Q37*$J37 -> 0 | S37: =Q37*$P37 -> 0 | T37: =R37*$P37 -> 0 | U37: 3 | V37: 0 | W37: =V37*$J37 -> 0 | X37: =V37*$U37 -> 0 | Y37: =W37*$U37 -> 0 | Z37: 3 | AA37: 0 | AB37: =AA37*$J37 -> 0 | AC37: =AA37*Z37 -> 0 | AD37: =AB37*Z37 -> 0 | AE37: 3 | AF37: 0 | AG37: =AF37*$J37 -> 0 | AH37: =AF37*AE37 -> 0 | AI37: =AG37*AE37 -> 0
D38: HstClt-03-C-20 | E38: UpgC, AVEVA Historian Client Desktop 2020, Concurrent User 10 Pack | F38: Limited Support | G38: sum | H38: =IF(I38="","",IF(I38="ZAR","Local","Foreign")) -> Local | I38: ZAR | J38: =IF(H38="","",IF(H38="Foreign",VLOOKUP(I38,Currency!$E$20:$F$33,2,FALSE),1)) -> 1 | K38: 1 | L38: 0 | M38: =L38*$J38 -> 0 | N38: =L38*$K38 -> 0 | O38: =M38*$K38 -> 0 | P38: 1 | Q38: 0 | R38: =Q38*$J38 -> 0 | S38: =Q38*$P38 -> 0 | T38: =R38*$P38 -> 0 | U38: 1 | V38: 0 | W38: =V38*$J38 -> 0 | X38: =V38*$U38 -> 0 | Y38: =W38*$U38 -> 0 | Z38: 1 | AA38: 0 | AB38: =AA38*$J38 -> 0 | AC38: =AA38*Z38 -> 0 | AD38: =AB38*Z38 -> 0 | AE38: 1 | AF38: 0 | AG38: =AF38*$J38 -> 0 | AH38: =AF38*AE38 -> 0 | AI38: =AG38*AE38 -> 0
D39: AVCAL-05-C-19 | E39: UpgC, AVEVA CAL without MS CAL, 50 Pack | F39: Tech Support | G39: sum | H39: =IF(I39="","",IF(I39="ZAR","Local","Foreign")) -> Local | I39: ZAR | J39: =IF(H39="","",IF(H39="Foreign",VLOOKUP(I39,Currency!$E$20:$F$33,2,FALSE),1)) -> 1 | K39: 1 | L39: 0 | M39: =L39*$J39 -> 0 | N39: =L39*$K39 -> 0 | O39: =M39*$K39 -> 0 | P39: 1 | Q39: 0 | R39: =Q39*$J39 -> 0 | S39: =Q39*$P39 -> 0 | T39: =R39*$P39 -> 0 | U39: 1 | V39: 0 | W39: =V39*$J39 -> 0 | X39: =V39*$U39 -> 0 | Y39: =W39*$U39 -> 0 | Z39: 1 | AA39: 0 | AB39: =AA39*$J39 -> 0 | AC39: =AA39*Z39 -> 0 | AD39: =AB39*Z39 -> 0 | AE39: 1 | AF39: 0 | AG39: =AF39*$J39 -> 0 | AH39: =AF39*AE39 -> 0 | AI39: =AG39*AE39 -> 0
C40: 114348 Drakensburg | D40: InTch-10-C-23 | E40: UpgC, AVEVA InTouch HMI 2023 Workstation 100K Tag no I/O | F40: Full Support | G40: sum | H40: =IF(I40="","",IF(I40="ZAR","Local","Foreign")) -> Local | I40: ZAR | J40: =IF(H40="","",IF(H40="Foreign",VLOOKUP(I40,Currency!$E$20:$F$33,2,FALSE),1)) -> 1 | K40: 8 | L40: 0 | M40: =L40*$J40 -> 0 | N40: =L40*$K40 -> 0 | O40: =M40*$K40 -> 0 | P40: 8 | Q40: 0 | R40: =Q40*$J40 -> 0 | S40: =Q40*$P40 -> 0 | T40: =R40*$P40 -> 0 | U40: 8 | V40: 0 | W40: =V40*$J40 -> 0 | X40: =V40*$U40 -> 0 | Y40: =W40*$U40 -> 0 | Z40: 8 | AA40: 0 | AB40: =AA40*$J40 -> 0 | AC40: =AA40*Z40 -> 0 | AD40: =AB40*Z40 -> 0 | AE40: 8 | AF40: 0 | AG40: =AF40*$J40 -> 0 | AH40: =AF40*AE40 -> 0 | AI40: =AG40*AE40 -> 0
D41: HstStd-05-C-23 | E41: UpgC, AVEVA Historian 2023, Standard 25,000 Tag | F41: Full Support | G41: sum | H41: =IF(I41="","",IF(I41="ZAR","Local","Foreign")) -> Local | I41: ZAR | J41: =IF(H41="","",IF(H41="Foreign",VLOOKUP(I41,Currency!$E$20:$F$33,2,FALSE),1)) -> 1 | K41: 1 | L41: 0 | M41: =L41*$J41 -> 0 | N41: =L41*$K41 -> 0 | O41: =M41*$K41 -> 0 | P41: 1 | Q41: 0 | R41: =Q41*$J41 -> 0 | S41: =Q41*$P41 -> 0 | T41: =R41*$P41 -> 0 | U41: 1 | V41: 0 | W41: =V41*$J41 -> 0 | X41: =V41*$U41 -> 0 | Y41: =W41*$U41 -> 0 | Z41: 1 | AA41: 0 | AB41: =AA41*$J41 -> 0 | AC41: =AA41*Z41 -> 0 | AD41: =AB41*Z41 -> 0 | AE41: 1 | AF41: 0 | AG41: =AF41*$J41 -> 0 | AH41: =AF41*AE41 -> 0 | AI41: =AG41*AE41 -> 0
D42: InTDev-01-C-23 | E42: UpgC, AVEVA Dev Studio 2023 Limited, InTouch Dev/RT 64Tag | F42: Full Support | G42: sum | H42: =IF(I42="","",IF(I42="ZAR","Local","Foreign")) -> Local | I42: ZAR | J42: =IF(H42="","",IF(H42="Foreign",VLOOKUP(I42,Currency!$E$20:$F$33,2,FALSE),1)) -> 1 | K42: 8 | L42: 0 | M42: =L42*$J42 -> 0 | N42: =L42*$K42 -> 0 | O42: =M42*$K42 -> 0 | P42: 8 | Q42: 0 | R42: =Q42*$J42 -> 0 | S42: =Q42*$P42 -> 0 | T42: =R42*$P42 -> 0 | U42: 8 | V42: 0 | W42: =V42*$J42 -> 0 | X42: =V42*$U42 -> 0 | Y42: =W42*$U42 -> 0 | Z42: 8 | AA42: 0 | AB42: =AA42*$J42 -> 0 | AC42: =AA42*Z42 -> 0 | AD42: =AB42*Z42 -> 0 | AE42: 8 | AF42: 0 | AG42: =AF42*$J42 -> 0 | AH42: =AF42*AE42 -> 0 | AI42: =AG42*AE42 -> 0
C43: 114349 Gariep | D43: 12-12285 | E43: Upg, Application Server 2014R2, Platform | F43: Tech Support | G43: sum | H43: =IF(I43="","",IF(I43="ZAR","Local","Foreign")) -> Local | I43: ZAR | J43: =IF(H43="","",IF(H43="Foreign",VLOOKUP(I43,Currency!$E$20:$F$33,2,FALSE),1)) -> 1 | K43: 13 | L43: 0 | M43: =L43*$J43 -> 0 | N43: =L43*$K43 -> 0 | O43: =M43*$K43 -> 0 | P43: 13 | Q43: 0 | R43: =Q43*$J43 -> 0 | S43: =Q43*$P43 -> 0 | T43: =R43*$P43 -> 0 | U43: 13 | V43: 0 | W43: =V43*$J43 -> 0 | X43: =V43*$U43 -> 0 | Y43: =W43*$U43 -> 0 | Z43: 13 | AA43: 0 | AB43: =AA43*$J43 -> 0 | AC43: =AA43*Z43 -> 0 | AD43: =AB43*Z43 -> 0 | AE43: 13 | AF43: 0 | AG43: =AF43*$J43 -> 0 | AH43: =AF43*AE43 -> 0 | AI43: =AG43*AE43 -> 0
D44: ComDrv-51-C-20 | E44: UpgC, AVEVA Communication Drivers 2020, Standard_ | F44: Limited Support | G44: sum | H44: =IF(I44="","",IF(I44="ZAR","Local","Foreign")) -> Local | I44: ZAR | J44: =IF(H44="","",IF(H44="Foreign",VLOOKUP(I44,Currency!$E$20:$F$33,2,FALSE),1)) -> 1 | K44: 2 | L44: 0 | M44: =L44*$J44 -> 0 | N44: =L44*$K44 -> 0 | O44: =M44*$K44 -> 0 | P44: 2 | Q44: 0 | R44: =Q44*$J44 -> 0 | S44: =Q44*$P44 -> 0 | T44: =R44*$P44 -> 0 | U44: 2 | V44: 0 | W44: =V44*$J44 -> 0 | X44: =V44*$U44 -> 0 | Y44: =W44*$U44 -> 0 | Z44: 2 | AA44: 0 | AB44: =AA44*$J44 -> 0 | AC44: =AA44*Z44 -> 0 | AD44: =AB44*Z44 -> 0 | AE44: 2 | AF44: 0 | AG44: =AF44*$J44 -> 0 | AH44: =AF44*AE44 -> 0 | AI44: =AG44*AE44 -> 0
D45: SysPlt-08-C-20 | E45: UpgC, AVEVA System Platform 2020, 25K IO/12K History - Application Server 25K IO, Historian Standard 12K Tag, 2 Communication Drivers Standard, 1 Historian Client Web. | F45: Limited Support | G45: sum | H45: =IF(I45="","",IF(I45="ZAR","Local","Foreign")) -> Local | I45: ZAR | J45: =IF(H45="","",IF(H45="Foreign",VLOOKUP(I45,Currency!$E$20:$F$33,2,FALSE),1)) -> 1 | K45: 1 | L45: 0 | M45: =L45*$J45 -> 0 | N45: =L45*$K45 -> 0 | O45: =M45*$K45 -> 0 | P45: 1 | Q45: 0 | R45: =Q45*$J45 -> 0 | S45: =Q45*$P45 -> 0 | T45: =R45*$P45 -> 0 | U45: 1 | V45: 0 | W45: =V45*$J45 -> 0 | X45: =V45*$U45 -> 0 | Y45: =W45*$U45 -> 0 | Z45: 1 | AA45: 0 | AB45: =AA45*$J45 -> 0 | AC45: =AA45*Z45 -> 0 | AD45: =AB45*Z45 -> 0 | AE45: 1 | AF45: 0 | AG45: =AF45*$J45 -> 0 | AH45: =AF45*AE45 -> 0 | AI45: =AG45*AE45 -> 0
D46: AppSvr-10-C-20 | E46: UpgC, AVEVA Application Server 2020, 25K I/O | F46: Limited Support | G46: sum | H46: =IF(I46="","",IF(I46="ZAR","Local","Foreign")) -> Local | I46: ZAR | J46: =IF(H46="","",IF(H46="Foreign",VLOOKUP(I46,Currency!$E$20:$F$33,2,FALSE),1)) -> 1 | K46: 1 | L46: 0 | M46: =L46*$J46 -> 0 | N46: =L46*$K46 -> 0 | O46: =M46*$K46 -> 0 | P46: 1 | Q46: 0 | R46: =Q46*$J46 -> 0 | S46: =Q46*$P46 -> 0 | T46: =R46*$P46 -> 0 | U46: 1 | V46: 0 | W46: =V46*$J46 -> 0 | X46: =V46*$U46 -> 0 | Y46: =W46*$U46 -> 0 | Z46: 1 | AA46: 0 | AB46: =AA46*$J46 -> 0 | AC46: =AA46*Z46 -> 0 | AD46: =AB46*Z46 -> 0 | AE46: 1 | AF46: 0 | AG46: =AF46*$J46 -> 0 | AH46: =AF46*AE46 -> 0 | AI46: =AG46*AE46 -> 0
D47: HstEnt-52-C-20 | E47: UpgC, AVEVA Historian Svr 2020, Enterprise 12,000 Tag | F47: Limited Support | G47: sum | H47: =IF(I47="","",IF(I47="ZAR","Local","Foreign")) -> Local | I47: ZAR | J47: =IF(H47="","",IF(H47="Foreign",VLOOKUP(I47,Currency!$E$20:$F$33,2,FALSE),1)) -> 1 | K47: 1 | L47: 0 | M47: =L47*$J47 -> 0 | N47: =L47*$K47 -> 0 | O47: =M47*$K47 -> 0 | P47: 1 | Q47: 0 | R47: =Q47*$J47 -> 0 | S47: =Q47*$P47 -> 0 | T47: =R47*$P47 -> 0 | U47: 1 | V47: 0 | W47: =V47*$J47 -> 0 | X47: =V47*$U47 -> 0 | Y47: =W47*$U47 -> 0 | Z47: 1 | AA47: 0 | AB47: =AA47*$J47 -> 0 | AC47: =AA47*Z47 -> 0 | AD47: =AB47*Z47 -> 0 | AE47: 1 | AF47: 0 | AG47: =AF47*$J47 -> 0 | AH47: =AF47*AE47 -> 0 | AI47: =AG47*AE47 -> 0
D48: SupClt-02-C-20 | E48: UpgC, AVEVA Supervisory Client without Historian Client Desktop 2020, no MSCAL | F48: Limited Support | G48: sum | H48: =IF(I48="","",IF(I48="ZAR","Local","Foreign")) -> Local | I48: ZAR | J48: =IF(H48="","",IF(H48="Foreign",VLOOKUP(I48,Currency!$E$20:$F$33,2,FALSE),1)) -> 1 | K48: 9 | L48: 0 | M48: =L48*$J48 -> 0 | N48: =L48*$K48 -> 0 | O48: =M48*$K48 -> 0 | P48: 9 | Q48: 0 | R48: =Q48*$J48 -> 0 | S48: =Q48*$P48 -> 0 | T48: =R48*$P48 -> 0 | U48: 9 | V48: 0 | W48: =V48*$J48 -> 0 | X48: =V48*$U48 -> 0 | Y48: =W48*$U48 -> 0 | Z48: 9 | AA48: 0 | AB48: =AA48*$J48 -> 0 | AC48: =AA48*Z48 -> 0 | AD48: =AB48*Z48 -> 0 | AE48: 9 | AF48: 0 | AG48: =AF48*$J48 -> 0 | AH48: =AF48*AE48 -> 0 | AI48: =AG48*AE48 -> 0
D49: AVCAL-02-C-19 | E49: UpgC, AVEVA CAL without MS CAL, 5 Pack | F49: Tech Support | G49: sum | H49: =IF(I49="","",IF(I49="ZAR","Local","Foreign")) -> Local | I49: ZAR | J49: =IF(H49="","",IF(H49="Foreign",VLOOKUP(I49,Currency!$E$20:$F$33,2,FALSE),1)) -> 1 | K49: 5 | L49: 0 | M49: =L49*$J49 -> 0 | N49: =L49*$K49 -> 0 | O49: =M49*$K49 -> 0 | P49: 5 | Q49: 0 | R49: =Q49*$J49 -> 0 | S49: =Q49*$P49 -> 0 | T49: =R49*$P49 -> 0 | U49: 5 | V49: 0 | W49: =V49*$J49 -> 0 | X49: =V49*$U49 -> 0 | Y49: =W49*$U49 -> 0 | Z49: 5 | AA49: 0 | AB49: =AA49*$J49 -> 0 | AC49: =AA49*Z49 -> 0 | AD49: =AB49*Z49 -> 0 | AE49: 5 | AF49: 0 | AG49: =AF49*$J49 -> 0 | AH49: =AF49*AE49 -> 0 | AI49: =AG49*AE49 -> 0
D50: HstClt-02-C-20 | E50: UpgC, AVEVA Historian Client Desktop 2020, Concurrent User 5 Pack | F50: Limited Support | G50: sum | H50: =IF(I50="","",IF(I50="ZAR","Local","Foreign")) -> Local | I50: ZAR | J50: =IF(H50="","",IF(H50="Foreign",VLOOKUP(I50,Currency!$E$20:$F$33,2,FALSE),1)) -> 1 | K50: 1 | L50: 0 | M50: =L50*$J50 -> 0 | N50: =L50*$K50 -> 0 | O50: =M50*$K50 -> 0 | P50: 1 | Q50: 0 | R50: =Q50*$J50 -> 0 | S50: =Q50*$P50 -> 0 | T50: =R50*$P50 -> 0 | U50: 1 | V50: 0 | W50: =V50*$J50 -> 0 | X50: =V50*$U50 -> 0 | Y50: =W50*$U50 -> 0 | Z50: 1 | AA50: 0 | AB50: =AA50*$J50 -> 0 | AC50: =AA50*Z50 -> 0 | AD50: =AB50*Z50 -> 0 | AE50: 1 | AF50: 0 | AG50: =AF50*$J50 -> 0 | AH50: =AF50*AE50 -> 0 | AI50: =AG50*AE50 -> 0
C51: 114350 Peaking | D51: 12-12396 | E51: Upg, Dev Studio 2014R2 Limited, InTouch Dev/RT 64Tag | F51: Tech Support | G51: sum | H51: =IF(I51="","",IF(I51="ZAR","Local","Foreign")) -> Local | I51: ZAR | J51: =IF(H51="","",IF(H51="Foreign",VLOOKUP(I51,Currency!$E$20:$F$33,2,FALSE),1)) -> 1 | K51: 3 | L51: 0 | M51: =L51*$J51 -> 0 | N51: =L51*$K51 -> 0 | O51: =M51*$K51 -> 0 | P51: 3 | Q51: 0 | R51: =Q51*$J51 -> 0 | S51: =Q51*$P51 -> 0 | T51: =R51*$P51 -> 0 | U51: 3 | V51: 0 | W51: =V51*$J51 -> 0 | X51: =V51*$U51 -> 0 | Y51: =W51*$U51 -> 0 | Z51: 3 | AA51: 0 | AB51: =AA51*$J51 -> 0 | AC51: =AA51*Z51 -> 0 | AD51: =AB51*Z51 -> 0 | AE51: 3 | AF51: 0 | AG51: =AF51*$J51 -> 0 | AH51: =AF51*AE51 -> 0 | AI51: =AG51*AE51 -> 0
D52: 12-12407 | E52: Upg, InTouch 2014R2 Runtime 3K Tag without I/O | F52: Tech Support | G52: sum | H52: =IF(I52="","",IF(I52="ZAR","Local","Foreign")) -> Local | I52: ZAR | J52: =IF(H52="","",IF(H52="Foreign",VLOOKUP(I52,Currency!$E$20:$F$33,2,FALSE),1)) -> 1 | K52: 3 | L52: 0 | M52: =L52*$J52 -> 0 | N52: =L52*$K52 -> 0 | O52: =M52*$K52 -> 0 | P52: 3 | Q52: 0 | R52: =Q52*$J52 -> 0 | S52: =Q52*$P52 -> 0 | T52: =R52*$P52 -> 0 | U52: 3 | V52: 0 | W52: =V52*$J52 -> 0 | X52: =V52*$U52 -> 0 | Y52: =W52*$U52 -> 0 | Z52: 3 | AA52: 0 | AB52: =AA52*$J52 -> 0 | AC52: =AA52*Z52 -> 0 | AD52: =AB52*Z52 -> 0 | AE52: 3 | AF52: 0 | AG52: =AF52*$J52 -> 0 | AH52: =AF52*AE52 -> 0 | AI52: =AG52*AE52 -> 0
C53: 114351 Acacia | D53: DevStd-04-C-23 | E53: UpgC, AVEVA Development Studio 2023 Unlimited, Unlim/Unlim/500 | F53: Full Support | G53: sum | H53: =IF(I53="","",IF(I53="ZAR","Local","Foreign")) -> Local | I53: ZAR | J53: =IF(H53="","",IF(H53="Foreign",VLOOKUP(I53,Currency!$E$20:$F$33,2,FALSE),1)) -> 1 | K53: 1 | L53: 0 | M53: =L53*$J53 -> 0 | N53: =L53*$K53 -> 0 | O53: =M53*$K53 -> 0 | P53: 1 | Q53: 0 | R53: =Q53*$J53 -> 0 | S53: =Q53*$P53 -> 0 | T53: =R53*$P53 -> 0 | U53: 1 | V53: 0 | W53: =V53*$J53 -> 0 | X53: =V53*$U53 -> 0 | Y53: =W53*$U53 -> 0 | Z53: 1 | AA53: 0 | AB53: =AA53*$J53 -> 0 | AC53: =AA53*Z53 -> 0 | AD53: =AB53*Z53 -> 0 | AE53: 1 | AF53: 0 | AG53: =AF53*$J53 -> 0 | AH53: =AF53*AE53 -> 0 | AI53: =AG53*AE53 -> 0
D54: InTch-05-C-23 | E54: UpgC, AVEVA InTouch HMI 2023 Workstation 10K Tag with I/O | F54: Full Support | G54: sum | H54: =IF(I54="","",IF(I54="ZAR","Local","Foreign")) -> Local | I54: ZAR | J54: =IF(H54="","",IF(H54="Foreign",VLOOKUP(I54,Currency!$E$20:$F$33,2,FALSE),1)) -> 1 | K54: 3 | L54: 0 | M54: =L54*$J54 -> 0 | N54: =L54*$K54 -> 0 | O54: =M54*$K54 -> 0 | P54: 3 | Q54: 0 | R54: =Q54*$J54 -> 0 | S54: =Q54*$P54 -> 0 | T54: =R54*$P54 -> 0 | U54: 3 | V54: 0 | W54: =V54*$J54 -> 0 | X54: =V54*$U54 -> 0 | Y54: =W54*$U54 -> 0 | Z54: 3 | AA54: 0 | AB54: =AA54*$J54 -> 0 | AC54: =AA54*Z54 -> 0 | AD54: =AB54*Z54 -> 0 | AE54: 3 | AF54: 0 | AG54: =AF54*$J54 -> 0 | AH54: =AF54*AE54 -> 0 | AI54: =AG54*AE54 -> 0
...

Sheet Currency
B2: =AVEVA!C3 -> VENDOR NAME
B4: EXCHANGE RATES FOR MULTIPLE CURRENCIES
B6: NOTES:
B7: 1 | C7: The table below needs to be completed if the Employer will be exposed to any currency fluctuation as stipulated in Secondary Clause X3. For conversion of the foreign portions to Rand, please use the South African Reserve Bank's (SARB) exchange rate at 12:00 on the day of advertisement of the bid. This is in terms of the Preferential Procurement Policy Framework Act (PPPFA) with which the Employer has to comply. NB: Tenderers must submit proof of the SARB rate(s) of exchange used
B8: 2 | C8: The following URL (electronic route) is to be followed to access the relevant SARB rates on their web pages:
C9: www.resbank.co.za
C10: - Select Research - Then select Rates - Click on "Select historical exchange rates and other interest rates" - Clicking on the exchange rate in the following page opens the daily rates per currency and SA Rand
B11: 3 | C11: The Employer deals only in the currencies listed below unless other currencies are specifically approved for this tender. Kindly notify the Employer of any currency that the tenderer intends to use, but is not stipulated in the table, to consider sanctioning such currency. Sufficient time must be allowed for the assessment and to respond to such request. The onus is on the tenderer to submit a bid with approved currencies
B12: 4 | C12: The format in which the exchange rate must be inserted in the table is: 1 (One) Foreign Currency = R Amount (i.e. the Rand amount for one of each foreign currency applicable). Exchange rates must be rounded to 4 decimals NB : Only the USD/ZAR, GBP/ZAR and EUR/ZAR are published in this way on the SARB web pages above. The Rand rate with the other currencies must be inverted (1/Foreign Currency Rate) in order to list it in the required format in the table below
B13: 5 | C13: All information in the table below must conform with all other equivalent information in the offer.
C14: Payment in terms of Payment Method 2 is considered as a "foreign payment" although it will be effected in South African Rand. However, amounts for "F.O.R. Price-Goods supplied from Imported Items", are NOT considered as "foreign payments"
C15: If more than one payment method apply for a currency, the Tenderer must request an additional row be inserted in the table in order to split the values and identify the relevant method.
C18: MULTIPLE CURRENCIES
C19: No | D19: Currency Description | E19: Code | F19: Exchange Rate Currency 1,00 = | G19: Date Published | H19: Source
C20: 1 | D20: Australian Dollar | E20: AUD
C21: 2 | D21: Canadian Dollar | E21: CAN
C22: 3 | D22: Swiss Franc | E22: CHF
C23: 4 | D23: Danish Krone | E23: DKK
C24: 5 | D24: European Currency | E24: EUR
C25: 6 | D25: British Pound | E25: GBP
C26: 7 | D26: Hong Kong Dollar | E26: HKD
C27: 8 | D27: Japanese Yen | E27: JPY
C28: 9 | D28: Norwegian Krone | E28: NOK
C29: 10 | D29: New Zealand Dollar | E29: NZD
C30: 11 | D30: Swedish Krone | E30: SEK
C31: 12 | D31: Singapore Dollar | E31: SGD
C32: 13 | D32: United States Dollar | E32: USD
C33: 14 | D33: South African Rand | E33: ZAR | F33: 1
