Workbook
Name \a: #N/A
Name \d: #N/A
Name _____CXX1: '[1]1'!$F$175:$F$182
Name _____CXX2: '[1]2'!$F$175:$F$182
Name _____CXX3: '[1]3'!$F$175:$F$182
Name _____CXX4: '[1]4'!$F$175:$F$182
Name _____CXX5: '[1]5'!$F$175:$F$182
Name _____CXX6: '[1]6'!$F$175:$F$182
Name _____CXX7: '[1]7'!$F$175:$F$182
Name _____CXX8: '[1]8'!$F$175:$F$182
Name _____CXX9: '[1]9'!$F$175:$F$182
Name _____EXX1: '[1]1'!$F$129:$F$168
Name _____EXX2: '[1]2'!$F$129:$F$168
Name _____EXX3: '[1]3'!$F$129:$F$168
Name _____EXX4: '[1]4'!$F$129:$F$168
Name _____EXX5: '[1]5'!$F$129:$F$168
Name _____EXX6: '[1]6'!$F$129:$F$168
Name _____EXX7: '[1]7'!$F$129:$F$168
Name _____EXX8: '[1]8'!$F$129:$F$168
Name _____EXX9: '[1]9'!$F$129:$F$168
Name _____MXX1: '[1]1'!$F$13:$F$64
Name _____MXX2: '[1]2'!$F$13:$F$64
Name _____MXX3: '[1]3'!$F$13:$F$64
Name _____MXX4: '[1]4'!$F$13:$F$64
Name _____MXX5: '[1]5'!$F$13:$F$64
Name _____MXX6: '[1]6'!$F$13:$F$64
Name _____MXX7: '[1]7'!$F$13:$F$64
Name _____MXX8: '[1]8'!$F$13:$F$64
Name _____MXX9: '[1]9'!$F$13:$F$64
Name _____SXX1: '[1]1'!$F$71:$F$122
Name _____SXX2: '[1]2'!$F$71:$F$122
Name _____SXX3: '[1]3'!$F$71:$F$122
Name _____SXX4: '[1]4'!$F$71:$F$122
Name _____SXX5: '[1]5'!$F$71:$F$122
Name _____SXX6: '[1]6'!$F$71:$F$122
Name _____SXX7: '[1]7'!$F$71:$F$122
Name _____SXX8: '[1]8'!$F$71:$F$122
Name _____SXX9: '[1]9'!$F$71:$F$122
Name ____CXX1: '[1]1'!$F$175:$F$182
Name ____CXX2: '[1]2'!$F$175:$F$182
Name ____CXX3: '[1]3'!$F$175:$F$182
Name ____CXX4: '[1]4'!$F$175:$F$182
Name ____CXX5: '[1]5'!$F$175:$F$182
Name ____CXX6: '[1]6'!$F$175:$F$182
Name ____CXX7: '[1]7'!$F$175:$F$182
Name ____CXX8: '[1]8'!$F$175:$F$182
Name ____CXX9: '[1]9'!$F$175:$F$182
Name ____EXX1: '[1]1'!$F$129:$F$168
Name ____EXX2: '[1]2'!$F$129:$F$168
Name ____EXX3: '[1]3'!$F$129:$F$168
Name ____EXX4: '[1]4'!$F$129:$F$168
Name ____EXX5: '[1]5'!$F$129:$F$168
Name ____EXX6: '[1]6'!$F$129:$F$168
Name ____EXX7: '[1]7'!$F$129:$F$168
Name ____EXX8: '[1]8'!$F$129:$F$168
Name ____EXX9: '[1]9'!$F$129:$F$168
Name ____MXX1: '[1]1'!$F$13:$F$64
Name ____MXX2: '[1]2'!$F$13:$F$64
Name ____MXX3: '[1]3'!$F$13:$F$64
Name ____MXX4: '[1]4'!$F$13:$F$64

Sheet Read Me FIRST
A1: Project: | C1: KUSILE POWER STATION PROJECT
A2: Enquiry No. | C2: ='5.1Tender Cover Sheet'!C19 -> 0
A3: Package Name: | C3: ='5.1Tender Cover Sheet'!C21 -> KUSILE POWER STATION: PROVISION OF OFFICE CLEANING AND JANITORIAL SERVICES (PARK HOMES)
A4: Tenderer's Name: | C4: ='5.1Tender Cover Sheet'!C23 -> 0
A7: READ ME
B9: Read these notes BEFORE you commence input or make any changes to this workbook
B11: The Tenderer must provide a clear indication on the Cover Sheet as to whether the offer is "main" or "alternative" (and if there are several alternatives, to number them). There must be a separate Excel file for each ooffer if applicable
B13: NOTE: ALL CALCULATIONS ARE THE RESPONSIBILITY OF THE TENDERER, AND MUST BE CHECKED THOROUGHLY. ANY DISCREPANCY FOUND IN THE CALCULATIONS IN THIS WORKBOOK MUST BE BROUGHT TO THE ATTENTION OF ESKOM, THROUGH THE DEIGNATED BUYER!
A16: 1 | B16: This workbook contains the following sheets:
B17: Read Me | C17: This sheet provides an overview to the Tenderer of the content and role of the sheets making up the Price Schedules. It will not form part of the tender or contract.
B18: 5.1 Tender Cover Sheet | C18: This is the cover sheet for Section 5.1 and provides the total tender price. It is also the source of the package name, tenderer name etc for the other sheets.
B19: 5.1.1 Preamble | C19: This sheet provides general guidelines for this section.
B20: 5.1.2 Summary | C20: This is where the total amounts of all the trades are shown
B21: 5.1.3 BOQ | C21: This is the main data entry sheet for the Tenderer to complete.
B22: 5.1.4 CPA Formulae | C22: This is where the tenderer selects the CPA Formulae
A26: 2 | B26: Conventions used in this workbook
B27: The following conventions have been used in this workbook to facilitate its accurate use:
B28: Red | C28: This GREEN shading is used for cells where DATA ENTRY is required from the Tenderer. The Tenderer must complete the information in these GREEN shaded cells.
C29: PLEASE REFRAIN from tampering with ANY other cells contained in this workbook as it may affect Eskom's standard formulae and lead to data integrity issues.

Sheet 5.1Tender Cover Sheet
B2: KUSILE POWER STATION PROJECT
B15: PRICING INFORMATION
B17: TENDER INFORMATION
B19: ENQUIRY No.
B21: NAME OF PACKAGE: | C21: ='5.1.1.1 Preamble'!C3 -> KUSILE POWER STATION: PROVISION OF OFFICE CLEANING AND JANITORIAL SERVICES (PARK HOMES)
B23: TENDERER’S NAME:
B26: Annexure IT 5.1 Price Schedules
B29: THE PRICE: IN ZAR | C29: ='5.1.2 Summary'!E18 -> 0
B30: (excluding VAT)
B31: RAND VALUE IN WORDS
B36: DATE :
B40: FULL NAMES OF SIGNATORY:
B44: DESIGNATION OF SIGNATORY:
B48: SIGNATURE :

Sheet 5.1.1.1 Preamble
A1: Project: | C1: KUSILE POWER STATION PROJECT
A2: Enquiry No. | C2: ='5.1Tender Cover Sheet'!C19 -> 0
A3: Package Name: | C3: ='5.1.3 BOQ'!C2 -> KUSILE POWER STATION: PROVISION OF OFFICE CLEANING AND JANITORIAL SERVICES (PARK HOMES)
A4: Tenderer's Name: | C4: ='5.1Tender Cover Sheet'!C23 -> 0
A6: 5.1.1.1 PREAMBLE TO PRICE SCHEDULE
A8: 1 | B8: The Provisional Price Schedule provides the basis of valuation of all the work activities and inputs and information for general contract progress monitoring.
A9: 2 | B9: The amount due at each application for payment date is based on activities and/or milestones completed as indicated on the Price Schedule/Bills of Quantities. The Tenderer must provide all necessary information which is required to determine amounts due in respect of each application for payment relative to the activities.
A10: 3 | B10: The total of the prices must include for all direct and indirect costs, overheads, profits, on costs, risks, liabilities, obligations, etc. relative to the contract.

Sheet 5.1.2 Summary
B1: ='5.1.4 CPA Formulae'!D4 -> KUSILE POWER STATION: PROVISION OF OFFICE CLEANING AND JANITORIAL SERVICES (PARK HOMES)
C3: FINAL SUMMARY
B6: ITEM NO. | C6: SECTION | D6: UNIT | E6: AMOUNT
B8: 1 | C8: FIXED PRELIMINARIES AND GENERAL | D8: SUM | E8: ='5.1.3 BOQ'!H14 -> 0
B10: 2 | C10: TIME RELATED PRELIMINARIES AND GENERAL | D10: SUM | E10: ='5.1.3 BOQ'!H33 -> 0
B12: 3 | C12: OPERATION AND MAINTENANCE OF FACILITIES ON SITE | D12: SUM | E12: ='5.1.3 BOQ'!H40 -> 0
B14: 4 | C14: PROVISION FOR CLEANING OF CHAIRS,COUCHES, FLOOR (TO BE CLEANED ON A WEEKEND) | D14: SUM | E14: ='5.1.3 BOQ'!H48 -> 0
B16: 5 | C16: PROVISIONAL AMOUNTS | D16: SUM | E16: ='5.1.3 BOQ'!H62 -> 0
B18: TOTAL AMOUNT | E18: =SUM(E8:E17) -> 0
C23: ='5.1.2 Summary'!E18 -> 0

Sheet 5.1.3 BOQ
C2: KUSILE POWER STATION: PROVISION OF OFFICE CLEANING AND JANITORIAL SERVICES (PARK HOMES)
A3: KUSILE POWER STATION
A4: Section Number (Note 10) | B4: Level1 Act ID | C4: Schedule Description | D4: Unit | E4: Duration | F4: Quantity | G4: Rate | H4: Total Amount
A5: 100 | B5: 1 | C5: PRELIMINARIES AND GENERAL
C6: ESTABLISHMENT OF FACILITIES ON SITE
C7: FIXED CHARGES
B9: 1.1 | C9: Site establishment | D9: Sum | E9: 1 | F9: 1 | H9: =E9*F9*G9 -> 0
B10: 1.2 | C10: Fixed health & safety related costs (PPE, first aid box, entry, periodic & exit medicals, Hepatitis vaccination) | D10: Sum | E10: 1 | F10: 1 | H10: =E10*F10*G10 -> 0
B11: 1.3 | C11: Contractual requirements (including but not limited to SHE File, Environmental file, and mandatory SHE trainings) | D11: Sum | E11: 1 | F11: 1 | H11: =E11*F11*G11 -> 0
B12: 1.4 | C12: Removal of Site Establishment | D12: Sum | E12: 1 | F12: 1 | H12: =E12*F12*G12 -> 0
C14: Subtotal | H14: =SUM(H9:H12) -> 0
B16: 2 | C16: TIME RELATED CHARGES
C18: Supervision for Duration of Construction
B19: 2.1 | C19: PPE consumables (Earplugs, cleaning gloves, sanitisers or any other PPE consumable supplies required) | D19: Monthly | E19: 14 | F19: 1 | H19: =E19*F19*G19 -> 0
B20: 2.2 | C20: PPE clothing (overalls) | D20: Bi annually | E20: 2 | F20: 1 | H20: =E20*F20*G20 -> 0
B21: 2.3 | C21: Environmental cost (Maintenance, removal and disposal of Hazardous waste at registered facilities) | D21: Monthly | E21: 14 | F21: 1 | H21: =E21*F21*G21 -> 0
B22: 2.4 | C22: Supervisor | D22: Monthly | E22: 14 | F22: 1 | H22: =E22*F22*G22 -> 0
B23: 2.5 | C23: Cleaners | D23: Monthly | E23: 14 | F23: 18 | H23: =E23*F23*G23 -> 0
B24: 2.6 | C24: SHE Officer | D24: Monthly | E24: 14 | F24: 1 | H24: =E24*F24*G24 -> 0
B25: 2.7 | C25: Manager | D25: Monthly | E25: 14 | F25: 1 | H25: =E25*F25*G25 -> 0
C27: Company and Head Office Overhead Costs for the Duration of the Contract
B28: 2.8 | C28: Company overheads for the duration of the Contract | D28: Monthly | E28: 14 | F28: 1 | H28: =E28*F28*G28 -> 0
C30: Transport of personnel (Note: Taxi association prices to be taken into consideration when pricing-refer to 5.2.4 scope of work)
B31: 2.9 | C31: Cleaners and Management | D31: Monthly | E31: 14 | F31: 1 | H31: =E31*F31*G31 -> 0
C33: Subtotal | H33: =SUM(H18:H32) -> 0
B35: 3 | C35: OPERATION AND MAINTENANCE OF FACILITIES
C37: Cleaning Supplies
B38: 3.1 | C38: Consumables (Toilet paper, paper towel, dishwashing liquid, handy andy, bleach, toilet seat sanitizer, hand wash soap, ect) | D38: Monthly | E38: 14 | F38: 1 | H38: =E38*F38*G38 -> 0
C40: Subtotal | H40: =SUM(H37:H39) -> 0
B42: 4 | C42: Provision for cleaning of chairs, couches, floor (to be cleaned on a weekend)
B43: 4.1 | C43: Floor stripping to be Quarterly (54 park homes) | D43: Quarterly | E43: 4 | F43: 4366.57 | H43: =E43*F43*G43 -> 0
B44: 4.2 | C44: Couches | D44: Quarterly | E44: 4 | F44: 3 | H44: =E44*F44*G44 -> 0
B45: 4.3 | C45: Chairs | D45: Monthly | E45: 14 | F45: 306 | H45: =E45*F45*G45 -> 0
B46: 4.4 | C46: Floor Mats | D46: No | E46: 1 | F46: 54 | H46: =E46*F46*G46 -> 0
C48: Subtotal | H48: =SUM(H42:H47) -> 0
B50: 5 | C50: PROVISIONAL AMOUNTS
B52: 5.1 | C52: Allow Provisional Amount for PA/SS Agreement (15.5 hours accumulated by cleaners per month x 12 months, paid once a year. 0.5 hours absorbed by contractors costs)
B53: 5.1.1 | C53: Cleaners | D53: Item | E53: 1 | F53: 1 | G53: ='5.1.5 PLA Attendance Bonus'!G48 -> 0 | H53: =E53*F53*G53 -> 0
B55: 5.2 | C55: Supply and install of hygiene equipment as and when required
B56: 5.2.1 | C56: Hand wash Foam Dispensers | D56: No | E56: 1 | F56: 40 | H56: =E56*F56*G56 -> 0
...

Sheet 5.1.4 CPA Formulae
A1: KUSILE POWER STATION PROJECT
A2: ENQUIRY No. | D2: ='5.1Tender Cover Sheet'!C19 -> 0
A3: TENDERER NAME: | D3: ='5.1Tender Cover Sheet'!C23 -> 0
A4: NAME OF PACKAGE: | D4: ='5.1.3 BOQ'!C2 -> KUSILE POWER STATION: PROVISION OF OFFICE CLEANING AND JANITORIAL SERVICES (PARK HOMES)
A5: PRICE ADJUSTMENT FOR INFLATION
A6: Summary
A7: No | B7: Description
A8: A | B8: 0 | E8: Type in description of formula which is carried through below
A12: GENERAL NOTES :
A13: a. | B13: References to "indices" below have the meaning of "cost indices or reference prices", unless otherwise stated.
A14: b. | B14: Where historical information is applicable as requested below, internet address references which are accessible to the
B15: general public may be submitted instead, with the specific electronic route and web page reflecting the applicable data.
A16: c. | B16: Each formula is related to one unique currency. Mixing of currencies in a specific formula is not acceptable.
A17: CPA FORMULA REQUIREMENTS :
A18: i. | B18: Formulae must be linked to independent cost indices or other benchmarks ("reference prices") and must be clearly and
B19: completely defined. The source must be a recognised statistical publishing source and must not be in-house indices.
A20: ii. | B20: Local Indices: Where local indices other than SEIFSA or StatsSA are specified, the tenderer is to submit 5 years' historical data
B21: for such indices. Note that the Contractor must ensure that indices are published and recommended by the "Source" as
B22: applicable to the work involved. For example SEIFSA has terminated the publication of Table E and is replaced by Table E-A and
B23: or E-EX and the specific sub breakdown of such must be identified. Also SEIFSA recommends utilisation of Table L-2 for road
B24: transport rather than Table L-1.
A25: iii. | B25: Foreign Price Adjustments: In the case of foreign price adjustments, the Contractor is to submit 5 years' historical data for the
B26: tendered indices. Where a formula is linked to indices in a country, payment of the amounts for that formula must be in the
B27: currency of the same country. A formula may not be linked to indices of more than one country.
A28: iv. | B28: Commodity Price Linked Payments: The reference price is considered as the base price (index) for purpose of the CPA formula
B29: and is incuded in the applicable tables below and must be in the currency in which the CPA will be payable. The exchange
B30: rate applied to convert the base price in a foreign currency into that of the currency of the formula must also be indicated in
B31: the tables below if the price is not in the same currency as the applicable formula.. ie exposure to the movement in a
B32: reference price is in the same currency as that of the CPA formula. The Contractor is to submit 5 years' historical price data
B33: for such commodity,
A34: v. | B34: London Metal Exchange (LME) Prices: For metals traded on the LME, the tonnage will be required before contract award in
B35: order for Eskom to hedge the metal price fluctuations. This applies also for prices linked to local indices or reference prices.
B36: Though these metals are traded in US$, prices are daily quoted in various other currencies.
B37: The LME price in the currency of the formula must apply and thus not the US$ unless the amount payable in terms of the
B38: formula is US$. Refer to the "LME" Sheet in this file for more detail regarding this aspect. By indicating any of these metals in
B39: the formulae below, the contractor declares that neither he nor any other body avails or will avail of forward price and/or
B40: currency cover for the metal(s).
A41: vi. | B41: CPA Base Date: The CPA base date for calculating price movements is the Base Date as defined in the Particular Conditions,
B42: Clause 1.1.3.1. For indices or reference prices published as at certain dates, and where such a date is not the Base Date, the
B43: latest date for which it is published before the Base Date will be considered as the Base Date index or reference price. In
...

Sheet 5.1.5 PLA Attendance Bonus
A2: Project: | C2: KUSILE POWER STATION PROJECT
A3: Enquiry No.
A4: Package Name: | C4: ='5.1.4 CPA Formulae'!D4 -> KUSILE POWER STATION: PROVISION OF OFFICE CLEANING AND JANITORIAL SERVICES (PARK HOMES)
A5: Tenderer's Name:
A7: TO BE READ AND PRICED IN CONJUNCTION WITH THE EMPLOYER’S POLICIES AND PROCEDURES
A8: THE PRICES/RATES/QUANTITIES IN THIS PAGE ARE FOR ESTIMATION ONLY
A10: THE FIRST LINE ITEM SERVES AS A GUIDE, ADDITIONAL LINE ITEMS CAN BE ADDED TO CATER FOR RESOURCES FOR EXAMPLE GENERAL WORKERS X5 . PLEASE NOTE THAT ESKOM IS LIABLE FOR MAXIMUM 15.5 HOURS PER MONTH FOR THE BONUS, AND THE CONTRACTOR IS LIABLE FOR THE REMAINING 0.5 HOUR. PLEASE REFER TO PA GUIDELINES FOR FURTHER INFORMATION.
A12: PA ATTENDANCE BONUS
A14: Resource ID | B14: Resource Name (If Available) | E14: Bonus
C15: Job Title | D15: Estimated No. of Personnel Quantity | E15: Hours | F15: Estimated Hourly Rate as per Payslip | G15: Amount
A16: 1 | D16: 1 | E16: 15.5 | F16: 0 | G16: =E16*F16 -> 0
A17: 2 | D17: 1 | E17: 15.5 | F17: 0 | G17: =E17*F17 -> 0
A18: 3 | D18: 1 | E18: 15.5 | F18: 0 | G18: =E18*F18 -> 0
A19: 4 | D19: 1 | E19: 15.5 | F19: 0 | G19: =E19*F19 -> 0
A20: 5 | D20: 1 | E20: 15.5 | F20: 0 | G20: =E20*F20 -> 0
A21: 6 | D21: 1 | E21: 15.5 | F21: 0 | G21: =E21*F21 -> 0
A22: 7 | D22: 1 | E22: 15.5 | F22: 0 | G22: =E22*F22 -> 0
A23: 8 | D23: 1 | E23: 15.5 | F23: 0 | G23: =E23*F23 -> 0
A24: 9 | D24: 1 | E24: 15.5 | F24: 0 | G24: =E24*F24 -> 0
A25: 10 | D25: 1 | E25: 15.5 | F25: 0 | G25: =E25*F25 -> 0
A26: 11 | D26: 1 | E26: 15.5 | F26: 0 | G26: =E26*F26 -> 0
A27: 12 | D27: 1 | E27: 15.5 | F27: 0 | G27: =E27*F27 -> 0
... A45: 30 | D45: 1 | E45: 15.5 | F45: 0 | G45: =E45*F45 -> 0
A46: Estimated Total | G46: =SUM(G16:G45) -> 0
A47: Contract Duration in Months | G47: 14
A48: Total Estimated Costs for 14 Months | G48: =G46*G47 -> 0
