Workbook
Name _Hlk13737046: 'C20.1'!#REF!
Name _Hlk13737072: 'C20.1'!#REF!
Name _Ref461368450: 'C1.4'!$C$5
Name _Ref461368450: 'C1.5'!$E$7
Name _Ref461368450: 'C1.6'!$C$7
Name _Ref461368450: 'C11.1'!#REF!
Name _Ref461368450: 'C11.2'!#REF!
Name _Ref461368450: 'C11.3'!#REF!
Name _Ref461368450: 'C11.5'!#REF!
Name _Ref461368450: 'C11.6'!#REF!
Name _Ref461368450: 'C11.7'!#REF!
Name _Ref461368450: 'C11.8'!#REF!
Name _Ref461368450: 'C11.9'!#REF!
Name _Ref461368450: 'C2.1'!$D$7
Name _Ref461368450: 'C2.2'!$D$7
Name _Ref461368450: 'C20.1'!#REF!
Name _Ref461368450: 'C3.1'!#REF!
Name _Ref461368450: 'C3.2'!$D$7
Name _Ref461368450: 'C3.3'!#REF!
Name _Ref461368450: 'C4.2'!#REF!
Name _Ref461368450: 'C4.4'!#REF!
Name _Ref461368450: 'C5.1'!#REF!
Name _Ref461368450: 'C5.2'!#REF!
Name _Ref461368450: 'C5.3'!#REF!
Name _Ref461368450: 'C5.4'!#REF!
Name _Ref461368450: 'C6.2'!#REF!
Name _Ref461368450: 'C8.1'!#REF!
Name _Ref461368450: 'C8.8'!#REF!
Name _Ref461368450: 'C9.1'!#REF!
Name _Ref461372205: 'C1.4'!#REF!
Name _Ref461372205: 'C1.5'!#REF!
Name _Ref461372205: 'C1.6'!#REF!
Name _Ref461372205: 'C11.1'!#REF!
Name _Ref461372205: 'C11.2'!#REF!
Name _Ref461372205: 'C11.3'!#REF!
Name _Ref461372205: 'C11.5'!#REF!
Name _Ref461372205: 'C11.6'!#REF!
Name _Ref461372205: 'C11.7'!#REF!
Name _Ref461372205: 'C11.8'!#REF!
Name _Ref461372205: 'C11.9'!#REF!
Name _Ref461372205: 'C2.1'!#REF!
Name _Ref461372205: 'C2.2'!#REF!
Name _Ref461372205: 'C20.1'!#REF!
Name _Ref461372205: 'C3.1'!#REF!
Name _Ref461372205: 'C3.2'!#REF!
Name _Ref461372205: 'C3.3'!#REF!
Name _Ref461372205: 'C4.2'!#REF!
Name _Ref461372205: 'C4.4'!#REF!
Name _Ref461372205: 'C5.1'!#REF!
Name _Ref461372205: 'C5.2'!#REF!
Name _Ref461372205: 'C5.3'!#REF!
Name _Ref461372205: 'C5.4'!#REF!
Name _Ref461372205: 'C6.2'!#REF!
Name _Ref461372205: 'C8.1'!#REF!
Name _Ref461372205: 'C8.8'!#REF!
Name _Ref461372205: 'C9.1'!#REF!
Name _Ref461373091: 'C1.4'!$C$101
Name _Ref461373091: 'C1.5'!#REF!
Name _Ref461373091: 'C1.6'!#REF!
Name _Ref461373091: 'C11.1'!#REF!

Sheet Version
A2: This Pricing Schedule is based on the COTO Draft Standard (DS) October 2020, and updated for the Works ProForma Book 3 - 2022.1 – June 2022 version saved in EDMS folder 7475454
F149: metre (m)
F150: metre (m)
A155: C2.3.27 | E155: Extra over item C2.3.21 for encasing (wrapping) joints
B156: C2.3.27.1 | E156: State for each water main the number of joints to be encased (wrapped)
E157: State diameter
E158: State diameter
A159: C2.3.28 | E159: Installation of hydrants and water meters
B160: C2.3.28.1 | E160: Describe hydrant type
B161: C2.3.28.2 | E161: Describe water meter type
B162: C2.3.28.3 | E162: Etc., insert additional items as required
A163: C2.3.29 | E163: Bedding for water mains (Class B and C) and fill blanket compacted to 90 % of MDD (100 % for sand)
B164: C2.3.29.1
C166: (c)
C167: (d)
C168: (e)
B169: C2.3.29.2
C171: (c)
C172: (d)
C173: (e)

Sheet C1.2
A1: C1.2 | D1: GENERAL REQUIREMENTS AND PROVISIONS
A2: ITEM | D2: DESCRIPTION | E2: UNIT | F2: QTY | G2: RATE | H2: AMT
A5: C1.2.1 | D5: Environmental Management
B7: C1.2.1.1 | D7: Monitoring of compliance with and reporting on the EMP | E7: month | F7: 15 | H7: =F7*G7 -> 0
B9: C1.2.1.2 | D9: Designated environmental officer | E9: month | F9: 15 | H9: =F9*G9 -> 0
A10: PN
A11: C1.2.2 | D11: Programming and Reporting
B13: C1.2.2.3 | D13: Submission of a Scheme 2 Initial Programme | E13: lump sum | F13: 1 | H13: =F13*G13 -> 0
B15: C1.2.2.4 | D15: Submission of a Scheme 2 Full Programme | E15: lump sum | F15: 1 | H15: =F15*G15 -> 0
B17: C1.2.2.5 | D17: Reviewing and updating a Scheme 2 programme every month | E17: month | F17: 15 | H17: =F17*G17 -> 0
B19: C1.2.2.6 | D19: Preparation and submission of all information and reports specified in the Contract Documentation | E19: month | F19: 15 | H19: =F19*G19 -> 0
A21: C1.2.3 | D21: Routine road maintenance of existing public roads within the Site of the Works or other public roads outside the Site of the Works which are used as detours
B23: C 1.2.3.1 | D23: Grass cutting | E23: hectare (ha) | F23: 4 | H23: =F23*G23 -> 0
B25: C1.2.3.2 | D25: Drain cleaning | E25: kilometre (km) | F25: 6 | H25: =F25*G25 -> 0
B27: C1.2.3.3 | D27: Cleaning out culverts | E27: cubic metre (m3) | F27: 10 | H27: =F27*G27 -> 0
B29: C1.2.3.4 | D29: Collection of rubbish / litter | E29: kilometre (km) | F29: 7 | H29: =F29*G29 -> 0
B31: C1.2.3.5 | D31: Base patching using crushed stone material stabilised with bitumen emulsion and cement | E31: cubic metre (m3) | F31: 10 | H31: =F31*G31 -> 0
B33: C1.2.3.6 | D33: Base and/or surface patching using cold premixed asphalt | E33: kilogram (kg) | F33: 1100 | H33: =F33*G33 -> 0
B35: C1.2.3.7 | D35: Base and/or surface patching using hot plant mixed asphalt | E35: ton (t) | F35: 30 | H35: =F35*G35 -> 0
B37: C1.2.3.9 | D37: Grading of temporary gravel deviations and existing roads used as detours | E37: kilometre (km) | F37: 4 | H37: =F37*G37 -> 0
B39: C1.2.3.10 | D39: Watering of temporary gravel deviations and existing roads used as detours | E39: kilolitre (kℓ) | F39: 1000
B41: C1.2.3.11 | D41: Other road maintenance work ordered by the Engineer | E41: provisional sum | F41: 1 | G41: 50000 | H41: =F41*G41 -> 50000
B43: C1.2.3.12 | D43: Handling cost, profit and all other charges in respect of item C1.2.3.11 | E43: percentage (%) | F43: =H41 -> 50000 | H43: =F43*G43 -> 0
B45: C1.2.3.13 | D45: Liaison with the routine road maintenance contractor | E45: month | F45: 18 | H45: =F45*G45 -> 0
A47: C1.2.4 | D47: Stakeholder liaison | E47: month | F47: 15 | H47: =F47*G47 -> 0
A49: C1.2.5 | D49: Safety
B51: C1.2.5.1 | D51: Health and safety plan | E51: lump sum | F51: 1 | H51: =F51*G51 -> 0
B53: C1.2.5.2 | D53: Implementation of health and safety plan | E53: month | F53: 15 | H53: =F53*G53 -> 0
A55: C1.2.7 | D55: Road safety audits
B57: C1.2.7.1 | D57: Stage 4 work zone traffic management audit | E57: provisional sum | F57: 1 | G57: 30000 | H57: =F57*G57 -> 30000
B59: C1.2.7.2 | D59: Handling cost, profit and all other charges in respect of item C1.2.6.1 | E59: percentage (%) | F59: =G57 -> 30000 | H59: =F59*G59 -> 0
B61: C1.2.7.3 | D61: Stage 5 pre-opening stage traffic safety audit | E61: provisional sum | F61: 1 | G61: 30000 | H61: =F61*G61 -> 30000
B63: C1.2.7.4 | D63: Handling cost, profit and all other charges in respect of item C1.2.6.3 | E63: percentage (%) | F63: =G61 -> 30000 | H63: =F63*G63 -> 0
B66: CARRIED FORWARD | H66: =SUM(H4:H63) -> 110000
B67: BROUGHT FORWARD | H67: =H66 -> 110000
A69: C1.2.8 | D69: Dayworks
B71: C1.2.8.1 | D71: Personnel
C73: (a) | D73: Unskilled labourer | E73: hour (h) | F73: 500 | H73: =F73*G73 -> 0
C75: (b) | D75: Semi-skilled labourer | E75: hour (h) | F75: 75 | H75: =F75*G75 -> 0
C77: (c) | D77: Skilled labourer | E77: hour (h) | F77: 50 | H77: =F77*G77 -> 0
...

Sheet C1.3
A1: C1.3 | D1: CONTRACTOR’S SITE ESTABLISHMENT AND GENERAL OBLIGATIONS
A2: ITEM | D2: DESCRIPTION | E2: UNIT | F2: QTY | G2: RATE | H2: AMT
A5: PC1.3.1 | D5: The Contractor's general obligations
B7: C1.3.1.1 | D7: Fixed obligations | E7: lump sum | F7: 1 | H7: =F7*G7 -> 0
B9: C1.3.1.2 | D9: Value-related obligations | E9: lump sum | F9: 1 | H9: =F9*G9 -> 0
B11: C1.3.1.3 | D11: Time-related obligations
C13: (a) | D13: Mobilisation period | E13: month | F13: 3 | H13: =F13*G13 -> 0
C15: (b) | D15: Execution of the works | E15: month | F15: 15 | H15: =F15*G15 -> 0
B17: C1.3.1.4 | D17: Suspension Cost
C19: (a) | D19: De-establishment | E19: number (No.) | F19: 1 | H19: =F19*G19 -> 0
C21: (b) | D21: Re-establishment | E21: number (No.) | F21: 1 | H21: =F21*G21 -> 0
C23: (c) | D23: Suspension period | E23: month | F23: 3 | H23: =F23*G23 -> 0
C25: (d) | D25: Engineer's cost | E25: prime cost (PC) sum | F25: 1 | G25: 1000000 | H25: =F25*G25 -> 1000000
C27: (e ) | D27: Handling costs and profit in respect of subsubitem C1.3.1.4.(d) above | E27: percentage (%) | F27: =G25 -> 1000000 | H27: =F27*G27 -> 0
A29: C1.3.2 | D29: Contract sign boards | E29: square metre (m2) | F29: 30 | H29: =F29*G29 -> 0
A79: TOTAL CARRIED FORWARD TO SUMMARY | H79: =SUM(H5:H78) -> 1000000

Sheet C1.4
A1: C1.4 | C1: FACILITIES FOR THE ENGINEER
A2: ITEM | C2: DESCRIPTION | D2: UNIT | E2: QTY | F2: RATE | G2: AMT
A3: C1.4.1 | C3: Site Accommodation
B5: C1.4.1.1 | C5: Offices and conference room | D5: square metre (m2) | E5: 130 | G5: =E5*F5 -> 0
B7: C1.4.1.2 | C7: Laboratories | D7: square metre (m2) | E7: 100 | G7: =E7*F7 -> 0
B9: C1.4.1.3 | C9: Open concrete working floors and verandas | D9: square metre (m2) | E9: 150 | G9: =E9*F9 -> 0
B11: C1.4.1.4 | C11: Roofs over open concrete working floors and verandas | D11: square metre (m2) | E11: 100 | G11: =E11*F11 -> 0
B13: C1.4.1.5 | C13: Store rooms inside the laboratory | D13: square metre (m2) | E13: 30 | G13: =E13*F13 -> 0
B15: C1.4.1.6 | C15: Car ports (Drawing No. PN136-LAB | D15: number (No.) | E15: 8 | G15: =E15*F15 -> 0
B17: C1.4.1.7 | C17: Ablution unit (24.3m2/unit, refer to drawings: PN136-LAB) | D17: number (No.) | E17: 4 | G17: =E17*F17 -> 0
B19: C1.4.1.9 | C19: Kitchen unit (38.8m2/unit, refer to drawings:PN136-LAB) | D19: number (No.) | E19: 2 | G19: =E19*F19 -> 0
B21: C1.4.1.13 | C21: Rented housing paid for by the Contractor | D21: provisional sum | E21: 1 | F21: 900000 | G21: =E21*F21 -> 900000
B23: C1.4.1.14 | C23: Contractor's handling costs, profit and all other charges in respect of item C1.4.1.13 | D23: percentage (%) | E23: =G21 -> 900000 | G23: =E23*F23 -> 0
A25: C1.4.2 | C25: Items measured by area
B27: C1.4.2.1 | C27: Shelving as specified, complete with brackets | D27: square metre (m2) | E27: 15 | G27: =E27*F27 -> 0
B29: C1.4.2.2 | C29: Work benches with a concrete slab top | D29: square metre (m2) | E29: 20 | G29: =E29*F29 -> 0
B31: C1.4.2.4 | C31: Constant-temperature baths of concrete and/or plastered brick | D31: square metre (m2) | E31: 4 | G31: =E31*F31 -> 0
B33: C1.4.2.5 | C33: Concrete footings and pedestals for laboratory equipment | D33: square metre (m2) | E33: 6 | G33: =E33*F33 -> 0
B35: C1.4.2.7 | C35: Venetian blinds | D35: square metre (m2) | E35: 30 | G35: =E35*F35 -> 0
B37: C1.4.2.8 | C37: Notice boards | D37: square metre (m2) | E37: 7 | G37: =E37*F37 -> 0
B39: C1.4.2.9 | C39: White boards | D39: square metre (m2) | E39: 7 | G39: =E39*F39 -> 0
A41: C1.4.3 | C41: Items measured by number
B43: C1.4.3.1 | C43: Office swivel chair | D43: number (No.) | E43: 6 | G43: =E43*F43 -> 0
B45: C1.4.3.2 | C45: Office chair | D45: number (No.) | E45: 30 | G45: =E45*F45 -> 0
B47: C1.4.3.3 | C47: Draughtsman's stool | D47: number (No.) | E47: 4 | G47: =E47*F47 -> 0
B49: C1.4.3.4 | C49: Laboratory high chair | D49: number (No.) | E49: 6 | G49: =E49*F49 -> 0
B51: C1.4.3.5 | C51: Office desk with 3 drawers (at least one lockable drawer) | D51: number (No.) | E51: 7 | G51: =E51*F51 -> 0
B53: C1.4.3.7 | C53: Drawing table | D53: number (No.) | E53: 7 | G53: =E53*F53 -> 0
B55: C1.4.3.8 | C55: Conference table | D55: number (No.) | E55: 1 | G55: =E55*F55 -> 0
B57: C1.4.3.9 | C57: Bookcase | D57: number (No.) | E57: 1 | G57: =E57*F57 -> 0
B59: C1.4.3.11 | C59: General purpose steel cabinet with shelves | D59: number (No.) | E59: 7 | G59: =E59*F59 -> 0
B61: C1.4.3.13 | C61: 220/250 volt power outlet plug point | D61: number (No.) | E61: 44 | G61: =E61*F61 -> 0
B63: C1.4.3.14 | C63: 400/231 volt 3-phase power outlet plug point | D63: number (No.) | E63: 1 | G63: =E63*F63 -> 0
B65: C1.4.3.15 | C65: Single 1500m, 58 watt fluorescent tube ceiling light | D65: number (No.) | E65: 17 | G65: =E65*F65 -> 0
... B69: C1.4.3.17 | C69: 11 watt compact fluorescent bulb ceiling light | D69: number (No.) | E69: 4 | G69: =E69*F69 -> 0
B70: CARRIED FORWARD | G70: =SUM(G5:G69) -> 900000
B71: BROUGHT FORWARD | G71: =G70 -> 900000
B73: C1.4.3.19 | C73: Wash-hand basin | D73: number (No.) | E73: 3 | G73: =E73*F73 -> 0
B75: C1.4.3.20 | C75: Laboratory basin | D75: number (No.) | E75: 5 | G75: =E75*F75 -> 0
B77: C1.4.3.21 | C77: Extractor fan | D77: number (No.) | E77: 1 | G77: =E77*F77 -> 0
...

Sheet C1.5
A1: C1.5 | E1: ACCOMMODATION OF TRAFFIC
A2: ITEM | E2: DESCRIPTION | F2: UNIT | G2: QTY | H2: RATE | I2: AMT
A5: C1.5.1 | E5: Accommodation of pedestrian and non-motorised traffic
B7: C1.5.1.1 | E7: Accommodation of pedestrian and non-motorised traffic | F7: month | G7: 15 | I7: =G7*H7 -> 0
A9: C1.5.2 | E9: Accommodation of vehicular traffic | F9: month | G9: 15 | I9: =G9*H9 -> 0
A11: C1.5.3 | E11: Liaison with traffic authorities | F11: month | G11: 15 | I11: =G11*H11 -> 0
A13: C1.5.4 | E13: Construction of temporary deviations
B15: C1.5.4/C.5.5.17 | E15: In-situ reconstruction of a pavement layer using conventional construction equipment to construct a stabilised gravel shoulder layer:
C17: (a) | E17: Using non-cemented material compacted to 150mm thick | F17: cubic metre (m3) | G17: 3500 | I17: =G17*H17 -> 0
B19: C1.5.4/C.5.4.2.1 | E19: C.5.4.2.1 Chemical stabilisation (layer thickness 150mm) of pavement layers
C21: (c) | E21: In-situ gravel shoulder layer(150mm thick) | F21: cubic metre (m3) | G21: =G17 -> 3500 | I21: =G21*H21 -> 0
B23: C1.5.4/C.5.4.5.1 | E23: C5.4.5.1 Addition of cementitious stabilisation agents (specify agent separately) for pavement layers:
C25: (a) | E25: Cement (CEM II 32,5)(for pavement layer) | F25: tonne (t) | G25: 230 | I25: =G25*H25 -> 0
B27: C1.5.4/C10.1.22 | E27: Bituminous single seal and slurry, including a cover spray if specified:
B29: C10.1.22.2 | E29: Bituminous single seal with 14mm aggregate and slurry (70/100 penetration grade,60% anionic stable-grade emulsion or SC-E1(t),Aggregate grade C, Fine slurry, medium grade) | F29: square metre (m2) | G29: 24000 | I29: =G29*H29 -> 0
B31: C1.5.4/C10.1.24 | E31: Variation in the rate of application of the fine slurry:
B33: C.1.5.4/C10.1.24.2 | E33: Medium grade | F33: cubic metre (m3) | I33: Rate Only
B35: C.1.5.4/C10.1.26 | E35: Trial sections for all seal types specified (Bituminous single seal with 14mm aggregate and slurry (70/100 penetration grade,60% anionic stable-grade emulsion or SC-E1(t),Aggregate grade C, Fine slurry, medium grade)) | F35: lump sum | G35: 1 | I35: =G35*H35 -> 0
B37: C.1.5.4/C10.1.9 | E37: Bituminous binder variations:
B39: C.1.5.4/C10.1.9.1 | E39: 70/100 Penetration grade bitumen | F39: litre (ℓ) | I39: Rate Only
B41: C.1.5.4/C10.1.9.2 | E41: 60% Stable-grade emulsion | F41: litre (ℓ) | I41: Rate Only
B43: C.1.5.4/C10.1.9.5 | E43: Homogeneous modified binder (SC-E1(t)) cold applied | F43: litre (ℓ) | I43: Rate Only
B45: 'C.1.5.4/C10.1.10 | E45: Aggregate variation (grade C):
B47: C.1.5.4/C10.1.10.4 | E47: 14mm aggregate | F47: cubic metre (m3) | I47: Rate Only
A49: C1.5.5 | E49: Maintenance of temporary deviations
B51: C1.5.5.1 | E51: Grass cutting | F51: hectare (ha) | G51: 1 | I51: =G51*H51 -> 0
B53: C1.5.5.2 | E53: Drain cleaning | F53: kilometre (km) | G53: 3 | I53: =G53*H53 -> 0
A54: CARRIED FORWARD | I54: =SUM(I7:I53) -> 0
A55: BROUGHT FORWARD | I55: =I54 -> 0
B57: C1.5.5.3 | E57: Cleaning out culverts | F57: cubic metre (m3) | G57: 40 | I57: =G57*H57 -> 0
B59: C1.5.5.4 | E59: Collection of rubbish / litter | F59: kilometre (km) | G59: 3 | I59: =G59*H59 -> 0
B61: C1.5.5.7 | E61: Base and/or surface patching using hot plant mixed asphalt | F61: tonne (t) | G61: 2900 | I61: =G61*H61 -> 0
B63: C1.5.5.9 | E63: Grading of temporary deviations and existing roads used as detours | F63: kilometre (km) | G63: 3 | I63: =G63*H63 -> 0
B65: C1.5.5.10 | E65: Watering of temporary deviations and existing roads used as detours | F65: kilolitre (kℓ) | G65: 1100 | I65: =G65*H65 -> 0
B67: C1.5.5.11 | E67: Other road maintenance work ordered by the Engineer | F67: provisional sum | G67: 1 | H67: 50000 | I67: =G67*H67 -> 50000
B69: C1.5.5.12 | E69: Handling cost, profit and all other charges in respect of item C1.5.6.11 | F69: percentage (%) | G69: =I67 -> 50000 | I69: =G69*H69 -> 0
A71: C1.5.6 | E71: Removal of temporary deviations | F71: kilometre (km) | G71: 4 | I71: =G71*H71 -> 0
A73: C1.5.7 | E73: Temporary traffic control facilities
B75: C1.5.7.1 | E75: Delineators including mounting bases and ballast:
C77: (b) | E77: Double sided, reversible left or right (800 x 200mm ) | F77: number (No.) | G77: 1600 | I77: =G77*H77 -> 0
...

Sheet C1.6
A1: C1.6 | C1: CLEARING AND GRUBBING
A2: ITEM | C2: DESCRIPTION | D2: UNIT | E2: QTY | F2: RATE | G2: AMT
A5: C1.6.1 | C5: Clearing
B7: C1.6.1.1 | C7: Clearing with machines and some hand labour where necessary | D7: hectare (ha) | E7: 15 | G7: =E7*F7 -> 0
A9: C1.6.2 | C9: Grubbing
B11: C1.6.2.1 | C11: Grubbing with machines and some hand labour where necessary | D11: hectare (ha) | E11: 1 | G11: =E11*F11 -> 0
A13: C1.6.3 | C13: Removal and grubbing of large trees and tree stumps:
B15: C1.6.3.1 | C15: Girth equal to or exceeding 1,0m up to and including 2,0m | D15: number (No.) | E15: 20 | G15: =E15*F15 -> 0
A17: C1.6.9 | C17: Conservation of topsoil:
B19: C1.6.9.1 | C19: Stockpiling topsoil | D19: cubic metre (m3) | E19: 6000
B21: C1.6.9.2 | C21: Windrowing topsoil | D21: cubic metre (m3) | E21: 1000 | G21: =E21*F21 -> 0
A23: C1.6/C1.7.2.2 | C23: Hauling material to spoil and off-loading it at a designated spoil or stockpile area:
C25: (a) Cleared and grubbed material (organic matter and all other unsuitable or waste material) | D25: cubic metre - kilometre (m3 - km) | E25: 10000 | G25: =E25*F25 -> 0
C27: (b) Soil and gravel material | D27: cubic metre - kilometre (m3 - km) | E27: 18000 | G27: =E27*F27 -> 0
A72: TOTAL CARRIED FORWARD TO SUMMARY | G72: =SUM(G7:G71) -> 0

Sheet C2.1
A1: C2.1 | D1: GENERAL REQUIREMENTS AND TRENCHING FOR SERVICES
A2: ITEM | D2: DESCRIPTION | E2: UNIT | F2: QTY | G2: RATE | H2: AMT
A5: C2.1.1 | D5: Location, identification, protection and relocation of existing services
B7: C2.1.1.1 | D7: Contractor’s obligations | E7: lump sum | F7: 1 | H7: =G7*F7 -> 0
B9: C2.1.1.2 | D9: Permanent services relocation or protection work by others | E9: prime cost (PC) sum | F9: 1 | G9: 4500000 | H9: =G9*F9 -> 4500000
B11: C2.1.1.3 | D11: Handling costs and profit in respect of item C2.1.1.2 above | E11: percentage (%) | F11: =H9 -> 4500000 | H11: =G11*F11 -> 0
A13: C2.1.2 | D13: Existing services location, detection and verification
B15: C2.1.2.1 | D15: Using specialist detection services (ground penetrating radar)-GPR | E15: prime cost (PC) sum | F15: 1 | G15: 100000 | H15: =G15*F15 -> 100000
B17: C2.1.2.2 | D17: Handling costs and profit in respect of item C2.1.2.1 above | E17: percentage (%) | F17: =G15 -> 100000 | H17: =G17*F17 -> 0
B19: C2.1.2.5 | D19: Using hand excavation to locate, expose and verify services | E19: month | F19: 150 | H19: =G19*F19 -> 0
A74: TOTAL CARRIED FORWARD TO SUMMARY | H74: =SUM(H5:H73) -> 4600000

Sheet C2.2
A1: C2.2 | D1: DRY SERVICES
A2: ITEM | D2: DESCRIPTION | E2: UNIT | F2: QTY | G2: RATE | H2: AMT
A5: C2.2.1 | D5: Supply, lay and prove ducts
B7: C2.2.1.1 | D7: Unplasticised PVC pipes and fittings with couplings
C9: (a) | D9: 110mm diameter UPVC (OD) | E9: metre (m) | F9: 4800 | H9: =F9*G9 -> 0
C11: (b) | D11: 160mm diameter UPVC (OD) | E11: metre (m) | F11: =500+350 -> 850 | H11: =F11*G11 -> 0
A13: C2.2.4 | D13: Bedding for ducts compacted to 90 % of MDD (100 % for sand) using material:
B15: C2.2.4.5 | D15: From commercial sources
C17: (a) | D17: Non-cohesive material (Washed river sand) | E17: cubic metre (m3) | F17: 160 | H17: =F17*G17 -> 0
C19: (b) | D19: Crushed stone material (20mm stone) | E19: cubic metre (m3) | F19: 160 | H19: =F19*G19 -> 0
A21: C2.2.5 | D21: Concrete for bedding and encasement of ducts
B23: C2.2.5.2 | D23: Concrete encasement of ducts (C20/25-20) | E23: cubic metre (m3) | F23: 20 | H23: =F23*G23 -> 0
A25: C2.2.6 | D25: Duct accessories (markers, marking, draw wires and end caps etc.)
B27: C2.2.6.1 | D27: Duct markers (Refer to DrawingTD-R-MS-100/101) | E27: number (No.) | F27: 16 | H27: =F27*G27 -> 0
B29: C2.2.6.3 | D29: Draw wires (2 strands, 2.5mm in diameter of galvanised steel wire, 2m beyond each end) | E29: metre (m) | F29: 2100 | H29: =F29*G29 -> 0
B31: C2.2.6.4 | D31: End caps or plugs (Refer to DrawingTD-R-MS-100/101) | E31: number (No.) | F31: 16 | H31: =F31*G31 -> 0
A34: C2.2/C2.1.9 | D34: Trench excavation using labour enhanced construction methods
B36: C2.1.9.1 | D36: Trenches up to 1,0m wide
C38: (a) | D38: Up to 1,0m deep | E38: cubic metre (m3) | F38: 820 | H38: =F38*G38 -> 0
A40: C2.2/C2.1.11 | D40: Backfilling of trenches
B42: C2.1.11.1 | D42: Backfill compacted to 93% (100% for sand) of MDD (areas subject to traffic loads) using material:
C44: (a) | D44: From the excavated trench material | E44: cubic metre (m3) | F44: 640 | H44: =F44*G44 -> 0
A46: C2.2/C1.7.2 | D46: Hauling
B48: C1.7.2.2 | D48: Hauling material to spoil and off-loading it at a designated spoil or stockpile area:
C50: (b) | D50: Soil and gravel material | E50: cubic metre - kilometre (m3 - km) | F50: 2400 | H50: =F50*G50 -> 0
A67: TOTAL CARRIED FORWARD TO SUMMARY | H67: =SUM(H5:H66) -> 0

Sheet C3.1
A1: C3.1 | D1: DRAINS
A2: ITEM | D2: DESCRIPTION | E2: UNIT | F2: QTY | G2: RATE | H2: AMT
A5: C3.1.2 | D5: Clearing, shaping and disposal of accumulated sediment in existing unlined open drains
B7: C3.1.2.1 | D7: Using conventional methods | E7: cubic metre (m3) | F7: 50 | H7: =F7*G7 -> 0
B9: C3.1.2.2 | D9: Using labour enhanced construction methods | E9: cubic metre (m3) | F9: 50 | H9: =F9*G9 -> 0
A11: C3.1.3 | D11: Excavation, clearing and disposal of accumulated sediment in existing lined drains and drainage systems
B13: C3.1.3.1 | D13: Using conventional methods (up to 1,5m):
C15: (a) | D15: Manholes and inlet and outlet structures | E15: cubic metre (m3) | F15: 100 | H15: =F15*G15 -> 0
C17: (b) | D17: Culvert barrels | E17: cubic metre (m3) | F17: 50 | H17: =F17*G17 -> 0
C19: (c) | D19: Concrete or other lined side drains | E19: cubic metre (m3) | F19: 10 | H19: =F19*G19 -> 0
B21: C3.1.3.2 | D21: Using conventional methods (in excess of 1,5m):
C23: (a) | D23: Manholes and inlet and outlet structures | E23: cubic metre (m3) | F23: 20 | H23: =F23*G23 -> 0
C25: (b) | D25: Culvert barrels | E25: cubic metre (m3) | F25: 20 | H25: =F25*G25 -> 0
C27: (c) | D27: Concrete or other lined side drains | E27: cubic metre (m3) | F27: 10 | H27: =F27*G27 -> 0
B29: C3.1.3.3 | D29: Using labour enhanced construction methods:
C31: (a) | D31: Manholes and inlet and outlet structures | E31: cubic metre (m3) | F31: 50 | H31: =F31*G31 -> 0
C33: (b) | D33: Culvert barrels | E33: cubic metre (m3) | F33: 30 | H33: =F33*G33 -> 0
C35: (c) | D35: Concrete or other lined side drains | E35: cubic metre (m3) | F35: 10 | H35: =F35*G35 -> 0
A37: C3.1.4 | D37: Excavation and disposal of material for subsoil drainage systems:
B39: C3.1.4.1 | D39: Excavating in all material situated within the following depth ranges below the surface:
C41: (a) | D41: 0m to 1,5m | E41: cubic metre (m3) | F41: 450 | H41: =F41*G41 -> 0
C43: (b) | D43: Exceeding 1,5m and up to 3,0m | E43: cubic metre (m3) | F43: 40 | H43: =F43*G43 -> 0
B45: C3.1.4.2 | D45: Excavating soft material situated within 0m to 1,5m below the surface level using labour enhanced construction methods | E45: cubic metre (m3) | F45: 70 | H45: =F45*G45 -> 0
B47: C3.1.4.3 | D47: Excavating intermediate material situated within 0m to 1,5m below the surface level using labour enhanced construction methods | E47: cubic metre (m3) | F47: 100 | H47: =F47*G47 -> 0
B49: C3.1.4.4 | D49: Extra over sub-item C3.1.4.1 for excavation in hard and boulder material, irrespective of depth | E49: cubic metre (m3) | F49: 5 | H49: =F49*G49 -> 0
A51: C3.1.5 | D51: Impermeable backfilling to subsoil drainage systems
B53: C3.1.5.1 | D53: Un-stabilised natural gravel obtained from approved sources on the site | E53: cubic metre (m3) | F53: 450 | H53: =F53*G53 -> 0
B55: C3.1.5.2 | D55: G5 material obtained from commercial sources | E55: cubic metre (m³) | F55: 70 | H55: =F55*G55 -> 0
A57: C3.1.6 | D57: Construction of banks and dykes:
B59: C3.1.6.1 | D59: Banks and dykes using conventional methods | E59: cubic metre (m3) | F59: 500 | H59: =F59*G59 -> 0
B61: C3.1.6.2 | D61: Banks and dykes using labour enhanced construction methods | E61: cubic metre (m3) | F61: 50 | H61: =F61*G61 -> 0
B63: CARRIED FORWARD | H63: =SUM(H7:H62) -> 0
B64: BROUGHT FORWARD | H64: =H63 -> 0
A65: C3.1.7 | D65: Natural permeable material in subsoil drainage systems (approved crushed stone):
B67: C3.1.7.2 | D67: Crushed stone obtained from commercial sources (SANS 1083-Table 3 coarse-grade 20 mm nominal size filter stone) | E67: cubic metre (m3) | F67: 220 | H67: =F67*G67 -> 0
A69: C3.1.8 | D69: Natural permeable material in subsoil drainage systems (approved natural sand):
B71: C3.1.8.2 | D71: Natural sand from commercial sources SANS 1083-Table A3.1.5-1 (Coarse grade) | E71: cubic metre (m3) | F71: 170 | H71: =F71*G71 -> 0
A73: C3.1.9 | D73: Pipes in subsoil drainage systems:
B75: C3.1.9.2 | D75: HDPe flexible pipes with smooth bore, complete with couplings (150 mm internal diameter, slotted ) | E75: metre (m) | F75: 1000 | H75: =F75*G75 -> 0
B77: C3.1.9.3 | D77: HDPe flexible pipes with smooth bore, complete with couplings (150 mm internal diameter, normal ) | E77: metre (m) | F77: 200 | H77: =F77*G77 -> 0
...

Sheet C3.2
A1: C3.2 | D1: CULVERTS
A2: ITEM | D2: DESCRIPTION | E2: UNIT | F2: QTY | G2: RATE | H2: AMT
A5: C3.2.1 | D5: Excavation for culvert structures:
B7: C3.2.1.1 | D7: Excavating in all material situated within the following depth ranges below the surface level:
C9: (a) | D9: 0m to 1,5m | E9: cubic metre (m3) | F9: 5000 | H9: =F9*G9 -> 0
C11: (b) | D11: Exceeding 1,5m and up to 3,0m | E11: cubic metre (m3) | F11: 2000 | H11: =F11*G11 -> 0
B13: C3.2.1.4 | D13: Extra over sub-item C3.2.1.1 for excavation in hard or boulder material, irrespective of depth | E13: cubic metre (m3) | F13: 200 | H13: =F13*G13 -> 0
B15: C3.2.1.5 | D15: Extra over sub-item C3.2.1.1 for excavation in stabilised existing road layers, irrespective of depth | E15: cubic metre (m3) | F15: 400 | H15: =F15*G15 -> 0
A17: C3.2.2 | D17: Backfilling
B19: C3.2.2.1 | D19: Using the excavated material | E19: cubic metre (m3) | F19: 4000 | H19: =F19*G19 -> 0
B21: C3.2.2.2 | D21: Using imported selected material:
C23: (a) | D23: From commercial sources (G7) | E23: cubic metre (m3) | F23: 2400 | H23: =F23*G23 -> 0
B25: C3.2.2.3 | D25: Extra over sub-items C3.2.2.1 and C3.2.2.2 for soil cement backfilling
C27: (a) | D27: With wet mixture (5% cement) (32.5kN) | E27: cubic metre (m3) | F27: =(F19+F23)*0.1 -> 640 | H27: =F27*G27 -> 0
C29: (b) | D29: With dry mixture (3 % cement) (32.5kN) | E29: cubic metre (m3) | F29: =(F27/0.1)*0.05 -> 320 | H29: =F29*G29 -> 0
A31: C3.2.3 | D31: Concrete pipe culverts:
B33: C3.2.3.2 | D33: On Class B bedding:
D35: (a) Class 75 D-load pipes, SC type, interlocking joints:
D36: (i) 300 mm diameter | E36: metre (m) | F36: 10 | H36: =F36*G36 -> 0
D38: (ii) 450mm diameter | E38: metre (m) | F38: 1220 | H38: =F38*G38 -> 0
D40: (iii) 525mm diameter | E40: metre (m) | F40: 480 | H40: =F40*G40 -> 0
D42: (iv) 600mm diameter | E42: metre (m) | F42: 380 | H42: =F42*G42 -> 0
D44: (v) 750 mm diameter | E44: metre (m) | F44: 200 | H44: =F44*G44 -> 0
D46: (vi) 900 mm diameter | E46: metre (m) | F46: 240 | H46: =F46*G46 -> 0
D48: (vii) 1200 mm diameter | E48: metre (m) | F48: 500 | H48: =F48*G48 -> 0
D50: (Viii) 1350 mm diameter | E50: metre (m) | F50: 200 | H50: =F50*G50 -> 0
A52: C3.2.5 | D52: Rectangular culverts with prefabricated elements:
B54: C3.2.5.1 | D54: Prefabricated portal culverts; wall and roof combination:
D56: (a) Prefabricated portal culverts; wall and roof combination (1200x600) | E56: metre (m) | F56: 140 | H56: =F56*G56 -> 0
D58: (b) Prefabricated portal culverts; wall and roof combination (1200x900) | E58: metre (m) | F58: 60 | H58: =F58*G58 -> 0
B60: C3.2.5.2 | D60: Prefabricated floor slabs:
D62: (a) Prefabricated floor slabs (1200x600) | E62: metre (m) | F62: 150 | H62: =F62*G62 -> 0
D64: (b) Prefabricated floor slabs (1200x900) | E64: metre (m) | F64: 70 | H64: =F64*G64 -> 0
B71: CARRIED FORWARD | H71: =SUM(H9:H64) -> 0
B72: BROUGHT FORWARD | H72: =H71 -> 0
A73: C3.2.7 | D73: Cast in situ concrete and formwork:
B75: C3.2.7.1 | D75: In Class A bedding, screeds, concrete backfill and the encasing for pipes, including formwork (Class C12/15-20) | E75: cubic metre (m3) | F75: 10 | H75: =F75*G75 -> 0
B77: C3.2.7.5 | D77: In inlet and outlet structures including kerbs, chutes and downpipes, skewed ends, catchpits, manholes, thrust and anchor blocks, excluding formwork but including Class U2 surfacing finish (Class 25/30-20) | E77: cubic metre (m3) | F77: 45 | H77: =F77*G77 -> 0
B79: C3.2.7.6 | D79: Formwork of concrete under items C3.2.7.3 to 5 above (Class F1 surface finish) | E79: square metre (m2) | F79: 400 | H79: =F79*G79 -> 0
D81: Formwork of concrete under items C3.2.7.3 to 5 above (Class F2 surface finish) | E81: square metre (m2) | F81: 300 | H81: =F81*G81 -> 0
...

Sheet C3.3
A1: C3.3 | D1: CONCRETE KERBING AND CHANNELING, ASPHALT BERMS, CHUTES, DOWNPIPES, AS WELL AS CONCRETE, STONE PITCHED AND GABION LININGS FOR OPEN DRAINS
A2: ITEM | D2: DESCRIPTION | E2: UNIT | F2: QTY | G2: RATE | H2: AMT
A5: C3.3.1 | D5: Concrete kerbing:
B7: C3.3.1.1 | D7: Prefabricated kerbing:
C9: (a) | D9: Figure 3 Barrier Kerb (Drawing PN136-DCs02) | E9: metre (m) | F9: 5500 | H9: =F9*G9 -> 0
C11: (c) | D11: Figure 8C Mountable Kerb (Drawing PN136-DCs02) | E11: metre (m) | F11: 300 | H11: =F11*G11 -> 0
C13: (d) | D13: Figure 12 Garden Kerb(Drawing PN136-DCs02) | E13: metre (m) | F13: 7000 | H13: =F13*G13 -> 0
A15: C3.3.2 | D15: Concrete kerbing-channeling combination:
B17: C3.3.2.1 | D17: Prefabricated kerbing-channeling (300mm cast in-situ concrete channel with Class F2 Finish):
C19: (a) | D19: Figure 3 Barrier Kerb (Drawing PN136-DCs02) | E19: metre (m) | F19: 9200 | H19: =F19*G19 -> 0
C21: (b) | D21: Figure 7 Semi-mountable Kerb (Drawing PN136-DCs02) | E21: metre (m) | F21: 1030 | H21: =F21*G21 -> 0
B23: C3.3.2.2 | D23: Cast in situ kerbing-channeling (300mm cast in-situ concrete channel with Class F2 Finish)(C20/25-20):
C25: (a) | D25: Figure 8b Mountable Kerb-Channel Combination (Drawing PN136-DCs02) | E25: metre (m) | F25: 1700 | H25: =F25*G25 -> 0
A27: C3.3.3 | D27: Extra over items C3.3.1 and C3.3.2 for concrete kerbing or concrete kerbing and channeling on curves
B29: C3.3.3.1 | D29: On curves of radii more than or equal to 5,0m but less than 20m | E29: metre (m) | F29: 600 | H29: =F29*G29 -> 0
B31: C3.3.3.2 | D31: On curves with radii more than or equal to 1,0m but less than 5,0m | E31: metre (m) | F31: 105 | H31: =F31*G31 -> 0
B33: C3.3.3.3 | D33: On curves with radii less than 1,0m | E33: metre (m) | F33: 15 | H33: =F33*G33 -> 0
A35: C3.3.4 | D35: Extra over item C3.3.2 for drop kerbs at pedestrian crossings and driveways | E35: metre (m) | F35: 300 | H35: =F35*G35 -> 0
A36: C3.3.5 | D36: Asphalt berms
B37: C3.3.5.1 | D37: Asphalt berms placed where there are no vehicle restraint systems (drawing reference indicated) | E37: metre (m) | H37: =F37*G37 -> 0
B38: C3.3.5.2 | D38: Asphalt berms placed at existing vehicle restraint systems (drawing reference indicated) | E38: metre (m) | H38: =F38*G38 -> 0
B39: C3.3.5.3 | D39: Prime coat (type indicated) | E39: square metre (m2) | H39: =F39*G39 -> 0
B40: C3.3.5.4 | D40: Bond coat (type indicated) | E40: square metre (m2) | H40: =F40*G40 -> 0
A41: C3.3.6 | D41: Concrete chutes (typical designs):
B42: C3.3.6.1 | D42: Prefabricated concrete chutes (description of type with reference to drawing) | E42: metre (m) | H42: =F42*G42 -> 0
B43: C3.3.6.2 | D43: Cast in situ concrete chutes (description, with reference to drawing and class of concrete and finish indicated) | E43: metre (m) | H43: =F43*G43 -> 0
B44: C3.3.6.3 | D44: Stone pitched chutes (description with reference to drawing and class of concrete indicated) | E44: metre (m) | H44: =F44*G44 -> 0
A45: C3.3.7 | D45: Cast in situ concrete chutes (measured by components):
B46: C3.3.7.1 | D46: Concrete (class indicated) | E46: cubic metre (m3) | H46: =F46*G46 -> 0
B47: C3.3.7.2 | D47: Formwork (surface finish indicated) | E47: square metre (m2) | H47: =F47*G47 -> 0
B48: C3.3.7.3 | D48: Stone pitched chutes
C49: (a) | D49: Grouted stone pitching (type of chute indicated) | E49: square metre (m2) | H49: =F49*G49 -> 0
C50: (b) | D50: Grouted stone pitching on a concrete bed (class of concrete and type of chute indicated) | E50: square metre (m2) | H50: =F50*G50 -> 0
A82: TOTAL CARRIED FORWARD TO SUMMARY | H82: =SUM(H5:H81) -> 0

Sheet C4.2
A1: C4.2 | D1: CUT MATERIALS
A2: ITEM | D2: DESCRIPTION | E2: UNIT | F2: QTY | G2: RATE | H2: AMT
A5: C4.2.1 | D5: Compiling and implementing M&U plans for the cuttings
B7: C4.2.1.2 | D7: Cuttings exceeding 10 000 m3 up to 20 000 m3 | E7: number (No.) | F7: 1 | H7: =F7*G7 -> 0
A9: C4.2.3 | D9: Excavating of materials in cuttings, material obtained from:
B11: C4.2.3.1 | D11: Soft excavation | E11: cubic metre (m3) | F11: 10200 | H11: =F11*G11 -> 0
A13: C4.2.7 | D13: Removal of unsuitable stable cut material to spoil
B15: C4.2.7.1 | D15: In layer thicknesses of 200mm and less | E15: cubic metre (m3) | F15: 400 | H15: =F15*G15 -> 0
A18: C4.2.9 | D18: Excavate material to spoil in sites designated by the Contractor, material obtained from
B20: C4.2.9.1 | D20: Soft excavation, overburden and unsuitable material | E20: cubic metre (m3) | F20: 150 | H20: =F20*G20 -> 0
A22: C4.2/C1.7.2 | D22: Hauling
B24: C1.7.2.1 | D24: Hauling material for use in the Works and off-loading it on the site of the Works:
C26: (a) | D26: Soil, gravel, crushed stone and pavement layer material | E26: cubic metre - kilometre (m3 - km) | F26: =(F11*3)+(F15*6) -> 33000 | H26: =F26*G26 -> 0
B28: C1.7.2.2 | D28: Hauling material to spoil and off-loading it at a designated spoil or stockpile area:
C30: (b) | D30: Soil and gravel material | E30: cubic metre - kilometre (m3 - km) | F30: 1100 | H30: =F30*G30 -> 0
A70: TOTAL CARRIED FORWARD TO SUMMARY | H70: =SUM(H5:H69) -> 0

Sheet C4.4
A1: C4.4 | D1: COMMERCIAL MATERIALS
A2: ITEM | D2: DESCRIPTION | E2: UNIT | F2: QTY | G2: RATE | H2: AMT
A4: C4.4.2 | D4: Commercial materials identified by the Contractor from commercial, private or other non-commercial suppliers
B6: C4.4.2.1 | D6: Pavement layer material:
C8: (a) | D8: Type G1 material | E8: cubic metre (m3) | F8: 15500 | H8: =F8*G8 -> 0
C10: (b) | D10: Type G5B material | E10: cubic metre (m3) | F10: ='C5.3'!F23+'C5.3'!F25 -> 24000 | H10: =F10*G10 -> 0
C12: (c) | D12: Type G6 material | E12: cubic metre (m3) | F12: 3500 | H12: =F12*G12 -> 0
C14: (d) | D14: Type G7 material | E14: cubic metre (m3) | F14: 20800 | H14: =F14*G14 -> 0
C16: (e) | D16: Type G9 material | E16: cubic metre (m3) | F16: 15500 | H16: =F16*G16 -> 0
C18: (f) | D18: Gravel shoulder material | E18: cubic metre (m3) | F18: 5000 | H18: =F18*G18 -> 0
B20: C4.4.2.5 | D20: Fill material in the earthworks:
C22: (a) | D22: G9 Material | E22: cubic metre (m3) | F22: 50000 | H22: =F22*G22 -> 0
B24: C4.4.2.6 | D24: Pioneer material | E24: cubic metre (m3) | F24: 1725 | H24: =F24*G24 -> 0
A78: TOTAL CARRIED FORWARD TO SUMMARY | H78: =SUM(H4:H77) -> 0

Sheet C5.1
A1: C5.1 | E1: ROADBED
A2: ITEM | E2: DESCRIPTION | F2: UNIT | G2: QTY | H2: RATE | I2: AMT
A5: C5.1.1 | E5: Roadbed construction and compaction:
B7: C5.1.1.2 | E7: Compaction of in-situ material to 93% of MDD | F7: cubic metre (m3) | G7: 18200 | I7: =G7*H7 -> 0
A9: C5.1.3 | E9: Excavate material to spoil sites designated by the Contractor:
B11: C5.1.3.1 | E11: Excavate material to spoil from roadbed construction, material obtained from:
C13: (a) | E13: Soft excavation | F13: cubic metre (m3) | G13: 500 | I13: =G13*H13 -> 0
A15: C5.1.4 | E15: Removal of unsuitable material to spoil:
B17: C5.1.4.1 | E17: In layer thicknesses of 200mm and less
C19: (a) | E19: Stable material | F19: cubic metre (m3) | G19: 600 | I19: =G19*H19 -> 0
A21: C5.1.9 | E21: Construction of roadbed comprising normal and inactive clay:
B23: C5.1.9.3 | E23: By removal of material | F23: cubic metre (m3) | G23: 2000 | I23: =G23*H23 -> 0
A25: C5.1.11 | E25: Construction of roadbed comprising a pioneer layer | F25: cubic metre (m3) | G25: 2000 | I25: =G25*H25 -> 0
A27: C5.1/C1.7.2 | E27: Hauling
B29: C1.7.2.1 | E29: Hauling material for use in the Works and off-loading it on the site of the Works:
D31: (a) | E31: Soil, gravel, crushed stone and pavement layer material | F31: cubic metre - kilometre (m3 - km) | G31: 800 | I31: =G31*H31 -> 0
B33: C1.7.2.2 | E33: Hauling material to spoil and off-loading it at a designated spoil or stockpile area:
D35: (b) | E35: Soil and gravel material | F35: cubic metre - kilometre (m3 - km) | G35: 1300 | I35: =G35*H35 -> 0
A72: TOTAL CARRIED FORWARD TO SUMMARY | I72: =SUM(I5:I71) -> 0

Sheet C5.2
A1: C5.2 | D1: FILL
A2: ITEM | D2: DESCRIPTION | E2: UNIT | F2: QTY | G2: RATE | H2: AMT
A5: C5.2.1 | D5: Compiling and implementing M&U plans:
B7: C5.2.1.1 | D7: For fills more than 10 000 m3 | E7: number (No.) | F7: 1 | H7: =F7*G7 -> 0
A9: C5.2.2 | D9: Fill construction:
B11: C5.2.2.1 | D11: Normal fill material in compacted layer thicknesses of 200mm and less:
C13: (b) | D13: Compacted to 93% of MDD | E13: cubic metre (m3) | F13: ='[1]C4.4'!F22 -> 50000 | H13: =F13*G13 -> 0
A15: C5.2.5 | D15: Fill in sidewalk:
B17: C5.2.5.1 | D17: Fill material in sidewalk compacted to 93% of MDD | E17: cubic metre (m3) | F17: 7000 | H17: =F17*G17 -> 0
A19: C5.2.7 | D19: Construction of a trial section:
B21: C5.2.7.1 | D21: Normal fill | E21: cubic metre (m3) | F21: 500 | H21: =F21*G21 -> 0
A23: C5.2.11 | D23: Finishing-off fill slopes, medians and interchange areas:
B25: C5.2.11.1 | D25: Fill slopes | E25: square metre (m2) | F25: 30000 | H25: =F25*G25 -> 0
B27: C5.2.11.2 | D27: Medians and interchange areas | E27: square metre (m2) | F27: 18000 | H27: =F27*G27 -> 0
A29: C5.2.3 | D29: Side-cut to fill compacted to 93% of MDD in compacted layer thicknesses of 200mm and less | E29: cubic metre (m3) | F29: 5000 | H29: =F29*G29 -> 0
A31: C5.1/C1.7.2 | D31: Hauling
B33: C1.7.2.1 | D33: Hauling material for use in the Works and off-loading it on the site of the Works:
C35: (a) | D35: Soil, gravel, crushed stone and pavement layer material | E35: cubic metre - kilometre (m3 - km) | F35: =9500*2 -> 19000 | H35: =F35*G35 -> 0
A73: TOTAL CARRIED FORWARD TO SUMMARY | H73: =SUM(H5:H72) -> 0

Sheet C5.3
A1: C5.3 | D1: ROAD PAVEMENT LAYERS
A2: ITEM | D2: DESCRIPTION | E2: UNIT | F2: QTY | G2: RATE | H2: AMT
A5: C5.3.1 | D5: Compiling and implementing M&U plans for the construction of all the pavement layers. | E5: number (No.) | F5: 5 | H5: =F5*G5 -> 0
A7: C5.3.2 | D7: Construction of pavement layers
B9: C5.3.2.1 | D9: Construction of layers using conventional construction methods:
C11: (a) | D11: Lower selected subgrade layer (150mm thick) compacted to 93% of MDD | E11: cubic metre (m3) | F11: 15500 | H11: =F11*G11 -> 0
C13: (c) | D13: Upper selected subgrade layer (150mm thick) compacted to 95% of MDD | E13: cubic metre (m3) | F13: 20800 | H13: =F13*G13 -> 0
C15: (h) | D15: Gravel shoulder layer (125-300mm layer thickness) compacted to 95% of MDD | E15: cubic metre (m3) | F15: 4600 | H15: =F15*G15 -> 0
C17: (i) | D17: Lower subbase gravel layer for Sidewalk (unstabilised) (150mm thick) compacted to 95% of MDD | E17: cubic metre (m3) | F17: =2000*1.15 -> 2300 | H17: =F17*G17 -> 0
C19: (j) | D19: Lower subbase gravel layer (chemically stabilised) (150mm thick) compacted to 95% of MDD | E19: cubic metre (m3) | F19: 1200 | H19: =F19*G19 -> 0
C21: (o) | D21: G5B crushed rock/boulder subbase layer (chemically stabilised) compacted to 97% of MDD
D23: (i) 150mm subbase layer | E23: cubic metre (m3) | F23: 5600 | H23: =F23*G23 -> 0
D25: (ii) 200mm thick subbase | E25: cubic metre (m3) | F25: =16000*1.15 -> 18400 | H25: =F25*G25 -> 0
C27: (aa) | D27: G1 crushed stone base layer (150mm thick) compacted to 88 % of AD | E27: cubic metre (m3) | F27: 15000 | H27: =F27*G27 -> 0
A29: C5.3.9 | D29: Construction of a trial section:
B31: C5.3.9.1 | D31: Construction of a trial section using conventional methods of construction
C33: (b) | D33: Crushed stone subbase layer trial section | H33: =F33*G33 -> 0
D35: (i) C3 Subbase (200mm thick) | E35: cubic metre (m3) | F35: 250 | H35: =F35*G35 -> 0
D37: (ii) C3 subbase (150mm thick) | E37: cubic metre (m3) | F37: 120 | H37: =F37*G37 -> 0
C39: (c) | D39: Crushed stone base layer (layer thickness indicated) trial section | E39: cubic metre (m3) | H39: =F39*G39 -> 0
D41: (i) G1 base (150mm thick) | E41: cubic metre (m3) | F41: 120 | H41: =F41*G41 -> 0
A43: C5.3.10 | D43: Removal of a completed trial section
B45: C5.1.10.1 | D45: Stabilised layer | E45: cubic metre (m3) | F45: 370 | H45: =F45*G45 -> 0
B47: C5.3.10.3 | D47: Crushed stone layer | E47: cubic metre (m3) | F47: 120 | H47: =F47*G47 -> 0
A49: C5.3.11 | D49: Riding quality measurements:
B51: C5.3.11.3 | D51: Using an inertial profilometer | E51: kilometre (km) | F51: 70 | H51: =F51*G51 -> 0
B53: C5.3.11.2 | D53: Using a rolling straight edge | E53: kilometre (km) | F53: 4 | H53: =F53*G53 -> 0
A55: C5.3.12 | D55: Surface regularity payment adjustments | E55: provisional sum | F55: 1 | G55: 184500 | H55: =F55*G55 -> 184500
A65: TOTAL CARRIED FORWARD TO SUMMARY | H65: =SUM(H5:H64) -> 184500

Sheet C5.4
A1: C5.4 | D1: STABILISATION
A2: ITEM | D2: DESCRIPTION | E2: UNIT | F2: QTY | G2: RATE | H2: AMT
A5: C5.4.2 | D5: Chemical stabilisation:
B7: C5.4.2.1 | D7: Chemical stabilisation of pavement layers
C9: (a) | D9: Subbase layer (200mm) | E9: cubic metre (m3) | F9: ='C5.3'!F25 -> 18400 | H9: =F9*G9 -> 0
C11: (b) | D11: Subbase layer (150mm) | E11: cubic metre (m3) | F11: ='C5.3'!F23 -> 5600 | H11: =F11*G11 -> 0
C13: (c) | D13: Upper subbase layer (150mm) | E13: cubic metre (m3) | F13: ='[1]C5.3'!F19 -> 1200 | H13: =F13*G13 -> 0
A15: C5.4.5 | D15: Cementitious stabilisation agents for pavement layers:
B17: C5.4.5.1 | D17: Addition of cementitious stabilisation agents for pavement layers
C19: (a) | D19: Cement (CEM II 32,5)(for pavement layer) | E19: ton (t) | F19: =ROUND((((F9/0.2)*200*2150*3)/100000000)+(((F11/0.15)*150*2150*3)/100000000)+(((F13/0.15)*150*2150*3)/100000000),0) -> 1625 | H19: =F19*G19 -> 0
C21: (b) | D21: Slaked Road Lime (for pavement layer) | E21: ton (t) | F21: 820 | H21: =F21*G21 -> 0
A23: C5.4.10 | D23: Provision and application of water for curing | E23: kilolitre (kℓ) | F23: =((((((F9/0.2)+(F11/0.15)+(F13/0.15))*3.5)*5)/1000)*1.2) -> 2884 | H23: =F23*G23 -> 0
A25: C5.4.11 | D25: Curing by covering with the subsequent layer | E25: square metre (m2) | F25: 210000 | H25: =F25*G25 -> 0
A76: TOTAL CARRIED FORWARD TO SUMMARY | H76: =SUM(H5:H75) -> 0

Sheet C6.2
A1: C6.2 | C1: SEGMENTAL BLOCK PAVING LAYERS
A2: ITEM | C2: DESCRIPTION | D2: UNIT | E2: QTY | F2: RATE | G2: AMT
A5: C6.2.1 | C5: Segmental block paving
B7: C6.2.1.1 | C7: Concrete block paving
B9: (a) | C9: Paving in islands and medians - 25 MPa concrete interlocking pavers, grey((80mm Segment blocks (type S-A) with 20mm bedding sand) | D9: square metre (m2) | E9: 2000 | G9: =E9*F9 -> 0
B11: (b) | C11: Paving in pedestrian walkways (60mm Segment blocks (type S-A) with 20mm bedding sand) | D11: square metre (m2) | E11: 15000 | G11: =E11*F11 -> 0
B13: (c) | C13: Paving in central island of roundabout intersections - (80mm Segment blocks (type S-A) with 20mm bedding sand) | D13: square metre (m2) | E13: 1925 | G13: =E13*F13 -> 0
B15: (d) | C15: Tactile Guidance Paving Blocks (400 x 400 x 60mm, as specified in the drawings) (at pedestrian ramps) | D15: square metre (m2) | E15: 1260 | G15: =E15*F15 -> 0
B17: (e) | C17: Paving in Bus stops (80mm Segment blocks (type S-A) with 20mm bedding sand) | D17: square metre (m2) | E17: 7500 | G17: =E17*F17 -> 0
A19: C6.2.2 | C19: Cast in-situ concrete edge and intermediate beams
B21: (a) | C21: Concrete Apron (C24/30-20) | D21: cubic metre (m3) | E21: 40 | G21: =E21*F21 -> 0
B23: (b) | C23: Concrete edge beams (C20/25-20) | D23: cubic metre (m3) | E23: 200 | G23: =E23*F23 -> 0
A25: PC6.2.5 | C25: Removal and stacking existing segmental paving blocks | D25: square metre (m2) | E25: 800 | G25: =E25*F25 -> 0
A70: TOTAL CARRIED FORWARD TO SUMMARY | G70: =SUM(G9:G69) -> 0

Sheet C8.1
A1: C8.1 | C1: PRIME COAT
A2: ITEM | C2: DESCRIPTION | D2: UNIT | E2: QTY | F2: RATE | G2: AMT
A5: C8.1.1 | C5: Prime coat:
B7: C8.1.1.2 | C7: MC -30 cut-back bitumen | D7: litre (ℓ) | E7: 90000 | G7: =E7*F7 -> 0
B9: C8.1.1.3 | C9: Inverted bitumen emulsion | D9: litre (ℓ) | E9: 90000 | G9: =E9*F9 -> 0
A11: C8.1.2 | C11: Aggregate for blinding:
B13: C8.1.2.1 | C13: Natural sand | D13: cubic metre (m3) | E13: 10 | G13: =E13*F13 -> 0
A15: C8.1.3 | C15: Extra over item C8.1.1 for applying the prime coat accessible only to hand-held or light equipment | D15: litre (ℓ) | E15: 5000 | G15: =E15*F15 -> 0
A77: TOTAL CARRIED FORWARD TO SUMMARY | G77: =SUM(G5:G76) -> 0

Sheet C8.8
A1: C8.8 | D1: PATCHING AND EDGE BREAK REPAIR
A2: ITEM | D2: DESCRIPTION | E2: UNIT | F2: QTY | G2: RATE | H2: AMT
A5: C8.8.1 | D5: Saw cutting pavement layers for patching
B7: C8.8.1.1 | D7: Asphalt or bituminous surfacing to an average depth
C9: (a) | D9: Not exceeding 50mm | E9: metre (m) | F9: 2188 | H9: =F9*G9 -> 0
A11: C8.8.2 | D11: Excavation in existing pavements for patching (non-milling)
B13: C8.8.2.1 | D13: Asphalt layers
C15: (a) | D15: Not exceeding 10 m² including for edge repairs wider than 250mm | E15: cubic metre (m3) | F15: 1 | H15: =F15*G15 -> 0
C17: (b) | D17: Exceeding 10 m² but not exceeding 50 m² including for edge repairs wider than 250mm | E17: cubic metre (m3) | F17: 15 | H17: =F17*G17 -> 0
C19: (c) | D19: Exceeding 50 m² up to 100 m² including for edge repairs wider than 250mm | E19: cubic metre (m3) | F19: 20 | H19: =F19*G19 -> 0
C21: (d) | D21: Exceeding 100 m² | E21: cubic metre (m3) | F21: 45 | H21: =F21*G21 -> 0
A23: C8.8.4 | D23: Backfilling of excavations for patching with:
B25: C8.8.4.3 | D25: Asphalt for a patch with a surface area (PG 64V-16 (EMB) design level II)
C27: (a) | D27: Not exceeding 10 m² including for edge repairs wider than 250mm | E27: ton (t) | F27: 5 | H27: =F27*G27 -> 0
C29: (b) | D29: Exceeding 10 m² but not exceeding 50 m² including for edge repairs wider than 250mm | E29: ton (t) | F29: 40 | H29: =F29*G29 -> 0
C31: (c) | D31: Exceeding 50 m² up to 100 m² including for edge repairs wider than 250mm | E31: ton (t) | F31: 50 | H31: =F31*G31 -> 0
C33: (d) | D33: Exceeding 100 m² | E33: ton (t) | F33: 115 | H33: =F33*G33 -> 0
A70: TOTAL CARRIED FORWARD TO SUMMARY | H70: =SUM(H5:H69) -> 0

Sheet C9.1
A1: C9.1 | D1: ASPHALT LAYERS
A2: ITEM | D2: DESCRIPTION | E2: UNIT | F2: QTY | G2: RATE | H2: AMT
A5: C9.1.1 | D5: Asphalt mix designs
B7: C9.1.1.2 | D7: Sand skeletal mixes:
C9: (a) | D9: Continuously graded base or surfacing:
D11: (i) PG 64V-16 (EMB) design level II | E11: lump sum | F11: 1 | H11: =F11*G11 -> 0
D13: (ii) PG 64V-16 (PMB) design level II | E13: lump sum | F13: 1 | H13: =F13*G13 -> 0
A15: C9.1.2 | D15: Construction of trial sections
B17: C9.1.2.1 | D17: Asphalt layers
C19: (a) | D19: Asphalt layer (Sand skeleton mix, PG 64V-16 (EMB) design level II, 50mm layer thickness, by paver) | E19: square metre (m2) | F19: 750 | H19: =F19*G19 -> 0
C21: (b) | D21: Asphalt layer ( Sand skeleton mix, PG 64V-16 (EMB), 45mm layer thickness, by paver) | E21: square metre (m2) | F21: 700 | H21: =F21*G21 -> 0
C23: (c) | D23: Apshat base (sand skeleton mix,120mm layer thickness,PG 64V-16 (PMB) design level II, by paver)
B25: C9.1.2.2 | D25: Removal of trial section where so instructed by the Engineer | E25: square metre (m2) | F25: 1450 | H25: =F25*G25 -> 0
A27: C9.1.3 | D27: Application of bond coat
B29: C9.1.3.1 | D29: Stable–grade 30% net bitumen emulsion as specified. Applied with a calibrated distributer | E29: litre (ℓ) | F29: 45100 | H29: =F29*G29 -> 0
B31: C9.1.3.2 | D31: Applied in restricted areas using a portable pressure sprayer | E31: litre (ℓ) | F31: 4000 | H31: =F31*G31 -> 0
B33: C9.1.3.3 | D33: Applied by hand using brushes on all exposed transverse and longitudinal construction joints | E33: litre (ℓ) | F33: 1500 | H33: =F33*G33 -> 0
A35: C9.1.4 | D35: Asphalt base
B37: C9.1.4.1 | D37: New Construction
C39: (a) | D39: Sand skeletal mix – continuously graded as defined (120mm layer thickness,PG 64V-16 (PMB) design level II, by paver) | E39: square metre (m2) | F39: 5000 | H39: =F39*G39 -> 0
A41: C9.1.5 | D41: Asphalt surfacing
B43: C9.1.5.1 | D43: New construction
C45: (e) | D45: Sand skeletal mix – continuously graded as defined
D47: (i) 50mm layer thickness, PG 64V-16 (EMB) design level II, by paver | E47: square metre (m2) | F47: 60000 | H47: =F47*G47 -> 0
D49: (ii) 45mm layer thickness, PG 64V-16 (EMB) design level II, by paver | E49: square metre (m2) | F49: 30000 | H49: =F49*G49 -> 0
A51: C9.1.9 | D51: Application of rolled in chippings (10mm nominal size)
B53: C9.1.9.2 | D53: By means of chip spreader | E53: square metre (m2) | F53: =F47 -> 60000 | H53: =F53*G53 -> 0
A55: C9.1.10 | D55: Variation rates
B57: C9.1.10.1 | D57: Bitumen: | H57: =F57*G57 -> 0
C59: (a) | D59: PG 64V-16 (EMB) design level II | E59: ton (t) | H59: Rate Only
C61: (b) | D61: PG 64V-16 (PMB) design level II | E61: ton (t) | H61: Rate Only
A68: CARRIED FORWARD | H68: =SUM(H11:H67) -> 0
A69: BROUGHT FORWARD | H69: =H68 -> 0
B70: C9.1.10.2 | D70: Aggregate | E70: ton (t) | H70: Rate Only
B72: C9.1.10.3 | D72: Active filler (lime unless stated in Contract Documentation) | E72: ton (t) | H72: Rate Only
B74: C9.1.10.5 | D74: Rolled-in chippings | E74: ton (t) | H74: Rate Only
A76: C9.1.13 | D76: Coring of asphalt layers
B78: C9.1.13.1 | D78: 100mm diameter | E78: number (No.) | F78: 50 | H78: =F78*G78 -> 0
A80: C9.1.14 | D80: Surface regularity testing as described in Clause A9.1.8.4
B82: C9.1.14.1 | D82: Establishment of equipment: Inertial laser Profilometer | E82: number (No.) | F82: 2 | H82: =F82*G82 -> 0
...

Sheet C11.1
A1: C11.1 | D1: PITCHING, STONEWORK, CAST IN SITU CONCRETE FOR PROTECTION AGAINST EROSION
A2: ITEM | D2: DESCRIPTION | E2: UNIT | F2: QTY | G2: RATE | H2: AMT
A5: C11.1.2 | D5: Stone pitching
B7: C11.1.2.2 | D7: Grouted stone pitching with mortar | E7: square metre (m2) | F7: 250 | H7: =F7*G7 -> 0
A79: TOTAL CARRIED FORWARD TO SUMMARY | H79: =SUM(H5:H78) -> 0

Sheet C11.2
A1: C11.2 | D1: NON-STRUCTURAL GABIONS
A2: ITEM | D2: DESCRIPTION | E2: UNIT | F2: QTY | G2: RATE | H2: AMT
A5: C11.2.1 | D5: Foundation trench excavation:
B7: C11.2.1.1 | D7: Excavating all material situated within the following depth ranges below the surface level
C9: (a) | D9: 0m to 1,5m | E9: cubic metre (m3) | F9: 30 | H9: =F9*G9 -> 0
B11: C11.2.1.2 | D11: Extra over sub-item C11.2.1.1 for excavation in hard material, irrespective of depth | E11: cubic metre (m3) | F11: 4 | H11: =F11*G11 -> 0
A13: C11.2.2 | D13: Surface preparation for bedding the gabion boxes and mattresses | E13: square metre (m2) | F13: 110 | H13: =F13*G13 -> 0
A15: C11.2.3 | D15: Gabion boxes and mattresses:
B17: C11.2.3.1 | D17: Galvanized gabion boxes (2m x 1m x 1m) | E17: cubic metre (m3) | F17: 5 | H17: =F17*G17 -> 0
B19: C11.2.3.3 | D19: Galvanized gabion mattresses (6,0m wide by 2.0m wide; Mesh size: 80mm x 100mm, Wire diameter: 2,7mm, Diaphragm spacing: 1,0m)) | E19: cubic metre (m3) | F19: 25 | H19: =F19*G19 -> 0
A21: C11.2.4 | D21: Geotextile (Non-woven; grade 3) | E21: square metre (m2) | F21: 200 | H21: =F21*G21 -> 0
A74: TOTAL CARRIED FORWARD TO SUMMARY | H74: =SUM(H5:H73) -> 0

Sheet C11.3
A1: C11.3 | B1: GUIDE BLOCKS AND KILOMETRE MARKERS
A2: ITEM | B2: DESCRIPTION | C2: UNIT | D2: QTY | E2: RATE | F2: AMT
A5: C11.3.2 | B5: Kilometre markers | C5: number (No.) | D5: 32 | F5: =D5*E5 -> 0
A80: TOTAL CARRIED FORWARD TO SUMMARY | F80: =SUM(F5:F79) -> 0

Sheet C11.5
A1: C11.5 | E1: FENCING
A2: ITEM | E2: DESCRIPTION | F2: UNIT | G2: QTY | H2: RATE | I2: AMT
A5: C11.5.1 | E5: Supply and erect new fencing material for new fences and for supplementing material in existing fences which are being repaired or removed:
B7: C11.5.1.1 | E7: Zinc-coated barbed wire (High-tensile-grade, single-strand 3,15mm x 2,50mm oval-shaped wire, fully galvanised)SABS 675 | F7: kilometre (km) | G7: 20 | I7: =G7*H7 -> 0
B9: C11.5.1.7 | E9: Standards (1,86m x 2,5 kg/m mild steel Y section) | F9: number (No.) | G9: 190 | I9: =G9*H9 -> 0
B11: C11.5.1.8 | E11: Droppers (1,4m x 0,56 kg/m mild steel ridge back section) | F11: number (No.) | G11: 850 | I11: =G11*H11 -> 0
B13: C11.5.1.9 | E13: Straining posts, stays and anchors:
C15: (a) | E15: Vertical
D17: (i) | E17: Steel straining posts (2130mm x 100mm Dia. x 3mm Mild steel tubing with steel end cap and 230mm x 230mm x 3mm base plate, fully galvanised ) | F17: number (No.) | G17: 105 | I17: =G17*H17 -> 0
C19: (b) | E19: Inclined
D21: (i) | E21: Steel stays and anchors (1.69m in length) | F21: number (No.) | G21: 150 | I21: =G21*H21 -> 0
C23: (c) | E23: Horizontal
D25: (i) | E25: Steel stays and anchors (2m braces at gates) | F25: number (No.) | G25: 32 | I25: =G25*H25 -> 0
A27: C11.5.2 | E27: New gates | I27: =G27*H27 -> 0
C29: (a) | E29: 3.85 x 1.255m vehicle access gates | F29: number (No.) | G29: 6 | I29: =G29*H29 -> 0
C31: (b) | E31: 2.15 x 1.255m pedestrian gates | F31: number (No.) | G31: 4 | I31: =G31*H31 -> 0
A33: C11.5.3 | E33: Moving existing fences and gates:
C35: (d) | E35: Security Fences to new property boundary in agremeent with owner | F35: kilometre (km) | G35: 0.8 | I35: =G35*H35 -> 0
B37: C11.5.3.2 | E37: Gates
C39: (a) | E39: Existing gates to new access in agremeent with owner | F39: number (No.) | G39: 12 | I39: =G39*H39 -> 0
A41: C11.5.4 | E41: Dismantling existing fences and gates:
B43: C11.5.4.1 | E43: Fences:
C45: (a) | E45: Stock-proof fences | F45: kilometre (km) | G45: 1.5 | I45: =G45*H45 -> 0
C46: (b) | E46: Vermin-proof fences | F46: kilometre (km) | I46: =G46*H46 -> 0
C47: (c) | E47: Pedestrian fences | F47: kilometre (km) | I47: =G47*H47 -> 0
C48: (d) | E48: Security fences | F48: kilometre (km) | I48: =G48*H48 -> 0
C49: (e) | E49: Game fences | F49: kilometre (km) | I49: =G49*H49 -> 0
B50: C11.5.4.2 | E50: Gates (type and size indicated) | F50: number (No.) | I50: =G50*H50 -> 0
A51: C11.5.5 | E51: Providing temporary fences and gates:
B52: C11.5.5.1 | E52: Stock-proof fence | F52: kilometre (km) | I52: =G52*H52 -> 0
B53: C11.5.5.2 | E53: Vermin-proof fence | F53: kilometre (km) | I53: =G53*H53 -> 0
B54: C11.5.5.3 | E54: Pedestrian fence | F54: kilometre (km) | I54: =G54*H54 -> 0
B55: C11.5.5.4 | E55: Game fences | F55: kilometre (km) | I55: =G55*H55 -> 0
B56: C11.5.5.5 | E56: Temporary gates (type and size indicated) | F56: number (No.) | I56: =G56*H56 -> 0
A57: C11.5.6 | E57: Ringbolts for anchoring fencing to structures | F57: number (No.) | I57: =G57*H57 -> 0
A58: C11.5.7 | E58: Drilling and blasting holes for posts and anchors | F58: number (No.) | I58: =G58*H58 -> 0
A59: C11.5.8 | E59: Posts fixed horizontally to the bottom of wire mesh for the closing of openings under fences:
B60: C11.5.8.1 | E60: Timber posts (diameter indicated) | F60: metre (m) | I60: =G60*H60 -> 0
B61: C11.5.8.2 | E61: Mild steel pipes (diameter and wall thickness indicated) | F61: metre (m) | I61: =G61*H61 -> 0
A62: C11.5.9 | E62: Repairing existing fences (type indicated) | F62: kilometre (km) | I62: =G62*H62 -> 0
...

Sheet C11.6
A1: C11.6 | D1: ROAD SIGNS
A2: ITEM | D2: DESCRIPTION | E2: UNIT | F2: QTY | G2: RATE | H2: AMT
A5: C11.6.1 | D5: Road signboards with painted or coloured semi-matt background. Symbols, lettering and borders in semi- matt black or in Class I retro-reflective material, where the sign board is constructed from:
B7: C11.6.1.3 | D7: Prepainted galvanized steel plate:
C9: (c) | D9: Area exceeding 2.0 m2 but not 10 m2 | E9: square metre (m2) | F9: 100 | H9: =F9*G9 -> 0
C11: (d) | D11: Area exceeding 10 m2 | E11: square metre (m2) | F11: 40 | H11: =F11*G11 -> 0
B13: C11.6.1.4 | D13: Prepainted galvanized steel profiles (200mm high panels):
C15: (c) | D15: Area exceeding 2.0 m2 but not 10 m2 | E15: square metre (m2) | F15: 50 | H15: =F15*G15 -> 0
C17: (d) | D17: Area exceeding 10 m2 | E17: square metre (m2) | F17: 15 | H17: =F17*G17 -> 0
B18: C11.6.1.5 | D18: Other material (details indicated):
C19: (a) | D19: Area 0 to 0,5 m2 | E19: month | F19: 15 | H19: =F19*G19 -> 0
C20: (b) | D20: Area exceeding 0,5 m2 but not 2,0 m2 | E20: square metre (m2) | H20: =F20*G20 -> 0
C21: (c) | D21: Area exceeding 2,0 m2 but not 10 m2 | E21: square metre (m2) | H21: =F21*G21 -> 0
C22: (d) | D22: Area exceeding 10 m2 | E22: square metre (m2) | H22: =F22*G22 -> 0
B23: C11.6.1.6 | D23: Extra over items C11.6.1.1 to C11.6.1.4 for attaching signboards to overhead gantry structures and overhead to bridges | E23: square metre (m2) | H23: =F23*G23 -> 0
B24: C11.6.1.7 | D24: Regulatory signs, permanent
C26: (b) | D26: 900mm diameter (refer to South African Road Traffic Signs Manual (SARTSM)) | E26: number (No.) | F26: 50 | H26: =F26*G26 -> 0
B28: C11.6.1.8 | D28: Regulatory signs, temporary
C30: (b) | D30: 900mm diameter ( refer to South African Road Traffic Signs Manual (SARTSM)) Background Class 3 | E30: number (No.) | F30: 20 | H30: =F30*G30 -> 0
B32: C11.6.1.10 | D32: Warning signs, temporary
C34: (c) | D34: 1200mm size (refer to South African Road Traffic Signs Manual (SARTSM)) (Class III) | E34: number (No.) | F34: 50 | H34: =F34*G34 -> 0
B36: C11.6.1.12 | D36: Supplementary plates to temporary regulatory or warning signs (signboard material, background and symbol retro-reflective class indicated)(Class III) | E36: square metre (m2) | F36: 20 | H36: =F36*G36 -> 0
A38: C11.6.2 | D38: Extra over on item C11.6.1 for using:
B40: C11.6.2.1 | D40: Background of retro-reflective material:
C42: (b) | D42: Class III | E42: square metre (m2) | F42: 140 | H42: =F42*G42 -> 0
B44: C11.6.2.2 | D44: Lettering, symbols, numbers, arrows, emblems and borders of retro-reflective material:
C46: (a) | D46: Class III | E46: square metre (m2) | F46: 40 | H46: =F46*G46 -> 0
C48: (b) | D48: Class IV specify a) or b) | E48: square metre (m2) | F48: 50 | H48: =F48*G48 -> 0
A50: C11.6.3 | D50: Road sign supports (overhead road sign structures excluded):
B52: C11.6.3.1 | D52: Steel tubing | E52: ton (t) | F52: 5 | H52: =F52*G52 -> 0
B54: C11.6.3.2 | D54: Timber Supports
D56: (a) Timber (100mm dia.) | E56: metre (m) | F56: 220 | H56: =F56*G56 -> 0
D58: (b) Timber (150mm dia.) | E58: metre (m) | F58: 300 | H58: =F58*G58 -> 0
A59: C11.6.5 | D59: Excavation and backfilling for road sign supports (not applicable to kilometre posts)
B61: C11.6.5.1 | D61: Excavating soft material and backfilling | E61: cubic metre (m3) | F61: 100 | H61: =F61*G61 -> 0
B63: C11.6.5.3 | D63: Extra over item C11.6.5.1 and C11.6.5.2 for cement-treated soil backfill | E63: cubic metre (m3) | F63: 100 | H63: =F63*G63 -> 0
B65: C11.6.5.4 | D65: Extra over item C11.6.5.1 for hard material excavation | E65: cubic metre (m3) | F65: 33.3 | H65: =F65*G65 -> 0
B67: CARRIED FORWARD | H67: =SUM(H9:H65) -> 0
B68: BROUGHT FORWARD | H68: =H67 -> 0
A70: C11.6.7 | D70: Dismantling and storing of road signs and overhead signs
...

Sheet C11.7
A1: C11.7 | C1: ROAD MARKINGS AND ROAD STUDS
A2: ITEM | C2: DESCRIPTION | D2: UNIT | E2: QTY | F2: RATE | G2: AMT
A3: C11.7.2 | C3: Retro-reflective road marking:
B5: C11.7.2.1 | C5: White lines broken or unbroken (Acrylic Solvent with embedded glass beads)
C7: (a) 150 mm wide | D7: kilometre (km) | E7: 19 | G7: =E7*F7 -> 0
C9: (b) 200 mm wide | D9: kilometre (km) | E9: 1 | G9: =E9*F9 -> 0
C11: (c) 300 mm wide | D11: kilometre (km) | E11: 0.4 | G11: =E11*F11 -> 0
B13: C11.7.2.2 | C13: Yellow lines broken or unbroken (Acrylic Solvent with embedded glass beads)
C15: (a) 150 mm wide | D15: kilometre (km) | E15: 9.2 | G15: =E15*F15 -> 0
