Workbook
Name AA: #REF!
Name Answers_to_Template4_Q: #REF!
Name Answers_to_Template4_Q: #REF!
Name Answers_to_Template4_Q: #REF!
Name Cost_Changes: #REF!
Name Cost_Changes: #REF!
Name Cost_Changes: #REF!
Name EE: #REF!
Name Names_cells: #REF!
Name Names_cells: #REF!
Name Names_cells: #REF!
Name QQ: #REF!
Name RR: #REF!
Name SS: #REF!
Name TOTAL_E: #REF!
Name TOTAL_E: #REF!
Name TOTAL_E: #REF!
Name TOTAL_I: #REF!
Name TOTAL_I: #REF!
Name TOTAL_I: #REF!
Name TOTAL_M: #REF!
Name TOTAL_M: #REF!
Name TOTAL_M: #REF!
Name TT: #REF!
Name WW: #REF!
Name XX: #REF!
Name XX: #REF!
Name Years: #REF!
Name Years: #REF!
Name Years: #REF!
Name YY: #REF!
Name YY: #REF!

Sheet COVER SHEET
J3: ANNEXURE A3
A8: PRICING SUBMISSION
A11: RFP NO: | E11: RFP/FIN/TMS/2022/06
A13: RFP NAME: | E13: THE PROVISION OF TRAVEL MANAGEMENT SERVICES FOR A PERIOD OF 60 MONTHS
A15: BIDDER NAME | E15: <NAME OF BIDDER TO BE FILLED IN HERE>
A18: PRICE INSTRUCTIONS
A20: 1. STRUCTURE OF THE TENDER
A21: This spreadsheet for RFP/FIN/TMS/2022/06 contains the financial response templates for the bid. The bid pricing submission instructions in this document must be read in conjunction with instructions or notes embedded in the various tabs of spreadsheet (Pricing Schedule).
A23: 2. GENERAL INSTRUCTIONS FOR COMPLETING THE PRICING SCHEDULE TEMPLATES
A24: 2.1 Tender submission format
A25: 2.1.1 Bidders must submit a paper copy and an electronic PDF copy of the Pricing Schedule. In the event of a discrepancy, the paper copy will prevail.
A26: 2.1.2 Bidders must sign all paper copies of their Pricing Schedule.
A27: 2.1.3 Bidders must complete and submit the templates attached ,which is management fee model offsite and transactional fee model offsite
A28: 2.1.4 Bidders must reference RFP/BID main document section 15.2 for current travel volumes.
A29: 2.2 Input spreadsheets
A30: 2.2.1 The Pricing Schedule templates are contained within the one (1) Excel Workbook
A31: 2.2.2 Bidders must not make any changes to the spreadsheets or change the formatting of the Pricing Schedule.
... A39: 2.3.3 The Pricing Schedule template is designed such that VAT 15% will be calculated on Bidders’ input pricing; therefore Bidders must complete the templates with unit prices excluding VAT.

Sheet 2. TRANSACTION FEE OFFSITE 
C1: TEMPLATE 2: TRANSACTION FEE MODEL
C4: OFF-SITE SERVICES
A7: RFP NO: | C7: ='COVER SHEET'!$E11 -> RFP/FIN/TMS/2022/06
A8: RFP NAME: | C8: ='COVER SHEET'!$E13 -> THE PROVISION OF TRAVEL MANAGEMENT SERVICES FOR A PERIOD OF 60 MONTHS
A9: BIDDER NAME | C9: ='COVER SHEET'!$E15 -> <NAME OF BIDDER TO BE FILLED IN HERE>
A11: 1.1 TRANSACTION FEES
D12: OFFLINE BOOKINGS | G12: ONLINE BOOKINGS
A13: ITEM | B13: Transaction Type | C13: Estimated Volume | D13: Unit Price (excl VAT) | E13: Unit Price (incl VAT) | F13: TOTAL Price (incl VAT) | G13: Unit Price (excl VAT) | H13: Unit Price (incl VAT) | I13: TOTAL Price (incl VAT)
A14: 1 | B14: Air Travel – International | C14: 25 | E14: =D14*1.14 -> 0 | F14: =E14*C14 -> 0 | H14: =G14*1.14 -> 0 | I14: =H14*C14 -> 0 | K14: =(J14/9)*12 -> 0
A15: 2 | B15: Air Travel – Regional | C15: 10 | E15: =D15*1.14 -> 0 | F15: =E15*C15 -> 0 | H15: =G15*1.14 -> 0 | I15: =H15*C15 -> 0 | K15: =(J15/9)*12 -> 0
A16: 3 | B16: Air Travel – Domestic | C16: 700 | E16: =D16*1.14 -> 0 | F16: =E16*C16 -> 0 | H16: =G16*1.14 -> 0 | I16: =H16*C16 -> 0 | K16: =(J16/9)*12 -> 0
A17: 4 | B17: Air Travel – International (Re-issue) | C17: 2 | E17: =D17*1.14 -> 0 | F17: =E17*C17 -> 0 | H17: =G17*1.14 -> 0 | I17: =H17*C17 -> 0 | K17: =(J17/9)*12 -> 0
A18: 5 | B18: Air Travel – Regional (Re-issue) | C18: 2 | E18: =D18*1.14 -> 0 | F18: =E18*C18 -> 0 | H18: =G18*1.14 -> 0 | I18: =H18*C18 -> 0 | K18: =(J18/9)*12 -> 0
A19: 6 | B19: Air Travel – Domestic (Re-issue) | C19: 10 | E19: =D19*1.14 -> 0 | F19: =E19*C19 -> 0 | H19: =G19*1.14 -> 0 | I19: =H19*C19 -> 0 | K19: =(J19/9)*12 -> 0
A20: 7 | B20: Refunds – Air Domestic | C20: 15 | E20: =D20*1.14 -> 0 | F20: =E20*C20 -> 0 | H20: =G20*1.14 -> 0 | I20: =H20*C20 -> 0 | K20: =(J20/9)*12 -> 0
A21: 8 | B21: Refunds – Air Regional | C21: 0 | E21: =D21*1.14 -> 0 | F21: =E21*C21 -> 0 | H21: =G21*1.14 -> 0 | I21: =H21*C21 -> 0 | K21: =(J21/9)*12 -> 0
A22: 9 | B22: Refunds – Air International | C22: 2 | E22: =D22*1.14 -> 0 | F22: =E22*C22 -> 0 | H22: =G22*1.14 -> 0 | I22: =H22*C22 -> 0 | K22: =(J22/9)*12 -> 0
A23: 10 | B23: Car Rental – Domestic | C23: 600 | E23: =D23*1.14 -> 0 | F23: =E23*C23 -> 0 | H23: =G23*1.14 -> 0 | I23: =H23*C23 -> 0 | K23: =(J23/9)*12 -> 0
A24: 11 | B24: Car Rental – Regional | C24: 10 | E24: =D24*1.14 -> 0 | F24: =E24*C24 -> 0 | H24: =G24*1.14 -> 0 | I24: =H24*C24 -> 0 | K24: =(J24/9)*12 -> 0
A25: 12 | B25: Car Rental – International | C25: 0 | E25: =D25*1.14 -> 0 | F25: =E25*C25 -> 0 | H25: =G25*1.14 -> 0 | I25: =H25*C25 -> 0 | K25: =(J25/9)*12 -> 0
... A36: 23 | B36: Cancellations | C36: 25 | E36: =D36*1.14 -> 0 | F36: =E36*C36 -> 0 | H36: =G36*1.14 -> 0 | I36: =H36*C36 -> 0 | K36: =(J36/9)*12 -> 0
A37: 24 | B37: Forex | C37: 25 | E37: =D37*1.14 -> 0 | F37: =E37*C38 -> 0 | H37: =G37*1.14 -> 0 | I37: =H37*C38 -> 0 | K37: =(J37/9)*12 -> 0
A38: 25 | B38: Changes to bookings | C38: 25 | E38: =D38*1.14 -> 0 | F38: =E38*C39 -> 0 | H38: =G38*1.14 -> 0 | I38: =H38*C39 -> 0 | K38: =(J38/9)*12 -> 0
A39: 26 | B39: After Hours Services | C39: 30 | E39: =D39*1.14 -> 0 | F39: =E39*C40 -> 0 | H39: =G39*1.14 -> 0 | I39: =H39*C40 -> 0 | K39: =(J39/9)*12 -> 0
A40: 27 | B40: Additional Ad-hoc Reports (per report) | C40: 15 | E40: =D40*1.14 -> 0 | F40: =E40*C41 -> 0 | H40: =G40*1.14 -> 0 | I40: =H40*C41 -> 0 | K40: =(J40/9)*12 -> 0
A41: 28 | B41: Customised Reports (per report) | C41: 12 | E41: =D41*1.14 -> 0 | F41: =E41*C42 -> 0 | H41: =G41*1.14 -> 0 | I41: =H41*C42 -> 0 | K41: =(J41/9)*12 -> 0
A42: 29 | B42: Relief duty accommodation | C42: 1300 | E42: =D42*1.14 -> 0 | F42: =E42*C43 -> 0 | H42: =G42*1.14 -> 0 | I42: =H42*C43 -> 0 | K42: =(J42/9)*12 -> 0
B43: Total | C43: =SUM(C14:C42) -> 3635.2222 | F43: =SUM(F14:F42) -> 0 | I43: =SUM(I14:I42) -> 0 | K43: =(J43/9)*12 -> 0
A44: Percentage Split between Online Booking and Offline Booking | D44: Percentage Offline | E44: 0.1 | F44: =F43*E44 -> 0 | G44: Percentage Online | H44: 0.9 | I44: =I43*H44 -> 0 | K44: =(J44/9)*12 -> 0
A45: PRICE THAT WILL BE USED FOR EVALUATION PURPOSES | E45: =F44+I44 -> 0 | K45: =(J45/9)*12 -> 0
A46: 1.2 CONFERENCE TRANSACTION FEE | K46: =(J46/9)*12 -> 0
A47: Item | B47: Description | C47: Percentage Fee | D47: Comment | K47: =(J47/9)*12 -> 0
A48: 1 | B48: Conference Transaction Fee (as a % of the Total invoice of the event) | K48: =(J48/9)*12 -> 0

Sheet 4. MANAGEMENT FEE OFFSITE
D1: TEMPLATE 4: MANAGEMENT FEE MODEL
D4: OFF-SITE SERVICES
B6: RFP NO: | D6: ='COVER SHEET'!$E11 -> RFP/FIN/TMS/2022/06
B7: RFP NAME: | D7: ='COVER SHEET'!$E13 -> THE PROVISION OF TRAVEL MANAGEMENT SERVICES FOR A PERIOD OF 60 MONTHS
B8: BIDDER NAME | D8: ='COVER SHEET'!$E15 -> <NAME OF BIDDER TO BE FILLED IN HERE>
B10: ESTIMATED TRANSACTION VOLUMES PER ANNUM * | D10: 3555
D11: See Section 15.2 of the bid document
B12: 1.1 MANAGEMENT FEES
E13: TRADITIONAL BOOKINGS | F13: ONLINE BOOKINGS
B14: ITEM | C14: Transaction Type | E14: Annual Cost (Excl VAT) | F14: Annual Cost (Excl VAT)
B15: Fixed Costs (Management Fees) | D15: Estimated #
B16: 1 | C16: Compensation
C17: Intermediate Travel Consultants
C18: Admin Back Office (Creditors/ Debtors / Finance Processors
C19: Strategic Account Manager
C20: System Administrator
B21: 2 | C21: Standard Monthly Reports (3 Std Reports x 12 months)
B22: 5 | C22: Marketing
B23: 6 | C23: Technology (Software Licences)
B24: 7 | C24: Computing / GDS Fees
B25: 8 | C25: Office Leasing (if applicable)
B26: 10 | C26: Assocciation membership fees
B27: 17 | C27: Profit
B28: Total Fixed Annual Cost (Excl VAT) | E28: =SUM(E16:E27) -> 0 | F28: =SUM(F16:F27) -> 0
E30: TRADITIONAL BOOKINGS | F30: ONLINE BOOKINGS
B31: Variable Costs | D31: Estimated # | E31: Annual Cost (Excl VAT) | F31: Annual Cost (Excl VAT)
B32: 1 | C32: After-Hours (VIP/Executive Travel Consultant) (Estimated at 5 Calls per month
B33: 2 | C33: After-Hours Call Center / Contact Number(17h00 - 8h00 Weekdays; 24 hours weekends and public holidays) (Estimated at 4 Calls per month
B34: 3 | C34: Stationery (Estimated per annum)
B35: Total Variable Annual Cost (Excl VAT) | E35: =SUM(E32:E34) -> 0 | F35: =SUM(F32:F34) -> 0
B37: TOTAL PER ANNUM (Excl VAT) | E37: =E28+E35 -> 0 | F37: =F28+F35 -> 0
B39: Percentage Split between Online Booking and Traditional Booking | E39: 0.1 | F39: 0.9
E40: Percentage Traditional | F40: Percentage Online
B41: SPLIT GRAND TOTAL PER ANNUM (Excl VAT) | E41: =E37*E39 -> 0 | F41: =F37*F39 -> 0
B42: GRAND TOTAL PER ANNUM (Excl VAT) | E42: =E41+F41 -> 0
B43: GRAND TOTAL PER ANNUM (Incl VAT) (PRICE THAT WILL BE USED FOR EVALUATION PURPOSES | E43: =E42*1.14 -> 0
B44: MONTHLY MANAGEMENT FEE (Incl VAT) | E44: =E43/12 -> 0
C46: Cost of Additional items (per incident) | D46: Unit Price (excl VAT) | E46: Unit Price (incl VAT)
B47: 1 | C47: Courier Services | E47: =D47*1.14 -> 0 | F47: These services will only be done on request from the Tendering Institution and will be invoiced accordingly. These costs are ADDITIONAL to the monthly Management Fee. These items will not be used for evaluation purposes.
B48: 2 | C48: Visa Services | E48: =D48*1.14 -> 0
...

Sheet Price Declaration 
A8: RFP NO: | C8: ='COVER SHEET'!$E$11 -> RFP/FIN/TMS/2022/06
A9: RFP NAME: | C9: ='COVER SHEET'!$E$13 -> THE PROVISION OF TRAVEL MANAGEMENT SERVICES FOR A PERIOD OF 60 MONTHS
A10: BIDDER NAME | C10: ='COVER SHEET'!$E$15 -> <NAME OF BIDDER TO BE FILLED IN HERE>
A13: Price Declaration
A14: Dear Sir/Madam,
A16: Having read through and examined the Request For Proposal (RFP) Document, the General Conditions, The Requirement and all other Annexures to the RFP Document, we offer to provide OFF-SITE travel management service to the PPECB at the following total amounts (including VAT)
A20: Template 2: Transaction Fee (Off-Site)
A21: ='2. TRANSACTION FEE OFFSITE '!E45 -> 0 | C21: (incl. VAT)
A22: In words:
A26: Template 4: Management Fee (Off-Site)
A27: ='4. MANAGEMENT FEE OFFSITE'!E43 -> 0 | C27: (incl. VAT)
A28: In words:
A31: We undertake to hold this offer open for acceptance for a period of 180 days from the date of submission of offers. We further undertake that upon final acceptance of our offer, we will commence with the provision of service when required to do so by the PPECB
A33: We understand that PPECB are not bound to accept the lowest or any offer and that we must bear all costs which we have incurred in connection with preparing and submitting this bid.
A35: We hereby undertake for the period during which this bid remains open for acceptance not to divulge to any persons, other than the persons to which the bid is submitted, any information relating to the submission of this bid or the details therein except where such is necessary for the submission of this bid.
A37: Signature | E37: Date
A38: Print name of signatory: …………………………………………………………………………….
A39: Designation: ………………………………………………………………………………………….
A41: FOR AND ON BEHALF OF: COMPANY NAME
A43: Tel No: ……………………………………….
A44: Fax No: ……………………………………….
A45: Cell No: ……………………………………….
A46: Email:………………………………………….
