Workbook

Sheet PART 1 Functional Evaluation
A1: Instructions to the evaluations committee:
A2: 1. Please complete only G13, which is caried across from Annexure E Company related documents.xlsx
A3: 2. Scores for Annexure A, B, and D, are automatically populated from the respective sheets. Only Company experience must be scored and recorded for each Bidder, by the evaluations committee
A5: PART 1: RFP Technical proposal
A6: Bidder Name: | B6: ='Annex B Project plan'!$D$9 -> 0
A7: Functional Factors | B7: Proof Required | C7: Weighting | D7: Scoring mechanism for Annexures B, D, Site evaluation, and Annexure E | G7: Points achieved per section | H7: Weighted score | I7: Individual section result | J7: Min score required
A8: Project plan | B8: Bidder to submit a comprehensive response in Annexure B: Project plan | C8: 0.25 | D8: This section is scored in PART 1 TECHNICAL PROPOSAL.xlsx workbook, sheet Annex B Project plan | G8: ='Annex B Project plan'!E17 -> 0 | H8: =G8*(C8/(C8+C9+C10+C12)) -> 0 | I8: ='Annex B Project plan'!C23 -> Do not proceed | J8: Overall: 80% Each of the individual criteria >=5
A9: SLA Performance | B9: Evidence provided by bidder in response to Annexure D: SLA Performance requirements | C9: 0.2 | D9: This section is scored in PART 1 TECHNICAL PROPOSAL.xlsx workbook, sheet Annex D SLA Perf requirements | G9: ='Annex D SLA Perf requirements'!F47 -> 0 | H9: =G9*(C9/(C8+C9+C10+C12)) -> 0 | I9: ='Annex D SLA Perf requirements'!D53 -> Do not proceed | J9: Overall: 80% Each of the individual criteria >=5
A10: Site evaluation | B10: Site evaluation assessment | C10: 0.15 | D10: This section is scored in PART 1 TECHNICAL PROPOSAL.xlsx workbook, based on the Site evaluation, requested in Table 29: SCHEDULE OF BIDDER’S EXPERIENCE AND REFERENCE SITES | G10: ='Site evaluation'!I54 -> 0 | H10: =G10*(C10/(C8+C9+C10+C12)) -> 0 | I10: ='Site evaluation'!I60 -> Do not proceed | J10: Overall: 80% Each of the individual criteria >=5
D11: 0 - points | E11: 5 - points | F11: 10 - points
A12: Company Experience | B12: Annexure E: Company related documents: Company profile indicating the number of years the company have been in existence and actively operating in the Networking industry (having provided comparable services in the networking), as well as support staff certifications This section will use Annexure E Company related documents.xlsx criteria for scoring | C12: 0.4 | D12: If more than four of the minimum criteria are not met | E12: If up to four of the minimum criteria are not met | F12: If all minimum criteria are met | H12: =G12*(C12/(C8+C9+C10+C12)) -> 0 | I12: =IF(G12>=5,"Proceed","Do not proceed") -> Do not proceed | J12: Overall: 80% Each of the individual criteria >=5
F13: Score achieved out of 10 | H13: =SUM(H8:H12) -> 0
F14: Score % | H14: =H13/10 -> 0
F15: 80% threshold met | H15: =IF(H14>=80%,"Proceed","Do not proceed") -> Do not proceed
F16: 100% of Individual criteria met | H16: =IF(COUNTIF(I8:I12,"Do not proceed")>0,"Do not proceed","Proceed") -> Do not proceed
B17: PART 1: RFP Technical proposal result | E17: =IF(COUNTIF(H15:H16,"Do not proceed")>0,"Do not proceed","Proceed") -> Do not proceed

Sheet Site evaluation
A1: Instructions to Evaluation committee and information to the Bidder:
A2: 1. Please complete only the yellow cells
A3: 2. The site visit result is the sum of all the scores in column "I" which may not be less than 80% of the total potential score. Final scores with less than 80% of the minimum will not proceed to the pricing evaluation.
A4: 3. The bidder is required to provide three sites to conduct a potential site visit on one of them. The requirement for three reference sites is to mitigate the risk of inaccessible sites during the planned site evaluation period, in which case the evaluation committee will approach another of the listed site references.
A5: 4. Only one of the 3 sites will be evaluated. The evaluations committee must complete the cells in blue
A6: 5. All criteria are of equal weight
B8: Bidder Name:
B10: Site Visit reference Information
B12: Company name
B14: Client reference name
B15: Contact Number
B17: Appointment Date
B18: Appointment Time
B20: Site Visit Criteria / Confirmations
A22: Number | B22: Evaluation criteria | H22: Answer | I22: Scoring (0 - No, 5 - Party, 10 - Yes) | J22: Weight | K22: Evaluated Response
A23: 1 | B23: Did the bidder implement any Networking solutions, similar the scope of this tender, in the past 5 years? | J23: =1/9 -> 0.11111111 | K23: =(IF(I23>=5,"Proceed","Do not proceed")) -> Do not proceed
B25: This is confirmation that bidder did provide the said services
A26: 2 | B26: Did the bidder complete the implementation on time? | J26: =1/9 -> 0.11111111 | K26: =(IF(I26>=5,"Proceed","Do not proceed")) -> Do not proceed
B28: Establish that bidder delivered as promised, kept to project plan milestones
A29: 3 | B29: Confirmation that bidder delivered equipment as per tender and without price increases? | J29: =1/9 -> 0.11111111 | K29: =(IF(I29>=5,"Proceed","Do not proceed")) -> Do not proceed
B31: Ensure that there was no scope creep and that the bid prices were firm and delivered as per stated ROE etc
A32: 4 | B32: Confirmation that bidder met the SLA performance and Project implementation scope as agreed? | J32: =1/9 -> 0.11111111 | K32: =(IF(I32>=5,"Proceed","Do not proceed")) -> Do not proceed
B34: Check bidder quality of work ethics and ability to keep to agreed terms and conditions
A35: 5 | B35: Confirmation that maintenance was carried out as agreed | J35: =1/9 -> 0.11111111 | K35: =(IF(I35>=5,"Proceed","Do not proceed")) -> Do not proceed
B37: Ensure bidder reliability and capability
A38: 6 | B38: Were there any problems with warranty replacements? | J38: =1/9 -> 0.11111111 | K38: =(IF(I38>=5,"Proceed","Do not proceed")) -> Do not proceed
B40: Can the bidder honour OEM warranty replacements on time and without delays
A41: 7 | B41: Did the solution meet the required business requirements as stipulated in the HLD and / or LLD of the tender? | J41: =1/9 -> 0.11111111 | K41: =(IF(I41>=5,"Proceed","Do not proceed")) -> Do not proceed
B43: Did the bidder demonstrate clear adoption of technology for the customer.
A45: 8 | B45: What is the likelihood that the client will do business with the bidder again? | J45: =1/9 -> 0.11111111 | K45: =(IF(I45>=5,"Proceed","Do not proceed")) -> Do not proceed
B47: Although all of the above checks are in place, this part confirms the unsaid issues not spoken about
A49: 9 | B49: Was there any unplanned or unforeseen network outage caused by or during the implementation of the solution. | J49: =1/9 -> 0.11111111 | K49: =(IF(I49>=5,"Proceed","Do not proceed")) -> Do not proceed
B51: This talks to proper risk plans and mitigation of risks identified
H53: Score achieved | I53: =SUM(I23:I50) -> 0
H54: Score out of 10 | I54: =I53/9 -> 0
H55: Score % | I55: =I53/100 -> 0
H56: Maximum points available | I56: 90
H57: 80% Threshold met | I57: =IF(I55>=80%,"Proceed","Do not proceed") -> Do not proceed
H58: 100% of Individual criteria met | I58: =IF(COUNTIF(K23:K50,"Do not proceed")>0,"Do not proceed","Proceed") -> Do not proceed
E60: Site visit evaluation result | I60: =IF(COUNTIF(I57:I58,"Do not proceed")>0,"Do not proceed","Proceed") -> Do not proceed

Sheet Annex B Project plan
B1: Instructions to the Bidder and Evaluations committee:
B2: 1. Bidders should please complete only the yellow cells in column D. The evaluations committee will allocate the points in the blue highlighted cells
B3: 2. The project plan and sub-sections will become part of the contracted agreement, should the Bidder be successful, and also provides the evaluation committee with a view of the ability of the Bidder to execute on the contract.
B4: 3. By answering yes, the Bidder indicates that all the required information was provided and binds themselves to deliver on each corresponding aspect of the project.
B5: 4. Points scoring notes: 0 - points, if Tables are partially complete, content is not aligned to the specifications of this tender, and of poor quality. 5 - points, if Tables are complete, but content is not aligned to the specifications of this tender, and of poor quality. 7 - points, if Tables are complete, but not completely aligned with the specifications of the tender, but of good quality 8 - points, if Tables are complete, and some aspects not aligned with the specifications of the tender, but of good quality 10 - points, if Tables are complete, content is aligned to the specifications of this tender, and of good quality, but of good quality
B6: 5. All criteria are of equal weight
B8: Annexure B: Project plan
B9: Bidder Name:
A10: # | B10: Criteria | C10: Criteria Requirement | D10: Provided (Yes / No) | E10: 0 - points, if Tables are partially complete, content is not aligned to the specifications of this tender, and of poor quality. 5 - points, if Tables are complete, but content is not aligned to the specifications of this tender, and of poor quality. 7 - points, if Tables are complete, but not completely aligned with the specifications of the tender, but of good quality 8 - points, if Tables are complete, and some aspects not aligned with the specifications of the tender, but of good quality 10 - points, if Tables are complete, content is aligned to the specifications of this tender, and of good quality, but of good quality. | F10: Weight | G10: Individual must meet criteria met
A11: 1 | B11: See Table 25 of RFP document: Project implementation schedule table completed | C11: The table contains all the required information, the content is realistic, complete and of good quality. | F11: 0.2 | G11: =(IF(E11>=5,"Proceed","Do not proceed")) -> Do not proceed
A12: 2 | B12: See Table 26 of RFP document Risk management table completed | C12: The table contains all the required information, the content is realistic, complete and of good quality. | F12: 0.2 | G12: =(IF(E12>=5,"Proceed","Do not proceed")) -> Do not proceed
A13: 3 | B13: See Table 27 of RFP document Table of assumptions completed | C13: The table contains all the required information, the content is realistic, complete and of good quality. | F13: 0.2 | G13: =(IF(E13>=5,"Proceed","Do not proceed")) -> Do not proceed
A14: 4 | B14: See Table 28 of RFP document Table of Inclusions and Exclusions completed | C14: The table contains all the required information, the content is realistic, complete and of good quality. | F14: 0.2 | G14: =(IF(E14>=5,"Proceed","Do not proceed")) -> Do not proceed
A15: 5 | B15: See Table 29 of RFP document Stakeholder management table completed | C15: The table contains all the required information, the content is realistic, complete and of good quality. | F15: 0.2 | G15: =(IF(E15>=5,"Proceed","Do not proceed")) -> Do not proceed
D16: Score achieved | E16: =SUM(E11:E15) -> 0
D17: Score out of 10 | E17: =E16/5 -> 0
D18: Score % | E18: =E16/E19 -> 0
D19: Maximum points available | E19: 50
D20: 80% Threshold met | E20: =IF(E18>=80%,"Proceed","Do not proceed") -> Do not proceed
D21: 100% of Individual criteria met | E21: =IF(COUNTIF(G11:G15,"Do not proceed")>0,"Do not proceed","Proceed") -> Do not proceed
B23: Annexure B: Project plan | C23: =IF(COUNTIF(E20:E21,"Do not proceed")>0,"Do not proceed","Proceed") -> Do not proceed
B27: Commitment from the Bidder
B29: On behalf of the Bidder
B35: Signature
B37: Name and Surname
B39: Designation or Role

Sheet Annex D SLA Perf requirements
B1: Instructions to the Evaluations committee and Bidder:
B2: 1. The Bidder to provide evidence as articulated in column D, to allow the committee members to allocate points in columns F
B3: 2. The SLA Performance requirements and sub-sections will become part of the contracted agreement, should the Bidder be successful, and the bidder must indicate in Column D, their commitment to honour the SLA performance criteria
B4: 4. Points scoring notes: 0 - points, if the bidder does not commit to the SLA performance criteria, and they are unable to meet some of the reporting requirements 5 - points, if the bidder commits to the SLA performance criteria, and they are unable to meet one of the reporting requirements 7 - points, if the bidder commits to the SLA performance criteria, and they are unable to meet two of the reporting requirements 8 - points, if the bidder commits to the SLA performance criteria, and they are unable to meet three of the reporting requirements 10 - points, if the bidder commits to the SLA performance criteria, and are able to meet all four of the reporting requirements
B5: 5. All criteria are of equal weight
B6: 6. By committing to the SLA requirements, the associated costs must be captured by the Bidder in PART 2: Pricing proposal under Annual costs
B8: Annexure D: SLA Performance requirements
A9: Area | B9: Bidder Name:
C10: SLA performance requirements | D10: Reporting requirements | E10: Evidence required | F10: 0 - points, if the bidder does not commit to the SLA performance criteria 5 - points, if the bidder commits to the SLA performance criteria, and they are unable to meet one of the reporting requirements 7 - points, if the bidder commits to the SLA performance criteria, and they are unable to meet two of the reporting requirements 8 - points, if the bidder commits to the SLA performance criteria, and they are unable to meet three of the reporting requirements 10 - points, if the bidder commits to the SLA performance criteria, and are able to meet all four of the reporting requirements | G10: Commit is required from the Bidder to negotiate the SLA Performance requirements (Yes or No) | H10: Weight | I10: Reporting requirements | J10: Individual must meet criteria met
A11: 1 | B11: CORE | C11: SLA performance requirements: | D11: Monthly SLA reporting to include the following: | E11: Sample reports to be provided, in Pdf and Excel format, covering the reporting requirements. Commitment from the bidder to deliver on the SLA requirements | H11: =1/6 -> 0.16666667 | I11: =IF(F11>=5,"Proceed","Do not proceed") -> Do not proceed | J11: =IF(G11="Yes","Proceed","Do not proceed") -> Do not proceed
C12: · 2-4h resolution time | D12: 1. Number of calls logged per month
C13: · 365 x 24 x 7 x 2hr to replace | D13: 2. MTTR
C14: · 2 hours per week for support services | D14: 3. Root Cause Analysis report for all incidents/requests.
C15: The initial contract for support will be 5 years with the successful Bidder, however, the OEM is expected to support the deployed models for a period of not less than 120 months | D15: 4. Summary of maintenance and support actions undertaken per month
A17: 2 | B17: Distro | C17: SLA performance requirements: | D17: Monthly SLA reporting to include the following: | E17: Sample reports to be provided, in Pdf and Excel format, covering the reporting requirements. Commitment from the bidder to deliver on the SLA requirements | H17: =1/6 -> 0.16666667 | I17: =IF(F17>=5,"Proceed","Do not proceed") -> Do not proceed | J17: =IF(G17="Yes","Proceed","Do not proceed") -> Do not proceed
C18: · 2-4h resolution time | D18: 1. Number of calls logged per month
C19: · 365 x 24 x 7 x 2hr to replace | D19: 2. MTTR
C20: · 2 hours per week for support services | D20: 3. Root Cause Analysis report for all incidents/requests.
C21: The initial contract for support will be 5 years with the successful Bidder, however, the OEM is expected to support the deployed models for a period of not less than 120 months | D21: 4. Summary of maintenance and support actions undertaken per month
A23: 3 | B23: Access | C23: Next business day | D23: Monthly SLA reporting to include the following: | E23: Sample reports to be provided, in Pdf and Excel format, covering the reporting requirements. Commitment from the bidder to deliver on the SLA requirements | H23: =1/6 -> 0.16666667 | I23: =IF(F23>=5,"Proceed","Do not proceed") -> Do not proceed | J23: =IF(G23="Yes","Proceed","Do not proceed") -> Do not proceed
D24: 1. Number of calls logged per month
C25: · 365 x 24 x 7 x NBD to replace | D25: 2. MTTR
C26: · 2 hours per week for support services | D26: 3. Root Cause Analysis report for all incidents/requests.
C27: The initial contract for support will be 5 years with the successful Bidder, however, the OEM is expected to support the deployed models for a period of not less than 120 months | D27: 4. Summary of maintenance and support actions undertaken per month
A29: 4 | B29: Wireless | C29: Next business day | D29: Monthly SLA reporting to include the following: | E29: Sample reports to be provided, in Pdf and Excel format, covering the reporting requirements. Commitment from the bidder to deliver on the SLA requirements | H29: =1/6 -> 0.16666667 | I29: =IF(F29>=5,"Proceed","Do not proceed") -> Do not proceed | J29: =IF(G29="Yes","Proceed","Do not proceed") -> Do not proceed
D30: 1. Number of calls logged per month
C31: · 365 x 24 x 7 x NBD to replace | D31: 2. MTTR
C32: · 2 hours per week for support services | D32: 3. Root Cause Analysis report for all incidents/requests.
C33: The initial contract for support will be 5 years with the successful Bidder, however, the OEM is expected to support the deployed models for a period of not less than 120 months | D33: 4. Summary of maintenance and support actions undertaken per month
A35: 5 | B35: Data centre | C35: SLA performance requirements: | D35: Monthly SLA reporting to include the following: | E35: Sample reports to be provided, in Pdf and Excel format, covering the reporting requirements. Commitment from the bidder to deliver on the SLA requirements | H35: =1/6 -> 0.16666667 | I35: =IF(F35>=5,"Proceed","Do not proceed") -> Do not proceed | J35: =IF(G35="Yes","Proceed","Do not proceed") -> Do not proceed
C36: · 2-4h resolution time | D36: 1. Number of calls logged per month
C37: · 365 x 24 x 7 x 2hr to replace | D37: 2. MTTR
C38: · 2 hours per week for support services | D38: 3. Root Cause Analysis report for all incidents/requests.
C39: The initial contract for support will be 5 years with the successful Bidder, however, the OEM is expected to support the deployed models for a period of not less than 120 months | D39: 4. Summary of maintenance and support actions undertaken per month
A41: 6 | B41: NAC | C41: SLA performance requirements: | D41: Monthly SLA reporting to include the following: | E41: Sample reports to be provided, in Pdf and Excel format, covering the reporting requirements. Commitment from the bidder to deliver on the SLA requirements | H41: =1/6 -> 0.16666667 | I41: =IF(F41>=5,"Proceed","Do not proceed") -> Do not proceed | J41: =IF(G41="Yes","Proceed","Do not proceed") -> Do not proceed
C42: · 2-4h resolution time | D42: 1. Number of calls logged per month
C43: · 365 x 24 x 7 x 2hr to replace | D43: 2. MTTR
C44: · 2 hours per week for support services | D44: 3. Root Cause Analysis report for all incidents/requests.
C45: The initial contract for support will be 5 years with the successful Bidder, however, the OEM is expected to support the deployed models for a period of not less than 120 months | D45: 4. Summary of maintenance and support actions undertaken per month
E46: Score achieved | F46: =SUM(F11:F45) -> 0
E47: Score out of 10 | F47: =F46/6 -> 0
E48: Score % | F48: =F46/F49 -> 0
E49: Maximum points available | F49: 60
E50: 80% Threshold met | F50: =IF(F48>=80%,"Proceed","Do not proceed") -> Do not proceed
E51: 100% of Individual criteria met | F51: =IF(COUNTIF(I11:J45,"Do not proceed")>0,"Do not proceed","Proceed") -> Do not proceed
C53: Annexure D: SLA Performance requirements | D53: =F51 -> Do not proceed
B55: Commitment from the Bidder
B57: On behalf of the Bidder
B63: Signature
B65: Name and Surname
B67: Designation or Role

Sheet Dropdown List
A1: Yes | B1: Yes | D1: 0
A2: Partly | B2: No | D2: 5
A3: No | D3: 7
D4: 8
D5: 10
