Workbook
Name a: #REF!
Name a: #REF!
Name Area_Print: #REF!
Name Area_Print: #REF!
Name b: #REF!
Name b: #REF!
Name copy: #REF!
Name copy: #REF!
Name d: #REF!
Name d: #REF!
Name Data: #REF!
Name Data: #REF!
Name Data_Daywork: #REF!
Name Data_Daywork: #REF!
Name Data_Opt_Bill5: #REF!
Name Data_Opt_Bill5: #REF!
Name e: #REF!
Name e: #REF!
Name Sort_Data: #REF!
Name Sort_Data: #REF!
Name w: #REF!
Name w: #REF!

Sheet Tender Cover Sheet
B10: PRICING INFORMATION
B12: ENQUIRY No.
B14: NAME OF PACKAGE: | C14: Lebombo Radio Site Access Road – Radio Site 3m Geo-cell Access Road Scope of Work (Civils)
B16: TENDERER’S NAME:
B18: CATEGORY OF OFFER (MAIN OFFER ONLY): | C18: ='[1]Read Me'!C4 -> Main Offer Only
B20: TENDERED PRICE: IN ZAR | C20: =Summary!D19 -> 0
B21: (excluding VAT)
B23: RAND VALUE IN WORDS | C23: [Price in Words]
B28: TENDERED PRICE: IN ZAR | C28: =Summary!D19*1.15 -> 0
B29: (including VAT)
B31: DATE :
B35: FULL NAMES OF SIGNATORY:
B39: DESIGNATION OF SIGNATORY:
B43: SIGNATURE :

Sheet BoQ
B1: ='Tender Cover Sheet'!B12 -> ENQUIRY No. | E1: ='Tender Cover Sheet'!C12 -> 0
B3: ='Tender Cover Sheet'!B14 -> NAME OF PACKAGE: | E3: ='Tender Cover Sheet'!C14 -> Lebombo Radio Site Access Road – Radio Site 3m Geo-cell Access Road Scope of Work (Civils)
B5: ='Tender Cover Sheet'!B16 -> TENDERER’S NAME: | E5: ='Tender Cover Sheet'!C16 -> 0
B7: Item Ref | D7: Standard Ref. | E7: Description | F7: Unit | G7: Qty | H7: Rate | I7: Amount (ZAR)
E9: PRELIMINARY & GENERAL
E11: Time related | F11: Month | G11: 6 | H11: ='ANNEXURE A_P&G Detail'!F13/G11 -> 0 | I11: =IF(ISTEXT(G11),0,G11*H11) -> 0
E13: Fixed | F13: Sum | G13: 1 | H13: =SUM('ANNEXURE A_P&G Detail'!E24:E31) -> 0 | I13: =IF(ISTEXT(G13),0,G13*H13) -> 0
E15: =E9&" TOTAL" -> PRELIMINARY & GENERAL TOTAL | H15: Carried Forward to Summary | I15: =SUM(I11:I14) -> 0
E17: EARTWORKS & CONCRETE
E19: SITE CLEARANCE, PREPARATION OF SITE, EXCAVATION, COMPACTION & BACKFILLING
C21: 3000026842 | E21: CLEAN, AREA:MINOR | F21: m2 | G21: 700 | I21: =IF(ISTEXT(G21),0,G21*H21) -> 0
E22: EXCAVATION;TREATMENT
E23: Road bed preparation to 150mm depth
E24: and compaction of material to 93% MOD
E25: AASHTO)
C28: 3000017291 | E28: MAINT SITE:ROAD | F28: m2 | G28: 1550 | I28: =IF(ISTEXT(G28),0,G28*H28) -> 0
E29: RELATED ISSUES (Provisional
E30: Excavation for medium to soft rock (E/O
E31: Item)
C34: 3000014725 | E34: REINF STRUCT:CONCRETE;REINFORCEMENT | F34: m2 | G34: 700 | I34: =IF(ISTEXT(G34),0,G34*H34) -> 0
E35: (100mm thick geo-cells 25MPa concrete
E37: =E17&" TOTAL" -> EARTWORKS & CONCRETE TOTAL | H37: Carried Forward to Summary | I37: =SUM(I16:I36) -> 0

Sheet Summary
B1: =BoQ!B1 -> ENQUIRY No. | D1: ='Tender Cover Sheet'!C12 -> 0
B3: =BoQ!B3 -> NAME OF PACKAGE: | D3: ='Tender Cover Sheet'!C14 -> Lebombo Radio Site Access Road – Radio Site 3m Geo-cell Access Road Scope of Work (Civils)
B7: =BoQ!B5 -> TENDERER’S NAME: | D7: ='Tender Cover Sheet'!C16 -> 0
B10: Summary
B14: Bill Description | D14: Total Amount (ZAR)
B16: 1. | C16: PRELIMINARY & GENERAL | D16: =BoQ!I15 -> 0
B17: 2. | C17: EARTWORKS | D17: =BoQ!I37 -> 0
B19: TOTAL Excl. VAT | D19: =SUM(D15:D18) -> 0

Sheet ANNEXURE A_P&G Detail
A1: =BoQ!B1 -> ENQUIRY No. | C1: =BoQ!E1 -> 0
A3: =BoQ!B3 -> NAME OF PACKAGE: | C3: =BoQ!E3 -> Lebombo Radio Site Access Road – Radio Site 3m Geo-cell Access Road Scope of Work (Civils)
A6: =BoQ!B5 -> TENDERER’S NAME: | C6: =BoQ!E5 -> 0
A8: P&G Detail
A11: Item Ref | B11: Description | C11: Unit | D11: Qty | E11: Rate | F11: Amount (ZAR)
B13: =BoQ!E11 -> Time related | F13: =SUM(F14:F22) -> 0
B15: (Enter description) | C15: Month | D15: =BoQ!$G$11 -> 6 | F15: =D15*E15 -> 0
B16: (Enter description) | C16: Month | D16: =BoQ!$G$11 -> 6 | F16: =D16*E16 -> 0
B17: (Enter description) | C17: Month | D17: =BoQ!$G$11 -> 6 | F17: =D17*E17 -> 0
B18: (Enter description) | C18: Month | D18: =BoQ!$G$11 -> 6 | F18: =D18*E18 -> 0
B19: (Enter description) | C19: Month | D19: =BoQ!$G$11 -> 6 | F19: =D19*E19 -> 0
B20: (Enter description) | C20: Month | D20: =BoQ!$G$11 -> 6 | F20: =D20*E20 -> 0
B21: (Enter description) | C21: Month | D21: =BoQ!$G$11 -> 6 | F21: =D21*E21 -> 0
B23: =BoQ!E13 -> Fixed | F23: =SUM(F24:F32) -> 0
B25: (Enter description) | C25: Sum | D25: 1 | F25: =D25*E25 -> 0
B26: (Enter description) | C26: Sum | D26: 1 | F26: =D26*E26 -> 0
B27: (Enter description) | C27: Sum | D27: 1 | F27: =D27*E27 -> 0
B28: (Enter description) | C28: Sum | D28: 1 | F28: =D28*E28 -> 0
B29: (Enter description) | C29: Sum | D29: 1 | F29: =D29*E29 -> 0
B30: (Enter description) | C30: Sum | D30: 1 | F30: =D30*E30 -> 0
B31: (Enter description) | C31: Sum | D31: 1 | F31: =D31*E31 -> 0
