Workbook

Sheet SUMMARY
A6: NO. | B6: OFFICES | C6: TOTAL CARRIED FORWARD
A7: 1 | B7: Gauteng | C7: ='GAUTENG HEAD OFFICE'!F57 -> 0
A8: 2 | B8: North-West | C8: ='NORTH-WEST OFFICE'!F57 -> 0
A9: 3 | B9: Limpopo Office | C9: ='LIMPOPO OFFICE'!F57 -> 0
A10: 4 | B10: Mpumalanga Office | C10: ='MPUMALANGA OFFICE'!F57 -> 0
A11: 5 | B11: Kwa-Zulu Natal | C11: ='KWA-ZULU NATAL OFFICE'!F57 -> 0
A12: 6 | B12: Free State Office | C12: ='FREE STATE OFFICE'!F57 -> 0
A13: 7 | B13: Western Cape | C13: ='WESTERN CAPE'!F57 -> 0
A14: 8 | B14: North-Cape | C14: ='NORTHERN CAPE'!F57 -> 0
A15: 9 | B15: Eastern Cape | C15: ='EASTERN CAPE'!F57 -> 0
B16: Total | C16: =SUM(C7:C15) -> 0
B17: VAT | C17: =C16*15% -> 0
B18: Grand Total | C18: =C16+C17 -> 0

Sheet GAUTENG HEAD OFFICE
A7: CIDB-Facilities Management
A8: GENERAL MAINTENANCE FOR 36 MONTHS
A9: Item No. | B9: Description | C9: Insect percentage rate | D9: Qty | E9: Unit | F9: Total Excluding VAT
A10: SECTION NO. 1: GENERAL MAINTENANCE
B11: The Mark-up is required on the cost of repair works required as and when required, as quoted for by the service provider for the General Maintenance, Percentage mark-up for the price ranges
A13: 1.1 | B13: R 0.00 - R10000.00 | D13: 1 | E13: Rate Only | F13: =10000*C13 -> 0
A14: 1.2 | B14: R 10001.00 - R 20000.00 | D14: 1 | E14: Rate Only | F14: =20000*C14 -> 0
A15: 1.3 | B15: R 20001.00 - R 30000.00 | D15: 1 | E15: Rate Only | F15: =30000*C15 -> 0
A16: 1.4 | B16: R 30001.00 - R 40000.00 | D16: 1 | E16: Rate Only | F16: =40000*C16 -> 0
A17: 1.5 | B17: R 400001.00 - R 50 000.00 | D17: 1 | E17: Rate Only | F17: =50000*C17 -> 0
A18: 1.6 | B18: R 50 001.00 - R 100 000.00 | D18: 1 | E18: Rate Only | F18: =100000*C18 -> 0
A19: 1.7 | B19: R 100 001.00 - R 150 000.00 | D19: 1 | E19: Rate Only | F19: =150000*C19 -> 0
A20: 1.8 | B20: R 150 001.00 - Above | D20: 1 | E20: Rate Only | F20: =2000000*C20 -> 0
A21: 1.9 | B21: Issuing of COC for completed works under general maintenance | D21: 1 | E21: Lump Sum
A22: Sub Total
A24: SECTION NO. 2. LABOUR RATES
B25: The labour costs includes the Normal rate and Call-out rate for the personnel performing maintenance works on site. | F25: Insert Hourly rate
E26: Unit
B27: (a) Normal Hourly Labour Rates (working hours)
A28: 2.1 | B28: Plumber | C28: hr | D28: 1 | E28: Rate Only
A29: 2.2 | B29: Carpenter | C29: hr | D29: 1 | E29: Rate Only
A30: 2.3 | B30: Artisan | C30: hr | D30: 1 | E30: Rate Only
A31: 2.4 | B31: Electrician | C31: hr | D31: 1 | E31: Rate Only
A32: 2.5 | B32: Health & Safety Officer | C32: hr | D32: 1 | E32: Rate Only
A33: 2.6 | B33: General labourer | C33: hr | D33: 1 | E33: Rate Only
A34: Sub Total | F34: =SUM(F28:F33) -> 0
B35: (b) Call-Out Hourly Labour Rates (non working hours)
A36: 2.7 | B36: Plumber | C36: hr | D36: 1 | E36: Rate Only
A37: 2.8 | B37: Carpenter | C37: hr | D37: 1 | E37: Rate Only
A38: 2.9 | B38: Artisan | C38: hr | D38: 1 | E38: Rate Only
A39: 2.1 | B39: Electrician | C39: hr | D39: 1 | E39: Rate Only
A40: 2,11 | B40: Health & Safety Officer | C40: hr | D40: 1 | E40: Rate Only
A41: 2.12 | B41: General labourer | C41: hr | D41: 1 | E41: Rate Only
A42: Sub Total | F42: =SUM(F36:F41) -> 0
A43: (a) +(b) Total | F43: =F34+F42 -> 0
A45: SECTION NO. 3. TRAVELLING AND SUBSISTENCE CLAIM
B46: Travel radius ranges from the cidb's offices | C46: Approximate distance | E46: Insert KM rate | F46: Total
A47: 3.1 | B47: 2 hr radius | C47: 225-160 | D47: KM
A48: 3.2 | B48: 1:30 hr radius | C48: 145-95 | D48: KM
A49: 3.3 | B49: 1 hr radius | C49: 96-48 | D49: KM
A50: 3.4 | B50: 30min radius | C50: 40-24 | D50: KM
A51: 3.5 | B51: 25min radius | C51: 24-16 | D51: KM
A52: 3.6 | B52: 15min radius | C52: 16-8 | D52: KM
A53: 3.7 | B53: 10min radius | C53: 11-5 | D53: KM
E54: Sub Total | F54: =SUM(F47:F53) -> 0
B57: TOTAL CARREID TO SUMMARY PAGE | F57: =F22+F43+F54 -> 0

Sheet NORTH-WEST OFFICE
A7: CIDB-Facilities Management
A8: GENERAL MAINTENANCE FOR 36 MONTHS
A9: Item No. | B9: Description | C9: Insect percentage rate | D9: Qty | E9: Unit | F9: Total
A10: SECTION NO. 1: GENERAL MAINTENANCE
B11: The Mark-up is required on the cost of repair works required as and when required, as quoted for by the service provider for the General Maintenance, Percentage mark-up for the price ranges
A13: 1.1 | B13: R 0.00 - R10000.00 | D13: 1 | E13: Rate Only | F13: =10000*C13 -> 0
A14: 1.2 | B14: R 10001.00 - R 20000.00 | D14: 1 | E14: Rate Only | F14: =20000*C14 -> 0
A15: 1.3 | B15: R 20001.00 - R 30000.00 | D15: 1 | E15: Rate Only | F15: =30000*C15 -> 0
A16: 1.4 | B16: R 30001.00 - R 40000.00 | D16: 1 | E16: Rate Only | F16: =40000*C16 -> 0
A17: 1.5 | B17: R 400001.00 - R 50 000.00 | D17: 1 | E17: Rate Only | F17: =50000*C17 -> 0
A18: 1.6 | B18: R 50 001.00 - R 100 000.00 | D18: 1 | E18: Rate Only | F18: =100000*C18 -> 0
A19: 1.7 | B19: R 100 001.00 - R 150 000.00 | D19: 1 | E19: Rate Only | F19: =150000*C19 -> 0
A20: 1.8 | B20: R 150 001.00 - Above | D20: 1 | E20: Rate Only | F20: =2000000*C20 -> 0
A21: 1.9 | B21: Issuing of COC for completed works under general maintenance | D21: 1 | E21: Lump Sum
A22: Sub Total
A24: SECTION NO. 2. LABOUR RATES
B25: The labour costs includes the Normal rate and Call-out rate for the personnel performing maintenance works on site. | F25: Insert Hourly rate
E26: Unit
B27: (a) Normal Hourly Labour Rates (working hours)
A28: 2.1 | B28: Plumber | C28: hr | D28: 1 | E28: Rate Only
A29: 2.2 | B29: Carpenter | C29: hr | D29: 1 | E29: Rate Only
A30: 2.3 | B30: Artisan | C30: hr | D30: 1 | E30: Rate Only
A31: 2.4 | B31: Electrician | C31: hr | D31: 1 | E31: Rate Only
A32: 2.5 | B32: Health & Safety Officer | C32: hr | D32: 1 | E32: Rate Only
A33: 2.6 | B33: General labourer | C33: hr | D33: 1 | E33: Rate Only
A34: Sub Total | F34: =SUM(F28:F33) -> 0
B35: (b) Call-Out Hourly Labour Rates (non working hours)
A36: 2.7 | B36: Plumber | C36: hr | D36: 1 | E36: Rate Only
A37: 2.8 | B37: Carpenter | C37: hr | D37: 1 | E37: Rate Only
A38: 2.9 | B38: Artisan | C38: hr | D38: 1 | E38: Rate Only
A39: 2.1 | B39: Electrician | C39: hr | D39: 1 | E39: Rate Only
A40: 2,11 | B40: Health & Safety Officer | C40: hr | D40: 1 | E40: Rate Only
A41: 2.12 | B41: General labourer | C41: hr | D41: 1 | E41: Rate Only
A42: Sub Total | F42: =SUM(F36:F41) -> 0
A43: (a) +(b) Total | F43: =F34+F42 -> 0
A45: SECTION NO. 3. TRAVELLING AND SUBSISTENCE CLAIM
B46: Travel radius ranges from the cidb's offices | C46: Approximate distance | E46: Insert KM rate | F46: Total
A47: 3.1 | B47: 2 hr radius | C47: 225-160 | D47: KM | F47: =225*E47 -> 0
A48: 3.2 | B48: 1:30 hr radius | C48: 145-95 | D48: KM | F48: =145*E48 -> 0
A49: 3.3 | B49: 1 hr radius | C49: 96-48 | D49: KM | F49: =96*E49 -> 0
A50: 3.4 | B50: 30min radius | C50: 40-24 | D50: KM | F50: =40*E50 -> 0
A51: 3.5 | B51: 25min radius | C51: 24-16 | D51: KM | F51: =24*E51 -> 0
A52: 3.6 | B52: 15min radius | C52: 16-8 | D52: KM | F52: =16*E52 -> 0
A53: 3.7 | B53: 10min radius | C53: 11-5 | D53: KM | F53: =11*E53 -> 0
E54: Sub Total | F54: =SUM(F47:F53) -> 0
B57: TOTAL CARREID TO SUMMARY PAGE | F57: =F22+F43+F54 -> 0

Sheet LIMPOPO OFFICE
A7: CIDB-Facilities Management
A8: GENERAL MAINTENANCE FOR 36 MONTHS
A9: Item No. | B9: Description | C9: Insect percentage rate | D9: Qty | E9: Unit | F9: Total
A10: SECTION NO. 1: GENERAL MAINTENANCE
B11: The Mark-up is required on the cost of repair works required as and when required, as quoted for by the service provider for the General Maintenance, Percentage mark-up for the price ranges
A13: 1.1 | B13: R 0.00 - R10000.00 | D13: 1 | E13: Rate Only | F13: =10000*C13 -> 0
A14: 1.2 | B14: R 10001.00 - R 20000.00 | D14: 1 | E14: Rate Only | F14: =20000*C14 -> 0
A15: 1.3 | B15: R 20001.00 - R 30000.00 | D15: 1 | E15: Rate Only | F15: =30000*C15 -> 0
A16: 1.4 | B16: R 30001.00 - R 40000.00 | D16: 1 | E16: Rate Only | F16: =40000*C16 -> 0
A17: 1.5 | B17: R 400001.00 - R 50 000.00 | D17: 1 | E17: Rate Only | F17: =50000*C17 -> 0
A18: 1.6 | B18: R 50 001.00 - R 100 000.00 | D18: 1 | E18: Rate Only | F18: =100000*C18 -> 0
A19: 1.7 | B19: R 100 001.00 - R 150 000.00 | D19: 1 | E19: Rate Only | F19: =150000*C19 -> 0
A20: 1.8 | B20: R 150 001.00 - Above | D20: 1 | E20: Rate Only | F20: =2000000*C20 -> 0
A21: 1.9 | B21: Issuing of COC for completed works under general maintenance | D21: 1 | E21: Lump Sum
A22: Sub Total
A24: SECTION NO. 2. LABOUR RATES
B25: The labour costs includes the Normal rate and Call-out rate for the personnel performing maintenance works on site. | F25: Insert Hourly rate
E26: Unit
B27: (a) Normal Hourly Labour Rates (working hours)
A28: 2.1 | B28: Plumber | C28: hr | D28: 1 | E28: Rate Only
A29: 2.2 | B29: Carpenter | C29: hr | D29: 1 | E29: Rate Only
A30: 2.3 | B30: Artisan | C30: hr | D30: 1 | E30: Rate Only
A31: 2.4 | B31: Electrician | C31: hr | D31: 1 | E31: Rate Only
A32: 2.5 | B32: Health & Safety Officer | C32: hr | D32: 1 | E32: Rate Only
A33: 2.6 | B33: General labourer | C33: hr | D33: 1 | E33: Rate Only
A34: Sub Total | F34: =SUM(F28:F33) -> 0
B35: (b) Call-Out Hourly Labour Rates (non working hours)
A36: 2.7 | B36: Plumber | C36: hr | D36: 1 | E36: Rate Only
A37: 2.8 | B37: Carpenter | C37: hr | D37: 1 | E37: Rate Only
A38: 2.9 | B38: Artisan | C38: hr | D38: 1 | E38: Rate Only
A39: 2.1 | B39: Electrician | C39: hr | D39: 1 | E39: Rate Only
A40: 2,11 | B40: Health & Safety Officer | C40: hr | D40: 1 | E40: Rate Only
A41: 2.12 | B41: General labourer | C41: hr | D41: 1 | E41: Rate Only
A42: Sub Total | F42: =SUM(F36:F41) -> 0
A43: (a) +(b) Total | F43: =F34+F42 -> 0
A45: SECTION NO. 3. TRAVELLING AND SUBSISTENCE CLAIM
B46: Travel radius ranges from the cidb's offices | C46: Approximate distance | E46: Insert KM rate | F46: Total
A47: 3.1 | B47: 2 hr radius | C47: 225-160 | D47: KM | F47: =225*E47 -> 0
A48: 3.2 | B48: 1:30 hr radius | C48: 145-95 | D48: KM | F48: =145*E48 -> 0
A49: 3.3 | B49: 1 hr radius | C49: 96-48 | D49: KM | F49: =96*E49 -> 0
A50: 3.4 | B50: 30min radius | C50: 40-24 | D50: KM | F50: =40*E50 -> 0
A51: 3.5 | B51: 25min radius | C51: 24-16 | D51: KM | F51: =24*E51 -> 0
A52: 3.6 | B52: 15min radius | C52: 16-8 | D52: KM | F52: =16*E52 -> 0
A53: 3.7 | B53: 10min radius | C53: 11-5 | D53: KM | F53: =11*E53 -> 0
E54: Sub Total | F54: =SUM(F47:F53) -> 0
B57: TOTAL CARREID TO SUMMARY PAGE | F57: =F22+F43+F54 -> 0

Sheet MPUMALANGA OFFICE
A7: CIDB-Facilities Management
A8: GENERAL MAINTENANCE FOR 36 MONTHS
A9: Item No. | B9: Description | C9: Insect percentage rate | D9: Qty | E9: Unit | F9: Total
A10: SECTION NO. 1: GENERAL MAINTENANCE
B11: The Mark-up is required on the cost of repair works required as and when required, as quoted for by the service provider for the General Maintenance, Percentage mark-up for the price ranges
A13: 1.1 | B13: R 0.00 - R10000.00 | D13: 1 | E13: Rate Only | F13: =10000*C13 -> 0
A14: 1.2 | B14: R 10001.00 - R 20000.00 | D14: 1 | E14: Rate Only | F14: =20000*C14 -> 0
A15: 1.3 | B15: R 20001.00 - R 30000.00 | D15: 1 | E15: Rate Only | F15: =30000*C15 -> 0
A16: 1.4 | B16: R 30001.00 - R 40000.00 | D16: 1 | E16: Rate Only | F16: =40000*C16 -> 0
A17: 1.5 | B17: R 400001.00 - R 50 000.00 | D17: 1 | E17: Rate Only | F17: =50000*C17 -> 0
A18: 1.6 | B18: R 50 001.00 - R 100 000.00 | D18: 1 | E18: Rate Only | F18: =100000*C18 -> 0
A19: 1.7 | B19: R 100 001.00 - R 150 000.00 | D19: 1 | E19: Rate Only | F19: =150000*C19 -> 0
A20: 1.8 | B20: R 150 001.00 - Above | D20: 1 | E20: Rate Only | F20: =2000000*C20 -> 0
A21: 1.9 | B21: Issuing of COC for completed works under general maintenance | D21: 1 | E21: Lump Sum
A22: Sub Total
A24: SECTION NO. 2. LABOUR RATES
B25: The labour costs includes the Normal rate and Call-out rate for the personnel performing maintenance works on site. | F25: Insert Hourly rate
E26: Unit
B27: (a) Normal Hourly Labour Rates (working hours)
A28: 2.1 | B28: Plumber | C28: hr | D28: 1 | E28: Rate Only
A29: 2.2 | B29: Carpenter | C29: hr | D29: 1 | E29: Rate Only
A30: 2.3 | B30: Artisan | C30: hr | D30: 1 | E30: Rate Only
A31: 2.4 | B31: Electrician | C31: hr | D31: 1 | E31: Rate Only
A32: 2.5 | B32: Health & Safety Officer | C32: hr | D32: 1 | E32: Rate Only
A33: 2.6 | B33: General labourer | C33: hr | D33: 1 | E33: Rate Only
A34: Sub Total | F34: =SUM(F28:F33) -> 0
B35: (b) Call-Out Hourly Labour Rates (non working hours)
A36: 2.7 | B36: Plumber | C36: hr | D36: 1 | E36: Rate Only
A37: 2.8 | B37: Carpenter | C37: hr | D37: 1 | E37: Rate Only
A38: 2.9 | B38: Artisan | C38: hr | D38: 1 | E38: Rate Only
A39: 2.1 | B39: Electrician | C39: hr | D39: 1 | E39: Rate Only
A40: 2,11 | B40: Health & Safety Officer | C40: hr | D40: 1 | E40: Rate Only
A41: 2.12 | B41: General labourer | C41: hr | D41: 1 | E41: Rate Only
A42: Sub Total | F42: =SUM(F36:F41) -> 0
A43: (a) +(b) Total | F43: =F34+F42 -> 0
A45: SECTION NO. 3. TRAVELLING AND SUBSISTENCE CLAIM
B46: Travel radius ranges from the cidb's offices | C46: Approximate distance | E46: Insert KM rate | F46: Total
A47: 3.1 | B47: 2 hr radius | C47: 225-160 | D47: KM | F47: =225*E47 -> 0
A48: 3.2 | B48: 1:30 hr radius | C48: 145-95 | D48: KM | F48: =145*E48 -> 0
A49: 3.3 | B49: 1 hr radius | C49: 96-48 | D49: KM | F49: =96*E49 -> 0
A50: 3.4 | B50: 30min radius | C50: 40-24 | D50: KM | F50: =40*E50 -> 0
A51: 3.5 | B51: 25min radius | C51: 24-16 | D51: KM | F51: =24*E51 -> 0
A52: 3.6 | B52: 15min radius | C52: 16-8 | D52: KM | F52: =16*E52 -> 0
A53: 3.7 | B53: 10min radius | C53: 11-5 | D53: KM | F53: =11*E53 -> 0
E54: Sub Total | F54: =SUM(F47:F53) -> 0
B57: TOTAL CARREID TO SUMMARY PAGE | F57: =F22+F43+F54 -> 0

Sheet KWA-ZULU NATAL OFFICE
A7: CIDB-Facilities Management
A8: GENERAL MAINTENANCE FOR 36 MONTHS
A9: Item No. | B9: Description | C9: Insect percentage rate | D9: Qty | E9: Unit | F9: Total
A10: SECTION NO. 1: GENERAL MAINTENANCE
B11: The Mark-up is required on the cost of repair works required as and when required, as quoted for by the service provider for the General Maintenance, Percentage mark-up for the price ranges
A13: 1.1 | B13: R 0.00 - R10000.00 | D13: 1 | E13: Rate Only | F13: =10000*C13 -> 0
A14: 1.2 | B14: R 10001.00 - R 20000.00 | D14: 1 | E14: Rate Only | F14: =20000*C14 -> 0
A15: 1.3 | B15: R 20001.00 - R 30000.00 | D15: 1 | E15: Rate Only | F15: =30000*C15 -> 0
A16: 1.4 | B16: R 30001.00 - R 40000.00 | D16: 1 | E16: Rate Only | F16: =40000*C16 -> 0
A17: 1.5 | B17: R 400001.00 - R 50 000.00 | D17: 1 | E17: Rate Only | F17: =50000*C17 -> 0
A18: 1.6 | B18: R 50 001.00 - R 100 000.00 | D18: 1 | E18: Rate Only | F18: =100000*C18 -> 0
A19: 1.7 | B19: R 100 001.00 - R 150 000.00 | D19: 1 | E19: Rate Only | F19: =150000*C19 -> 0
A20: 1.8 | B20: R 150 001.00 - Above | D20: 1 | E20: Rate Only | F20: =2000000*C20 -> 0
A21: 1.9 | B21: Issuing of COC for completed works under general maintenance | D21: 1 | E21: Lump Sum
A22: Sub Total
A24: SECTION NO. 2. LABOUR RATES
B25: The labour costs includes the Normal rate and Call-out rate for the personnel performing maintenance works on site. | F25: Insert Hourly rate
E26: Unit
B27: (a) Normal Hourly Labour Rates (working hours)
A28: 2.1 | B28: Plumber | C28: hr | D28: 1 | E28: Rate Only
A29: 2.2 | B29: Carpenter | C29: hr | D29: 1 | E29: Rate Only
A30: 2.3 | B30: Artisan | C30: hr | D30: 1 | E30: Rate Only
A31: 2.4 | B31: Electrician | C31: hr | D31: 1 | E31: Rate Only
A32: 2.5 | B32: Health & Safety Officer | C32: hr | D32: 1 | E32: Rate Only
A33: 2.6 | B33: General labourer | C33: hr | D33: 1 | E33: Rate Only
A34: Sub Total | F34: =SUM(F28:F33) -> 0
B35: (b) Call-Out Hourly Labour Rates (non working hours)
A36: 2.7 | B36: Plumber | C36: hr | D36: 1 | E36: Rate Only
A37: 2.8 | B37: Carpenter | C37: hr | D37: 1 | E37: Rate Only
A38: 2.9 | B38: Artisan | C38: hr | D38: 1 | E38: Rate Only
A39: 2.1 | B39: Electrician | C39: hr | D39: 1 | E39: Rate Only
A40: 2,11 | B40: Health & Safety Officer | C40: hr | D40: 1 | E40: Rate Only
A41: 2.12 | B41: General labourer | C41: hr | D41: 1 | E41: Rate Only
A42: Sub Total | F42: =SUM(F36:F41) -> 0
A43: (a) +(b) Total | F43: =F34+F42 -> 0
A45: SECTION NO. 3. TRAVELLING AND SUBSISTENCE CLAIM
B46: Travel radius ranges from the cidb's offices | C46: Approximate distance | E46: Insert KM rate | F46: Total
A47: 3.1 | B47: 2 hr radius | C47: 225-160 | D47: KM | F47: =225*E47 -> 0
A48: 3.2 | B48: 1:30 hr radius | C48: 145-95 | D48: KM | F48: =145*E48 -> 0
A49: 3.3 | B49: 1 hr radius | C49: 96-48 | D49: KM | F49: =96*E49 -> 0
A50: 3.4 | B50: 30min radius | C50: 40-24 | D50: KM | F50: =40*E50 -> 0
A51: 3.5 | B51: 25min radius | C51: 24-16 | D51: KM | F51: =24*E51 -> 0
A52: 3.6 | B52: 15min radius | C52: 16-8 | D52: KM | F52: =16*E52 -> 0
A53: 3.7 | B53: 10min radius | C53: 11-5 | D53: KM | F53: =11*E53 -> 0
E54: Sub Total | F54: =SUM(F47:F53) -> 0
B57: TOTAL CARREID TO SUMMARY PAGE | F57: =F22+F43+F54 -> 0

Sheet FREE STATE OFFICE
A7: CIDB-Facilities Management
A8: GENERAL MAINTENANCE FOR 36 MONTHS
A9: Item No. | B9: Description | C9: Insect percentage rate | D9: Qty | E9: Unit | F9: Total
A10: SECTION NO. 1: GENERAL MAINTENANCE
B11: The Mark-up is required on the cost of repair works required as and when required, as quoted for by the service provider for the General Maintenance, Percentage mark-up for the price ranges
A13: 1.1 | B13: R 0.00 - R10000.00 | D13: 1 | E13: Rate Only | F13: =10000*C13 -> 0
A14: 1.2 | B14: R 10001.00 - R 20000.00 | D14: 1 | E14: Rate Only | F14: =20000*C14 -> 0
A15: 1.3 | B15: R 20001.00 - R 30000.00 | D15: 1 | E15: Rate Only | F15: =30000*C15 -> 0
A16: 1.4 | B16: R 30001.00 - R 40000.00 | D16: 1 | E16: Rate Only | F16: =40000*C16 -> 0
A17: 1.5 | B17: R 400001.00 - R 50 000.00 | D17: 1 | E17: Rate Only | F17: =50000*C17 -> 0
A18: 1.6 | B18: R 50 001.00 - R 100 000.00 | D18: 1 | E18: Rate Only | F18: =100000*C18 -> 0
A19: 1.7 | B19: R 100 001.00 - R 150 000.00 | D19: 1 | E19: Rate Only | F19: =150000*C19 -> 0
A20: 1.8 | B20: R 150 001.00 - Above | D20: 1 | E20: Rate Only | F20: =2000000*C20 -> 0
A21: 1.9 | B21: Issuing of COC for completed works under general maintenance | D21: 1 | E21: Lump Sum
A22: Sub Total
A24: SECTION NO. 2. LABOUR RATES
B25: The labour costs includes the Normal rate and Call-out rate for the personnel performing maintenance works on site. | F25: Insert Hourly rate
E26: Unit
B27: (a) Normal Hourly Labour Rates (working hours)
A28: 2.1 | B28: Plumber | C28: hr | D28: 1 | E28: Rate Only
A29: 2.2 | B29: Carpenter | C29: hr | D29: 1 | E29: Rate Only
A30: 2.3 | B30: Artisan | C30: hr | D30: 1 | E30: Rate Only
A31: 2.4 | B31: Electrician | C31: hr | D31: 1 | E31: Rate Only
A32: 2.5 | B32: Health & Safety Officer | C32: hr | D32: 1 | E32: Rate Only
A33: 2.6 | B33: General labourer | C33: hr | D33: 1 | E33: Rate Only
A34: Sub Total | F34: =SUM(F28:F33) -> 0
B35: (b) Call-Out Hourly Labour Rates (non working hours)
A36: 2.7 | B36: Plumber | C36: hr | D36: 1 | E36: Rate Only
A37: 2.8 | B37: Carpenter | C37: hr | D37: 1 | E37: Rate Only
A38: 2.9 | B38: Artisan | C38: hr | D38: 1 | E38: Rate Only
A39: 2.1 | B39: Electrician | C39: hr | D39: 1 | E39: Rate Only
A40: 2,11 | B40: Health & Safety Officer | C40: hr | D40: 1 | E40: Rate Only
A41: 2.12 | B41: General labourer | C41: hr | D41: 1 | E41: Rate Only
A42: Sub Total | F42: =SUM(F36:F41) -> 0
A43: (a) +(b) Total | F43: =F34+F42 -> 0
A45: SECTION NO. 3. TRAVELLING AND SUBSISTENCE CLAIM
B46: Travel radius ranges from the cidb's offices | C46: Approximate distance | E46: Insert KM rate | F46: Total
A47: 3.1 | B47: 2 hr radius | C47: 225-160 | D47: KM | F47: =225*E47 -> 0
A48: 3.2 | B48: 1:30 hr radius | C48: 145-95 | D48: KM | F48: =145*E48 -> 0
A49: 3.3 | B49: 1 hr radius | C49: 96-48 | D49: KM | F49: =96*E49 -> 0
A50: 3.4 | B50: 30min radius | C50: 40-24 | D50: KM | F50: =40*E50 -> 0
A51: 3.5 | B51: 25min radius | C51: 24-16 | D51: KM | F51: =24*E51 -> 0
A52: 3.6 | B52: 15min radius | C52: 16-8 | D52: KM | F52: =16*E52 -> 0
A53: 3.7 | B53: 10min radius | C53: 11-5 | D53: KM | F53: =11*E53 -> 0
E54: Sub Total | F54: =SUM(F47:F53) -> 0
B57: TOTAL CARREID TO SUMMARY PAGE | F57: =F22+F43+F54 -> 0

Sheet WESTERN CAPE
A7: CIDB-Facilities Management
A8: GENERAL MAINTENANCE FOR 36 MONTHS
A9: Item No. | B9: Description | C9: Insect percentage rate | D9: Qty | E9: Unit | F9: Total
A10: SECTION NO. 1: GENERAL MAINTENANCE
B11: The Mark-up is required on the cost of repair works required as and when required, as quoted for by the service provider for the General Maintenance, Percentage mark-up for the price ranges
A13: 1.1 | B13: R 0.00 - R10000.00 | D13: 1 | E13: Rate Only | F13: =10000*C13 -> 0
A14: 1.2 | B14: R 10001.00 - R 20000.00 | D14: 1 | E14: Rate Only | F14: =20000*C14 -> 0
A15: 1.3 | B15: R 20001.00 - R 30000.00 | D15: 1 | E15: Rate Only | F15: =30000*C15 -> 0
A16: 1.4 | B16: R 30001.00 - R 40000.00 | D16: 1 | E16: Rate Only | F16: =40000*C16 -> 0
A17: 1.5 | B17: R 400001.00 - R 50 000.00 | D17: 1 | E17: Rate Only | F17: =50000*C17 -> 0
A18: 1.6 | B18: R 50 001.00 - R 100 000.00 | D18: 1 | E18: Rate Only | F18: =100000*C18 -> 0
A19: 1.7 | B19: R 100 001.00 - R 150 000.00 | D19: 1 | E19: Rate Only | F19: =150000*C19 -> 0
A20: 1.8 | B20: R 150 001.00 - Above | D20: 1 | E20: Rate Only | F20: =2000000*C20 -> 0
A21: 1.9 | B21: Issuing of COC for completed works under general maintenance | D21: 1 | E21: Lump Sum
A22: Sub Total
A24: SECTION NO. 2. LABOUR RATES
B25: The labour costs includes the Normal rate and Call-out rate for the personnel performing maintenance works on site. | F25: Insert Hourly rate
E26: Unit
B27: (a) Normal Hourly Labour Rates (working hours)
A28: 2.1 | B28: Plumber | C28: hr | D28: 1 | E28: Rate Only
A29: 2.2 | B29: Carpenter | C29: hr | D29: 1 | E29: Rate Only
A30: 2.3 | B30: Artisan | C30: hr | D30: 1 | E30: Rate Only
A31: 2.4 | B31: Electrician | C31: hr | D31: 1 | E31: Rate Only
A32: 2.5 | B32: Health & Safety Officer | C32: hr | D32: 1 | E32: Rate Only
A33: 2.6 | B33: General labourer | C33: hr | D33: 1 | E33: Rate Only
A34: Sub Total | F34: =SUM(F28:F33) -> 0
B35: (b) Call-Out Hourly Labour Rates (non working hours)
A36: 2.7 | B36: Plumber | C36: hr | D36: 1 | E36: Rate Only
A37: 2.8 | B37: Carpenter | C37: hr | D37: 1 | E37: Rate Only
A38: 2.9 | B38: Artisan | C38: hr | D38: 1 | E38: Rate Only
A39: 2.1 | B39: Electrician | C39: hr | D39: 1 | E39: Rate Only
A40: 2,11 | B40: Health & Safety Officer | C40: hr | D40: 1 | E40: Rate Only
A41: 2.12 | B41: General labourer | C41: hr | D41: 1 | E41: Rate Only
A42: Sub Total | F42: =SUM(F36:F41) -> 0
A43: (a) +(b) Total | F43: =F34+F42 -> 0
A45: SECTION NO. 3. TRAVELLING AND SUBSISTENCE CLAIM
B46: Travel radius ranges from the cidb's offices | C46: Approximate distance | E46: Insert KM rate | F46: Total
A47: 3.1 | B47: 2 hr radius | C47: 225-160 | D47: KM | F47: =225*E47 -> 0
A48: 3.2 | B48: 1:30 hr radius | C48: 145-95 | D48: KM | F48: =145*E48 -> 0
A49: 3.3 | B49: 1 hr radius | C49: 96-48 | D49: KM | F49: =96*E49 -> 0
A50: 3.4 | B50: 30min radius | C50: 40-24 | D50: KM | F50: =40*E50 -> 0
A51: 3.5 | B51: 25min radius | C51: 24-16 | D51: KM | F51: =24*E51 -> 0
A52: 3.6 | B52: 15min radius | C52: 16-8 | D52: KM | F52: =16*E52 -> 0
A53: 3.7 | B53: 10min radius | C53: 11-5 | D53: KM | F53: =11*E53 -> 0
E54: Sub Total | F54: =SUM(F47:F53) -> 0
B57: TOTAL CARREID TO SUMMARY PAGE | F57: =F22+F43+F54 -> 0

Sheet NORTHERN CAPE
A7: CIDB-Facilities Management
A8: GENERAL MAINTENANCE FOR 36 MONTHS
A9: Item No. | B9: Description | C9: Insect percentage rate | D9: Qty | E9: Unit | F9: Total
A10: SECTION NO. 1: GENERAL MAINTENANCE
B11: The Mark-up is required on the cost of repair works required as and when required, as quoted for by the service provider for the General Maintenance, Percentage mark-up for the price ranges
A13: 1.1 | B13: R 0.00 - R10000.00 | D13: 1 | E13: Rate Only | F13: =10000*C13 -> 0
A14: 1.2 | B14: R 10001.00 - R 20000.00 | D14: 1 | E14: Rate Only | F14: =20000*C14 -> 0
A15: 1.3 | B15: R 20001.00 - R 30000.00 | D15: 1 | E15: Rate Only | F15: =30000*C15 -> 0
A16: 1.4 | B16: R 30001.00 - R 40000.00 | D16: 1 | E16: Rate Only | F16: =40000*C16 -> 0
A17: 1.5 | B17: R 400001.00 - R 50 000.00 | D17: 1 | E17: Rate Only | F17: =50000*C17 -> 0
A18: 1.6 | B18: R 50 001.00 - R 100 000.00 | D18: 1 | E18: Rate Only | F18: =100000*C18 -> 0
A19: 1.7 | B19: R 100 001.00 - R 150 000.00 | D19: 1 | E19: Rate Only | F19: =150000*C19 -> 0
A20: 1.8 | B20: R 150 001.00 - Above | D20: 1 | E20: Rate Only | F20: =2000000*C20 -> 0
A21: 1.9 | B21: Issuing of COC for completed works under general maintenance | D21: 1 | E21: Lump Sum
A22: Sub Total
A24: SECTION NO. 2. LABOUR RATES
B25: The labour costs includes the Normal rate and Call-out rate for the personnel performing maintenance works on site. | F25: Insert Hourly rate
E26: Unit
B27: (a) Normal Hourly Labour Rates (working hours)
A28: 2.1 | B28: Plumber | C28: hr | D28: 1 | E28: Rate Only
A29: 2.2 | B29: Carpenter | C29: hr | D29: 1 | E29: Rate Only
A30: 2.3 | B30: Artisan | C30: hr | D30: 1 | E30: Rate Only
A31: 2.4 | B31: Electrician | C31: hr | D31: 1 | E31: Rate Only
A32: 2.5 | B32: Health & Safety Officer | C32: hr | D32: 1 | E32: Rate Only
A33: 2.6 | B33: General labourer | C33: hr | D33: 1 | E33: Rate Only
A34: Sub Total | F34: =SUM(F28:F33) -> 0
B35: (b) Call-Out Hourly Labour Rates (non working hours)
A36: 2.7 | B36: Plumber | C36: hr | D36: 1 | E36: Rate Only
A37: 2.8 | B37: Carpenter | C37: hr | D37: 1 | E37: Rate Only
A38: 2.9 | B38: Artisan | C38: hr | D38: 1 | E38: Rate Only
A39: 2.1 | B39: Electrician | C39: hr | D39: 1 | E39: Rate Only
A40: 2,11 | B40: Health & Safety Officer | C40: hr | D40: 1 | E40: Rate Only
A41: 2.12 | B41: General labourer | C41: hr | D41: 1 | E41: Rate Only
A42: Sub Total | F42: =SUM(F36:F41) -> 0
A43: (a) +(b) Total | F43: =F34+F42 -> 0
A45: SECTION NO. 3. TRAVELLING AND SUBSISTENCE CLAIM
B46: Travel radius ranges from the cidb's offices | C46: Approximate distance | E46: Insert KM rate | F46: Total
A47: 3.1 | B47: 2 hr radius | C47: 225-160 | D47: KM | F47: =225*E47 -> 0
A48: 3.2 | B48: 1:30 hr radius | C48: 145-95 | D48: KM | F48: =145*E48 -> 0
A49: 3.3 | B49: 1 hr radius | C49: 96-48 | D49: KM | F49: =96*E49 -> 0
A50: 3.4 | B50: 30min radius | C50: 40-24 | D50: KM | F50: =40*E50 -> 0
A51: 3.5 | B51: 25min radius | C51: 24-16 | D51: KM | F51: =24*E51 -> 0
A52: 3.6 | B52: 15min radius | C52: 16-8 | D52: KM | F52: =16*E52 -> 0
A53: 3.7 | B53: 10min radius | C53: 11-5 | D53: KM | F53: =11*E53 -> 0
E54: Sub Total | F54: =SUM(F47:F53) -> 0
B57: TOTAL CARREID TO SUMMARY PAGE | F57: =F22+F43+F54 -> 0

Sheet EASTERN CAPE
A7: CIDB-Facilities Management
A8: GENERAL MAINTENANCE FOR 36 MONTHS
A9: Item No. | B9: Description | C9: Insect percentage rate | D9: Qty | E9: Unit | F9: Total
A10: SECTION NO. 1: GENERAL MAINTENANCE
B11: The Mark-up is required on the cost of repair works required as and when required, as quoted for by the service provider for the General Maintenance, Percentage mark-up for the price ranges
A13: 1.1 | B13: R 0.00 - R10000.00 | D13: 1 | E13: Rate Only | F13: =10000*C13 -> 0
A14: 1.2 | B14: R 10001.00 - R 20000.00 | D14: 1 | E14: Rate Only | F14: =20000*C14 -> 0
A15: 1.3 | B15: R 20001.00 - R 30000.00 | D15: 1 | E15: Rate Only | F15: =30000*C15 -> 0
A16: 1.4 | B16: R 30001.00 - R 40000.00 | D16: 1 | E16: Rate Only | F16: =40000*C16 -> 0
A17: 1.5 | B17: R 400001.00 - R 50 000.00 | D17: 1 | E17: Rate Only | F17: =50000*C17 -> 0
A18: 1.6 | B18: R 50 001.00 - R 100 000.00 | D18: 1 | E18: Rate Only | F18: =100000*C18 -> 0
A19: 1.7 | B19: R 100 001.00 - R 150 000.00 | D19: 1 | E19: Rate Only | F19: =150000*C19 -> 0
A20: 1.8 | B20: R 150 001.00 - Above | D20: 1 | E20: Rate Only | F20: =2000000*C20 -> 0
A21: 1.9 | B21: Issuing of COC for completed works under general maintenance | D21: 1 | E21: Lump Sum
A22: Sub Total
A24: SECTION NO. 2. LABOUR RATES
B25: The labour costs includes the Normal rate and Call-out rate for the personnel performing maintenance works on site. | F25: Insert Hourly rate
E26: Unit
B27: (a) Normal Hourly Labour Rates (working hours)
A28: 2.1 | B28: Plumber | C28: hr | D28: 1 | E28: Rate Only
A29: 2.2 | B29: Carpenter | C29: hr | D29: 1 | E29: Rate Only
A30: 2.3 | B30: Artisan | C30: hr | D30: 1 | E30: Rate Only
A31: 2.4 | B31: Electrician | C31: hr | D31: 1 | E31: Rate Only
A32: 2.5 | B32: Health & Safety Officer | C32: hr | D32: 1 | E32: Rate Only
A33: 2.6 | B33: General labourer | C33: hr | D33: 1 | E33: Rate Only
A34: Sub Total | F34: =SUM(F28:F33) -> 0
B35: (b) Call-Out Hourly Labour Rates (non working hours)
A36: 2.7 | B36: Plumber | C36: hr | D36: 1 | E36: Rate Only
A37: 2.8 | B37: Carpenter | C37: hr | D37: 1 | E37: Rate Only
A38: 2.9 | B38: Artisan | C38: hr | D38: 1 | E38: Rate Only
A39: 2.1 | B39: Electrician | C39: hr | D39: 1 | E39: Rate Only
A40: 2,11 | B40: Health & Safety Officer | C40: hr | D40: 1 | E40: Rate Only
A41: 2.12 | B41: General labourer | C41: hr | D41: 1 | E41: Rate Only
A42: Sub Total | F42: =SUM(F36:F41) -> 0
A43: (a) +(b) Total | F43: =F34+F42 -> 0
A45: SECTION NO. 3. TRAVELLING AND SUBSISTENCE CLAIM
B46: Travel radius ranges from the cidb's offices | C46: Approximate distance | E46: Insert KM rate | F46: Total
A47: 3.1 | B47: 2 hr radius | C47: 225-160 | D47: KM | F47: =225*E47 -> 0
A48: 3.2 | B48: 1:30 hr radius | C48: 145-95 | D48: KM | F48: =145*E48 -> 0
A49: 3.3 | B49: 1 hr radius | C49: 96-48 | D49: KM | F49: =96*E49 -> 0
A50: 3.4 | B50: 30min radius | C50: 40-24 | D50: KM | F50: =40*E50 -> 0
A51: 3.5 | B51: 25min radius | C51: 24-16 | D51: KM | F51: =24*E51 -> 0
A52: 3.6 | B52: 15min radius | C52: 16-8 | D52: KM | F52: =16*E52 -> 0
A53: 3.7 | B53: 10min radius | C53: 11-5 | D53: KM | F53: =11*E53 -> 0
E54: Sub Total | F54: =SUM(F47:F53) -> 0
B57: TOTAL CARREID TO SUMMARY PAGE | F57: =F22+F43+F54 -> 0
