Workbook
Name _2PAGE2_4: #N/A
Name _4PAGE2_4: #N/A
Name abcdef: #N/A
Name CASH: [2]Sheet2!#REF!
Name CASH: [2]Sheet2!#REF!
Name CASH: [2]Sheet2!#REF!
Name CASH: [2]Sheet2!#REF!
Name CASHFLOW: #REF!
Name CASHFLOW: #REF!
Name CASHFLOW: #REF!
Name CASHFLOW: #REF!
Name G_ÿ_P_: #REF!
Name G_ÿ_P_: #REF!
Name G_ÿ_P_: #REF!
Name G_ÿ_P_: #REF!
Name h: [2]Sheet2!#REF!
Name h: [2]Sheet2!#REF!
Name h: [2]Sheet2!#REF!
Name INPUT_SHEET: #REF!
Name INPUT_SHEET: #REF!
Name INPUT_SHEET: #REF!
Name INPUT_SHEET: #REF!
Name SUMMARY: #REF!
Name SUMMARY: #REF!
Name SUMMARY: #REF!
Name SUMMARY: #REF!
Name TRANSFER: '[3]COLD RM'!#REF!
Name TRANSFER: '[3]COLD RM'!#REF!
Name TRANSFER: '[3]COLD RM'!#REF!

Sheet Cover

Sheet How This Guide Works
J22: This document is to be used for estimates from FEL2 to FEL3a ONLY.
J24: The guide presents some essentail
J25: information for the purposes of a project estimating for the permission.
J27: The rates are based on January 2019. BER Building Cost Report, 2019Q1.

Sheet Contents
G3: Project Life Cycle: | M3: Page 1
G4: User Notes | M4: Page 2
G5: Escalation | M5: Page 3
G6: Trend anaylsis | M6: Page 4
G7: New Building Works
H8: Assumptions & Allowances | M8: Page 5
H9: Cost Rates Summary | M9: Page 6
G10: Building Reburbishment
H11: Assumptions & Allowances | M11: Page 7
H12: Cost Rates Summary | M12: Page 8
G13: Civil Rehabilitation
H14: Assumptions & Allowances | M14: Page 9
H15: Cost Rates Summary | M15: Page 10
H16: Rate Build Up Tool | M16: Page 11
G17: Ground Floor Construction | M17: Page 12
G18: Project Estimate
H19: Project Summary | M19: Page 13
H20: Estimate Example | M20: Page 14
H21: Cashflow | M21: Page 15
H22: Cost Programming | M22: Page 16
H23: Indices | M23: Page 17
G24: Master Apron Stands | M24: Page 18
H25: Code C,E & F Stands | M25: Page 19
H26: Code F, C Taxilane & Service Roads | M26: Page 20
H27: Sample Estimate | M27: Page 21
H28: ICAO Tables (Taxiway) | M28: Page 22
H29: Sketches (Taxiway) | M29: Page 23
G30: Master Taxiways | M30: Page 24
H31: Code F Taxiways | M31: Page 25
H32: Code F Runways | M32: Page 26
H33: Sample Estimate | M33: Page 27
H34: ICAO Tables | M34: Page 28
H35: Sketches | M35: Page 29
G36: Master Runways | M36: Page 30
H37: Code F Runways | M37: Page 31
H38: Sample Estimate | M38: Page 32

Sheet Project Life Cycle
B2: ACSA
B3: CAPITAL PROJECTS LIFE CYCLE
D40: FRONT END LOADING
B41: CAPITAL PROJECTS LIFE CYCLE | C41: FEL STAGES | D41: BUSINESS NEED DEFINED | E41: FEL 1 - CONCEPT STUDY | F41: FEL 2 - PRE-FEASIBILITY | H41: FEL 3 - | M41: FEASIBILITY | S41: IMPLEMENTATION | W41: CLOSE OUT | Y41: OPERATION
H42: A. STRATEGIC / FUNCTIONAL PROJECT BRIEF (EMPLOYERS REQUIREMENTS) DEFINED | M42: B. TECHNICAL DESIGN AND FEASIBILTY
B44: PROJECT LIFE-CYCLE (LEVEL 3 / 4 DETAILED PROCESSES) | C44: PRINCE 2 | D44: Starting up a project | M44: Initiating a project | S44: Managing product delivery | W44: Closing a project
D45: Managing a stage boundary
D46: Controlling a stage
D47: Directing a project
C49: PROCSA | M49: Project Initiation | O49: Inception | P49: Concept and Viability | R49: Design Development | S49: Documentation and Procurement | U49: Construction | W49: Close Out
C51: SACPCMP | M51: Project Initiation and Briefing | P51: Concept and Feasibility | R51: Design Development | S51: Tender Documentation and Procurement | U51: Construction Documentation and Management | W51: Project Close Out
C53: ECSA | M53: Inception | P53: Concept and Viability | R53: Design Development | S53: Documentation and Procurement | U53: Contract Administration and Inspection | W53: Close Out
C55: SACAP | M55: Inception | P55: Concept and Viability | R55: Design Development | S55: Documentation and Procurement | U55: Construction | W55: Close Out
C57: SACQSP | M57: Inception | P57: Concept and Viability | R57: Design Development | S57: Documentation and Procurement | U57: Construction | W57: Close Out
C59: PMBOK | M59: Initiating | P59: Planning | S59: Executing | W59: Closing
M60: Monitoring and Controlling
C62: SIPDM | H62: Stage 0 - Project Initiation | I62: Stage 1 - Infrastructure Planning | J62: Stage 2 - Strategic Resourcing | K62: Stage 3(a) - Prefeasilibity | L62: Stage 3(b) - Preparation and Briefing | M62: Stage 4 - Concept and Viability or Feasibility | R62: Stage 5 - Design Development | S62: Stage 6(a) - Design Documentation - Production Information | T62: Stage 6(b) - Manufacture, fabrication and construction information | U62: Stage 7 - Works | V62: Stage 8 - Handover | W62: Stage 9 - Package Completion
W63: OPERATION
D67: OPEX / PRE-DEVELOPMENT FUNDING | M67: CAPEX
D69: PROCESS MANAGED BY ASSET OWNER / USER | M69: PROCESS MANAGED BY EXECUTION OWNER
D71: KEY STAKEHOLDERS INVOLVED THROUGH WHOLE LIFE CYCLE
D74: BU / BUSINESS PLANNING PROCESSES TO BE DEVELOPED ALIGNED TO EPMO FRAMEWORKS | M74: LEVEL 3 AND 4 PROJECT PROCESSES TO BE DEVELOPED ALIGNED TO EPMO FRAMEWORKS
H75: EPMO ASSURANCE, MONITORING AND REPORTING

Sheet User Notes
B13: Cost / m2 rates are indicative by their nature. A detailed an comprehensive excersie is required to get a accurate cost of a building.
B14: These rates are however very useful when the exact scope and details of the project are still relatively unknown
B15: This is certainly the case when estimating for permission purposes.
B17: Estimating Classess:
J28: Reference:Estimating Framework
B29: FEL 1: Concept Study
B30: Definition to business concepts.
B32: FEL 2: Pre-Feasibility/ Order of Magnitude Estimate - CLASS 5 Estimate: | J32: Care must be taken when using indicative building cost rates.
B33: Used primarily for providing management with an indicative estimate and options | J33: The following elements must be considered when putting together an estimate:
B34: identified during concept phase.
K35: Specification (Weighting of sub- disciplines)
B36: FEL 3a and 3b: Feasibility AND Control Budget Estimate - CLASS 5,4&3 Estimate: | K36: Plumbing, electrical and mechanical installations
B37: Used primarily to establish and verify viability, initiate financing and obtain approval. | K37: IT installations
K38: Internal subdivisions
B39: IMPLEMENTATION: Definitive estimate - CLASS 2&1 Estimate | K39: Construction areas
K40: Site specific conditions ( P + G related)
K41: Risks
K42: Avertising costs
J44: Building rates in the coastal regions exceed those in the heartland . These disparities could be due to: | O44: Page 2
K45: Material cost
K46: Labour cost
K47: Composition of labour
K48: Building methods
K49: Competiveness in bidding
K50: Productivity
N55: Back to Contents

Sheet Estimating Classification
A3: PROJECT ESTIMATE | B3: FEL PHASES | D3: FEL 1 | E3: FEL 2 | F3: FEL 3a | G3: FEL 3b
D4: Concept Study | E4: Pre-Feasib ility | F4: Feasibility
B5: FIDPM | C5: Classes | D5: N/A | E5: Class 5 | F5: Class 5 | G5: Class 5,4&3
C6: Gates | D6: N/A | F6: Portfolio & Programme Process | G6: Inception Stage
B8: FEL 1 | C8: FEL 2 | D8: FEL 3a | E8: FEL 3b | F8: IMPLEMENTATION
B9: Concept Study | C9: Pre-Feasibility | D9: Feasibility | F9: Control | G9: Definitive
C10: Order of Magnitude | D10: Budgetary | F10: Definitive
A11: Class | C11: Class 5 | D11: Class 5 | E11: Class 5,4&3 | F11: Class 2 | G11: Class 1
A12: Eng. Definition | C12: <5% | D12: <5% | E12: 15%-40% | F12: 0.75 | G12: 1
A13: Plus % | C13: 100 | D13: 20 | F13: 10
A14: Minus % | C14: 10 | D14: 10 | F14: 10

Sheet Escalation
B12: There are two type of building cost escalation nalmely, pretender and post tender escalation.
B14: Post tender escalation makes allowance for any change in material and labour over the contract period.
B15: The following indices make allowance for this type of escalation:
C16: Safcec
C17: Haylett
C18: PPI
B20: Pre-tender escalation takes care of the current market conditions. When building activity rises, contractors have an opportunity
B21: to increase their profit margins on tender prices as there is plenty of work to go around. They can not afford to lose contracts.
B22: When the opposite happens, contractors trim thier profit margins to try compete for the few jobs availble in the market.
B23: BER indices make allwance for this change in market conditions.
B25: The average annual inflation rate as per CPI is 3.88%
E27: Summary of Building Costs - Annual Percentage Change.
E28: 2014 | F28: 2015 | G28: 2016 | H28: 2017 | I28: 2018 | J28: 2019 | K28: 2020 | L28: 2021 | M28: 2022 | N28: 2023 | O28: 2024 | P28: 2025 | Q28: 2026
A29: Haylett (Commercial and Industrial Buildings) | E29: 6.6 | F29: 2.5 | G29: 6.4 | H29: 5.7 | I29: 5.1 | J29: 4.1 | K29: 3.1 | L29: 11.7 | M29: 6.8
A30: BER Building Cost Index | E30: 10.2 | F30: 4.0 | G30: 5.1 | H30: 5.4 | I30: 8 | J30: 3.6 | K30: 1.5 | L30: 3.5 | M30: 6.3
B32: * Builders’ input prices are expected to maintain their momentum through 2021.
B33: *In January 2021, Builder's input price increased by 4.6% as indicated in the above table, which came in well above consumer inflation.

Sheet BER Bldg Cost Report 2021Q4

Sheet Trend Analysis
B14: 1 | C14: Western Cape: The Western Cape has little mining resources; hence, the regional economy
C15: grew less rapidly than in the country as a whole during the nineteen seventies and eighties at the time of
C16: the gold boom. However, during the nineties, after the transition to democracy, tourism and the services
C17: industry flourished in the Western Cape. These positive trends combined to push building costs upward,
C18: outstripping the national average in some years by between 5% and 15%.
B20: 2 | C20: Eastern Cape: Long a region lagging economically, building costs in the Eastern Cape were
C21: below the national average for much of the seventies and eighties. However, the economy then expanded
C22: because of the new export harbour and other public sector investment projects, and building costs
C23: exceeded the nationwide average by between 5% and 15%.
B25: 3 | C25: KwaZulu-Natal: The level of building costs in this region exceeded the nationwide average
C26: during the eighties and nineties by roughly 5% to 10%, but building rates are currently competitive and
C27: even moving below the national average.
B29: 4 | C29: Gauteng: It is evident that building rates in Gauteng exceeded the national average by roughly
C30: 4% to 7% at the time of the eighties gold boom. Thereafter, building rates were below the national
C31: average for a long period, varying between -5% and -8%. In recent times, this difference widened with
C32: tender prices being about -10% below the norm. However, just lately this margin has declined to -5%.
C33: In general, one can conclude that building costs are higher in the coastal regions (especially in the
B35: 5 | C35: Western Cape and the Eastern Cape) than in the heartland. What could explain these regional
C36: disparities in building cost levels? We conducted a survey amongst quantity surveyors to ascertain
C37: possible reasons for this finding. The following suggestions were made.
B39: 6 | C39: Materials costs: Most manufacturers of construction materials are situated in Gauteng and transport
C40: costs to the coastal regions are high. This also implies that savings on transport costs are passed on to
C41: clients and consumers in the inland area.
B43: 7 | C43: Labour costs: It is possible that labour costs are higher in the coastal regions than in the inland area.
B45: 8 | C45: Composition of labour: It is possible that proportionately more (lower-paid) unskilled labour is
C46: employed in the inland region than in the coastal areas.
B48: 9 | C48: Building methods: These may vary on a regional basis. For example, due to adverse weather conditions
C49: at the coast more robust (and more expensive) building techniques are required (e.g. cavity walls
C50: compared to one-brick walls; aluminium windows; copper water heaters to combat rust at the coast).
B52: 10 | C52: Competitiveness in bidding: Differences in the workloads of building contractors may account for
C53: some of the differences in tender prices. Furthermore, the existence of oligopolies in the supplies of,
C54: inter alia, sand, stone, steel, cement, etc. can bring about regional price differentials.
B56: 11 | C56: Productivity: Adverse weather conditions may prevail from time to time. For example, in the Cape
C57: Town and Port Elizabeth regions construction cranes are sometimes unable to operate because of
C58: inclement weather and high wind velocities.
C60: Reference:Meduim-Term Forecasting Associates-Fourth Quarter 2018
L62: Page 4
L63: Back to Contents

Sheet Assumptions
B1: NEW BUILDING ASSUMPTIONS
B2: CONTRACTOR'S P&G ALLOWANCES
B3: General building works in Greenfield environment | D3: 0.13
B4: Large building works in operational environment | D4: 0.15
B5: Small building works in operational environment | D5: 0.1
B6: Civil New Works | D6: 0.18
B7: Mechanical and Engineering Works | D7: 0.2
B9: CONSULTANT REMUNERATION (incl. Disbursements, Supervision, Tenant Co-ord)
B10: Building Works | C10: R0 - R25mil | D10: 0.18 | F10: Civil Works | G10: incl. disbursements & supervision | H10: 0.18
B11: Building Works | C11: R25 - R50mil | D11: 0.18
B12: Building Works | C12: R50 - R100mil | D12: 12-16% | F12: Civil Works | G12: incl. disbursements, supervision, QS & PM | H12: 0.18
B13: Building Works | C13: R100mil+ | D13: 12-16% | F13: Small Civil Works | G13: incl. disbursements & supervision | H13: 0.12
B14: Note : Add 1% to above for alteration projects
B16: CONTINGENCY ALLOWANCE | F16: ACSA DIRECT COSTS
B17: Building Works | C17: R0 - R50mil | D17: 0.1 | F17: Insurance (Professional Indemnity, Public Liability, Construction Works)
B18: Building Works | C18: R50 - R100mil | D18: 0.1 | F18: Building Works | G18: of project cost | H18: 0.4%-3%
B19: Building Works | C19: R100mil+ | D19: 0.1 | F19: Civil Works | G19: of project cost | H19: 0.6% - 1.2%
B20: Civil Works | D20: 0.1
B22: Other (Operational accommodation, security access control,etc)
B23: Landside projects | C23: of project cost | D23: 0.005
B24: Airside projects | C24: of project cost | D24: 0.015
B26: BUIDING REFURBISHMENT ASSUMPTIONS
B27: CONTRACTOR'S P&G ALLOWANCES
B28: Large building refubishment works in operational environment R50-100mil | D28: 0.1
B29: Small building works in operational environment R0 - R50mil | D29: 0.12
B31: CONSULTANT REMUNERATION (incl. Disbursements, Supervision, Tenant Co-ord)
B32: Building Works | C32: R0 - R50mil | D32: 0.18 | F32: Civil Works | G32: incl. disbursements & supervision | H32: 0.09
B33: Building Works | C33: R50 - R100mil | D33: 0.22 | F33: Civil Works | G33: incl. disbursements, supervision, QS & PM | H33: 0.11
B34: Building Works | C34: R100mil+ | F34: Small Civil Works | G34: incl. disbursements & supervision | H34: 0.13
B36: CONTINGENCY ALLOWANCE | F36: ACSA DIRECT COSTS
B37: Building Works | C37: R0 - R50mil | D37: 0.08 | F37: Insurance (Professional Indemnity, Public Liability, Construction Works)
B38: Building Works | C38: R50 - R100mil | D38: 0.1 | F38: Building Works | G38: of project cost | H38: 0.004
B40: Other (Operational accommodation, security access control,etc) | F40: Projects used to assist with Percentages
B41: Landside projects | C41: of project cost | D41: 0.005 | F41: ORTIA- Additional baggage carousel
B42: Airside projects | C42: of project cost | D42: 0.015 | F42: ORTIA-Refurbishment of duty free
F43: CTIA-Cargo center
F44: CTIA- Northern Lounge
B46: CIVIL REHABILITATION ASSUMPTIONS
B47: CONTRACTOR'S P&G ALLOWANCES
B48: Civil Rehab Works | D48: 10-19%
...

Sheet New Bldg Rates
G3: BER Index
G4: Base Date | J4: 43040 | L4: 217.6 | M4: Reference 2021 Q4 Table 2 - BER Building Cost Index
G5: Current Date | J5: 44621 | L5: =127.1*2.1028 -> 267.26588
L8: TURNOUT FACTORS | R8: NOMINAL PRE-ESCALATION TURNOUT RATE
G9: Below rates exclude P&G, Sundry costs, Contingency, Esclation & Fees | L9: Pure indicative guideline, can vary per region, type of construction, consultant involvement, information risk profile, direct costs. (Below are high-level for order-of-magnitude estimates only) | R9: Rates excluding Escalation
C14: ELEMENT | D14: UNIT | E14: Base Date Jan 2009 (ZAR) | F14: Base Date July 2013 (ZAR) | G14: Base Date November 2017 (ZAR) | H14: March 2019 (ZAR) | I14: March 2021 (ZAR) | J14: March 2022 (ZAR) | L14: P&G | M14: SUNDRY DEVELOPMENT COSTS (1% Landside, 2% Airside) | N14: Contingency | O14: Fees | Q14: Base Date Nov 2017 (ZAR) Current date March 2022 (ZAR) | R14: Nominal Rate
B15: APRON WORKS INCLUDING LAYERWORKS, EXCLUDES BULK EARTHWORKS | T15: Check
B16: 1 | C16: Concrete apron stands inclusive of stormwater, sleeves, fire water, electrical, fuel (average stand rate) | D16: m2 | E16: 1900 | F16: =((167.2/145)-1)*E16+E16 -> 2190.8966 | G16: =(E16*(219/145-1)+E16) -> 2869.6552 | H16: =(G16*(245.9/217.6-1))+G16 -> 3242.8686 | I16: 3255.6438 | J16: =(G16*($L$5/$L$4-1))+G16 -> 3524.6366 | L16: 0.15 | M16: 0.02 | N16: 0.1 | O16: 0.18 | Q16: =ROUND(I16*(1+$L$16)*(1+$M$16)*(1+$N$16)*(1+$O$16),-1) -> 4960 | R16: =Q16 -> 4960
B17: =B16+1 -> 2 | C17: Miscellaneous hard stand areas (allowance) | D17: m2 | E17: 1000 | F17: =((177/145)-1)*E17+E17 -> 1220.6897 | G17: =(E17*(219/145-1)+E17) -> 1510.3448 | H17: =(G17*(245.9/217.6-1))+G17 -> 1706.7729 | I17: 1713.4968 | J17: =(G17*($L$5/$L$4-1))+G17 -> 1855.0719 | Q17: =ROUND(I17*(1+$L$16)*(1+$M$16)*(1+$N$16)*(1+$O$16),-1) -> 2610 | R17: =Q17 -> 2610 | T17: =$L$5/$L$4-1 -> 0.22824393 | U17: =G16*T17 -> 654.98139 | V17: =G16+U17 -> 3524.6366
B18: =B17+1 -> 3 | C18: Nose service Roads (average between high & low traffic roads) | D18: m2 | E18: 720 | F18: =((177/145)-1)*E18+E18 -> 878.89655 | G18: =(E18*(219/145-1)+E18) -> 1087.4483 | H18: =(G18*(245.9/217.6-1))+G18 -> 1228.8765 | I18: 1233.7177 | J18: =(G18*($L$5/$L$4-1))+G18 -> 1335.6517 | Q18: =ROUND(I18*(1+$L$16)*(1+$M$16)*(1+$N$16)*(1+$O$16),-1) -> 1880 | R18: =Q18 -> 1880 | T18: =$L$5/$L$4-1 -> 0.22824393 | U18: =G17*T18 -> 344.72704 | V18: =G17+U18 -> 1855.0719
B19: =B18+1 -> 4 | C19: Taxilanes and tail service roads | D19: m2 | E19: 660 | F19: =((177/145)-1)*E19+E19 -> 805.65517 | G19: =(E19*(219/145-1)+E19) -> 996.82759 | H19: =(G19*(245.9/217.6-1))+G19 -> 1126.4701 | I19: 1130.9079 | J19: =(G19*($L$5/$L$4-1))+G19 -> 1224.3474 | Q19: =ROUND(I19*(1+$L$16)*(1+$M$16)*(1+$N$16)*(1+$O$16),-1) -> 1720 | R19: =Q19 -> 1720 | T19: =$L$5/$L$4-1 -> 0.22824393 | U19: =G18*T19 -> 248.20347 | V19: =G18+U19 -> 1335.6517
B20: =B19+1 -> 5 | C20: Staging area (precast block paving) | D20: m2 | E20: 430 | F20: =((177/145)-1)*E20+E20 -> 524.89655 | G20: =(E20*(219/145-1)+E20) -> 649.44828 | H20: =(G20*(245.9/217.6-1))+G20 -> 733.91237 | I20: 736.80361 | J20: =(G20*($L$5/$L$4-1))+G20 -> 797.68091 | Q20: =ROUND(I20*(1+$L$16)*(1+$M$16)*(1+$N$16)*(1+$O$16),-1) -> 1120 | R20: =Q20 -> 1120 | T20: =$L$5/$L$4-1 -> 0.22824393 | U20: =G19*T20 -> 227.51985 | V20: =G19+U20 -> 1224.3474
T21: =$L$5/$L$4-1 -> 0.22824393 | U21: =G20*T21 -> 148.23263 | V21: =G20+U21 -> 797.68091
B22: TAXIWAYS (ASPHALT) INCLUDING LAYERWORKS, EXCLUDES BULK EARTHWORKS
B23: =B20+1 -> 6 | C23: Taxiways including layerworks & edge lighting | D23: m2 | E23: 1100 | F23: =((177/145)-1)*E23+E23 -> 1342.7586 | G23: =(E23*(219/145-1)+E23) -> 1661.3793 | H23: =(G23*(245.9/217.6-1))+G23 -> 1877.4502 | I23: 1884.8464 | J23: =(G23*($L$5/$L$4-1))+G23 -> 2040.5791 | L23: 0.15 | M23: 0.02 | N23: 0.1 | O23: 0.18 | Q23: =ROUND(J23*(1+$L$23)*(1+$M$23)*(1+$N$23)*(1+$O$23),-1) -> 3110 | R23: =Q23 -> 3110
B24: =B23+1 -> 7 | C24: Taxiway shoulders | D24: m2 | E24: 500 | F24: =((177/145)-1)*E24+E24 -> 610.34483 | G24: =(E24*(219/145-1)+E24) -> 755.17241 | H24: =(G24*(245.9/217.6-1))+G24 -> 853.38647 | I24: 856.74838 | J24: =(G24*($L$5/$L$4-1))+G24 -> 927.53594 | Q24: =ROUND(J24*(1+$L$23)*(1+$M$23)*(1+$N$23)*(1+$O$23),-1) -> 1410 | R24: =Q24 -> 1410 | T24: =$L$5/$L$4-1 -> 0.22824393 | U24: =G23*T24 -> 379.19975 | V24: =G23+U24 -> 2040.5791
B25: =B24+1 -> 8 | C25: Taxiway strip | D25: m2 | E25: 50 | F25: =((177/145)-1)*E25+E25 -> 61.034483 | G25: =(E25*(219/145-1)+E25) -> 75.517241 | H25: =(G25*(245.9/217.6-1))+G25 -> 85.338647 | I25: 85.674838 | J25: =(G25*($L$5/$L$4-1))+G25 -> 92.753594 | Q25: =ROUND(J25*(1+$L$23)*(1+$M$23)*(1+$N$23)*(1+$O$23),-1) -> 140 | R25: =Q25 -> 140 | T25: =$L$5/$L$4-1 -> 0.22824393 | U25: =G24*T25 -> 172.36352 | V25: =G24+U25 -> 927.53594
B26: =B25+1 -> 9 | C26: Taxiway incl. layerworks & edge lighting | D26: m | E26: 3800 | F26: =((177/145)-1)*E26+E26 -> 4638.6207 | G26: =(E26*(219/145-1)+E26) -> 5739.3103 | H26: =(G26*(245.9/217.6-1))+G26 -> 6485.7372 | I26: 6511.2877 | J26: =(G26*($L$5/$L$4-1))+G26 -> 7049.2731 | Q26: =ROUND(J26*(1+$L$23)*(1+$M$23)*(1+$N$23)*(1+$O$23),-1) -> 10730 | R26: =Q26 -> 10730 | T26: =$L$5/$L$4-1 -> 0.22824393 | U26: =G25*T26 -> 17.236352 | V26: =G25+U26 -> 92.753594
B27: =B26+1 -> 10 | C27: Taxiway shoulders (17.5m both sides) | D27: No | E27: 7 500 - 40 000 | F27: =(((219/145)-1)*40000)+40000 -> 60413.793 | G27: 11328-60414 | H27: 12 574 - 67 060 | I27: 13 000 - 70 000 | Q27: =ROUND(J27*(1+$L$23)*(1+$M$23)*(1+$N$23)*(1+$O$23),-1) -> 0 | R27: =Q27 -> 0 | V27: =G26+U27 -> 5739.3103
B28: =B27+1 -> 11 | C28: Taxiways incl. associated infrastructure (70m wide Code F) | D28: m | J28: 140000 | Q28: =ROUND(J28*(1+$L$23)*(1+$M$23)*(1+$N$23)*(1+$O$23),-1) -> 213160 | R28: =Q28 -> 213160
B29: =B28+1 -> 12 | C29: Average rate per meter (25m Code F) | D29: m | E29: 47100 | F29: =((219/145)-1)*E29+E29 -> 71137.241 | G29: =(E29*(219/145-1)+E29) -> 71137.241 | H29: =(G29*(245.9/217.6-1))+G29 -> 80389.006 | I29: 80705.697 | J29: =(G29*($L$5/$L$4-1))+G29 -> 87373.885 | Q29: =ROUND(J29*(1+$L$23)*(1+$M$23)*(1+$N$23)*(1+$O$23),-1) -> 133030 | R29: =Q29 -> 133030
B30: =B29+1 -> 13 | C30: Average rate per sq meter (25m Code F) | D30: m2 | E30: 1880 | F30: =((177/145)-1)*E30+E30 -> 2294.8966 | G30: =(E30*(219/145-1)+E30) -> 2839.4483 | H30: =(G30*(245.9/217.6-1))+G30 -> 3208.7331 | I30: 3221.3739 | J30: =(G30*($L$5/$L$4-1))+G30 -> 3487.5351 | Q30: =ROUND(J30*(1+$L$23)*(1+$M$23)*(1+$N$23)*(1+$O$23),-1) -> 5310 | R30: =Q30 -> 5310 | T30: =$L$5/$L$4-1 -> 0.22824393 | U30: =G29*T30 -> 16236.644 | V30: =G29+U30 -> 87373.885
F31: =((177/145)-1)*E31+E31 -> 0 | T31: =$L$5/$L$4-1 -> 0.22824393 | U31: =G30*T31 -> 648.08684 | V31: =G30+U31 -> 3487.5351
B32: RUNWAYS (ASPHALT) INCLUDING LAYERWORKS, EXCLUDES BULK EARTHWORKS
B33: =B30+1 -> 14 | C33: New runway, inclusive of sleeves, lights, ILS, etc. | D33: m2 | E33: 1430 | F33: =((177/145)-1)*E33+E33 -> 1745.5862 | G33: =(E33*(219/145-1)+E33) -> 2159.7931 | H33: =(G33*(245.9/217.6-1))+G33 -> 2440.6853 | I33: 2450.3004 | J33: =(G33*($L$5/$L$4-1))+G33 -> 2652.7528 | L33: 0.15 | M33: 0.02 | N33: 0.1 | O33: 0.18 | Q33: =ROUND(J33*(1+$L$33)*(1+$M$33)*(1+$N$33)*(1+$O$33),-1) -> 4040 | R33: =Q33 -> 4040
B34: =B33+1 -> 15 | C34: Runway shoulders | D34: m2 | E34: 500 | F34: =((177/145)-1)*E34+E34 -> 610.34483 | G34: =(E34*(219/145-1)+E34) -> 755.17241 | H34: =(G34*(245.9/217.6-1))+G34 -> 853.38647 | I34: 856.74838 | J34: =(G34*($L$5/$L$4-1))+G34 -> 927.53594 | Q34: =ROUND(J34*(1+$L$33)*(1+$M$33)*(1+$N$33)*(1+$O$33),-1) -> 1410 | R34: =Q34 -> 1410 | T34: =$L$5/$L$4-1 -> 0.22824393 | U34: =G33*T34 -> 492.95967 | V34: =G33+U34 -> 2652.7528
B35: =B34+1 -> 16 | C35: Runway ungraded strip | D35: m2 | E35: 50 | F35: =((177/145)-1)*E35+E35 -> 61.034483 | G35: =(E35*(219/145-1)+E35) -> 75.517241 | H35: =(G35*(245.9/217.6-1))+G35 -> 85.338647 | I35: 85.674838 | J35: =(G35*($L$5/$L$4-1))+G35 -> 92.753594 | Q35: =ROUND(J35*(1+$L$33)*(1+$M$33)*(1+$N$33)*(1+$O$33),-1) -> 140 | R35: =Q35 -> 140 | T35: =$L$5/$L$4-1 -> 0.22824393 | U35: =G34*T35 -> 172.36352 | V35: =G34+U35 -> 927.53594
B36: =B35+1 -> 17 | C36: Runway graded strip and Runway End Safety Area (RESA) | D36: m2 | E36: 100 | F36: =((177/145)-1)*E36+E36 -> 122.06897 | G36: =(E36*(219/145-1)+E36) -> 151.03448 | H36: =(G36*(245.9/217.6-1))+G36 -> 170.67729 | I36: 171.34968 | J36: =(G36*($L$5/$L$4-1))+G36 -> 185.50719 | Q36: =ROUND(J36*(1+$L$33)*(1+$M$33)*(1+$N$33)*(1+$O$33),-1) -> 280 | R36: =Q36 -> 280 | T36: =$L$5/$L$4-1 -> 0.22824393 | U36: =G35*T36 -> 17.236352 | V36: =G35+U36 -> 92.753594
B37: =B36+1 -> 18 | C37: Optional illumininated signs, stop bars | D37: No | E37: 7 500 - 40 000 | F37: =(((219/145)-1)*7500)+7500 -> 11327.586 | G37: 11 328-60 414 | H37: 12 574-67 060 | J37: 13 000 - 68 000 | Q37: =ROUND(49817*(1+$L$67)*(1+$M$67)*(1+$N$67)*(1+$O$67),-1) -> 77810 | R37: =Q37 -> 77810 | T37: =$L$5/$L$4-1 -> 0.22824393 | U37: =G36*T37 -> 34.472704 | V37: =G36+U37 -> 185.50719
B38: =B37+1 -> 19 | C38: Runway incl. associated infrastructure (3,885m long x 60m wide, Code F) | D38: m | J38: 315000 | Q38: =ROUND(J38*(1+$L$33)*(1+$M$33)*(1+$N$33)*(1+$O$33),-1) -> 479600 | R38: =Q38 -> 479600
B39: =B38+1 -> 20 | C39: Average rate per meter (60m wide, 4.2km long, Code F) | D39: m | E39: 110900 | F39: =((177/145)-1)*E39+E39 -> 135374.48 | G39: =(E39*(219/145-1)+E39) -> 167497.24 | H39: =(G39*(245.9/217.6-1))+G39 -> 189281.12 | I39: 190026.79 | J39: =(G39*($L$5/$L$4-1))+G39 -> 205727.47 | Q39: =ROUND(J39*(1+$L$33)*(1+$M$33)*(1+$N$33)*(1+$O$33),-1) -> 313230 | R39: =Q39 -> 313230 | T39: =$L$5/$L$4-1 -> 0.22824393 | U39: =G39*T39 -> 38230.229 | V39: =G39+U39 -> 205727.47
B40: =B39+1 -> 21 | C40: Average rate per sq meter (60m wide, 4.2km long, Code F) | D40: m2 | E40: 1850 | F40: =((177/145)-1)*E40+E40 -> 2258.2759 | G40: =(E40*(219/145-1)+E40) -> 2794.1379 | H40: =(G40*(245.9/217.6-1))+G40 -> 3157.53 | I40: 3169.969 | J40: =(G40*($L$5/$L$4-1))+G40 -> 3431.883 | Q40: =ROUND(J40*(1+$L$33)*(1+$M$33)*(1+$N$33)*(1+$O$33),-1) -> 5230 | R40: =Q40 -> 5230 | T40: =$L$5/$L$4-1 -> 0.22824393 | U40: =G40*T40 -> 637.74503 | V40: =G40+U40 -> 3431.883
F41: =((177/145)-1)*E41+E41 -> 0
B42: EARTHWORKS/ROADWAYS
B43: =B40+1 -> 22 | C43: Airside asphalt service roads, inclusive of layerworks, street lights & stormwater | D43: m2 | E43: 700 | F43: =((177/145)-1)*E43+E43 -> 854.48276 | G43: =(E43*(219/145-1)+E43) -> 1057.2414 | H43: =(G43*(245.9/217.6-1))+G43 -> 1194.7411 | I43: 1199.4477 | J43: =(G43*($L$5/$L$4-1))+G43 -> 1298.5503 | L43: 0.15 | M43: 0.02 | N43: 0.1 | O43: 0.18 | Q43: =ROUND(J43*(1+$L$43)*(1+$M$43)*(1+$N$43)*(1+$O$43),-1) -> 1980 | R43: =Q43 -> 1980 | T43: =$L$5/$L$4-1 -> 0.22824393 | U43: =G43*T43 -> 241.30893 | V43: =G43+U43 -> 1298.5503
B44: =B43+1 -> 23 | C44: At grade access roads ("provincial standard"), including layerworks, stormwater, lights, traffic signals | D44: m2 | E44: 1500 | F44: =((177/145)-1)*E44+E44 -> 1831.0345 | G44: =(E44*(219/145-1)+E44) -> 2265.5172 | H44: =(G44*(245.9/217.6-1))+G44 -> 2560.1594 | I44: 2570.2451 | J44: =(G44*($L$5/$L$4-1))+G44 -> 2782.6078 | L44: 0.15 | M44: 0.02 | N44: 0.1 | O44: 0.18 | Q44: =ROUND(J44*(1+$L$44)*(1+$M$44)*(1+$N$44)*(1+$O$44),-1) -> 4240 | R44: =Q44 -> 4240 | T44: =$L$5/$L$4-1 -> 0.22824393 | U44: =G44*T44 -> 517.09057 | V44: =G44+U44 -> 2782.6078
F45: =((177/145)-1)*E45+E45 -> 0
B46: PARKING, EXCLUDES BULK EARTHWORKS
B47: =B44+1 -> 24 | C47: Structured parking (public) /bay | D47: bay | E47: 76500 | F47: =((177/145)-1)*E47+E47 -> 93382.759 | G47: =(E47*(219/145-1)+E47) -> 115541.38 | H47: =(G47*(245.9/217.6-1))+G47 -> 130568.13 | I47: 131082.5 | J47: =(G47*($L$5/$L$4-1))+G47 -> 141913 | L47: 0.13 | M47: 0.01 | N47: 0.1 | O47: 0.15 | Q47: =ROUND(J47*(1+$L$47)*(1+$M$47)*(1+$N$47)*(1+$O$47),-1) -> 204890 | R47: =Q47 -> 204890 | T47: =$L$5/$L$4-1 -> 0.22824393 | U47: =G47*T47 -> 26371.619 | V47: =G47+U47 -> 141913
B48: =B47+1 -> 25 | C48: Structured parking (public) / m2 | D48: m2 | I48: 0 | J48: =(G48*($L$5/$L$4-1))+G48 -> 0 | L48: 0.13 | M48: 0.01 | N48: 0.1 | O48: 0.15 | Q48: =ROUND(I48*(1+$L$49)*(1+$M$49)*(1+$N$49)*(1+$O$49),-1) -> 0 | R48: =Q48 -> 0
...

Sheet Bldg Refurb Rates
C2: BER Index
B3: ='New Bldg Rates'!M4 -> Reference 2021 Q4 Table 2 - BER Building Cost Index | C3: Base Date | D3: 43040 | E3: 217.6
C4: Current Date | D4: ='New Bldg Rates'!J5 -> 44621 | E4: ='New Bldg Rates'!L5 -> 267.26588
B7: *Please note that the rates exclude an allowance for the relocation of tenants
C8: Below rates exclude Turnout Factors [P&G, Sundry costs, Contingency, Esclation & Fees] | E8: Below rates exclude Turnout Factors [P&G, Sundry costs, Contingency, Esclation & Fees]
B9: Major Refurb in Operational Enviroment | C9: Base Date | E9: Current date March 2022
B10: Includes removal and replacement of suspended ceilings and bulkheads, flooring, wall finishes, shopfonts, | C10: =5600*(200.9/169.8-1)+5600 -> 6625.6773 | D10: /m2 | E10: =(C10*($E$4/$E$3-1))+C10 -> 8137.9479 | F10: /m2
B11: carpentry and joinery , plumbing fittings, services and light fittings
B13: Major Rebubishment in Operational Enviroment-Cosmetic
B14: Includes removal and replacement of suspended ceilings and bulkheads, flooring and wall finishes | C14: =1800*(200.9/169.6-1)+1800 -> 2132.1934 | D14: /m2 | E14: =(C14*($E$4/$E$3-1))+C14 -> 2618.8536 | F14: /m2
B16: Isolated Small Works
B17: Includes removal and replacement of suspended ceilings and bulkheads, flooring, wall finishes, shopfonts, | C17: =3100*(200.9/169.6-1)+3100 -> 3672.1108 | D17: /m2 | E17: =(C17*($E$4/$E$3-1))+C17 -> 4510.2479 | F17: /m2
B18: carpentry and joinery , plumbing fittings, services ,light fittings,allwance for roof repairs and eternal work
B20: Isolated Small Works- Cosmentic
B21: Includes removal and replacement of suspended ceilings and bulkheads, flooring and wall finishes | C21: =1400*(200.9/169.6-1)+1400 -> 1658.3726 | D21: /m2 | E21: =(C21*($E$4/$E$3-1))+C21 -> 2036.8861 | F21: /m2
B23: Offices- Major Refubishment | C23: =4800*(200.9/169.6-1)+4800 -> 5685.8491 | D23: /m2 | E23: =(C23*($E$4/$E$3-1))+C23 -> 6983.6096 | F23: /m2
B24: Includes removal and replacement of suspended ceilings and bulkheads, flooring, wall finishes, shopfonts,
B25: carpentry and joinery , plumbing fittings, services and light fittings,
B27: Offices-Cosmetic Refubishment
B28: Includes removal and replacement of suspended ceilings and bulkheads, flooring and wall finishes | C28: =1300*(200.9/169.6-1)+1300 -> 1539.9175 | D28: /m2 | E28: =(C28*($E$4/$E$3-1))+C28 -> 1891.3943 | F28: /m2
B30: DOMESTIC TERMINAL BUILDINGS | E30: 14642 | F30: /m2
B31: Terminal building refurbishment excluding baggage and X ary machines ( Preliminary)
B33: Warehouse- Major Refurbishment | C33: =1400*(200.9/169.6-1)+1400 -> 1658.3726 | D33: /m2 | E33: =(C33*($E$4/$E$3-1))+C33 -> 2036.8861 | F33: /m2
B34: Includes removal and replacement of flooring, painting of soffits and walls, plumbing,servies ,
B35: light fittings and an allowance for the removal and replacement of carpentry and joinery
B37: Warehouse- Cosmetic Refubishment
B38: Includes removal and replacement of flooring, painting of soffits and walls | C38: =570*(200.9/169.6-1)+570 -> 675.19458 | D38: /m2 | E38: =(C38*($E$4/$E$3-1))+C38 -> 829.30364 | F38: /m2
B40: Parking Major Refurbishment | C40: =205*(200.9/169.6-1)+205 -> 242.83314 | D40: /m2 | E40: =(C40*($E$4/$E$3-1))+C40 -> 298.25833 | F40: /m2
B41: Includes painting to soffits, walls and colums, allowance for removal and replacement of services ,
B42: and an allowance for minor concrete repairs
B44: Parking Cosmetic Refurbishment
B45: Includes painting to soffits, walls and colums | C45: =170*(200.9/169.6-1)+170 -> 201.37382 | D45: /m2 | E45: =(C45*($E$4/$E$3-1))+C45 -> 247.33617 | F45: /m2

Sheet Building Rates
C2: BER Index
B3: ='New Bldg Rates'!M4 -> Reference 2021 Q4 Table 2 - BER Building Cost Index | C3: Base Date | D3: 115.3
C4: Current Date | D4: 117.4
E5: 1.063
B6: DESCRIPTION | C6: UNIT | D6: 2020 RATE | E6: 2022 RATE
B7: REMOVAL OF EXISTING WORK
B9: SITE CLEARANCE ETC
B11: Digging up and removing rubbish,debris,vegetation,hedges, | C11: m² | D11: 15.2732 | E11: =D11*$E$5 -> 16.235412
B12: shrubs and trees not exceeding 200mm girth,bush,etc
B14: Stripping average 150mm thick layer of topsoil and stockpile | C14: m² | D14: 15.2732 | E14: =D14*$E$5 -> 16.235412
B15: on site
B17: MAKING GOOD OF FINISHES
B19: Making good screeds
B21: Floors in patches | C21: m² | D21: 120 | E21: =D21*$E$5 -> 127.56
B23: Breaking down and removing brickwork etc
B25: Half brick walls | C25: m² | D25: 250 | E25: =D25*$E$5 -> 265.75
B27: One brick walls | C27: m² | D27: 285 | E27: =D27*$E$5 -> 302.955
B29: Removal of top soil
B31: Remove top soil to 150mm | C31: m³ | D31: 71.274935 | E31: =D31*$E$5 -> 75.765256
B33: Taking out and removing doors, windows, etc, including thresholds, sills, etc.
B35: Timber single leaf door and frame approximate size 725 x 1500mm from existing one brick walls | C35: No | D35: 330 | E35: =D35*$E$5 -> 350.79
B37: Timber single leaf door and steel frame approximate size 900 x 2100mm from existing one brick walls | C37: No | D37: 565 | E37: =D37*$E$5 -> 600.595
B39: Timber double leaf door and steel frame approximate size 1245 x 2100mm from existing one brick walls | C39: No | D39: 785 | E39: =D39*$E$5 -> 834.455
B41: Timber double leaf door and steel frame approximate size 1440 x 2100mm from existing one brick walls | C41: No | D41: 915 | E41: =D41*$E$5 -> 972.645
B43: Timber double leaf door and steel frame approximate size 1500 x 2100mm from existing one brick walls | C43: No | D43: 945 | E43: =D43*$E$5 -> 1004.535
B45: Timber double leaf door and steel frame approximate size 1660 x 2100mm from existing one brick walls | C45: No | D45: 1050 | E45: =D45*$E$5 -> 1116.15
B47: ATM metal strong room door and frame approximate size 750 x 2100mm from existing one brick walls | C47: No | D47: 2500 | E47: =D47*$E$5 -> 2657.5
B49: Taking down and removing roofs, floors, panelling, ceilings, partitions, etc.
B51: Suspended ceilings, including cornices, suspension grid, hangers, etc | C51: m² | D51: 85 | E51: =D51*$E$5 -> 90.355
B53: Internal metal mentis grating roof above airline ticket offices, with and including roof support brackets, suspended ceilings, cornices, suspension grid, hangers complete | C53: m² | D53: 250 | E53: =D53*$E$5 -> 265.75
B55: Drywall partitions approximately 2500mm high, including doors, windows, glazed borrowed lights, etc. | C55: m | D55: 125 | E55: =D55*$E$5 -> 132.875
B57: Drywall partitions approximately 3000mm high, including doors, windows, glazed borrowed lights, etc. | C57: m | D57: 125 | E57: =D57*$E$5 -> 132.875
B59: Taking out and removing sundry joinery work, fittings, etc
B61: Bidvest Bank Bureau De Change serving counters approximately 700 x 1000mm high with and including counter tops, skirtings, etc complete | C61: m | D61: 2000 | E61: =D61*$E$5 -> 2126
B63: Airline ticket sales serving counters approximately 700 x 1500mm high with and including counter tops, stainless steel bumper rails, etc complete | C63: m | D63: 2000 | E63: =D63*$E$5 -> 2126
B65: Timber column cladding including sub-structure | C65: m² | D65: 200 | E65: =D65*$E$5 -> 212.6
B67: Taking out/off and removing sundry metalwork
B69: Glazed aluminium shopfront approximate size 4000 x 3000mm high complete | C69: No | D69: 5000 | E69: =D69*$E$5 -> 5315
B71: Glazed aluminium shopfront approximate size 4050 x 3000mm high with and including double doors, frames, etc. complete | C71: No | D71: 5000 | E71: =D71*$E$5 -> 5315
B73: Glazed aluminium shopfront approximate size 5300 x 3000mm high with and including double doors, frames, etc. complete | C73: No | D73: 5000 | E73: =D73*$E$5 -> 5315
...

Sheet Civil Rates
C2: BER Index
B3: ='New Bldg Rates'!M4 -> Reference 2021 Q4 Table 2 - BER Building Cost Index | C3: Base Date | D3: 43525 | E3: 115.3
C4: Current Date | D4: 43891 | E4: 117.4
B6: DESCRIPTION | C6: UNIT | D6: 2019 RATE | E6: 2021 RATE
B8: CIVILS WORK
B10: Unless otherwise stated herein, all items in this bill shall be deemed to fall into Work Group No 154 for Haylett formula purposes
B12: SUPPLEMENTARY PREAMBLES
B14: General notes
B16: Note: The use of product names simply serves to indicate a standard acceptable to the Employer. Any other brand may be used with the prior written approval of the Principal Agent
B18: contractors are advised to price items in conjunction with the relevant drawings contractor are to note that this portion of the works is measured and quantified as per SANS 1200
B20: SECTION : PRELIMINARY AND GENERAL
B22: FIXED-CHARGE ITEMS
A24: A | B24: Contractual Requirements | C24: SUM | E24: 53333255
B26: Establish Facilities on the Site :
B28: a) Facilities for Engineer (SANS 1200 AB)
A30: B | B30: Offices | C30: SUM
B32: b) Facilities for Contractor
A34: C | B34: Offices and storage containers | C34: SUM
A36: D | B36: Workshops | C36: SUM
A38: E | B38: Laboratories | C38: SUM
A40: F | B40: Ablution and latrine facilities | C40: SUM
A42: G | B42: Water supplies, electric power and communications | C42: SUM
A44: H | B44: Dealing with water (Sub-clause 5.5) | C44: SUM
A46: J | B46: Access to site offices (Sub-clause 5.8) | C46: SUM
A48: K | B48: Other fixed-charge obligations | C48: SUM
A50: L | B50: Remove Engineer's and Contractor's Site establishment on completion | C50: SUM
A52: M | B52: Comply with ACSA Health and Safety specification and permit application for the duration of the Contract. | C52: SUM
A54: A | B54: Comply with ACSA Environmental specification and permit application for the duration of the Contract. | C54: SUM
A56: B | B56: Allow access and co-ordinations between other Contractors during the Construction period. | C56: SUM
B58: TIME-RELATED ITEMS
A60: C | B60: Contractual Requirements | C60: SUM
B62: Operate and maintain facilities on the Site:
B64: a) Facilities for Engineer for duration of construction (SANS 1200 AB)
A66: D | B66: Offices | C66: SUM
A68: E | B68: Survey assistants and material | C68: SUM
B70: b) Facilities for Contractor for duration of construction, except where otherwise stated
A72: F | B72: Offices and storage sheds | C72: SUM
A74: G | B74: Workshops | C74: SUM
A76: H | B76: Laboratories | C76: SUM
A78: J | B78: Ablution and latrine facilities | C78: SUM
...

Sheet New Civil Rates
J1: Below rates exclude Turnout Factors [P&G, Sundry costs, Contingency, Esclation & Fees]
C2: ELEMENT | I2: UNIT | J2: Current Rate March 2022 (ZAR)
D3: Multi | E3: Lenth | F3: Width | G3: H/D | H3: Rate
B4: Concrete Aprons Stands (85mm) - (construction) | J4: =SUM(J5:J15) -> 6576.62 | K4: /m2
C5: Soil Poisining | D5: 1 | E5: 1 | F5: 1 | G5: 1 | H5: 32 | I5: m2 | J5: =H5*G5*F5*E5*D5 -> 32
C6: Fill | D6: 1 | E6: 1 | F6: 1 | G6: 0.085 | H6: 265 | I6: m3 | J6: =H6*G6*F6*E6*D6 -> 22.525
C7: DPM | D7: 1 | E7: 1 | F7: 1 | G7: 1 | H7: 15 | I7: m2 | J7: =H7*G7*F7*E7*D7 -> 15
C8: Concrete | D8: 1 | E8: 1 | F8: 1 | G8: 0.085 | H8: 1763 | I8: m3 | J8: =H8*G8*F8*E8*D8 -> 149.855
C9: Woodfloat | D9: 1 | E9: 1 | F9: 1 | G9: 1 | H9: 35 | I9: m2 | J9: =H9*G9*F9*E9*D9 -> 35
C10: Mesh reinforcement | D10: 1 | E10: 1 | F10: 1 | G10: 1 | H10: 60 | I10: m2 | J10: =H10*G10*F10*E10*D10 -> 60
C11: Sawcut joints | D11: 1 | E11: 1 | F11: 1 | G11: 1 | H11: 64 | I11: m | J11: =H11*G11*F11*E11*D11 -> 64
C12: Backing rope | D12: 1 | E12: 1 | F12: 1 | G12: 1 | H12: 25 | I12: m | J12: =H12*G12*F12*E12*D12 -> 25
C13: Polysulphide sealant | D13: 1 | E13: 1 | F13: 1 | G13: 1 | H13: 25 | I13: m | J13: =H13*G13*F13*E13*D13 -> 25
C14: Formwork | D14: 2 | E14: 1 | F14: 1 | G14: 0.85 | H14: 3548 | I14: m2 | J14: =H14*G14*F14*E14*D14 -> 6031.6
C15: Sundries | H15: 0.02 | I15: m2 | J15: {=SUM(H5:H14*H15)} -> 116.64
B17: Pavement Construction | J17: =SUM(J18:J24) -> 865.1 | K17: /m2
C18: Excavation | D18: 1 | E18: 1 | F18: 1 | G18: 1 | H18: 116 | J18: =H18*G18*F18*E18*D18 -> 116
C19: Rip, scarify & compact | D19: 1 | E19: 1 | F19: 1 | G19: 1 | H19: 40 | J19: =H19*G19*F19*E19*D19 -> 40
C20: 150mm G6 Layer | D20: 1 | E20: 1 | F20: 1 | G20: 0.15 | H20: 380 | J20: =H20*G20*F20*E20*D20 -> 57
C21: 150mm G7 Base course | D21: 1 | E21: 1 | F21: 1 | G21: 0.3 | H21: 410 | J21: =H21*G21*F21*E21*D21 -> 123
C22: Add cement stabilizer | D22: 130 | E22: 1 | F22: 1 | G22: 0.3 | H22: 4 | J22: =H22*G22*F22*E22*D22 -> 156
C23: 800mm Interlocker paver | D23: 1 | E23: 1 | F23: 1 | G23: 1 | H23: 360 | J23: =H23*G23*F23*E23*D23 -> 360
C24: Sundries | H24: 0.01 | J24: {=SUM(H18:H23*H24)} -> 13.1
B26: Ashphalt Road Surface | J26: =SUM(J27:J33) -> 767.8 | K26: /m2
C27: Excavation | D27: 1 | E27: 1 | F27: 1 | G27: 0.4 | H27: 116 | J27: =H27*G27*F27*E27*D27 -> 46.4
C28: Rip, scarify & compact | D28: 1 | E28: 1 | F28: 1 | G28: 1 | H28: 40 | J28: =H28*G28*F28*E28*D28 -> 40
C29: 150mm G6 Layer | D29: 1 | E29: 1 | F29: 1 | G29: 0.15 | H29: 380 | J29: =H29*G29*F29*E29*D29 -> 57
C30: 150mm G7 Base course | D30: 1 | E30: 1 | F30: 1 | G30: 0.3 | H30: 410 | J30: =H30*G30*F30*E30*D30 -> 123
C31: Add cement stabilizer | D31: 130 | E31: 1 | F31: 1 | G31: 0.3 | H31: 4 | J31: =H31*G31*F31*E31*D31 -> 156
C32: Tarmac (Dependent on thickness of surface) | D32: 1 | E32: 1 | F32: 1 | G32: 1 | H32: 320 | J32: =H32*G32*F32*E32*D32 -> 320
C33: Sundries | H33: 0.02 | J33: {=SUM(H27:H32*H33)} -> 25.4
B35: Roadmarkings (Painting)
C36: Setting out and pre-marking the lines | D36: 1 | E36: 1 | F36: 1 | G36: 1 | H36: 116 | I36: /m | J36: =H36*G36*F36*E36*D36 -> 116
C38: White and Yellow lines (Broken and Unbroken) | D38: 1 | E38: 1 | F38: 1 | G38: 1 | H38: 26 | I38: /m | J38: =H38*G38*F38*E38*D38 -> 26
C39: 150mm Wide | D39: 1 | E39: 1 | F39: 1 | G39: 1 | H39: 12 | I39: /m | J39: =H39*G39*F39*E39*D39 -> 12
C40: 450mm Wide | D40: 1 | E40: 1 | F40: 1 | G40: 1 | H40: 21 | I40: /m | J40: =H40*G40*F40*E40*D40 -> 21
C41: 900mm Wide | D41: 1 | E41: 1 | F41: 1 | G41: 1 | H41: 37 | I41: /m | J41: =H41*G41*F41*E41*D41 -> 37
C42: 1800mm Wide | D42: 1 | E42: 1 | F42: 1 | G42: 1 | H42: 80 | I42: /m | J42: =H42*G42*F42*E42*D42 -> 80
C43: 6000mm Wide | D43: 1 | E43: 1 | F43: 1 | G43: 1 | H43: 250 | I43: /m | J43: =H43*G43*F43*E43*D43 -> 250
C45: White and Yellow lines (Broken and Unbroken) | D45: 1 | E45: 1 | F45: 1 | G45: 1 | H45: 3600 | I45: /Km | J45: =H45*G45*F45*E45*D45 -> 3600
...

Sheet Civil Rehab Rates 
J2: Below rates exclude Turnout Factors [P&G, Sundry costs, Contingency, Esclation & Fees]
C3: ELEMENT | I3: UNIT | J3: Current Rate March 2022 (ZAR)
D4: Multi | E4: Lenth | F4: Width | G4: H/D | H4: Rate
B5: Demolition works
C6: Breaking up existing pavement layers | D6: 1 | E6: 1 | F6: 1 | G6: 1 | H6: 55 | I6: m2 | J6: =H6*G6*F6*E6*D6 -> 55 | K6: /m2
C7: Breaking up existing concrete slab | D7: 1 | E7: 1 | F7: 1 | G7: 1 | H7: 270 | I7: m2 | J7: =H7*G7*F7*E7*D7 -> 270 | K7: /m2
C8: Miling out existing bituminious material | D8: 1 | E8: 1 | F8: 1 | G8: 1 | H8: 270 | I8: m3 | J8: =H8*G8*F8*E8*D8 -> 270 | K8: /m3
B10: Concrete Rehab. Stands | J10: 699 | K10: /m2
C11: Soil Poisining | D11: 1 | E11: 1 | F11: 1 | G11: 1 | H11: 32 | I11: m2 | J11: =H11*G11*F11*E11*D11 -> 32
C12: Fill | D12: 1 | E12: 1 | F12: 1 | G12: 0.085 | H12: 265 | I12: m3 | J12: =H12*G12*F12*E12*D12 -> 22.525
C13: DPM | D13: 1 | E13: 1 | F13: 1 | G13: 1 | H13: 15 | I13: m2 | J13: =H13*G13*F13*E13*D13 -> 15
C14: Concrete | D14: 1 | E14: 1 | F14: 1 | G14: 0.085 | H14: 1698 | I14: m3 | J14: =H14*G14*F14*E14*D14 -> 144.33
C15: Woodfloat | D15: 1 | E15: 1 | F15: 1 | G15: 1 | H15: 35 | I15: m2 | J15: =H15*G15*F15*E15*D15 -> 35
C16: Mesh reinforcement | D16: 1 | E16: 1 | F16: 1 | G16: 1 | H16: 60 | I16: m2 | J16: =H16*G16*F16*E16*D16 -> 60
C17: Sawcut joints | D17: 1 | E17: 1 | F17: 1 | G17: 1 | H17: 120 | I17: m | J17: =H17*G17*F17*E17*D17 -> 120
C18: Backing rope | D18: 1 | E18: 1 | F18: 1 | G18: 1 | H18: 25 | I18: m | J18: =H18*G18*F18*E18*D18 -> 25
C19: Polysulphide sealant | D19: 1 | E19: 1 | F19: 1 | G19: 1 | H19: 25 | I19: m | J19: =H19*G19*F19*E19*D19 -> 25
C20: Formwork | D20: 1 | E20: 1 | F20: 1 | G20: 1 | H20: 0.85 | I20: m2 | J20: =H20*G20*F20*E20*D20 -> 0.85
C21: Sundries | H21: 0.1 | I21: m2 | J21: {=SUM(H11:H20*H21)} -> 227.585
B23: Pavement Repairs | J23: 584 | K23: /m2
C24: Excavation to reduce level | D24: 1 | E24: 1 | F24: 1 | G24: 1 | H24: 116 | J24: =H24*G24*F24*E24*D24 -> 116
C25: Rip, scarify & compact | D25: 1 | E25: 1 | F25: 1 | G25: 1 | H25: 40 | J25: =H25*G25*F25*E25*D25 -> 40
C26: 150mm G6 Layer | D26: 1 | E26: 1 | F26: 1 | G26: 0.15 | H26: 350 | J26: =H26*G26*F26*E26*D26 -> 52.5
C27: Add cement stabilizer | D27: 130 | E27: 1 | F27: 1 | G27: 0.3 | H27: 4 | J27: =H27*G27*F27*E27*D27 -> 156
C28: 800mm Interlocker paver | D28: 1 | E28: 1 | F28: 1 | G28: 1 | H28: 360 | J28: =H28*G28*F28*E28*D28 -> 360
C29: Sundries | H29: 0.1 | J29: {=SUM(H24:H28*H29)} -> 87
B31: Asphalt Mill and Replace RWY/TWY | J31: 16500 | K31: /m2
B33: Ashphalt Road Surface (Repair) | J33: 518 | K33: /m2
C34: Excavation to reduce level | D34: 1 | E34: 1 | F34: 1 | G34: 0.4 | H34: 116 | J34: =H34*G34*F34*E34*D34 -> 46.4
C35: Rip, scarify & compact | D35: 1 | E35: 1 | F35: 1 | G35: 1 | H35: 40 | J35: =H35*G35*F35*E35*D35 -> 40
C36: 150mm G6 Layer | D36: 1 | E36: 1 | F36: 1 | G36: 0.15 | H36: 350 | J36: =H36*G36*F36*E36*D36 -> 52.5
C37: Add cement stabilizer | D37: 130 | E37: 1 | F37: 1 | G37: 0.3 | H37: 4 | J37: =H37*G37*F37*E37*D37 -> 156
C38: Tarmac (Dependent on thickness of surface) | D38: 1 | E38: 1 | F38: 1 | G38: 1 | H38: 320 | J38: =H38*G38*F38*E38*D38 -> 320
C39: Sundries | H39: 0.1 | J39: {=SUM(H34:H38*H39)} -> 83
B41: Roadmarkings (Refurbishment)
C42: Setting out and pre-marking the lines | D42: 1 | E42: 1 | F42: 1 | G42: 1 | H42: 116 | J42: =H42*G42*F42*E42*D42 -> 116 | K42: /m
C44: White and Yellow lines (Broken and Unbroken) | D44: 1 | E44: 1 | F44: 1 | G44: 1 | H44: 40 | J44: =H44*G44*F44*E44*D44 -> 40 | K44: /m
C45: 150mm Wide | D45: 1 | E45: 1 | F45: 1 | G45: 0.15 | H45: 350 | J45: =H45*G45*F45*E45*D45 -> 52.5 | K45: /m
C46: 900mm Wide | D46: 1 | E46: 1 | F46: 1 | G46: 0.15 | H46: 350 | J46: =H46*G46*F46*E46*D46 -> 52.5 | K46: /m
C47: 1800mm Wide | D47: 1 | E47: 1 | F47: 1 | G47: 0.15 | H47: 350 | J47: =H47*G47*F47*E47*D47 -> 52.5 | K47: /m
...

Sheet Specialised Work
K8: 1.01 | L8: 1.063
C10: ELEMENT | I10: UNIT | J10: March 2019 (ZAR) | K10: March 2021 (ZAR) | L10: March 2022 (ZAR)
D11: Multi | E11: Lenth | F11: Width | G11: H/D | H11: Rate
B12: Installation of Check-in Counters - Double | J12: =SUM(J13:J14) -> 12600000 | K12: =SUM(K13:K14) -> 12726000 | L12: =SUM(L13:L14) -> 13527738 | M12: /No
C13: Double counter | D13: 1 | E13: 1 | F13: 1 | G13: 1 | H13: 12000000 | I13: Each | J13: =H13*G13*F13*E13*D13 -> 12000000 | K13: =J13*$K$8 -> 12120000 | L13: =K13*$L$8 -> 12883560
C14: Sundries | D14: 0.05 | E14: 1 | F14: 1 | G14: 1 | H14: 12000000 | I14: Item | J14: =H14*G14*F14*E14*D14 -> 600000 | K14: =J14*$K$8 -> 606000 | L14: =K14*$L$8 -> 644178
B16: Installation of Check-in Counters - Single | J16: =SUM(J17:J18) -> 6300000 | K16: =SUM(K17:K18) -> 6363000 | L16: =SUM(L17:L18) -> 6763869 | M16: /No
C17: Single counter | D17: 1 | E17: 1 | F17: 1 | G17: 1 | H17: 6000000 | I17: each | J17: =H17*G17*F17*E17*D17 -> 6000000 | K17: =J17*$K$8 -> 6060000 | L17: =K17*$L$8 -> 6441780
C18: Sundries | D18: 0.05 | E18: 1 | F18: 1 | G18: 1 | H18: 6000000 | I18: Item | J18: =H18*G18*F18*E18*D18 -> 300000 | K18: =J18*$K$8 -> 303000 | L18: =K18*$L$8 -> 322089
B20: Built-in Chairs | J20: =SUM(J21:J22) -> 7875 | K20: =SUM(K21:K22) -> 7953.75 | L20: =SUM(L21:L22) -> 8454.8363 | M20: /No
C21: Built-in seats | D21: 1 | E21: 1 | F21: 1 | G21: 1 | H21: 7500 | I21: each | J21: =H21*G21*F21*E21*D21 -> 7500 | K21: =J21*$K$8 -> 7575 | L21: =K21*$L$8 -> 8052.225
C22: Sundries | D22: 0.05 | E22: 1 | F22: 1 | G22: 1 | H22: 7500 | I22: Item | J22: =H22*G22*F22*E22*D22 -> 375 | K22: =J22*$K$8 -> 378.75 | L22: =K22*$L$8 -> 402.61125
B24: Baggage Corousels | J24: =SUM(J25:J26) -> 3300000 | K24: =SUM(K25:K26) -> 3333000 | L24: =SUM(L25:L26) -> 3542979 | M24: /No
C25: Arrivals corousels | D25: 1 | E25: 1 | F25: 1 | G25: 1 | H25: 2400000 | I25: each | J25: =H25*G25*F25*E25*D25 -> 2400000 | K25: =J25*$K$8 -> 2424000 | L25: =K25*$L$8 -> 2576712 | N25: Between R2.5m to R3.3m depends on the length.
C26: Installation, commisioning and handover | D26: 1 | E26: 1 | F26: 1 | G26: 1 | H26: 900000 | I26: Item | J26: =H26*G26*F26*E26*D26 -> 900000 | K26: =J26*$K$8 -> 909000 | L26: =K26*$L$8 -> 966267
B29: Elevators | J29: =SUM(J30:J31) -> 1680000 | K29: =SUM(K30:K31) -> 1696800 | L29: =SUM(L30:L31) -> 1803698.4 | M29: /No
C30: Elevator - 1.5 x 1.2 | D30: 1 | E30: 1 | F30: 1 | G30: 1 | H30: 1600000 | I30: each | J30: =H30*G30*F30*E30*D30 -> 1600000 | K30: =J30*$K$8 -> 1616000 | L30: =K30*$L$8 -> 1717808
D31: 0.05 | E31: 1 | F31: 1 | G31: 1 | H31: 1600000 | I31: Item | J31: =H31*G31*F31*E31*D31 -> 80000 | K31: =J31*$K$8 -> 80800 | L31: =K31*$L$8 -> 85890.4
B33: Baggage Scales | J33: =SUM(J34:J35) -> 378000 | K33: =SUM(K34:K35) -> 381780 | L33: =SUM(L34:L35) -> 405832.14 | M33: /No
C34: Baggage Scales | D34: 1 | E34: 1 | F34: 1 | G34: 1 | H34: 360000 | I34: each | J34: =H34*G34*F34*E34*D34 -> 360000 | K34: =J34*$K$8 -> 363600 | L34: =K34*$L$8 -> 386506.8
C35: Sundries | D35: 0.05 | E35: 1 | F35: 1 | G35: 1 | H35: 360000 | I35: Item | J35: =H35*G35*F35*E35*D35 -> 18000 | K35: =J35*$K$8 -> 18180 | L35: =K35*$L$8 -> 19325.34

Sheet Ground Floor Constrn
A1: GROUND FLOOR CONSTRUCTION | J1: 1.063
A2: Element/Component | B2: Multi | C2: Lenth | D2: Width | E2: H/D | F2: Rate | G2: Unit Rate | H2: Unit | I2: Element Rate
C3: 1 | D3: 1 | E3: 0.085
A4: Surface bed (100mm) Mesh Reinforced | H4: m2 | I4: =SUM(G5:G13) -> 518.3568
A5: Soil Poisoning | B5: 1 | C5: 1 | D5: 1 | E5: 1 | F5: 32 | G5: =(F5*E5*D5*C5*B5)*$J$1 -> 34.016
A6: Fill 150mm | B6: 1 | C6: 1 | D6: 1 | E6: 0.09 | F6: 265 | G6: =(F6*E6*D6*C6*B6)*$J$1 -> 25.35255
A7: Compaction | B7: 1 | C7: 1 | D7: 1 | E7: 1 | F7: 15 | G7: =(F7*E7*D7*C7*B7)*$J$1 -> 15.945
A8: DPM | B8: 1 | C8: 1 | D8: 1 | E8: 1 | F8: 15 | G8: =(F8*E8*D8*C8*B8)*$J$1 -> 15.945
A9: Concrete | B9: 1 | C9: 1 | D9: 1 | E9: 0.085 | F9: 1689 | G9: =(F9*E9*D9*C9*B9)*$J$1 -> 152.60959
A10: Power Float | B10: 1 | C10: 1 | D10: 1 | E10: 1 | F10: 40 | G10: =(F10*E10*D10*C10*B10)*$J$1 -> 42.52
A11: Mesh Ref | B11: 1 | C11: 1 | D11: 1 | E11: 1 | F11: 120 | G11: =(F11*E11*D11*C11*B11)*$J$1 -> 127.56
A12: Formwork to edges | B12: 0.5 | C12: 1 | D12: 1 | E12: 1 | F12: 150 | G12: =(F12*E12*D12*C12*B12)*$J$1 -> 79.725
A13: Sundries @ 5% | B13: 1 | C13: 1 | D13: 1 | E13: 1 | F13: 0.05 | G13: =SUM(G5:G12)*0.05 -> 24.683657
C17: 1 | D17: 1 | E17: 0.125
A18: Surface Bed (125mm) Ramps | H18: m2 | I18: =SUM(G19:G27) -> 685.76787
A19: Soil Poisoning | B19: 1 | C19: 1 | D19: 1 | E19: 1 | F19: 32 | G19: =(F19*E19*D19*C19*B19)*$J$1 -> 34.016
A20: Fill 150mm | B20: 1 | C20: 1 | D20: 1 | E20: 0.8 | F20: 265 | G20: =(F20*E20*D20*C20*B20)*$J$1 -> 225.356
A21: Compaction | B21: 1 | C21: 1 | D21: 1 | E21: 1 | F21: 15 | G21: =(F21*E21*D21*C21*B21)*$J$1 -> 15.945
A22: DPM | B22: 1 | C22: 1 | D22: 1 | E22: 1 | F22: 15 | G22: =(F22*E22*D22*C22*B22)*$J$1 -> 15.945
A23: Concrete | B23: 1 | C23: 1 | D23: 1 | E23: 0.125 | F23: 1689 | G23: =(F23*E23*D23*C23*B23)*$J$1 -> 224.42587
A24: Power Float | B24: 1 | C24: 1 | D24: 1 | E24: 1 | F24: 40 | G24: =(F24*E24*D24*C24*B24)*$J$1 -> 42.52
A25: Mesh Ref | B25: 1 | C25: 1 | D25: 1 | E25: 1 | F25: 120 | G25: =(F25*E25*D25*C25*B25)*$J$1 -> 127.56
C28: 1 | D28: 1 | E28: 0.125
A29: Surface Bed (125mm) | H29: m2 | I29: =SUM(G30:G39) -> 728.28788
A30: Soil Poisoning | B30: 1 | C30: 1 | D30: 1 | E30: 1 | F30: 32 | G30: =(F30*E30*D30*C30*B30)*$J$1 -> 34.016
A31: Fill 150mm | B31: 1 | C31: 1 | D31: 1 | E31: 0.8 | F31: 280 | G31: =(F31*E31*D31*C31*B31)*$J$1 -> 238.112
A32: DPM | B32: 1 | C32: 1 | D32: 1 | E32: 1 | F32: 15 | G32: =(F32*E32*D32*C32*B32)*$J$1 -> 15.945
A33: Concrete | B33: 1 | C33: 1 | D33: 1 | E33: 0.125 | F33: 1689 | G33: =(F33*E33*D33*C33*B33)*$J$1 -> 224.42587
A34: Power Float | B34: 1 | C34: 1 | D34: 1 | E34: 1 | F34: 35 | G34: =(F34*E34*D34*C34*B34)*$J$1 -> 37.205
A35: Mesh Ref | B35: 1 | C35: 1 | D35: 1 | E35: 1 | F35: 60 | G35: =(F35*E35*D35*C35*B35)*$J$1 -> 63.78
A36: Sawcut Joints | B36: 0.6 | C36: 1 | D36: 1 | E36: 1 | F36: 30 | G36: =(F36*E36*D36*C36*B36)*$J$1 -> 19.134
A37: Backing Rope | B37: 0.6 | C37: 1 | D37: 1 | E37: 1 | F37: 25 | G37: =(F37*E37*D37*C37*B37)*$J$1 -> 15.945
A38: Polysulphide Sealant | B38: 0.6 | C38: 1 | D38: 1 | E38: 1 | F38: 25 | G38: =(F38*E38*D38*C38*B38)*$J$1 -> 15.945
A39: Formwork | B39: 0.4 | C39: 1 | D39: 1 | E39: 1 | F39: 150 | G39: =(F39*E39*D39*C39*B39)*$J$1 -> 63.78

Sheet Fleet Maint
K1: 1.063
B2: FLEET
A6: VEHICLE PREVENTATIVE AND BREAKDOWN MAINTENANCE.
C7: Rate (2021) | D7: Rate (2022) | E7: Unit | F7: Remarks
A8: 1 | B8: Normal Hours - Labour | C8: 825 | D8: =C8*$K$1 -> 876.975 | E8: /Hr | F8: per person per hour
A9: 2 | B9: Towing Charges | C9: 850 | D9: =C9*$K$1 -> 903.55 | E9: each
A10: 3 | B10: Roadworthy certifications | C10: 550 | D10: =C10*$K$1 -> 584.65 | E10: each
A11: 4 | B11: Car wash, vacuum and tyres | C11: 85 | D11: =C11*$K$1 -> 90.355 | E11: each
A12: 5 | B12: Variable permit cost | C12: 18000 | D12: =C12*$K$1 -> 19134 | E12: /annum | F12: The airside Induction Training (AIT), Airside Vehicle Operator Training (AVOP), Permanent Personal and Vehicle Permit costs shall be paid by the Service Provider to the training service provider and the Company permit office. Costs shall be claimed back from the Company for completed training and issued permits. Proof of al relevant documents i.e. training certs., receipts must be produced.
A13: 6 | B13: Monthly contract administration fees (fixed) | C13: 46810 | D13: =C13*$K$1 -> 49759.03 | F13: Entails the following: Management, Systems, Inspections, Customer Liaison, Infrastructure including call centre service and six field technicians (two per airport site)
A14: 7 | B14: Call out charges | C14: 0 | D14: =C14*$K$1 -> 0 | E14: /Hr | F14: No call out charge for the collection and delivery of vehicles from the Company sites for all services as they form part of the value added services.
A17: BATTERY AND TYRE SUPPLY & MAINTENANCE.
C18: Rate (2021) | D18: Rate (2022) | E18: Unit | F18: Remarks
A19: 1 | B19: Normal Hours - Labour | C19: 125 | D19: =C19*$K$1 -> 132.875 | E19: /Hr | F19: per person per hour
A20: 2 | B20: Towing Charges | C20: 850 | D20: =C20*$K$1 -> 903.55 | E20: each
A21: 3 | B21: Wheel alignment front & rear | C21: 87 | D21: =C21*$K$1 -> 92.481 | E21: each
A22: 4 | B22: Call out charges | C22: 0 | D22: =C22*$K$1 -> 0 | E22: /Hr | F22: No call out charge for the collection and delivery of vehicles from the Company sites for all services as they form part of the value added services.
A25: MARK-UP FEE %
A26: Value of Item/Service | B26: On 3rd party procured items/services (incl. subcontractors) | C26: Replacement/Spare parts
A27: R0 - 1,000 | B27: 0.15 | C27: 0.15
A28: R1,001 - R5,000 | B28: 0.15 | C28: 0.15
A29: R5,001 - R10,000 | B29: 0.15 | C29: 0.15
A30: +R10,000 | B30: 0.15 | C30: 0.15
G34: Description | H34: D/cab | I34: S/cab | J34: ½ ton | K34: Sedan | L34: Minibus
G35: Signage or branding | H35: 16830 | I35: 16830 | J35: 13260 | K35: 5610 | L35: 18360
G37: Maintenance plan | H37: 77028.36 | I37: 77028.36 | J37: 36648.6 | K37: 58045.14 | L37: 60373.8
G39: Extended warranty | H39: 7134.9 | I39: 7134.9 | J39: Std | K39: 7134.9 | L39: 6028.2
G41: Towbar | H41: 6232.2 | I41: 6232.2 | J41: 3264 | K41: 4590 | L41: 6028.2
G43: Nudge Bar | H43: 5742.6 | I43: 5742.6
G45: Rollbar | H45: 5293.8 | I45: 5803.8
G47: LED starbar beacon & siren | H47: 8670 | I47: 8670 | J47: 11229.18 | K47: 8670 | L47: 8670
G49: Smash & grab | H49: 3570 | I49: 3570 | J49: 1524.9 | K49: 3570 | L49: 5100
G51: Rubberising | H51: 3570 | I51: 5538.6 | J51: 3570
G53: Fire extinguisher | H53: 459 | I53: 459 | J53: 459 | K53: 459 | L53: 459
G55: License & registration | H55: 3060 | I55: 3060 | J55: 4590 | K55: 3570 | L55: 4080
G57: Delivery costs | H57: 4590 | I57: 4590 | J57: 4590 | K57: 4590 | L57: 4590

Sheet Electrical
F1: 1.063
B3: DESCRIPTION | C3: UNIT | D3: 2019 RATE | E3: 2021 RATE | F3: 2022 RATE
B5: Supply, deliver to site, off-load and store if necessary and install the following cables with copper conductors.
B6: Installation and testing of cables as per specification including clamps, ties and cable numbering system.
B8: 35mm² x 4C PVC/SWA/PVC + 25mm² x 1C Green insulated earth wire (600/1000V to SANS 1507) | C8: m | D8: 75 | E8: 76.366002 | F8: =E8*$F$1 -> 81.17706
B10: 2.5mm² x 4C PVC/SWA/PVC ECC (600/1000V to SANS 1507) | C10: m | D10: 58 | E10: 59.056375 | F10: =E10*$F$1 -> 62.776926
B12: 2.5mm² x 3C PVC/SWA/PVC (600/1000V to SANS 1507) | C12: m | D12: 48 | E12: 48.874241 | F12: =E12*$F$1 -> 51.953318
B14: 2.5mm² x 3C PVC/PVC (600/1000V to SANS 1507) | C14: m | D14: 50 | E14: 50.910668 | F14: =E14*$F$1 -> 54.11804
B16: 2 x 2.5mm² + 2,5mm² house wire (600/1000V to SANS 1507) (red, black & green/yellow) | C16: m | D16: 35 | E16: 35.637467 | F16: =E16*$F$1 -> 37.882628
B18: 150mm² x 3c 11kV Cu PILC Cable | C18: m | D18: 1250 | E18: 1272.7667 | F18: =E18*$F$1 -> 1352.951
B20: 150mm² x 3c 11kV Cu PILC Cable removal and handover | C20: m | D20: 250 | E20: 254.55334 | F20: =E20*$F$1 -> 270.5902
B22: Instrumentation Cable Supply & Installation
B24: Supply, deliver to site, off-load and store if necessary and install the following Dekabon cables (overall screened armoured) with copper conductors (600/1000V grade) to SANS 1507 as specified.
B26: 0.5mm² x 2 pair Dekabon IOS Cable | C26: m | D26: 40 | E26: 40.728534 | F26: =E26*$F$1 -> 43.294432
B28: 1.5mm² x 3 core Cu/PVC/SWA/PVC | C28: m
B30: 1.5mm² x 2 pair Dekabon IOS Cable | C30: m | D30: 55 | E30: 56.001735 | F30: =E30*$F$1 -> 59.529844
B32: Electrical Cable Termination Supply & Installation
B34: Termination of cables shall include supply installation and testing of the IP68 CCG glands with corrosion guard , making-off the cable, lugs, and fitting the gland to the board gland plate, switchgear or appliance and final connection of cable tails into board or terminals. Include for Reducing Glands and shrouds where applicable. All exposed conductors to be tinned.
B36: 35mm² x 4C PVC/SWA + 25mm² x 1C Green insulated earth wire | C36: Item | D36: 900 | E36: 916.39202 | F36: =E36*$F$1 -> 974.12472
B38: 2.5mm² x 4C PVC/SWA ECC | C38: Item | D38: 250 | E38: 254.55334 | F38: =E38*$F$1 -> 270.5902
B39: Extra over cost for Zone 1, IIA, T3 Exd/e gland with corrosion guard | C39: Item | D39: 100 | E39: 101.82134 | F39: =E39*$F$1 -> 108.23608
B41: 2.5mm² x 3C PVC/SWA | C41: Item | D41: 250 | E41: 254.55334 | F41: =E41*$F$1 -> 270.5902
B42: Extra over cost for Zone 1, IIA, T3 Exd/e gland with corrosion guard | C42: Item | D42: 100 | E42: 101.82134 | F42: =E42*$F$1 -> 108.23608
B44: 2.5mm² x 3C PVC | C44: Item | D44: 250 | E44: 254.55334 | F44: =E44*$F$1 -> 270.5902
B45: Extra over cost for Zone 1, IIA, T3 Exd/e gland with corrosion guard | C45: Item | D45: 100 | E45: 101.82134 | F45: =E45*$F$1 -> 108.23608
B47: 150mm² x 3c 11kV Cu PILC Cable Termination on MV Switch | C47: Item | D47: 8900 | E47: 9062.0989 | F47: =E47*$F$1 -> 9633.0111
B49: 150mm² x 3c 11kV Cu PILC Cable Joint | C49: Item | D49: 9500 | E49: 9673.0269 | F49: =E49*$F$1 -> 10282.428
B52: Instrumentation Cable Termination Supply & Installation
B53: Install and terminate the following Dekabon cables with copper conductors (600/1000V grade) to SANS 1507 as specified.
B55: =B26 -> 0.5mm² x 2 pair Dekabon IOS Cable | C55: Item | D55: 500 | E55: 509.10668 | F55: =E55*$F$1 -> 541.1804
B57: =B30 -> 1.5mm² x 2 pair Dekabon IOS Cable | C57: Item | D57: 500 | E57: 509.10668 | F57: =E57*$F$1 -> 541.1804
B59: CABLE TRAY / SUPPORT SYSTEM SUPPLY AND INSTALLATION
B61: Supply and install medium duty 304L stainless steel cable tray as described below including all splices, bonding straps, nuts, bolts and any other clamp or support bracket required for the installation of the cable tray.
B63: 114mm straight length | C63: m | D63: =446*1.1*1.1 -> 539.66 | E63: 549.48902 | F63: =E63*$F$1 -> 584.10683
B65: 114mm internal bend | C65: Item | D65: =580*1.1*1.1 -> 701.8 | E65: 714.58213 | F65: =E65*$F$1 -> 759.60081
B67: 114mm external bend | C67: Item | D67: =D65 -> 701.8 | E67: 714.58213 | F67: =E67*$F$1 -> 759.60081
