Workbook

Sheet Instruction 
B3: Instructions | C3: CONSOLIDATED INFRASTRUCTURE REFRESH PRICING WORKBOOK FOR TCC, TNPA AND TPT
C4: Service Provider Name
C5: Date
C6: The Exchange Rate to be used when completing this Pricing Workbook: | D6: R16,14
C7: All the Rand Values must be filled in as per the pricing workbook to 2 decimal places.
C8: All pricing must be inclusive of Value Added Tax (VAT).
C9: Validity of Pricing must be for One Hundred and Eighty (180) days
B10: 1. | C10: This MS Excel Workbook contains a separate spreadsheets designed to provide a robust understanding of the costing model. It is ESSENTIAL that this model be used in the pricing response.
B11: 2. | C11: The descriptions and Instructions/context for each spreadsheet, as well as convenient one-click navigation of the workbook are detailed below under the heading of "Pricing Workbook Tab Instructions" .
B12: 3. | C12: The worksheet is designed to elicit specific pricing information related to establishing, managing, developing, and deploying the work required by the TPT Infrastructure Refresh. If your typical pricing model does not normally charge for a specific element provided within this workbook, then please provide a statement in your "Assumptions" regarding your methodology for charging for that element (i.e., not applicable, charged on a time and material (T&M) basis, etc.).
B13: 4. | C13: The worksheet in this Pricing Template is protected to minimize the risk of compromising the integrity of the workbook structure and formulas. As such, the editable cells within each worksheet are indicated in light blue highlight as shown =================================> | D13: This cell is Editable
B14: 5. | C14: Service provider must note that only unconditional discounts will be taken into account for purposes of pricing evaluation.
B17: Pricing Goals
B19: Transnet has developed the following Service pricing goals for RFP respondents to utilise in developing the Service Pricing proposal. RFP respondent pricing should reflect: - Predetermined and Fixed Pricing for services over agreement term - Scalable to account for additions or reductions in business requirements - Ability to plug and unplug services to adapt new service delivery methods - All respondents assumptions in developing pricing are visible - Pricing Models ability to reflect ongoing continuous improvement gains - Pricing is structured so to encourage standardised use and behaviors - Transparent to underlying cost drivers - Enable external benchmarking of competitive services

Sheet Consolidation
B3: CONSOLIDATED INFRASTRUCTURE REFRESH PRICING WORKBOOK FOR TCC, TNPA AND TPT
B4: Transnet LTD SOC
B5: Name Of Service Provider
B6: Date
B7: SUMMARY OF TOTALS (TCC, TNPA & TPT)
B8: Infrastructure Refresh | C8: Total Once-Off Cost (Incl. VAT) | D8: Total Cost - Year 1 (Incl. VAT) | E8: Total Cost - Year 2 (Incl. VAT) | F8: Total Cost - Year 3 (Incl. VAT) | G8: Total Cost - Year 4 (Incl. VAT) | H8: Total Cost - Year 5 (Incl. VAT) | I8: Total (Incl. VAT)
B9: Total TCC (Including VAT) | C9: =Summary_TCC!C12 -> 0 | D9: =Summary_TCC!D12 -> 0 | E9: =Summary_TCC!E12 -> 0 | F9: =Summary_TCC!F12 -> 0 | G9: =Summary_TCC!G12 -> 0 | H9: =Summary_TCC!H12 -> 0 | I9: =SUM(C9:H9) -> 0
B10: Total TNPA (Including VAT) | C10: =Summary_TNPA!C11 -> 0 | D10: =Summary_TNPA!D11 -> 0 | E10: =Summary_TNPA!E11 -> 0 | F10: =Summary_TNPA!F11 -> 0 | G10: =Summary_TNPA!G11 -> 0 | H10: =Summary_TNPA!H11 -> 0 | I10: =SUM(C10:H10) -> 0
B11: Total TPT (Including VAT) | C11: =Summary_TPT!C16 -> 0 | D11: =Summary_TPT!D16 -> 0 | E11: =Summary_TPT!E16 -> 0 | F11: =Summary_TPT!F16 -> 0 | G11: =Summary_TPT!G16 -> 0 | H11: =Summary_TPT!H16 -> 0 | I11: =SUM(C11:H11) -> 0
B12: Consolidated Total (Including VAT) | C12: =SUM(C9:C11) -> 0 | D12: =SUM(D9:D11) -> 0 | E12: =SUM(E9:E11) -> 0 | F12: =SUM(F9:F11) -> 0 | G12: =SUM(G9:G11) -> 0 | H12: =SUM(H9:H11) -> 0 | I12: =SUM(I9:I11) -> 0

Sheet Summary_TCC
B3: SUMMARY OF TCC DC AND TCC RDC INFRASTRUCTURE REFRESH
B4: Transnet LTD SOC
B5: Name Of Service Provider
B6: Date
B7: SUMMARY OF TOTALS
B8: TCC Infrastructure Refresh | C8: Total Once-Off Cost (Incl. VAT) | D8: Total Cost - Year 1 (Incl. VAT) | E8: Total Cost - Year 2 (Incl. VAT) | F8: Total Cost - Year 3 (Incl. VAT) | G8: Total Cost - Year 4 (Incl. VAT) | H8: Total Cost - Year 5 (Incl. VAT) | I8: Total (Incl. VAT)
B9: TCC DCs Infrastructure Refresh | I9: =C9 -> 0
B10: TCC RDC Infrastructure Refresh | I10: =C10 -> 0
B11: Services | E11: ='[1]Services '!H227 -> 0 | F11: ='[1]Services '!J227 -> 0 | G11: ='[1]Services '!L227 -> 0 | H11: ='[1]Services '!N227 -> 0 | I11: =SUM(C11:H11) -> 0
B12: Total (Including VAT) | C12: =SUM(C9:C11) -> 0 | D12: =D11 -> 0 | E12: =E11 -> 0 | F12: =F11 -> 0 | G12: =G11 -> 0 | H12: =H11 -> 0 | I12: =SUM(I9:I11) -> 0

Sheet Summary_TNPA
B3: SUMMARY FOR TNPA INFRASTRUCTURE REFRESH AND SERVICES
B4: Transnet Ltd SOC
B5: Name of Service Provider
B6: Date
B7: SUMMARY OF TOTALS
B8: TNPA Site | C8: Total Once-Off Cost (Incl. VAT) | D8: Total Cost - Year 1 (Incl. VAT) | E8: Total Cost - Year 2 (Incl. VAT) | F8: Total Cost - Year 3 (Incl. VAT) | G8: Total Cost - Year 4 (Incl. VAT) | H8: Total Cost - Year 5 (Incl. VAT) | I8: Total (Incl. VAT)
B9: TNPA Infrastructure Refresh | C9: ='[2]Infrastructure Refresh '!G14 -> 0 | I9: =C9 -> 0
B10: Services | C10: =[2]Services!F21 -> 0 | D10: =[2]Services!F26 -> 0 | E10: =[2]Services!H26 -> 0 | F10: =[2]Services!J26 -> 0 | G10: =[2]Services!L26 -> 0 | H10: =[2]Services!N26 -> 0 | I10: =SUM(C10:H10) -> 0
B11: Total (Including VAT) | C11: =C9+C10 -> 0 | D11: =D10 -> 0 | E11: =E10 -> 0 | F11: =F10 -> 0 | G11: =G10 -> 0 | H11: =H10 -> 0 | I11: =I9+I10 -> 0

Sheet Summary_TPT
B3: SUMMARY OF TPT INFRASTRUCTURE REFRESH SITES AND SERVICES
B4: =[3]INSTRUCTION!C3 -> Transnet Ltd SOC
B5: =[3]INSTRUCTION!C4 -> Name of Service Provider
B6: =[3]INSTRUCTION!C5 -> Date
B7: SUMMARY OF TOTALS
B8: TPT Sites | C8: Total Once-Off Cost (Incl. VAT) | D8: Total Cost - Year 1 (Incl. VAT) | E8: Total Cost - Year 2 (Incl. VAT) | F8: Total Cost - Year 3 (Incl. VAT) | G8: Total Cost - Year 4 (Incl. VAT) | H8: Total Cost - Year 5 (Incl. VAT) | I8: Total Cost (Incl. VAT)
B9: Durban | I9: =C9 -> 0
B10: Richards Bay | C10: =[4]Richardsbay!G23 -> 0 | I10: =C10 -> 0
B11: Port Elizabeth | C11: ='[4]Port Elizabeth'!G14 -> 0 | I11: =C11 -> 0
B12: Cape Town | C12: ='[4]Cape Town'!G23 -> 0 | I12: =C12 -> 0
B13: East London | C13: ='[4]East London'!G23 -> 0 | I13: =C13 -> 0
B14: Ngqura | C14: =[4]Ngqura!G14 -> 0 | I14: =C14 -> 0
B15: Services | C15: =[4]Services!F118 -> 0 | D15: =[4]Services!F124 -> 0 | E15: =[4]Services!H124 -> 0 | F15: =[4]Services!J124 -> 0 | G15: =[4]Services!L124 -> 0 | H15: =[4]Services!N123 -> 0 | I15: =SUM(C15:H15) -> 0
B16: Total (Including VAT) | C16: =SUM(C9:C15) -> 0 | D16: =D15 -> 0 | E16: =E15 -> 0 | F16: =F15 -> 0 | G16: =G15 -> 0 | H16: =H15 -> 0 | I16: =SUM(I9:I15) -> 0
