Workbook
Name Consequence: '[1]Drop Down Lists'!$A$3:$A$8
Name Likelihood: '[1]Drop Down Lists'!$B$3:$B$7
Name RCE: '[1]Drop Down Lists'!$D$3:$D$7

Sheet Risk template
A3: Occupational Health and Safety Baseline risk assessment template
A4: Business/Operating unit: | K4: Department: | V4: Next Review Date (every 2 years): | X4: Template identifier: | Y4: 240-70044602
A6: Date: | K6: Prepared by: | N6: Authorised by: | P6: Name: | X6: Document identifier
P7: Designation: | X7: Revision number: | Y7: 3
P8: Signed: | X8: Revision date: | Y8: 45443
P9: Date:
A10: Refer to Occupational Health and Safety Risk assessment procedure 32-520
A11: List activity | B11: Activity type (Routine/Non-routine) | C11: Hazard nr | D11: Hazard Identification | E11: Risk Nr | F11: Associated risk | G11: Risk type | H11: Cause(s) of the risk | I11: OHS opportunities | J11: Exposed group/employees | K11: Risk Owner | L11: Exposure patterns | M11: What are the possible consequences? | N11: Existing Controls | Q11: Risk Priority Rating | S11: Additional Controls or Tasks Aimed at improving Existing Controls | T11: Monitoring Mechanisms | U11: Control Owner | V11: Legal and Other Requirements | W11: Target Date | X11: Current Status | Y11: Integrated Risk Management (IRM) reference number
A12: List specific activities to be performed taking into consideration the equipment to be used, the personnel involved in the task. | B12: Indicate R or N 1. Routine activities and situations create hazards through day-to-day operations and normal work activities; 2. Non-routine activities and situations are occasional or unplanned; | C12: # | D12: Anything with potential to cause of harm. Note: A hazard can pose more than one risk. | E12: # | F12: A chance that injury , ill health or damage could occur as a result of uncontrolled hazard. | G12: Safety or health | H12: What causes the risk to come into effect? | I12: OH&S opportunities that can enhance OH&S performance and lead to hazard elimination and risk reduction. | J12: Who is exposed to the hazard i.e. visitors, members of the public, etc. | K12: Who is accountable for making sure the controls and monitors are: - in place, - implemented, - regularly reviewed for effectiveness. | L12: The frequency and duration the person/group is exposed to the hazard e.g. Daily for 3 hrs. | M12: Consider the worse case scenario without controls? | N12: Include: - Preventative Controls (controls implemented to eliminate hazards or reduce the likelihood of the risk occurring), and - Reactive Controls (controls implemented to reduce the immediate impact of the risk occurring) Elimination Substitution Engineering controls Administrative controls Personal protective equipment (PPE) | O12: Consequence | P12: Likelihood | R12: RCE Risk Control Effectiveness | S12: Include: - Preventative Controls (controls implemented to eliminate hazards or reduce the likelihood of the risk occurring), and - Reactive Controls (controls implemented to reduce the immediate impact of the risk occurring) Elimination Substitution Engineering controls Administrative controls Personal protective equipment (PPE) NB: The risk shall be evaluated, assessed and rated again once additional controls have been implemented. | T12: How we know if we are succeeding. Include comments on effectiveness. This may include i.e. measurements, inspections, supervision where necessary. | U12: Person allocated the responsibility for implementing the agreed controls | V12: Where relevant, list the relevant legislative and or Eskom requirements that prescribe the control. | W12: Once a date has been agreed to, this can not be changed | X12: Pending, In Progress, Complete | Y12: Where applicable, add IRM system reference number for tracking of treatment actions.
O13: 5 | P13: C | R13: Fully effective
R14: Mostly effective

Sheet Work on Eskom site
A3: Occupational Health and Safety Baseline risk assessment template
A4: Business/Operating unit: | B4: Generation | E4: Work on Eskom Site / Power Station | L4: Next Review Date (every 2 years): | M4: Template identifier: 240-70044602
A6: Date: | B6: 19/03/2024 | E6: Prepared by: | F6: Authorised by: | H6: Name: N/A | L6: Document identifier | AB6: R | AC6: Safety | AD6: 1 | AE6: A | AF6: Fully effective | AG6: I
H7: Designation: | L7: Revision number: | M7: 1 | AB7: N | AC7: Health | AD7: 2 | AE7: B | AF7: Mostly effective | AG7: II
H8: Signed: | L8: Revision date: | M8: 46465 | AD8: 3 | AE8: C | AF8: Mostly ineffective | AG8: III
H9: Date: | AD9: 4 | AE9: D | AF9: None | AG9: IV
A10: Refer to Occupational Health and Safety Risk assessment procedure 32-520 | AD10: 5 | AE10: E
A11: List activity | B11: Hazard Identification | C11: Associated risk | D11: Risk type | E11: What are the possible consequences? | F11: Existing Controls | J11: Risk Priority Rating | L11: Control Owner | M11: Legal and Other Requirements | AD11: 6
A12: List specific activities to be performed taking into consideration the equipment to be used, the personnel involved in the task. | B12: Anything with potential to cause of harm. Note: A hazard can pose more than one risk. | C12: A chance that injury , ill health or damage could occur as a result of uncontrolled hazard. | D12: Safety or health | E12: Consider the worse case scenario without controls? | F12: Include: - Preventative Controls (controls implemented to eliminate hazards or reduce the likelihood of the risk occurring), and - Reactive Controls (controls implemented to reduce the immediate impact of the risk occurring) Elimination Substitution Engineering controls Administrative controls Personal protective equipment (PPE) | G12: Consequence | H12: Likelihood | K12: RCE Risk Control Effectiveness | L12: Person allocated the responsibility for implementing the agreed controls | M12: Where relevant, list the relevant legislative and or Eskom requirements that prescribe the control. | S12: Consequences | T12: 6 | U12: III | V12: II | W12: I | X12: I | Y12: I
A13: Driving/ Travellling on Road | B13: Fatigue | C13: Falling asleep while driving, | D13: Safety | E13: Motor vehicle Accidents, Injuries (LTI, medicals), Fatalities | F13: Valid driver's licence, Medical fitnesss,Awareness during SHEQ meetings/ tool box talks/ lessons learned/ road safety campaigns. Contractor to ensure compliance on all the legal requirements (e.g National Road traffic Act) and Eskom OHS requirements (e.g Driver and vehicle safety procedure) Contractor to develop fatigue management plan. | G13: 3 | H13: B | I13: =CONCATENATE(G13,H13) -> 3B | J13: =IF(OR(ISBLANK(G13),ISBLANK(H13))," ",VLOOKUP(I13,'[2]Risk matrix'!$A$26:$B$55,2,FALSE)) -> III | K13: Fully effective | L13: Contractor | M13: OHS ACT 85 of 1993, National Road Traffic Act 93 of 1996 | T13: 5 | U13: III | V13: II | W13: II | X13: I | Y13: I
B14: Over speeding / unsafe driving | C14: Collision, losing control of the vehicle, unable to stop in time | D14: Safety | E14: Motor vehicle Accidents, Injuries (LTI, medicals), Fatalities | F14: Valid driver's licence, Medical fitnesss,Awareness during SHEQ meetings/ tool box talks/ lessons learned/ road safety campaigns. Contractor to ensure compliance on all the legal requirements (e.g National Road traffic Act) and Eskom OHS requirements (e.g Driver and vehicle safety procedure) Contractor to develop fatigue management plan. | G14: 4 | H14: B | I14: =CONCATENATE(G14,H14) -> 4B | J14: =IF(OR(ISBLANK(G14),ISBLANK(H14))," ",VLOOKUP(I14,'[2]Risk matrix'!$A$26:$B$55,2,FALSE)) -> III | K14: Fully effective | L14: Contractor | M14: OHS ACT 85 of 1993, National Road Traffic Act 93 of 1999 | T14: 2 | U14: IV | V14: IV | W14: III | X14: II | Y14: II
B15: Poor Road conditions, potholes, curves, road construction, road works, bends, steep hills, rail crossings | C15: Loss of control of the vehicle. Not observant of the surroundings. Unfamiliar with the road. Speeding | D15: Safety | E15: Motor vehicle Accidents, Injuries (LTI, medicals), Fatalities | F15: Valid driver's licence, Medical fitnesss,Awareness during SHEQ meetings/ tool box talks/ lessons learned/ road safety campaigns. Contractor to ensure compliance on all the legal requirements (e.g National Road traffic Act) and Eskom OHS requirements (e.g Driver and vehicle safety procedure) Contractor to develop fatigue management plan. | G15: 3 | H15: B | I15: =CONCATENATE(G15,H15) -> 3B | J15: =IF(OR(ISBLANK(G15),ISBLANK(H15))," ",VLOOKUP(I15,'[2]Risk matrix'!$A$26:$B$55,2,FALSE)) -> III | K15: Fully effective | L15: Contractor | M15: OHS ACT 85 of 1993, National Road Traffic Act 93 of 2001 | U15: A | V15: B | W15: C | X15: D | Y15: E
B16: Adverse weather conditions (Fog,Heavy rain, hail storm, heavy winds) | C16: Vehicle collisions, hypothermia, | D16: Safety & Health | E16: Motor vehicle Accidents, Injuries (LTI, medicals), Fatalities | F16: Valid driver's licence, Medical fitnesss,Awareness during SHEQ meetings/ tool box talks/ lessons learned/ road safety campaigns. Postponing trip until its safe to travel Contractor to ensure compliance on all the legal requirements (e.g National Road traffic Act) and Eskom OHS requirements (e.g Driver and vehicle safety procedure) Contractor to develop fatigue management plan. | G16: 3 | H16: B | I16: =CONCATENATE(G16,H16) -> 3B | J16: =IF(OR(ISBLANK(G16),ISBLANK(H16))," ",VLOOKUP(I16,'[2]Risk matrix'!$A$26:$B$55,2,FALSE)) -> III | K16: Fully effective | L16: Contractor | M16: OHS ACT 85 of 1993, National Road Traffic Act 93 of 2003
B17: Road users, pedestrians and/or stray animals | C17: Struck by, struck against incidents,Loss of control of the vehicles. | D17: Safety | E17: Motor vehicle Accidents, Injuries (LTI, medicals), Fatalities | F17: Valid driver's licence, Medical fitnesss,Awareness during SHEQ meetings/ tool box talks/ lessons learned/ road safety campaigns. Contractor to ensure compliance on all the legal requirements (e.g National Road traffic Act) and Eskom OHS requirements (e.g Driver and vehicle safety procedure) Contractor to develop fatigue management plan. | G17: 2 | H17: B | I17: =CONCATENATE(G17,H17) -> 2B | J17: =IF(OR(ISBLANK(G17),ISBLANK(H17))," ",VLOOKUP(I17,'[2]Risk matrix'!$A$26:$B$55,2,FALSE)) -> IV | K17: Fully effective | L17: Contractor | M17: OHS ACT 85 of 1993, National Road Traffic Act 93 of 2005
A18: Site access | B18: Unathorised person entering | C18: Exposure to site specific risks | D18: Safety | E18: Possible injuries | F18: OHS File Evaluation before commencement or entering the Eskom site. Site specific SHE induction. Reporting to security for access. | G18: 3 | H18: B | I18: =CONCATENATE(G18,H18) -> 3B | J18: =IF(OR(ISBLANK(G18),ISBLANK(H18))," ",VLOOKUP(I18,'[2]Risk matrix'!$A$26:$B$55,2,FALSE)) -> III | K18: Mostly effective | L18: Contractor | M18: OHS ACT 85 of 1993, Eskom live saving rules and other relevant pocedures
A19: Working in Eskom site/Power Station | B19: Ash Dust | C19: Employees may be exposed to ash dust from the nearing plants or during windy season | D19: Health | E19: HealthRespiratory and lung infections and/or eye irritation | F19: Wearing of dust masks FFP2 & FFP3 is manadatory, hazrd awarness and induction | G19: 3 | H19: B | I19: =CONCATENATE(G19,H19) -> 3B | J19: =IF(OR(ISBLANK(G19),ISBLANK(H19))," ",VLOOKUP(I19,'[2]Risk matrix'!$A$26:$B$55,2,FALSE)) -> III | K19: Mostly effective | L19: Contractor and Client | M19: OHSAct sec 13, Hazardous Chemical Substance Regulations, Annexure1,36Moving
C20: Employees may be exposed to ash dust from the nearing plants or during windy season while driving around the station with the window down | D20: Safety | E20: Poor visibility , leading vehicle accidents, also pedestrian incident | F20: Adhere to safe driving speed limits, hazard awareness and safety induction, Windows to be closed should there be visible dust whilst driving. | G20: 3 | H20: B | I20: =CONCATENATE(G20,H20) -> 3B | J20: =IF(OR(ISBLANK(G20),ISBLANK(H20))," ",VLOOKUP(I20,'[2]Risk matrix'!$A$26:$B$55,2,FALSE)) -> III | K20: Mostly effective | L20: Contractor and Client | M20: OHSAct sec 13, Hazardous Chemical Substance Regulations, Annexure1,36Moving
B21: Coal Dust | C21: Employees may be exposed to coal dust from the nearing plants mainly terrace bin | D21: Health | E21: Lung infection that could result with silicosis, eye infection, nasal irritation, skin irritation | F21: Wearing of dust masks FFP2 & FFP3 is manadatory, hazrd awarness and induction | G21: 3 | H21: B | I21: =CONCATENATE(G21,H21) -> 3B | J21: =IF(OR(ISBLANK(G21),ISBLANK(H21))," ",VLOOKUP(I21,'[2]Risk matrix'!$A$26:$B$55,2,FALSE)) -> III | K21: Mostly effective | L21: Contractor and Client | M21: OHSAct sec 13, Hazardous Chemical Substance Regulations, Annexure1,36Moving
B22: Noise | C22: Exposure to noise could lead to Noise Induced Hearing Loss | D22: Health | E22: Noise Induced Hearing Loss | F22: Plant is demarcated as a noise zone. Hearing protection is provided and used. Tool box talks are held. | G22: 3 | H22: B | I22: =CONCATENATE(G22,H22) -> 3B | J22: =IF(OR(ISBLANK(G22),ISBLANK(H22))," ",VLOOKUP(I22,'[2]Risk matrix'!$A$26:$B$55,2,FALSE)) -> III | K22: Mostly effective | L22: Contractor and Client | M22: OHSA s8(2)(d) ,GMR 3,NIHL Reg 3-13,SANS 10083,
B23: Falling objects | C23: Struck by | D23: Safety | E23: Fructure, injuries | F23: Required PPE to be worn i.e hard hat, safety shoes. Risk assessment, Supervision. | G23: 3 | H23: B | I23: =CONCATENATE(G23,H23) -> 3B | J23: =IF(OR(ISBLANK(G23),ISBLANK(H23))," ",VLOOKUP(I23,'[2]Risk matrix'!$A$26:$B$55,2,FALSE)) -> III | K23: Mostly effective | L23: Contractor and Client | M23: OHSAct sec 13
B24: COVID 19 | C24: contracting the Corona Virus, infecting others if already infected. | D24: Health | E24: Infection, displaying flu-like symptoms and fever, death. | F24: COVID 19 infection awareness, wearing of masks, Sanitising. Observing Covid 19 protocols | G24: 3 | H24: B | I24: =CONCATENATE(G24,H24) -> 3B | J24: =IF(OR(ISBLANK(G24),ISBLANK(H24))," ",VLOOKUP(I24,'[2]Risk matrix'!$A$26:$B$55,2,FALSE)) -> III | K24: Mostly effective | L24: Contractor and Client | M24: Disaster Management Act, 2002 (Act 57 of 2002)
B25: Hot surfaces and steam leaks | C25: Exposure hot surfaces and steam leaks could lead to Burns | D25: Safety | E25: Burns | F25: BLagging and cladding on pipes. Long sleeved clothing is worn. The plant is on planned maintenance programme. Steam leaks are attended as per defect that were reported. Tool box talks are held. Short periods are spent on plant. | G25: 3 | H25: B | I25: =CONCATENATE(G25,H25) -> 3B | J25: =IF(OR(ISBLANK(G25),ISBLANK(H25))," ",VLOOKUP(I25,'[2]Risk matrix'!$A$26:$B$55,2,FALSE)) -> III | K25: Mostly effective | L25: Contractor and Client | M25: OHSAct, Environmental Regulation for workplace
B26: Heat | C26: Exposure to heat could lead to Excessive sweating, cramps, dehydration, heat exhaustion and heatstroke | D26: Health | E26: Excessive sweating, cramps, dehydration, heat exhaustion and heatstroke. | F26: Lagging and cladding on pipes. Water is provided for employees. They also take regular breaks while in the area. Two man rule is applied when on the plant. Procedures in place and followed. Employees spent short periods on the plant. | G26: 3 | H26: B | I26: =CONCATENATE(G26,H26) -> 3B | J26: =IF(OR(ISBLANK(G26),ISBLANK(H26))," ",VLOOKUP(I26,'[2]Risk matrix'!$A$26:$B$55,2,FALSE)) -> III | K26: Mostly effective | L26: Contractor and Client | M26: OHSAct, Environmental Regulation for workplace
B27: Moving machinery | C27: Exposure to moving machinery could lead to Exposure to moving machinery could lead to Caught between structures that will result in fatal injuries. | D27: Safety | E27: Caught between structures that will result in fatal injuries | F27: Machine guards on equipment. Warning signs are posted. Loose clothing is discouraged while on the plant. | G27: 3 | H27: B | I27: =CONCATENATE(G27,H27) -> 3B | J27: =IF(OR(ISBLANK(G27),ISBLANK(H27))," ",VLOOKUP(I27,'[2]Risk matrix'!$A$26:$B$55,2,FALSE)) -> III | K27: Mostly effective | L27: Contractor and Client | M27: OHSAct sec8 ,13. General Safety Regulations, 2B, General Machinery Regulations, PSR
B28: Live electrical plant | C28: Exposure to live electrical plant could lead to Electrocution that could result in injuries and/or fatality. | D28: Safety | E28: Electrocution that could result in injuries and/or fatality. | F28: Plants are demarcated and only authorized personnel can work on electrical components. Awareness training is provided. Tool box talks are held. | G28: 3 | H28: B | I28: =CONCATENATE(G28,H28) -> 3B | J28: =IF(OR(ISBLANK(G28),ISBLANK(H28))," ",VLOOKUP(I28,'[2]Risk matrix'!$A$26:$B$55,2,FALSE)) -> III | K28: Mostly effective | L28: Contractor and Client | M28: Life saving rules. OHSAct; PSR
B29: Falling objectsExposure | C29: Exposure to falling objects could lead to Struck by objects resulting in injuries and/or fatalities. | D29: Safety | E29: Struck by objects resulting in injuries and/or fatalities. | F29: Barricading of areas where there is a potential of falling objects. Personal protective equipment is provided. | G29: 3 | H29: B | I29: =CONCATENATE(G29,H29) -> 3B | J29: =IF(OR(ISBLANK(G29),ISBLANK(H29))," ",VLOOKUP(I29,'[2]Risk matrix'!$A$26:$B$55,2,FALSE)) -> III | K29: Mostly effective | L29: Contractor and Client | M29: Environmental Regulation for workplace S6, General Safety Regulation
A30: =IF('Risk template'!A50="","",'Risk template'!A50) | B30: =IF('Risk template'!A50="","",'Risk template'!D50) | D30: =IF('Risk template'!A50="","",'Risk template'!G50) | F30: =IF('Risk template'!A50="","",'Risk template'!N50) | L30: =IF('Risk template'!A50="","",'Risk template'!U50) | M30: =IF('Risk template'!A50="","",'Risk template'!V50)
A31: =IF('Risk template'!A51="","",'Risk template'!A51) | B31: =IF('Risk template'!A51="","",'Risk template'!D51) | D31: =IF('Risk template'!A51="","",'Risk template'!G51) | F31: =IF('Risk template'!A51="","",'Risk template'!N51) | L31: =IF('Risk template'!A51="","",'Risk template'!U51) | M31: =IF('Risk template'!A51="","",'Risk template'!V51)
A32: =IF('Risk template'!A52="","",'Risk template'!A52) | B32: =IF('Risk template'!A52="","",'Risk template'!D52) | C32: =IF('Risk template'!A52="","",'Risk template'!F52) | D32: =IF('Risk template'!A52="","",'Risk template'!G52) | E32: =IF('Risk template'!A52="","",'Risk template'!M52) | F32: =IF('Risk template'!A52="","",'Risk template'!N52) | L32: =IF('Risk template'!A52="","",'Risk template'!U52) | M32: =IF('Risk template'!A52="","",'Risk template'!V52)
A33: =IF('Risk template'!A53="","",'Risk template'!A53) | B33: =IF('Risk template'!A53="","",'Risk template'!D53) | C33: =IF('Risk template'!A53="","",'Risk template'!F53) | D33: =IF('Risk template'!A53="","",'Risk template'!G53) | E33: =IF('Risk template'!A53="","",'Risk template'!M53) | F33: =IF('Risk template'!A53="","",'Risk template'!N53) | L33: =IF('Risk template'!A53="","",'Risk template'!U53) | M33: =IF('Risk template'!A53="","",'Risk template'!V53)
A34: =IF('Risk template'!A54="","",'Risk template'!A54) | B34: =IF('Risk template'!A54="","",'Risk template'!D54) | C34: =IF('Risk template'!A54="","",'Risk template'!F54) | D34: =IF('Risk template'!A54="","",'Risk template'!G54) | E34: =IF('Risk template'!A54="","",'Risk template'!M54) | F34: =IF('Risk template'!A54="","",'Risk template'!N54) | L34: =IF('Risk template'!A54="","",'Risk template'!U54) | M34: =IF('Risk template'!A54="","",'Risk template'!V54)
A35: =IF('Risk template'!A55="","",'Risk template'!A55) | B35: =IF('Risk template'!A55="","",'Risk template'!D55) | C35: =IF('Risk template'!A55="","",'Risk template'!F55) | D35: =IF('Risk template'!A55="","",'Risk template'!G55) | E35: =IF('Risk template'!A55="","",'Risk template'!M55) | F35: =IF('Risk template'!A55="","",'Risk template'!N55) | L35: =IF('Risk template'!A55="","",'Risk template'!U55) | M35: =IF('Risk template'!A55="","",'Risk template'!V55)
A36: =IF('Risk template'!A56="","",'Risk template'!A56) | B36: =IF('Risk template'!A56="","",'Risk template'!D56) | C36: =IF('Risk template'!A56="","",'Risk template'!F56) | D36: =IF('Risk template'!A56="","",'Risk template'!G56) | E36: =IF('Risk template'!A56="","",'Risk template'!M56) | F36: =IF('Risk template'!A56="","",'Risk template'!N56) | L36: =IF('Risk template'!A56="","",'Risk template'!U56) | M36: =IF('Risk template'!A56="","",'Risk template'!V56)
A37: =IF('Risk template'!A57="","",'Risk template'!A57) | B37: =IF('Risk template'!A57="","",'Risk template'!D57) | C37: =IF('Risk template'!A57="","",'Risk template'!F57) | D37: =IF('Risk template'!A57="","",'Risk template'!G57) | E37: =IF('Risk template'!A57="","",'Risk template'!M57) | F37: =IF('Risk template'!A57="","",'Risk template'!N57) | L37: =IF('Risk template'!A57="","",'Risk template'!U57) | M37: =IF('Risk template'!A57="","",'Risk template'!V57)
A38: =IF('Risk template'!A58="","",'Risk template'!A58) | B38: =IF('Risk template'!A58="","",'Risk template'!D58) | C38: =IF('Risk template'!A58="","",'Risk template'!F58) | D38: =IF('Risk template'!A58="","",'Risk template'!G58) | E38: =IF('Risk template'!A58="","",'Risk template'!M58) | F38: =IF('Risk template'!A58="","",'Risk template'!N58) | L38: =IF('Risk template'!A58="","",'Risk template'!U58) | M38: =IF('Risk template'!A58="","",'Risk template'!V58)
A39: =IF('Risk template'!A59="","",'Risk template'!A59) | B39: =IF('Risk template'!A59="","",'Risk template'!D59) | C39: =IF('Risk template'!A59="","",'Risk template'!F59) | D39: =IF('Risk template'!A59="","",'Risk template'!G59) | E39: =IF('Risk template'!A59="","",'Risk template'!M59) | F39: =IF('Risk template'!A59="","",'Risk template'!N59) | L39: =IF('Risk template'!A59="","",'Risk template'!U59) | M39: =IF('Risk template'!A59="","",'Risk template'!V59)
A40: =IF('Risk template'!A60="","",'Risk template'!A60) | B40: =IF('Risk template'!A60="","",'Risk template'!D60) | C40: =IF('Risk template'!A60="","",'Risk template'!F60) | D40: =IF('Risk template'!A60="","",'Risk template'!G60) | E40: =IF('Risk template'!A60="","",'Risk template'!M60) | F40: =IF('Risk template'!A60="","",'Risk template'!N60) | L40: =IF('Risk template'!A60="","",'Risk template'!U60) | M40: =IF('Risk template'!A60="","",'Risk template'!V60)
A41: =IF('Risk template'!A61="","",'Risk template'!A61) | B41: =IF('Risk template'!A61="","",'Risk template'!D61) | C41: =IF('Risk template'!A61="","",'Risk template'!F61) | D41: =IF('Risk template'!A61="","",'Risk template'!G61) | E41: =IF('Risk template'!A61="","",'Risk template'!M61) | F41: =IF('Risk template'!A61="","",'Risk template'!N61) | L41: =IF('Risk template'!A61="","",'Risk template'!U61) | M41: =IF('Risk template'!A61="","",'Risk template'!V61)
A42: =IF('Risk template'!A62="","",'Risk template'!A62) | B42: =IF('Risk template'!A62="","",'Risk template'!D62) | C42: =IF('Risk template'!A62="","",'Risk template'!F62) | D42: =IF('Risk template'!A62="","",'Risk template'!G62) | E42: =IF('Risk template'!A62="","",'Risk template'!M62) | F42: =IF('Risk template'!A62="","",'Risk template'!N62) | L42: =IF('Risk template'!A62="","",'Risk template'!U62) | M42: =IF('Risk template'!A62="","",'Risk template'!V62)
A43: =IF('Risk template'!A63="","",'Risk template'!A63) | B43: =IF('Risk template'!A63="","",'Risk template'!D63) | C43: =IF('Risk template'!A63="","",'Risk template'!F63) | D43: =IF('Risk template'!A63="","",'Risk template'!G63) | E43: =IF('Risk template'!A63="","",'Risk template'!M63) | F43: =IF('Risk template'!A63="","",'Risk template'!N63) | L43: =IF('Risk template'!A63="","",'Risk template'!U63) | M43: =IF('Risk template'!A63="","",'Risk template'!V63)
... A58: =IF('Risk template'!A78="","",'Risk template'!A78) | B58: =IF('Risk template'!A78="","",'Risk template'!D78) | C58: =IF('Risk template'!A78="","",'Risk template'!F78) | D58: =IF('Risk template'!A78="","",'Risk template'!G78) | E58: =IF('Risk template'!A78="","",'Risk template'!M78) | F58: =IF('Risk template'!A78="","",'Risk template'!N78) | L58: =IF('Risk template'!A78="","",'Risk template'!U78) | M58: =IF('Risk template'!A78="","",'Risk template'!V78)
A59: s | B59: =IF('Risk template'!A79="","",'Risk template'!D79) | C59: =IF('Risk template'!A79="","",'Risk template'!F79) | D59: =IF('Risk template'!A79="","",'Risk template'!G79) | E59: =IF('Risk template'!A79="","",'Risk template'!M79) | F59: =IF('Risk template'!A79="","",'Risk template'!N79) | L59: =IF('Risk template'!A79="","",'Risk template'!U79) | M59: =IF('Risk template'!A79="","",'Risk template'!V79)
A60: =IF('Risk template'!A80="","",'Risk template'!A80) | B60: =IF('Risk template'!A80="","",'Risk template'!D80) | C60: =IF('Risk template'!A80="","",'Risk template'!F80) | D60: =IF('Risk template'!A80="","",'Risk template'!G80) | E60: =IF('Risk template'!A80="","",'Risk template'!M80) | F60: =IF('Risk template'!A80="","",'Risk template'!N80) | L60: =IF('Risk template'!A80="","",'Risk template'!U80) | M60: =IF('Risk template'!A80="","",'Risk template'!V80)
A61: =IF('Risk template'!A81="","",'Risk template'!A81) | B61: =IF('Risk template'!A81="","",'Risk template'!D81) | C61: =IF('Risk template'!A81="","",'Risk template'!F81) | D61: =IF('Risk template'!A81="","",'Risk template'!G81) | E61: =IF('Risk template'!A81="","",'Risk template'!M81) | F61: =IF('Risk template'!A81="","",'Risk template'!N81) | L61: =IF('Risk template'!A81="","",'Risk template'!U81) | M61: =IF('Risk template'!A81="","",'Risk template'!V81)
A62: =IF('Risk template'!A82="","",'Risk template'!A82) | B62: =IF('Risk template'!A82="","",'Risk template'!D82) | C62: =IF('Risk template'!A82="","",'Risk template'!F82) | D62: =IF('Risk template'!A82="","",'Risk template'!G82) | E62: =IF('Risk template'!A82="","",'Risk template'!M82) | F62: =IF('Risk template'!A82="","",'Risk template'!N82) | L62: =IF('Risk template'!A82="","",'Risk template'!U82) | M62: =IF('Risk template'!A82="","",'Risk template'!V82)
A63: =IF('Risk template'!A83="","",'Risk template'!A83) | B63: =IF('Risk template'!A83="","",'Risk template'!D83) | C63: =IF('Risk template'!A83="","",'Risk template'!F83) | D63: =IF('Risk template'!A83="","",'Risk template'!G83) | E63: =IF('Risk template'!A83="","",'Risk template'!M83) | F63: =IF('Risk template'!A83="","",'Risk template'!N83) | L63: =IF('Risk template'!A83="","",'Risk template'!U83) | M63: =IF('Risk template'!A83="","",'Risk template'!V83)
A64: =IF('Risk template'!A84="","",'Risk template'!A84) | B64: =IF('Risk template'!A84="","",'Risk template'!D84) | C64: =IF('Risk template'!A84="","",'Risk template'!F84) | D64: =IF('Risk template'!A84="","",'Risk template'!G84) | E64: =IF('Risk template'!A84="","",'Risk template'!M84) | F64: =IF('Risk template'!A84="","",'Risk template'!N84) | L64: =IF('Risk template'!A84="","",'Risk template'!U84) | M64: =IF('Risk template'!A84="","",'Risk template'!V84)
A65: =IF('Risk template'!A85="","",'Risk template'!A85) | B65: =IF('Risk template'!A85="","",'Risk template'!D85) | C65: =IF('Risk template'!A85="","",'Risk template'!F85) | D65: =IF('Risk template'!A85="","",'Risk template'!G85) | E65: =IF('Risk template'!A85="","",'Risk template'!M85) | F65: =IF('Risk template'!A85="","",'Risk template'!N85) | L65: =IF('Risk template'!A85="","",'Risk template'!U85) | M65: =IF('Risk template'!A85="","",'Risk template'!V85)
A66: =IF('Risk template'!A86="","",'Risk template'!A86) | B66: =IF('Risk template'!A86="","",'Risk template'!D86) | C66: =IF('Risk template'!A86="","",'Risk template'!F86) | D66: =IF('Risk template'!A86="","",'Risk template'!G86) | E66: =IF('Risk template'!A86="","",'Risk template'!M86) | F66: =IF('Risk template'!A86="","",'Risk template'!N86) | G66: =IF('Risk template'!A86="","",'Risk template'!O86) | H66: =IF('Risk template'!A86="","",'Risk template'!P86) | J66: =IF('Risk template'!A86="","",'Risk template'!Q86) | K66: =IF('Risk template'!A86="","",'Risk template'!R86) | L66: =IF('Risk template'!A86="","",'Risk template'!U86) | M66: =IF('Risk template'!A86="","",'Risk template'!V86)
A67: =IF('Risk template'!A87="","",'Risk template'!A87) | B67: =IF('Risk template'!A87="","",'Risk template'!D87) | C67: =IF('Risk template'!A87="","",'Risk template'!F87) | D67: =IF('Risk template'!A87="","",'Risk template'!G87) | E67: =IF('Risk template'!A87="","",'Risk template'!M87) | F67: =IF('Risk template'!A87="","",'Risk template'!N87) | G67: =IF('Risk template'!A87="","",'Risk template'!O87) | H67: =IF('Risk template'!A87="","",'Risk template'!P87) | J67: =IF('Risk template'!A87="","",'Risk template'!Q87) | K67: =IF('Risk template'!A87="","",'Risk template'!R87) | L67: =IF('Risk template'!A87="","",'Risk template'!U87) | M67: =IF('Risk template'!A87="","",'Risk template'!V87)
A68: =IF('Risk template'!A88="","",'Risk template'!A88) | B68: =IF('Risk template'!A88="","",'Risk template'!D88) | C68: =IF('Risk template'!A88="","",'Risk template'!F88) | D68: =IF('Risk template'!A88="","",'Risk template'!G88) | E68: =IF('Risk template'!A88="","",'Risk template'!M88) | F68: =IF('Risk template'!A88="","",'Risk template'!N88) | G68: =IF('Risk template'!A88="","",'Risk template'!O88) | H68: =IF('Risk template'!A88="","",'Risk template'!P88) | J68: =IF('Risk template'!A88="","",'Risk template'!Q88) | K68: =IF('Risk template'!A88="","",'Risk template'!R88) | L68: =IF('Risk template'!A88="","",'Risk template'!U88) | M68: =IF('Risk template'!A88="","",'Risk template'!V88)
A69: =IF('Risk template'!A89="","",'Risk template'!A89) | B69: =IF('Risk template'!A89="","",'Risk template'!D89) | C69: =IF('Risk template'!A89="","",'Risk template'!F89) | D69: =IF('Risk template'!A89="","",'Risk template'!G89) | E69: =IF('Risk template'!A89="","",'Risk template'!M89) | F69: =IF('Risk template'!A89="","",'Risk template'!N89) | G69: =IF('Risk template'!A89="","",'Risk template'!O89) | H69: =IF('Risk template'!A89="","",'Risk template'!P89) | J69: =IF('Risk template'!A89="","",'Risk template'!Q89) | K69: =IF('Risk template'!A89="","",'Risk template'!R89) | L69: =IF('Risk template'!A89="","",'Risk template'!U89) | M69: =IF('Risk template'!A89="","",'Risk template'!V89)
A70: =IF('Risk template'!A90="","",'Risk template'!A90) | B70: =IF('Risk template'!A90="","",'Risk template'!D90) | C70: =IF('Risk template'!A90="","",'Risk template'!F90) | D70: =IF('Risk template'!A90="","",'Risk template'!G90) | E70: =IF('Risk template'!A90="","",'Risk template'!M90) | F70: =IF('Risk template'!A90="","",'Risk template'!N90) | G70: =IF('Risk template'!A90="","",'Risk template'!O90) | H70: =IF('Risk template'!A90="","",'Risk template'!P90) | J70: =IF('Risk template'!A90="","",'Risk template'!Q90) | K70: =IF('Risk template'!A90="","",'Risk template'!R90) | L70: =IF('Risk template'!A90="","",'Risk template'!U90) | M70: =IF('Risk template'!A90="","",'Risk template'!V90)
A71: =IF('Risk template'!A91="","",'Risk template'!A91) | B71: =IF('Risk template'!A91="","",'Risk template'!D91) | C71: =IF('Risk template'!A91="","",'Risk template'!F91) | D71: =IF('Risk template'!A91="","",'Risk template'!G91) | E71: =IF('Risk template'!A91="","",'Risk template'!M91) | F71: =IF('Risk template'!A91="","",'Risk template'!N91) | G71: =IF('Risk template'!A91="","",'Risk template'!O91) | H71: =IF('Risk template'!A91="","",'Risk template'!P91) | J71: =IF('Risk template'!A91="","",'Risk template'!Q91) | K71: =IF('Risk template'!A91="","",'Risk template'!R91) | L71: =IF('Risk template'!A91="","",'Risk template'!U91) | M71: =IF('Risk template'!A91="","",'Risk template'!V91)
A72: =IF('Risk template'!A92="","",'Risk template'!A92) | B72: =IF('Risk template'!A92="","",'Risk template'!D92) | C72: =IF('Risk template'!A92="","",'Risk template'!F92) | D72: =IF('Risk template'!A92="","",'Risk template'!G92) | E72: =IF('Risk template'!A92="","",'Risk template'!M92) | F72: =IF('Risk template'!A92="","",'Risk template'!N92) | G72: =IF('Risk template'!A92="","",'Risk template'!O92) | H72: =IF('Risk template'!A92="","",'Risk template'!P92) | J72: =IF('Risk template'!A92="","",'Risk template'!Q92) | K72: =IF('Risk template'!A92="","",'Risk template'!R92) | L72: =IF('Risk template'!A92="","",'Risk template'!U92) | M72: =IF('Risk template'!A92="","",'Risk template'!V92)
A73: =IF('Risk template'!A93="","",'Risk template'!A93) | B73: =IF('Risk template'!A93="","",'Risk template'!D93) | C73: =IF('Risk template'!A93="","",'Risk template'!F93) | D73: =IF('Risk template'!A93="","",'Risk template'!G93) | E73: =IF('Risk template'!A93="","",'Risk template'!M93) | F73: =IF('Risk template'!A93="","",'Risk template'!N93) | G73: =IF('Risk template'!A93="","",'Risk template'!O93) | H73: =IF('Risk template'!A93="","",'Risk template'!P93) | J73: =IF('Risk template'!A93="","",'Risk template'!Q93) | K73: =IF('Risk template'!A93="","",'Risk template'!R93) | L73: =IF('Risk template'!A93="","",'Risk template'!U93) | M73: =IF('Risk template'!A93="","",'Risk template'!V93)
A74: =IF('Risk template'!A94="","",'Risk template'!A94) | B74: =IF('Risk template'!A94="","",'Risk template'!D94) | C74: =IF('Risk template'!A94="","",'Risk template'!F94) | D74: =IF('Risk template'!A94="","",'Risk template'!G94) | E74: =IF('Risk template'!A94="","",'Risk template'!M94) | F74: =IF('Risk template'!A94="","",'Risk template'!N94) | G74: =IF('Risk template'!A94="","",'Risk template'!O94) | H74: =IF('Risk template'!A94="","",'Risk template'!P94) | J74: =IF('Risk template'!A94="","",'Risk template'!Q94) | K74: =IF('Risk template'!A94="","",'Risk template'!R94) | L74: =IF('Risk template'!A94="","",'Risk template'!U94) | M74: =IF('Risk template'!A94="","",'Risk template'!V94)
A75: =IF('Risk template'!A95="","",'Risk template'!A95) | B75: =IF('Risk template'!A95="","",'Risk template'!D95) | C75: =IF('Risk template'!A95="","",'Risk template'!F95) | D75: =IF('Risk template'!A95="","",'Risk template'!G95) | E75: =IF('Risk template'!A95="","",'Risk template'!M95) | F75: =IF('Risk template'!A95="","",'Risk template'!N95) | G75: =IF('Risk template'!A95="","",'Risk template'!O95) | H75: =IF('Risk template'!A95="","",'Risk template'!P95) | J75: =IF('Risk template'!A95="","",'Risk template'!Q95) | K75: =IF('Risk template'!A95="","",'Risk template'!R95) | L75: =IF('Risk template'!A95="","",'Risk template'!U95) | M75: =IF('Risk template'!A95="","",'Risk template'!V95)
A76: =IF('Risk template'!A96="","",'Risk template'!A96) | B76: =IF('Risk template'!A96="","",'Risk template'!D96) | C76: =IF('Risk template'!A96="","",'Risk template'!F96) | D76: =IF('Risk template'!A96="","",'Risk template'!G96) | E76: =IF('Risk template'!A96="","",'Risk template'!M96) | F76: =IF('Risk template'!A96="","",'Risk template'!N96) | G76: =IF('Risk template'!A96="","",'Risk template'!O96) | H76: =IF('Risk template'!A96="","",'Risk template'!P96) | J76: =IF('Risk template'!A96="","",'Risk template'!Q96) | K76: =IF('Risk template'!A96="","",'Risk template'!R96) | L76: =IF('Risk template'!A96="","",'Risk template'!U96) | M76: =IF('Risk template'!A96="","",'Risk template'!V96)
A77: =IF('Risk template'!A97="","",'Risk template'!A97) | B77: =IF('Risk template'!A97="","",'Risk template'!D97) | C77: =IF('Risk template'!A97="","",'Risk template'!F97) | D77: =IF('Risk template'!A97="","",'Risk template'!G97) | E77: =IF('Risk template'!A97="","",'Risk template'!M97) | F77: =IF('Risk template'!A97="","",'Risk template'!N97) | G77: =IF('Risk template'!A97="","",'Risk template'!O97) | H77: =IF('Risk template'!A97="","",'Risk template'!P97) | J77: =IF('Risk template'!A97="","",'Risk template'!Q97) | K77: =IF('Risk template'!A97="","",'Risk template'!R97) | L77: =IF('Risk template'!A97="","",'Risk template'!U97) | M77: =IF('Risk template'!A97="","",'Risk template'!V97)
... A155: =IF('Risk template'!A175="","",'Risk template'!A175) | B155: =IF('Risk template'!A175="","",'Risk template'!D175) | C155: =IF('Risk template'!A175="","",'Risk template'!F175) | D155: =IF('Risk template'!A175="","",'Risk template'!G175) | E155: =IF('Risk template'!A175="","",'Risk template'!M175) | F155: =IF('Risk template'!A175="","",'Risk template'!N175) | G155: =IF('Risk template'!A175="","",'Risk template'!O175) | H155: =IF('Risk template'!A175="","",'Risk template'!P175) | J155: =IF('Risk template'!A175="","",'Risk template'!Q175) | K155: =IF('Risk template'!A175="","",'Risk template'!R175) | L155: =IF('Risk template'!A175="","",'Risk template'!U175) | M155: =IF('Risk template'!A175="","",'Risk template'!V175)
