Workbook
Name ACB: SUM(NHC_FAR!$BD1:$BF1,NHC_FAR!$BH1:$BJ1,NHC_FAR!$BM1)
Name Accounting_Policy_Change_confirmation: IF(OR(NHC_FAR!#REF!={0,""}),"No Change - New Asset",IF(NHC_FAR!#REF!=NHC_FAR!$AI1,"No Change","Change"))
Name Additions: IF(NHC_FAR!$AS1="Deemed Cost",IF(NHC_FAR!#REF!>=DATE(YEAR(NHC_FAR!$B$3)-1,7,1),NHC_FAR!#REF!,0),IF(NHC_FAR!#REF!>=DATE(YEAR(NHC_FAR!$B$3)-1,7,1),INDEX(#REF!,MATCH(NHC_FAR!$A1,#REF!,0)),0))
Name Annual_depreciation__not_to_be_used_for_accounting: IF(OR(NHC_FAR!$O1=NDA),0,IF(NHC_FAR!$AS1="Actual cost",-(NHC_FAR!$AY1-NHC_FAR!#REF!)/NHC_FAR!$AI1,-((NHC_FAR!#REF!-NHC_FAR!#REF!)/NHC_FAR!$AI1)))
Name C_1: INDEX(#REF!,MATCH(NHC_FAR!$E1,#REF!,0))
Name C_2: INDEX(#REF!,MATCH(NHC_FAR!$G1,#REF!,0))
Name C_3: INDEX(#REF!,MATCH(NHC_FAR!$I1,#REF!,0))
Name C_4: INDEX(#REF!,MATCH(NHC_FAR!#REF!,#REF!,0))
Name C_5: INDEX(#REF!,MATCH(NHC_FAR!$O1,#REF!,0))
Name C_6: INDEX(#REF!,MATCH(NHC_FAR!$Q1,#REF!,0))
Name CAI: SUM(NHC_FAR!$BO1:$BR1)
Name CCB: SUM(NHC_FAR!$AT1:$AW1)
Name CCV: NHC_FAR!$AY1+NHC_FAR!$BN1+NHC_FAR!$BS1
Name COB: SUM(NHC_FAR!$AT1:$AW1)
Name Compopt: _xlfn.IFNA(INDEX(#REF!,MATCH(NHC_FAR!$R1,#REF!,0)),"POLICY ERROR!!!")
Name Con_q: IF(NHC_FAR!#REF!="5","Very Poor",IF(NHC_FAR!#REF!="4","Poor",IF(NHC_FAR!#REF!="3","Fair",IF(NHC_FAR!#REF!="2","Good","Very Good"))))
Name ConB_RUL_Lower: IFERROR(INDEX(#REF!,MATCH(NHC_FAR!$AI1,#REF!,0),MATCH(NHC_FAR!#REF!,#REF!,0)-1),"NA")
Name ConB_RUL_Median: IFERROR(INDEX(#REF!,MATCH(NHC_FAR!$AI1,#REF!,0),MATCH(NHC_FAR!#REF!,#REF!,0)),"NA")
Name ConB_RUL_Upper: IFERROR(INDEX(#REF!,MATCH(NHC_FAR!$AI1,#REF!,0),MATCH(NHC_FAR!#REF!,#REF!,0)+1),"NA")
Name Condition_assessment: IF(NHC_FAR!#REF!="","NA",NHC_FAR!#REF!)
Name Cost_Opening_NewAssets: IF(NHC_FAR!$AS1="Deemed Cost",IF(NHC_FAR!#REF!<=DATE(YEAR(NHC_FAR!$B$3)-1,6,30),NHC_FAR!#REF!,0),IF(NHC_FAR!#REF!<=DATE(YEAR(NHC_FAR!$B$3)-1,6,30),INDEX(#REF!,MATCH(NHC_FAR!$A1,#REF!,0)),0))
Name CPA_Ref: INDEX(#REF!,MATCH(NHC_FAR!$R1,#REF!,0),17)
Name CPAperiodBase: IF(OR(NHC_FAR!#REF!={"",0,"NA - Actual Cost"}),"",NHC_FAR!#REF!&" "&LEFT(NHC_FAR!#REF!,7)&" to "&INDEX(#REF!,MATCH(NHC_FAR!$R1,#REF!,0))&" factor")
Name CRC: IF(OR(NHC_FAR!#REF!={"",0}),"",IF(OR(NHC_FAR!UnitRate="NA - Actual cost",NHC_FAR!UnitRate=""),"",IF(NHC_FAR!#REF!=NHC_FAR!#REF!,NHC_FAR!#REF!*NHC_FAR!$AA1,NHC_FAR!#REF!*NHC_FAR!#REF!*NHC_FAR!$AA1)))
Name CRC_CPA_ADJ: IF(OR(NHC_FAR!#REF!={"",0,"NA - Actual Cost"}),"",NHC_FAR!#REF!/NHC_FAR!#REF!*NHC_FAR!#REF!)
Name Dereg_AccDep: IF(NHC_FAR!#REF!="Yes",-SUM(NHC_FAR!$BD1:$BF1,NHC_FAR!$BH1:$BJ1),0)
Name Dereg_AccImp: IF(NHC_FAR!#REF!="Yes",-SUM(NHC_FAR!$BO1:$BQ1),0)
Name Dereg_Cost: IF(NHC_FAR!#REF!="Yes",-SUM(NHC_FAR!$AT1:$AV1),0)
Name DescrClass: _xlfn.IFNA(INDEX(#REF!,MATCH(NHC_FAR!$R1,#REF!,0)),"")
Name DRC_CPA_ADJ: IF(OR(NHC_FAR!#REF!={"",0,"NA - Actual Cost"}),"",NHC_FAR!#REF!/NHC_FAR!#REF!*NHC_FAR!#REF!)
Name EUL: _xlfn.IFNA(INDEX(#REF!,MATCH(NHC_FAR!$R1,#REF!,0)),"")
Name FC: "FX005002001000000000000000000000000"
Name FClass: "Finance and Administration : Asset Management"
Name General_List: INDEX(#REF!,0,MATCH(NHC_FAR!A$6,#REF!,0))
Name General_List_F: OFFSET(NHC_FAR!General_List,0,0,COUNTA(NHC_FAR!General_List),1)
Name General_List_F: OFFSET(NHC_FAR!General_List,0,0,COUNTA(NHC_FAR!General_List),1)
Name General_List_F: OFFSET(NHC_FAR!General_List,0,0,COUNTA(NHC_FAR!General_List),1)
Name General_List_F: OFFSET(NHC_FAR!General_List,0,0,COUNTA(NHC_FAR!General_List),1)
Name Mpumalanga: #REF!
Name NDA: OFFSET(NDAL,1,,COUNTA(NDAL)-1,1)
Name NDAL: INDEX(#REF!,,2)
Name No_Imp_Dep_Closing: IF(OR(NHC_FAR!$O1=NDA),0,-(NHC_FAR!$AY1-(((NHC_FAR!$AY1-NHC_FAR!#REF!)*NHC_FAR!$AO1/NHC_FAR!$AI1)+NHC_FAR!#REF!)))
Name No_Imp_Dep_CY: NHC_FAR!#REF!-NHC_FAR!$BU1
Name No_Imp_Dep_Opening: IF(OR(NHC_FAR!$O1=NDA),0,-(NHC_FAR!$AY1-(((NHC_FAR!$AY1-NHC_FAR!#REF!)*NHC_FAR!$AO1/NHC_FAR!$AI1)+NHC_FAR!#REF!)))
Name North_West: #REF!
Name RULBCC: IF(OR(NHC_FAR!$O1=NDA),"NA",IF(NHC_FAR!#REF!<1,0,NHC_FAR!#REF!-1))
Name RV: IFERROR(IF(OR(NHC_FAR!$O1=NDA),"NA",IF(NHC_FAR!$AS1="Deemed cost",NHC_FAR!#REF!*NHC_FAR!#REF!,NHC_FAR!#REF!*NHC_FAR!$AY1)),"ERROR!!!")
Name RVperc: INDEX(#REF!,MATCH(NHC_FAR!$R1,#REF!,0),MATCH("Residual Value (%)",#REF!,0))
Name Site_extent_unit_measure: _xlfn.IFNA(INDEX(#REF!,MATCH(NHC_FAR!$R1,#REF!,0)),"")
Name Size: _xlfn.IFNA(INDEX(#REF!,MATCH(NHC_FAR!$R1,#REF!,0)),"")
Name Size_unit: _xlfn.IFNA(INDEX(#REF!,MATCH(NHC_FAR!$R1,#REF!,0)),"")
Name TblAccGroup: [2]!Table114[#Headers]
Name TblAssetCategory: OFFSET('[2]TAR Model'!TblAssetCategoryList,0,0,COUNTA('[2]TAR Model'!TblAssetCategoryList),1)
Name Translator: IFERROR(INDEX(#REF!,MATCH(NHC_FAR!$Y1,#REF!,0)),"Update of Mscoa table needed")
Name UnitRate: IF(FAR[[#This Row],[Valuation method]]="Actual cost","NA - Actual Cost",INDEX(INDIRECT(SUBSTITUTE(NHC_FAR!$B$1," ","_",1)),MATCH(NHC_FAR!$R1,#REF!,0)))
Name URCode: IF(OR(NHC_FAR!#REF!={"",0},NHC_FAR!$AS1={"Actual Cost"}),"",_xlfn.IFNA(INDEX(#REF!,MATCH(NHC_FAR!$R1,#REF!,0)),""))
Name URmeasure: IF(OR(NHC_FAR!#REF!={"",0},NHC_FAR!$AS1={"Actual Cost"}),"",_xlfn.IFNA(INDEX(#REF!,MATCH(NHC_FAR!$R1,#REF!,0)),""))

Sheet Proposed journals
A2: Proposed Adjusting Journals
A3: No. | B3: Description | H3: 2022 | I3: 2023
B4: Current year movement
A5: 1 | B5: Dr | C5: Depreciation - FURNITURE AND FITTINGS | I5: =-I10 -> 99239.56
A6: 1 | B6: Dr | C6: Depreciation - COMPUTER EQUIPMENT | I6: =-I11 -> 1306109.9
A7: 1 | B7: Dr | C7: Depreciation - MOTOR VEHICLES | I7: =-I12 -> 69472.914
A8: 1 | B8: Dr | C8: Depreciation - LEASEHOLD IMPROVEMENTS | I8: 324278.05
A9: 1 | B9: Dr | C9: Depreciation - OFFICE EQUIPMENT AND TOOLS | I9: =-I14 -> 71032.24
A10: 1 | B10: Cr | C10: Accumulated Depreciation - FURNITURE AND FITTINGS | I10: ='Disclosure per Register'!H15 -> -99239.56
A11: 1 | B11: Dr | C11: Accumulated Depreciation - COMPUTER EQUIPMENT | I11: ='Disclosure per Register'!H16 -> -1306109.9
A12: 1 | B12: Cr | C12: Accumulated Depreciation - MOTOR VEHICLES | I12: ='Disclosure per Register'!H17 -> -69472.914
A13: 1 | B13: Dr | C13: Accumulated Depreciation - LEASEHOLD IMPROVEMENTS | I13: ='Disclosure per Register'!H18 -> -945935.23
A14: 1 | B14: Cr | C14: Accumulated Depreciation - OFFICE EQUIPMENT AND TOOLS | I14: ='Disclosure per Register'!H19 -> -71032.24
B15: Current year depreciation
A18: 2 | B18: Dr | C18: Accumulated Depreciation - COMPUTER EQUIPMENT | I18: 25227.813
A19: 2 | B19: Dr | C19: Asset Write - off/ disposal/ Derec | I19: 475.99667
A20: 2 | B20: Cr | C20: COMPUTER EQUIPMENT | I20: -25703.81
A22: 2 | B22: Dr | C22: Accumulated Depreciation - OFFICE EQUIPMENT AND TOOLS | I22: 13792.604
A23: 2 | B23: Dr | C23: Asset Write - off/ disposal/ Derec | I23: 8192.2659
A24: 2 | B24: Cr | C24: OFFICE EQUIPMENT AND TOOLS | I24: -21984.87
B25: Derecognition of asset no longer in use
A27: 3 | B27: Dr | C27: Accumulated Depreciation - FURNITURE AND FITTINGS | I27: =GETPIVOTDATA("Sum of Derecognitions (acc dep) [+]",'FAR Pivot'!$A$3,"Asset Category","Movable assets","Asset Sub Category","FURNITURE AND FITTINGS","Sub class Item","Other Assets") -> 0
A28: 3 | B28: Dr | C28: Asset Write - off/ disposal/ Derec | I28: 38489.936
A29: 3 | B29: Cr | C29: Cost - FURNITURE AND FITTINGS | I29: =GETPIVOTDATA("Sum of Derecognitions [-]",'FAR Pivot'!$A$3,"Asset Category","Movable assets","Asset Sub Category","FURNITURE AND FITTINGS","Sub class Item","Other Assets") -> 0
A31: 3 | B31: Dr | C31: Accumulated Depreciation - COMPUTER EQUIPMENT | I31: =GETPIVOTDATA("Sum of Derecognitions (acc dep) [+]",'FAR Pivot'!$A$3,"Asset Category","Movable assets","Asset Sub Category","COMPUTER EQUIPMENT","Sub class Item","Other Assets")-I18 -> -25227.813
A32: 3 | B32: Dr | C32: Asset Write - off/ disposal/ Derec | I32: 278581.58
A33: 3 | B33: Cr | C33: COMPUTER EQUIPMENT | I33: =GETPIVOTDATA("Sum of Derecognitions [-]",'FAR Pivot'!$A$3,"Asset Category","Movable assets","Asset Sub Category","COMPUTER EQUIPMENT","Sub class Item","Other Assets") -> 0
A35: 3 | B35: Dr | C35: Accumulated Depreciation - OFFICE EQUIPMENT AND TOOLS | I35: =GETPIVOTDATA("Sum of Derecognitions (acc dep) [+]",'FAR Pivot'!$A$3,"Asset Category","Movable assets","Asset Sub Category","OFFICE EQUIPMENT AND TOOLS","Sub class Item","Other Assets")-I22 -> -13792.604
A36: 3 | B36: Dr | C36: Asset Write - off/ disposal/ Derec | I36: 29765.058
A37: 3 | B37: Cr | C37: OFFICE EQUIPMENT AND TOOLS | I37: =GETPIVOTDATA("Sum of Derecognitions [-]",'FAR Pivot'!$A$3,"Asset Category","Movable assets","Asset Sub Category","OFFICE EQUIPMENT AND TOOLS","Sub class Item","Other Assets")-I24 -> 21984.87
B38: Derecognition of asset no longer in use

Sheet Tie-in
E15: AFS
A16: Property Plant and Equipment | E16: 2019
E17: Cost | F17: Accumulated Depreciation and Impairment | G17: Carrying Value
B18: Movables
B19: Furniture and fixtures | E19: 20868154 | F19: -17196748 | G19: =E19+F19 -> 3671406
B20: Total | E20: =SUM(E19) -> 20868154 | F20: =SUM(F19) -> -17196748 | G20: =SUM(G19) -> 3671406
E22: FAR
E23: 2019
E24: Cost | F24: Accumulated Depreciation and Impairment | G24: Carrying Value
B25: OTHER ASSETS | E25: 1392555.6 | F25: -705661.05 | G25: 686894.52
B26: FURNITURE AND FITTINGS | E26: 2873711.7 | F26: -1922840.3 | G26: 950871.39
B27: COMPUTER EQUIPMENT | E27: 2287443 | F27: -1000872.8 | G27: 1286570.3
B28: OFFICE EQUIPMENT | E28: 852504.67 | F28: -367477.36 | G28: 485027.31
B29: MOTOR VEHICLES | E29: 9310066 | F29: -6390789.7 | G29: 2919276.3
B30: PLANT AND MACHINERY | E30: 4302267.2 | F30: -2116675.9 | G30: 2185591.2
B31: Total | E31: =SUM(E25:E30) -> 21018548 | F31: =SUM(F25:F30) -> -12504317 | G31: =SUM(G25:G30) -> 8514231
E33: Difference
E34: Cost | F34: Accumulated Depreciation and Impairment | G34: Carrying Value
B35: Furniture and fixtures | E35: =E20-E31 -> -150394.13 | F35: =F20-F31 -> -4692430.9 | G35: =G20-G31 -> -4842825
E36: =SUM(E35) -> -150394.13 | F36: =SUM(F35) -> -4692430.9 | G36: =SUM(G35) -> -4842825

Sheet Disclosure per Register
A1: Property, Plant and Equipment
D2: 2026 | H2: 2025
C3: Cost / Valuation | D3: Accumulated depreciation and accumulated impairment | E3: Carrying value | G3: Cost / Valuation | H3: Accumulated depreciation and accumulated impairment | I3: Carrying value
A4: PPE Movables
B5: FURNITURE AND FITTINGS | C5: =GETPIVOTDATA("Sum of Cost Price (closing balance)",'FAR Pivot'!$A$3,"Asset Category","Movable assets","Asset Sub Category","FURNITURE AND FITTINGS","Sub class Item","Other Assets") -> 1565343 | D5: =GETPIVOTDATA("Sum of Accumulated depreciation (Closing balance)",'FAR Pivot'!$A$3,"Asset Category","Movable assets","Asset Sub Category","FURNITURE AND FITTINGS","Sub class Item","Other Assets") -> -1472008.8 | E5: =C5+D5 -> 93334.156 | G5: =GETPIVOTDATA("Sum of Cost Price (opening balance)",'FAR Pivot'!$A$3,"Asset Category","Movable assets","Asset Sub Category","FURNITURE AND FITTINGS","Sub class Item","Other Assets") -> 1565343 | H5: =GETPIVOTDATA("Sum of Accumulated depreciation (Opening balance)",'FAR Pivot'!$A$3,"Asset Category","Movable assets","Asset Sub Category","FURNITURE AND FITTINGS","Sub class Item","Other Assets") -> -1372769.3 | I5: =G5+H5 -> 192573.72
B6: COMPUTER EQUIPMENT | C6: =GETPIVOTDATA("Sum of Cost Price (closing balance)",'FAR Pivot'!$A$3,"Asset Category","Movable assets","Asset Sub Category","COMPUTER EQUIPMENT","Sub class Item","Other Assets") -> 7940229.2 | D6: =GETPIVOTDATA("Sum of Accumulated depreciation (Closing balance)",'FAR Pivot'!$A$3,"Asset Category","Movable assets","Asset Sub Category","COMPUTER EQUIPMENT","Sub class Item","Other Assets")+GETPIVOTDATA("Sum of Accumulated impairments (Closing balance)",'FAR Pivot'!$A$3,"Asset Category","Movable assets","Asset Sub Category","COMPUTER EQUIPMENT","Sub class Item","Other Assets")-GETPIVOTDATA("Sum of Accumulated impairments (Closing balance)",'FAR Pivot'!$A$3,"Asset Category","Movable assets","Asset Sub Category","COMPUTER EQUIPMENT","Sub class Item","Other Assets") -> -3606993.5 | E6: =C6+D6 -> 4333235.7 | G6: =GETPIVOTDATA("Sum of Cost Price (opening balance)",'FAR Pivot'!$A$3,"Asset Category","Movable assets","Asset Sub Category","COMPUTER EQUIPMENT","Sub class Item","Other Assets") -> 7929500.8 | H6: =GETPIVOTDATA("Sum of Accumulated depreciation (Opening balance)",'FAR Pivot'!$A$3,"Asset Category","Movable assets","Asset Sub Category","COMPUTER EQUIPMENT","Sub class Item","Other Assets") -> -2300883.5 | I6: =G6+H6 -> 5628617.3
B7: MOTOR VEHICLES | C7: =GETPIVOTDATA("Sum of Cost Price (closing balance)",'FAR Pivot'!$A$3,"Asset Category","Movable assets","Asset Sub Category","MOTOR VEHICLES","Sub class Item","Other Assets") -> 456050.95 | D7: =GETPIVOTDATA("Sum of Accumulated depreciation (Closing balance)",'FAR Pivot'!$A$3,"Asset Category","Movable assets","Asset Sub Category","MOTOR VEHICLES","Sub class Item","Other Assets") -> -395523.87 | E7: =C7+D7 -> 60527.086 | G7: =GETPIVOTDATA("Sum of Cost Price (opening balance)",'FAR Pivot'!$A$3,"Asset Category","Movable assets","Asset Sub Category","MOTOR VEHICLES","Sub class Item","Other Assets") -> 456050.95 | H7: =GETPIVOTDATA("Sum of Accumulated depreciation (Opening balance)",'FAR Pivot'!$A$3,"Asset Category","Movable assets","Asset Sub Category","MOTOR VEHICLES","Sub class Item","Other Assets") -> -326050.95 | I7: =G7+H7 -> 130000
B8: LEASEHOLD IMPROVEMENTS | C8: =GETPIVOTDATA("Sum of Cost Price (closing balance)",'FAR Pivot'!$A$3,"Asset Category","Movable assets","Asset Sub Category","LEASEHOLD IMPROVEMENTS","Sub class Item","Other Assets") -> 4729676.1 | D8: =GETPIVOTDATA("Sum of Accumulated depreciation (Closing balance)",'FAR Pivot'!$A$3,"Asset Category","Movable assets","Asset Sub Category","LEASEHOLD IMPROVEMENTS","Sub class Item","Other Assets") -> -1731191 | E8: =C8+D8 -> 2998485.1 | G8: =GETPIVOTDATA("Sum of Cost Price (opening balance)",'FAR Pivot'!$A$3,"Asset Category","Movable assets","Asset Sub Category","LEASEHOLD IMPROVEMENTS","Sub class Item","Other Assets") -> 4729676.1 | H8: =GETPIVOTDATA("Sum of Accumulated depreciation (Opening balance)",'FAR Pivot'!$A$3,"Asset Category","Movable assets","Asset Sub Category","LEASEHOLD IMPROVEMENTS","Sub class Item","Other Assets") -> -785255.82 | I8: =G8+H8 -> 3944420.3
B9: OFFICE EQUIPMENT AND TOOLS | C9: =GETPIVOTDATA("Sum of Cost Price (closing balance)",'FAR Pivot'!$A$3,"Asset Category","Movable assets","Asset Sub Category","OFFICE EQUIPMENT AND TOOLS","Sub class Item","Other Assets") -> 632812.09 | D9: =GETPIVOTDATA("Sum of Accumulated depreciation (Closing balance)",'FAR Pivot'!$A$3,"Asset Category","Movable assets","Asset Sub Category","OFFICE EQUIPMENT AND TOOLS","Sub class Item","Other Assets")+GETPIVOTDATA("Sum of Accumulated impairments (Closing balance)",'FAR Pivot'!$A$3,"Asset Category","Movable assets","Asset Sub Category","OFFICE EQUIPMENT AND TOOLS","Sub class Item","Other Assets")-GETPIVOTDATA("Sum of Accumulated impairments (Closing balance)",'FAR Pivot'!$A$3,"Asset Category","Movable assets","Asset Sub Category","OFFICE EQUIPMENT AND TOOLS","Sub class Item","Other Assets") -> -435767.43 | E9: =C9+D9 -> 197044.66 | G9: =GETPIVOTDATA("Sum of Cost Price (opening balance)",'FAR Pivot'!$A$3,"Asset Category","Movable assets","Asset Sub Category","OFFICE EQUIPMENT AND TOOLS","Sub class Item","Other Assets") -> 632812.09 | H9: =GETPIVOTDATA("Sum of Accumulated depreciation (Opening balance)",'FAR Pivot'!$A$3,"Asset Category","Movable assets","Asset Sub Category","OFFICE EQUIPMENT AND TOOLS","Sub class Item","Other Assets") -> -364735.19 | I9: =G9+H9 -> 268076.9
C10: =SUM(C5:C9) -> 15324111 | D10: =SUM(D5:D9) -> -7641484.6 | E10: =SUM(E5:E9) -> 7682626.7 | G10: =SUM(G4:G9) -> 15313383 | H10: =SUM(H4:H9) -> -5149694.8 | I10: =SUM(I4:I9) -> 10163688
C11: 0 | E11: =E10-J20 -> 0 | I11: =I10-C20 -> 0
A12: Reconciliation of property, plant and equipment - 2026
C14: Opening balance | D14: Additions | E14: Disposals | F14: Transfers | G14: Other | H14: Depreciation | I14: Impairments | J14: Total
B15: FURNITURE AND FITTINGS | C15: =GETPIVOTDATA("Sum of Cost Price (opening balance)",'FAR Pivot'!$A$3,"Asset Category","Movable assets","Asset Sub Category","FURNITURE AND FITTINGS","Sub class Item","Other Assets")+GETPIVOTDATA("Sum of Accumulated depreciation (Opening balance)",'FAR Pivot'!$A$3,"Asset Category","Movable assets","Asset Sub Category","FURNITURE AND FITTINGS","Sub class Item","Other Assets") -> 192573.72 | D15: =GETPIVOTDATA("Sum of Additions capitalised (@actual cost)",'FAR Pivot'!$A$3,"Asset Category","Movable assets","Asset Sub Category","FURNITURE AND FITTINGS","Sub class Item","Other Assets") -> 0 | E15: =GETPIVOTDATA("Sum of Derecognitions [-]",'FAR Pivot'!$A$3,"Asset Category","Movable assets","Asset Sub Category","FURNITURE AND FITTINGS","Sub class Item","Other Assets")+GETPIVOTDATA("Sum of Derecognitions (acc dep) [+]",'FAR Pivot'!$A$3,"Asset Category","Movable assets","Asset Sub Category","FURNITURE AND FITTINGS","Sub class Item","Other Assets") -> 0 | F15: 0 | G15: 0 | H15: =GETPIVOTDATA("Sum of Depreciation YTD",'FAR Pivot'!$A$3,"Asset Category","Movable assets","Asset Sub Category","FURNITURE AND FITTINGS","Sub class Item","Other Assets") -> -99239.56 | I15: 0 | J15: =C15+D15+H15+E15 -> 93334.156 | K15: =E5-J15 -> -4.5401976e-09
B16: COMPUTER EQUIPMENT | C16: =GETPIVOTDATA("Sum of Cost Price (opening balance)",'FAR Pivot'!$A$3,"Asset Category","Movable assets","Asset Sub Category","COMPUTER EQUIPMENT","Sub class Item","Other Assets")+GETPIVOTDATA("Sum of Accumulated depreciation (Opening balance)",'FAR Pivot'!$A$3,"Asset Category","Movable assets","Asset Sub Category","COMPUTER EQUIPMENT","Sub class Item","Other Assets") -> 5628617.3 | D16: =GETPIVOTDATA("Sum of Additions capitalised (@actual cost)",'FAR Pivot'!$A$3,"Asset Category","Movable assets","Asset Sub Category","COMPUTER EQUIPMENT","Sub class Item","Other Assets") -> 10728.35 | E16: =GETPIVOTDATA("Sum of Derecognitions [-]",'FAR Pivot'!$A$3,"Asset Category","Movable assets","Asset Sub Category","COMPUTER EQUIPMENT","Sub class Item","Other Assets")+GETPIVOTDATA("Sum of Derecognitions (acc dep) [+]",'FAR Pivot'!$A$3,"Asset Category","Movable assets","Asset Sub Category","COMPUTER EQUIPMENT","Sub class Item","Other Assets") -> 0 | F16: 0 | G16: 0 | H16: =GETPIVOTDATA("Sum of Depreciation YTD",'FAR Pivot'!$A$3,"Asset Category","Movable assets","Asset Sub Category","COMPUTER EQUIPMENT","Sub class Item","Other Assets") -> -1306109.9 | I16: =GETPIVOTDATA("Sum of Annual impairment",'FAR Pivot'!$A$3,"Asset Category","Movable assets","Asset Sub Category","COMPUTER EQUIPMENT","Sub class Item","Other Assets") -> 0 | J16: =C16+D16+H16+E16+I16 -> 4333235.7 | K16: =E6-J16 -> 0
B17: MOTOR VEHICLES | C17: =GETPIVOTDATA("Sum of Cost Price (opening balance)",'FAR Pivot'!$A$3,"Asset Category","Movable assets","Asset Sub Category","MOTOR VEHICLES","Sub class Item","Other Assets")+GETPIVOTDATA("Sum of Accumulated depreciation (Opening balance)",'FAR Pivot'!$A$3,"Asset Category","Movable assets","Asset Sub Category","MOTOR VEHICLES","Sub class Item","Other Assets") -> 130000 | D17: 0 | E17: 0 | F17: 0 | G17: =GETPIVOTDATA("Sum of Revaluation Adjustment Cost",'FAR Pivot'!$A$3,"Asset Category","Movable assets","Asset Sub Category","MOTOR VEHICLES","Sub class Item","Other Assets") -> 0 | H17: =GETPIVOTDATA("Sum of Depreciation YTD",'FAR Pivot'!$A$3,"Asset Category","Movable assets","Asset Sub Category","MOTOR VEHICLES","Sub class Item","Other Assets") -> -69472.914 | I17: 0 | J17: =C17+D17+H17+G17 -> 60527.086 | K17: =E7-J17 -> 0
B18: LEASEHOLD IMPROVEMENTS | C18: =GETPIVOTDATA("Sum of Cost Price (opening balance)",'FAR Pivot'!$A$3,"Asset Category","Movable assets","Asset Sub Category","LEASEHOLD IMPROVEMENTS","Sub class Item","Other Assets")+GETPIVOTDATA("Sum of Accumulated depreciation (Opening balance)",'FAR Pivot'!$A$3,"Asset Category","Movable assets","Asset Sub Category","LEASEHOLD IMPROVEMENTS","Sub class Item","Other Assets") -> 3944420.3 | D18: =GETPIVOTDATA("Sum of Additions capitalised (@actual cost)",'FAR Pivot'!$A$3,"Asset Category","Movable assets","Asset Sub Category","LEASEHOLD IMPROVEMENTS","Sub class Item","Other Assets") -> 0 | E18: 0 | F18: 0 | G18: 0 | H18: =GETPIVOTDATA("Sum of Depreciation YTD",'FAR Pivot'!$A$3,"Asset Category","Movable assets","Asset Sub Category","LEASEHOLD IMPROVEMENTS","Sub class Item","Other Assets") -> -945935.23 | I18: 0 | J18: =C18+D18+H18 -> 2998485.1 | K18: =E8-J18 -> 0
B19: OFFICE EQUIPMENT AND TOOLS | C19: =GETPIVOTDATA("Sum of Cost Price (opening balance)",'FAR Pivot'!$A$3,"Asset Category","Movable assets","Asset Sub Category","OFFICE EQUIPMENT AND TOOLS","Sub class Item","Other Assets")+GETPIVOTDATA("Sum of Accumulated depreciation (Opening balance)",'FAR Pivot'!$A$3,"Asset Category","Movable assets","Asset Sub Category","OFFICE EQUIPMENT AND TOOLS","Sub class Item","Other Assets") -> 268076.9 | D19: =GETPIVOTDATA("Sum of Additions capitalised (@actual cost)",'FAR Pivot'!$A$3,"Asset Category","Movable assets","Asset Sub Category","OFFICE EQUIPMENT AND TOOLS","Sub class Item","Other Assets") -> 0 | E19: =GETPIVOTDATA("Sum of Derecognitions [-]",'FAR Pivot'!$A$3,"Asset Category","Movable assets","Asset Sub Category","OFFICE EQUIPMENT AND TOOLS","Sub class Item","Other Assets")+GETPIVOTDATA("Sum of Derecognitions (acc dep) [+]",'FAR Pivot'!$A$3,"Asset Category","Movable assets","Asset Sub Category","OFFICE EQUIPMENT AND TOOLS","Sub class Item","Other Assets") -> 0 | F19: 0 | G19: 0 | H19: =GETPIVOTDATA("Sum of Depreciation YTD",'FAR Pivot'!$A$3,"Asset Category","Movable assets","Asset Sub Category","OFFICE EQUIPMENT AND TOOLS","Sub class Item","Other Assets") -> -71032.24 | I19: =GETPIVOTDATA("Sum of Annual impairment",'FAR Pivot'!$A$3,"Asset Category","Movable assets","Asset Sub Category","OFFICE EQUIPMENT AND TOOLS","Sub class Item","Other Assets") -> 0 | J19: =C19+D19+H19+E19+I19 -> 197044.66 | K19: =E9-J19 -> 0
C20: =SUM(C15:C19) -> 10163688 | D20: =SUM(D15:D19) -> 10728.35 | E20: =SUM(E15:E19) -> 0 | F20: 0 | G20: 0 | H20: =SUM(H15:H19) -> -2491789.9 | I20: 0 | J20: =SUM(J15:J19) -> 7682626.7
A22: Reconciliation of property, plant and equipment - 2022
C24: Opening balance | D24: Additions | E24: Disposals | F24: Transfers | G24: Other | H24: Depreciation | I24: Impairments | J24: Total
B25: FURNITURE AND FITTINGS | C25: 766749.91 | D25: 0 | E25: -1638.07 | F25: 0 | G25: 0 | H25: -260754.35 | I25: 0 | J25: 504357.49
B26: COMPUTER EQUIPMENT | C26: 1067715.3 | D26: 626049.41 | E26: -9864.73 | F26: 0 | G26: 0 | H26: -648124.88 | I26: 0 | J26: 1035775.1
B27: MOTOR VEHICLES | C27: 72963.05 | D27: 0 | E27: 0 | F27: 0 | G27: 0 | H27: -38991.967 | I27: 0 | J27: 33971.083
B28: LEASEHOLD IMPROVEMENTS | C28: 1066574.8 | D28: 0 | E28: 0 | F28: 0 | G28: 0 | H28: -324278.05 | I28: 0 | J28: 742296.74
B29: OFFICE EQUIPMENT AND TOOLS | C29: 214975 | D29: 19997.5 | E29: -19822.27 | F29: 0 | G29: 0 | H29: -67834.008 | I29: 0 | J29: 147316.23
B30: COMPUTER SOFTWARE | C30: 84924.86 | D30: 29980 | E30: -114904.86 | F30: 0 | G30: 0 | H30: 0 | I30: 0 | J30: 0
C31: 3273902.9 | D31: 676026.91 | E31: -146229.93 | F31: 0 | G31: 0 | H31: -1339983.3 | I31: 0 | J31: 2463716.6
A35: Prior period error note
C36: Previously disclosed | D36: Adjustment | E36: Restated balance
B39: Total | C39: =SUM(C37:C38) -> 0 | D39: =SUM(D37:D38) -> 0 | E39: =SUM(E37:E38) -> 0

Sheet Detail1
A1: Details for Sum of Cost Price (opening balance) - Sub class Item: Other Assets, Asset Sub Category (Level 3): FURNITURE AND FITTINGS, Asset Category (Level 2): Movable assets
A3: Component ID/ Bar code | B3: ROOM ID | C3: Code1 | D3: Accounting Group (Level 1) | E3: Code2 | F3: Asset Category (Level 2) | G3: Code3 | H3: Asset Sub Category (Level 3) | I3: Code4 | J3: Asset Group (Level 4) | K3: Asset Facility Sub-name / Area | L3: LOCATION | M3: Code5 | N3: Asset Type (Level 5) | O3: Code6 | P3: Asset Component (Level 6) | Q3: Descriptor Selection | R3: Accounting model applied | S3: Ownership | T3: Function importance | U3: Sub class Item | V3: MSCOA Function Class | W3: SCOA Function Code | X3: mSCOA Asset ID | Y3: Extent | Z3: Purchase Date | AA3: Take-On Date [dd-mm-yy] | AB3: Leased? | AC3: Movable asset? | AD3: Reporting date | AE3: Cost unit rate [@ recognition date] | AF3: EUL | AG3: Residual % | AH3: Residual Value | AI3: Accounting Policy Change confirmation | AJ3: Years utilised in Days | AK3: Years utilised in Years | AL3: Opening RUL | AM3: RUL Adjustment | AN3: Opening RUL 30 June 2026 | AO3: Closing RUL - June 2026 | AP3: Condition Rate | AQ3: Condition | AR3: Valuation method | AS3: Cost Price (opening balance) | AT3: Additions capitalised (@actual cost) | AU3: Revaluation Adjustment Cost | AV3: Derecognitions [-] | AW3: Derecognition costs | AX3: Cost Price (closing balance) | AY3: Carrying value (opening balance) | AZ3: Revaluation Value | BA3: Provision on rehabilitation cost | BB3: Fairvalue adjustment | BC3: Accumulated depreciation (Opening balance) | BD3: Revaluation adjustment Opening Accumulative depreciation | BE3: Change in Accounting Policy | BF3: Error Comments | BG3: Correction of RUL errors | BH3: Depreciation YTD | BI3: Monthly depreciation | BJ3: Change in useful life effect | BK3: Depreciation Method | BL3: Derecognitions (acc dep) [+] | BM3: Accumulated depreciation (Closing balance) | BN3: Accumulated impairments (Opening balance) | BO3: Revaluation adjustment: Opening Accumulative impairments | BP3: Annual impairment | BQ3: Derecognition Impairment balance [+] | BR3: Accumulated impairments (Closing balance) | BS3: Carrying value (closing balance) | BT3: Derecognitions date | BU3: Depreciation if no impairment took place - Depreciation | BV3: Depreciation if no impairment took place - Accumulative total | BW3: Method Acquired | BX3: Funding type | BY3: DEPARTMENT | BZ3: Asset Custodian/ Responsible Person | CA3: S/N | CB3: Make | CC3: Model | CD3: Insurance | CE3: Column1
A4: NHC171 | B4: Open plan finance | C4: PPE | D4: Property, plant & equipment | E4: MOV | F4: Movable assets | G4: OTH | H4: FURNITURE AND FITTINGS | I4: OTH | J4: Other Assets | K4: Main offices | L4: Main offices | M4: OTH | N4: Lockable TV Cabinet | O4: OTH | Q4: Lockable TV Cabinet | R4: Cost Model | S4: Owned | T4: Core | U4: Other Assets | V4: Finance and Administration : Asset Management | W4: FX005002001000000000000000000000000 | X4: IA002015001018001001000000000000000000 | Y4: 1 | Z4: 16/04/2004 | AA4: 38093 | AB4: NO | AC4: Yes | AD4: 44651 | AE4: NA - Actual Cost | AF4: 6 | AG4: 0 | AH4: 0 | AI4: No Change | AL4: 1 | AN4: 1 | AO4: 0 | AP4: 2 - Good (46-70%) | AR4: Actual Cost | AS4: 6384 | AU4: 0 | AV4: 0 | AW4: 0 | AX4: 6384 | AY4: 354.66667 | AZ4: 0 | BC4: -6029.3333 | BE4: NO | BH4: -354.66667 | BI4: -29.555556 | BK4: Straight line | BL4: 0 | BM4: -6384 | BR4: 0 | BS4: 0 | BW4: Purchased | BX4: Own funding | BZ4: L.Mashilo
A5: NHC172 | B5: Basement | C5: PPE | D5: Property, plant & equipment | E5: MOV | F5: Movable assets | G5: OTH | H5: FURNITURE AND FITTINGS | I5: OTH | J5: Other Assets | K5: Main offices | L5: Main offices | M5: OTH | N5: 1000X600mm Coffee Table | O5: OTH | Q5: 1000X600mm Coffee Table | R5: Cost Model | S5: Owned | T5: Core | U5: Other Assets | V5: Finance and Administration : Asset Management | W5: FX005002001000000000000000000000000 | X5: IA002015001018001001000000000000000000 | Y5: 1 | Z5: 16/04/2004 | AA5: 38093 | AB5: NO | AC5: Yes | AD5: 44651 | AE5: NA - Actual Cost | AF5: 6 | AG5: 0 | AH5: 0 | AI5: No Change | AL5: 1 | AN5: 1 | AO5: 0 | AP5: 3 - Fair (26-45%) | AR5: Actual Cost | AS5: 2394 | AU5: 0 | AV5: 0 | AW5: 0 | AX5: 2394 | AY5: 133 | AZ5: 0 | BC5: -2261 | BE5: NO | BH5: -133 | BI5: -11.083333 | BK5: Straight line | BL5: 0 | BM5: -2394 | BR5: 0 | BS5: 0 | BW5: Purchased | BX5: Own funding | BZ5: S.Skenjana
A6: NHC123 | B6: R8 executive office | C6: PPE | D6: Property, plant & equipment | E6: MOV | F6: Movable assets | G6: OTH | H6: FURNITURE AND FITTINGS | I6: OTH | J6: Other Assets | K6: Main offices | L6: Main offices | M6: OTH | N6: 1500*750mm Reception desk with Modesty panel | O6: OTH | Q6: 1500*750mm Reception desk with Modesty panel | R6: Cost Model | S6: Owned | T6: Core | U6: Other Assets | V6: Finance and Administration : Asset Management | W6: FX005002001000000000000000000000000 | X6: IA002015001018001001000000000000000000 | Y6: 1 | Z6: 25/03/2004 | AA6: 38071 | AB6: NO | AC6: Yes | AD6: 44651 | AE6: NA - Actual Cost | AF6: 6 | AG6: 0 | AH6: 0 | AI6: No Change | AL6: 1 | AN6: 1 | AO6: 0 | AP6: 3 - Fair (26-45%) | AR6: Actual Cost | AS6: 6460.38 | AU6: 0 | AV6: 0 | AW6: 0 | AX6: 6460.38 | AY6: 358.91 | AZ6: 0 | BC6: -6101.47 | BE6: NO | BH6: -358.91 | BI6: -29.909167 | BK6: Straight line | BL6: 0 | BM6: -6460.38 | BR6: 0 | BS6: 0 | BW6: Purchased | BX6: Own funding | BZ6: N. Ngabeni
A7: NHC127 | B7: Basement storage | C7: PPE | D7: Property, plant & equipment | E7: MOV | F7: Movable assets | G7: OTH | H7: FURNITURE AND FITTINGS | I7: OTH | J7: Other Assets | K7: Main offices | L7: Main offices | M7: OTH | N7: 950*950mm Coffee Table | O7: OTH | Q7: 950*950mm Coffee Table | R7: Cost Model | S7: Owned | T7: Core | U7: Other Assets | V7: Finance and Administration : Asset Management | W7: FX005002001000000000000000000000000 | X7: IA002015001018001001000000000000000000 | Y7: 1 | Z7: 25/03/2004 | AA7: 38071 | AB7: NO | AC7: Yes | AD7: 44651 | AE7: NA - Actual Cost | AF7: 6 | AG7: 0 | AH7: 0 | AI7: No Change | AL7: 1 | AN7: 1 | AO7: 0 | AP7: 5 - Very poor (0-10%) | AR7: Actual Cost | AS7: 3780.24 | AU7: 0 | AV7: 0 | AW7: 0 | AX7: 3780.24 | AY7: 210.01333 | AZ7: 0 | BC7: -3570.2267 | BE7: NO | BH7: -210.01333 | BI7: -17.501111 | BK7: Straight line | BL7: 0 | BM7: -3780.24 | BR7: 0 | BS7: 0 | BW7: Purchased | BX7: Own funding | BZ7: S. Skenjana
A8: NHC128 | B8: R8 executive office | C8: PPE | D8: Property, plant & equipment | E8: MOV | F8: Movable assets | G8: OTH | H8: FURNITURE AND FITTINGS | I8: OTH | J8: Other Assets | K8: Main offices | L8: Main offices | M8: OTH | N8: Traditional Cane Chair | O8: OTH | Q8: Traditional Cane Chair | R8: Cost Model | S8: Owned | T8: Core | U8: Other Assets | V8: Finance and Administration : Asset Management | W8: FX005002001000000000000000000000000 | X8: IA002015001018001001000000000000000000 | Y8: 1 | Z8: 25/03/2004 | AA8: 38071 | AB8: NO | AC8: Yes | AD8: 44651 | AE8: NA - Actual Cost | AF8: 6 | AG8: 0 | AH8: 0 | AI8: No Change | AL8: 1 | AN8: 1 | AO8: 0 | AP8: 3 - Fair (26-45%) | AR8: Actual Cost | AS8: 2560.44 | AU8: 0 | AV8: 0 | AW8: 0 | AX8: 2560.44 | AY8: 142.24667 | AZ8: 0 | BC8: -2418.1933 | BE8: NO | BH8: -142.24667 | BI8: -11.853889 | BK8: Straight line | BL8: 0 | BM8: -2560.44 | BR8: 0 | BS8: 0 | BW8: Purchased | BX8: Own funding | BZ8: M. Davids
A9: NHC129 | B9: R8 executive office | C9: PPE | D9: Property, plant & equipment | E9: MOV | F9: Movable assets | G9: OTH | H9: FURNITURE AND FITTINGS | I9: OTH | J9: Other Assets | K9: Main offices | L9: Main offices | M9: OTH | N9: Traditional Cane Chair | O9: OTH | Q9: Traditional Cane Chair | R9: Cost Model | S9: Owned | T9: Core | U9: Other Assets | V9: Finance and Administration : Asset Management | W9: FX005002001000000000000000000000000 | X9: IA002015001018001001000000000000000000 | Y9: 1 | Z9: 25/03/2004 | AA9: 38071 | AB9: NO | AC9: Yes | AD9: 44651 | AE9: NA - Actual Cost | AF9: 6 | AG9: 0 | AH9: 0 | AI9: No Change | AL9: 1 | AN9: 1 | AO9: 0 | AP9: 2 - Good (46-70%) | AR9: Actual Cost | AS9: 2560.44 | AU9: 0 | AV9: 0 | AW9: 0 | AX9: 2560.44 | AY9: 142.24667 | AZ9: 0 | BC9: -2418.1933 | BE9: NO | BH9: -142.24667 | BI9: -11.853889 | BK9: Straight line | BL9: 0 | BM9: -2560.44 | BR9: 0 | BS9: 0 | BW9: Purchased | BX9: Own funding | BZ9: N. Ngabeni
A10: NHC130 | B10: Open Plan Finance | C10: PPE | D10: Property, plant & equipment | E10: MOV | F10: Movable assets | G10: OTH | H10: FURNITURE AND FITTINGS | I10: OTH | J10: Other Assets | K10: Main offices | L10: Main offices | M10: OTH | N10: Traditional Cane Chair | O10: OTH | Q10: Traditional Cane Chair | R10: Cost Model | S10: Owned | T10: Core | U10: Other Assets | V10: Finance and Administration : Asset Management | W10: FX005002001000000000000000000000000 | X10: IA002015001018001001000000000000000000 | Y10: 1 | Z10: 25/03/2004 | AA10: 38071 | AB10: NO | AC10: Yes | AD10: 44651 | AE10: NA - Actual Cost | AF10: 6 | AG10: 0 | AH10: 0 | AI10: No Change | AL10: 1 | AN10: 1 | AO10: 0 | AP10: 3 - Fair (26-45%) | AR10: Actual Cost | AS10: 2560.44 | AU10: 0 | AV10: 0 | AW10: 0 | AX10: 2560.44 | AY10: 142.24667 | AZ10: 0 | BC10: -2418.1933 | BE10: NO | BH10: -142.24667 | BI10: -11.853889 | BK10: Straight line | BL10: 0 | BM10: -2560.44 | BR10: 0 | BS10: 0 | BW10: Purchased | BX10: Own funding | BZ10: S. Skenjana
A11: NHC131 | B11: Open plan finance | C11: PPE | D11: Property, plant & equipment | E11: MOV | F11: Movable assets | G11: OTH | H11: FURNITURE AND FITTINGS | I11: OTH | J11: Other Assets | K11: Main offices | L11: Main offices | M11: OTH | N11: Tradition Cane Chair | O11: OTH | Q11: Tradition Cane Chair | R11: Cost Model | S11: Owned | T11: Core | U11: Other Assets | V11: Finance and Administration : Asset Management | W11: FX005002001000000000000000000000000 | X11: IA002015001018001001000000000000000000 | Y11: 1 | Z11: 25/03/2004 | AA11: 38071 | AB11: NO | AC11: Yes | AD11: 44651 | AE11: NA - Actual Cost | AF11: 6 | AG11: 0 | AH11: 0 | AI11: No Change | AL11: 1 | AN11: 1 | AO11: 0 | AP11: 2 - Good (46-70%) | AR11: Actual Cost | AS11: 2560.44 | AU11: 0 | AV11: 0 | AW11: 0 | AX11: 2560.44 | AY11: 142.24667 | AZ11: 0 | BC11: -2418.1933 | BE11: NO | BH11: -142.24667 | BI11: -11.853889 | BK11: Straight line | BL11: 0 | BM11: -2560.44 | BR11: 0 | BS11: 0 | BW11: Purchased | BX11: Own funding | BZ11: S.Skenjana
A12: NHC145 | B12: R13 ceo office | C12: PPE | D12: Property, plant & equipment | E12: MOV | F12: Movable assets | G12: OTH | H12: FURNITURE AND FITTINGS | I12: OTH | J12: Other Assets | K12: Main offices | L12: Main offices | M12: OTH | N12: Antique Butlers Tray | O12: OTH | Q12: Antique Butlers Tray | R12: Cost Model | S12: Owned | T12: Core | U12: Other Assets | V12: Finance and Administration : Asset Management | W12: FX005002001000000000000000000000000 | X12: IA002015001018001001000000000000000000 | Y12: 1 | Z12: 25/03/2004 | AA12: 38071 | AB12: NO | AC12: Yes | AD12: 44651 | AE12: NA - Actual Cost | AF12: 6 | AG12: 0 | AH12: 0 | AI12: No Change | AL12: 1 | AN12: 1 | AO12: 0 | AP12: 2 - Good (46-70%) | AR12: Actual Cost | AS12: 2046.3 | AU12: 0 | AV12: 0 | AW12: 0 | AX12: 2046.3 | AY12: 113.68333 | AZ12: 0 | BC12: -1932.6167 | BE12: NO | BH12: -113.68333 | BI12: -9.4736111 | BK12: Straight line | BL12: 0 | BM12: -2046.3 | BR12: 0 | BS12: 0 | BW12: Purchased | BX12: Own funding | BZ12: C. GALLOWAY
A13: NHC133 | B13: R5 | C13: PPE | D13: Property, plant & equipment | E13: MOV | F13: Movable assets | G13: OTH | H13: FURNITURE AND FITTINGS | I13: OTH | J13: Other Assets | K13: Main offices | L13: Main offices | M13: OTH | N13: 1800*900mm Partners desk | O13: OTH | Q13: 1800*900mm Partners desk | R13: Cost Model | S13: Owned | T13: Core | U13: Other Assets | V13: Finance and Administration : Asset Management | W13: FX005002001000000000000000000000000 | X13: IA002015001018001001000000000000000000 | Y13: 1 | Z13: 25/03/2004 | AA13: 38071 | AB13: NO | AC13: Yes | AD13: 44651 | AE13: NA - Actual Cost | AF13: 6 | AG13: 0 | AH13: 0 | AI13: No Change | AL13: 1 | AN13: 1 | AO13: 0 | AP13: 3 - Fair (26-45%) | AR13: Actual Cost | AS13: 13393.86 | AU13: 0 | AV13: 0 | AW13: 0 | AX13: 13393.86 | AY13: 744.10333 | AZ13: 0 | BC13: -12649.757 | BE13: NO | BH13: -744.10333 | BI13: -62.008611 | BK13: Straight line | BL13: 0 | BM13: -13393.86 | BR13: 0 | BS13: 0 | BW13: Purchased | BX13: Own funding | BZ13: S. Pudikabekwa
A14: NHC104 | B14: Open plan co- business | C14: PPE | D14: Property, plant & equipment | E14: MOV | F14: Movable assets | G14: OTH | H14: FURNITURE AND FITTINGS | I14: OTH | J14: Other Assets | K14: Main offices | L14: Main offices | M14: OTH | N14: 3 Drawer Pedestal | O14: OTH | Q14: 3 Drawer Pedestal | R14: Cost Model | S14: Owned | T14: Core | U14: Other Assets | V14: Finance and Administration : Asset Management | W14: FX005002001000000000000000000000000 | X14: IA002015001018001001000000000000000000 | Y14: 1 | Z14: 25/03/2004 | AA14: 38071 | AB14: NO | AC14: Yes | AD14: 44651 | AE14: NA - Actual Cost | AF14: 6 | AG14: 0 | AH14: 0 | AI14: No Change | AL14: 1 | AN14: 1 | AO14: 0 | AP14: 2 - Good (46-70%) | AR14: Actual Cost | AS14: 2360.94 | AU14: 0 | AV14: 0 | AW14: 0 | AX14: 2360.94 | AY14: 131.16333 | AZ14: 0 | BC14: -2229.7767 | BE14: NO | BH14: -131.16333 | BI14: -10.930278 | BK14: Straight line | BL14: 0 | BM14: -2360.94 | BR14: 0 | BS14: 0 | BW14: Purchased | BX14: Own funding | BZ14: T. Maso
A15: NHC138 | B15: R2 Open plan finance | C15: PPE | D15: Property, plant & equipment | E15: MOV | F15: Movable assets | G15: OTH | H15: FURNITURE AND FITTINGS | I15: OTH | J15: Other Assets | K15: Main offices | L15: Main offices | M15: OTH | N15: Vesta Highback, Swivel & Tilt, Gas Height, Leather | O15: OTH | Q15: Vesta Highback, Swivel & Tilt, Gas Height, Leather | R15: Cost Model | S15: Owned | T15: Core | U15: Other Assets | V15: Finance and Administration : Asset Management | W15: FX005002001000000000000000000000000 | X15: IA002015001018001001000000000000000000 | Y15: 1 | Z15: 25/03/2004 | AA15: 38071 | AB15: NO | AC15: Yes | AD15: 44651 | AE15: NA - Actual Cost | AF15: 6 | AG15: 0 | AH15: 0 | AI15: No Change | AL15: 1 | AN15: 1 | AO15: 0 | AP15: 2 - Good (46-70%) | AR15: Actual Cost | AS15: 3034.68 | AU15: 0 | AV15: 0 | AW15: 0 | AX15: 3034.68 | AY15: 168.59333 | AZ15: 0 | BC15: -2866.0867 | BE15: NO | BH15: -168.59333 | BI15: -14.049444 | BK15: Straight line | BL15: 0 | BM15: -3034.68 | BR15: 0 | BS15: 0 | BW15: Purchased | BX15: Own funding | BZ15: N. Gawula
... A26: NHC179 | B26: Open Plan Finance | C26: PPE | D26: Property, plant & equipment | E26: MOV | F26: Movable assets | G26: OTH | H26: FURNITURE AND FITTINGS | I26: OTH | J26: Other Assets | K26: Main offices | L26: Main offices | M26: OTH | N26: Traditional Cane Chair-Range 2 fabric | O26: OTH | Q26: Traditional Cane Chair-Range 2 fabric | R26: Cost Model | S26: Owned | T26: Core | U26: Other Assets | V26: Finance and Administration : Asset Management | W26: FX005002001000000000000000000000000 | X26: IA002015001018001001000000000000000000 | Y26: 1 | Z26: 25/03/2004 | AA26: 38071 | AB26: NO | AC26: Yes | AD26: 44651 | AE26: NA - Actual Cost | AF26: 6 | AG26: 0 | AH26: 0 | AI26: No Change | AL26: 1 | AN26: 1 | AO26: 0 | AP26: 3 - Fair (26-45%) | AR26: Actual Cost | AS26: 5120.88 | AU26: 0 | AV26: 0 | AW26: 0 | AX26: 5120.88 | AY26: 284.49333 | AZ26: 0 | BC26: -4836.3867 | BE26: NO | BH26: -284.49333 | BI26: -23.707778 | BK26: Straight line | BL26: 0 | BM26: -5120.88 | BR26: 0 | BS26: 0 | BW26: Purchased | BX26: Own funding | BZ26: S. Skenjana
A27: NHC0083 | B27: 0 | C27: PPE | D27: Property, plant & equipment | E27: MOV | F27: Movable assets | G27: OTH | H27: FURNITURE AND FITTINGS | I27: OTH | J27: Other Assets | K27: Main offices | L27: Main offices | M27: OTH | N27: 1500*750mm Reception desk with Modesty panel | O27: OTH | Q27: 1500*750mm Reception desk with Modesty panel | R27: Cost Model | S27: Owned | T27: Core | U27: Other Assets | V27: Finance and Administration : Asset Management | W27: FX005002001000000000000000000000000 | X27: IA002015001018001001000000000000000000 | Y27: 1 | Z27: 25/03/2004 | AA27: 38071 | AB27: NO | AC27: Yes | AD27: 44651 | AE27: NA - Actual Cost | AF27: 6 | AG27: 0 | AH27: 0 | AI27: No Change | AL27: 1 | AN27: 1 | AO27: 0 | AP27: 0 | AR27: Actual Cost | AS27: 12920.76 | AU27: 0 | AV27: 0 | AW27: 0 | AX27: 12920.76 | AY27: 717.82 | AZ27: 0 | BC27: -12202.94 | BE27: NO | BH27: -717.82 | BI27: -59.818333 | BK27: Straight line | BL27: 0 | BM27: -12920.76 | BR27: 0 | BS27: 0 | BW27: Purchased | BX27: Own funding | BZ27: 0
A28: NHC102 | B28: Open Plan HR | C28: PPE | D28: Property, plant & equipment | E28: MOV | F28: Movable assets | G28: OTH | H28: FURNITURE AND FITTINGS | I28: OTH | J28: Other Assets | K28: Main offices | L28: Main offices | M28: OTH | N28: 1800*900mm partner desk | O28: OTH | Q28: 1800*900mm partner desk | R28: Cost Model | S28: Owned | T28: Core | U28: Other Assets | V28: Finance and Administration : Asset Management | W28: FX005002001000000000000000000000000 | X28: IA002015001018001001000000000000000000 | Y28: 1 | Z28: 25/03/2004 | AA28: 38071 | AB28: NO | AC28: Yes | AD28: 44651 | AE28: NA - Actual Cost | AF28: 6 | AG28: 0 | AH28: 0 | AI28: No Change | AL28: 1 | AN28: 1 | AO28: 0 | AP28: 2 - Good (46-70%) | AR28: Actual Cost | AS28: 13393.86 | AU28: 0 | AV28: 0 | AW28: 0 | AX28: 13393.86 | AY28: 744.10333 | AZ28: 0 | BC28: -12649.757 | BE28: NO | BH28: -744.10333 | BI28: -62.008611 | BK28: Straight line | BL28: 0 | BM28: -13393.86 | BR28: 0 | BS28: 0 | BW28: Purchased | BX28: Own funding | BZ28: M. Ndalamo
A29: NHC113 | B29: Open Plan Co business | C29: PPE | D29: Property, plant & equipment | E29: MOV | F29: Movable assets | G29: OTH | H29: FURNITURE AND FITTINGS | I29: OTH | J29: Other Assets | K29: Main offices | L29: Main offices | M29: OTH | N29: 1800*600mm Extension | O29: OTH | Q29: 1800*600mm Extension | R29: Cost Model | S29: Owned | T29: Core | U29: Other Assets | V29: Finance and Administration : Asset Management | W29: FX005002001000000000000000000000000 | X29: IA002015001018001001000000000000000000 | Y29: 1 | Z29: 25/03/2004 | AA29: 38071 | AB29: NO | AC29: Yes | AD29: 44651 | AE29: NA - Actual Cost | AF29: 6 | AG29: 0 | AH29: 0 | AI29: No Change | AL29: 1 | AN29: 1 | AO29: 0 | AP29: 3 - Fair (26-45%) | AR29: Actual Cost | AS29: 6459.24 | AU29: 0 | AV29: 0 | AW29: 0 | AX29: 6459.24 | AY29: 358.84667 | AZ29: 0 | BC29: -6100.3933 | BE29: NO | BH29: -358.84667 | BI29: -29.903889 | BK29: Straight line | BL29: 0 | BM29: -6459.24 | BR29: 0 | BS29: 0 | BW29: Purchased | BX29: Own funding | BZ29: R. Mandiwana
A30: NHC0076 | B30: Open plan Risk | C30: PPE | D30: Property, plant & equipment | E30: MOV | F30: Movable assets | G30: OTH | H30: FURNITURE AND FITTINGS | I30: OTH | J30: Other Assets | K30: Main offices | L30: Main offices | M30: OTH | N30: 1800*600mm L Extension | O30: OTH | Q30: 1800*600mm L Extension | R30: Cost Model | S30: Owned | T30: Core | U30: Other Assets | V30: Finance and Administration : Asset Management | W30: FX005002001000000000000000000000000 | X30: IA002015001018001001000000000000000000 | Y30: 1 | Z30: 25/03/2004 | AA30: 38071 | AB30: NO | AC30: Yes | AD30: 44651 | AE30: NA - Actual Cost | AF30: 6 | AG30: 0 | AH30: 0 | AI30: No Change | AL30: 1 | AN30: 1 | AO30: 0 | AP30: 2 - Good (46-70%) | AR30: Actual Cost | AS30: 6459.24 | AU30: 0 | AV30: 0 | AW30: 0 | AX30: 6459.24 | AY30: 358.84667 | AZ30: 0 | BC30: -6100.3933 | BE30: NO | BH30: -358.84667 | BI30: -29.903889 | BK30: Straight line | BL30: 0 | BM30: -6459.24 | BR30: 0 | BS30: 0 | BW30: Purchased | BX30: Own funding | BZ30: S.Skenjana
A31: NHC0078 | B31: R4 Main Board room | C31: PPE | D31: Property, plant & equipment | E31: MOV | F31: Movable assets | G31: OTH | H31: FURNITURE AND FITTINGS | I31: OTH | J31: Other Assets | K31: Main offices | L31: Main offices | M31: OTH | N31: Vesta highback,swivel & tilt, gas height, leather | O31: OTH | Q31: Vesta highback,swivel & tilt, gas height, leather | R31: Cost Model | S31: Owned | T31: Core | U31: Other Assets | V31: Finance and Administration : Asset Management | W31: FX005002001000000000000000000000000 | X31: IA002015001018001001000000000000000000 | Y31: 1 | Z31: 25/03/2004 | AA31: 38071 | AB31: NO | AC31: Yes | AD31: 44651 | AE31: NA - Actual Cost | AF31: 6 | AG31: 0 | AH31: 0 | AI31: No Change | AL31: 1 | AN31: 1 | AO31: 0 | AP31: 2 - Good (46-70%) | AR31: Actual Cost | AS31: 3034.68 | AU31: 0 | AV31: 0 | AW31: 0 | AX31: 3034.68 | AY31: 168.59333 | AZ31: 0 | BC31: -2866.0867 | BE31: NO | BH31: -168.59333 | BI31: -14.049444 | BK31: Straight line | BL31: 0 | BM31: -3034.68 | BR31: 0 | BS31: 0 | BW31: Purchased | BX31: Own funding | BZ31: S.Skenjana
A32: NHC000228 | B32: R3 Open plan finance | C32: PPE | D32: Property, plant & equipment | E32: MOV | F32: Movable assets | G32: OTH | H32: FURNITURE AND FITTINGS | I32: OTH | J32: Other Assets | K32: Main offices | L32: Main offices | M32: OTH | N32: 1500 B/Case W/Glass door Mahogany Veneer | O32: OTH | Q32: 1500 B/Case W/Glass door Mahogany Veneer | R32: Cost Model | S32: Owned | T32: Core | U32: Other Assets | V32: Finance and Administration : Asset Management | W32: FX005002001000000000000000000000000 | X32: IA002015001018001001000000000000000000 | Y32: 1 | Z32: 12/09/2005 | AA32: 38607 | AB32: NO | AC32: Yes | AD32: 44651 | AE32: NA - Actual Cost | AF32: 6 | AG32: 0 | AH32: 0 | AI32: No Change | AL32: 1 | AN32: 1 | AO32: 0 | AP32: 2 - Good (46-70%) | AR32: Actual Cost | AS32: 3192 | AU32: 0 | AV32: 0 | AW32: 0 | AX32: 3192 | AY32: 177.33333 | AZ32: 0 | BC32: -3014.6667 | BE32: NO | BH32: -177.33333 | BI32: -14.777778 | BK32: Straight line | BL32: 0 | BM32: -3192 | BR32: 0 | BS32: 0 | BW32: Purchased | BX32: Own funding | BZ32: M. MANENZHE
A33: NHC 000229 | B33: R5 | C33: PPE | D33: Property, plant & equipment | E33: MOV | F33: Movable assets | G33: OTH | H33: FURNITURE AND FITTINGS | I33: OTH | J33: Other Assets | K33: Main offices | L33: Main offices | M33: OTH | N33: 1500 BCase W/Glass door Mahogany Veneer | O33: OTH | Q33: 1500 BCase W/Glass door Mahogany Veneer | R33: Cost Model | S33: Owned | T33: Core | U33: Other Assets | V33: Finance and Administration : Asset Management | W33: FX005002001000000000000000000000000 | X33: IA002015001018001001000000000000000000 | Y33: 1 | Z33: 12/09/2005 | AA33: 38607 | AB33: NO | AC33: Yes | AD33: 44651 | AE33: NA - Actual Cost | AF33: 6 | AG33: 0 | AH33: 0 | AI33: No Change | AL33: 1 | AN33: 1 | AO33: 0 | AP33: 2 - Good (46-70%) | AR33: Actual Cost | AS33: 3192 | AU33: 0 | AV33: 0 | AW33: 0 | AX33: 3192 | AY33: 177.33333 | AZ33: 0 | BC33: -3014.6667 | BE33: NO | BH33: -177.33333 | BI33: -14.777778 | BK33: Straight line | BL33: 0 | BM33: -3192 | BR33: 0 | BS33: 0 | BW33: Purchased | BX33: Own funding | BZ33: S. Pudikabekwa
A34: NHC 000216 | B34: R9 executive office | C34: PPE | D34: Property, plant & equipment | E34: MOV | F34: Movable assets | G34: OTH | H34: FURNITURE AND FITTINGS | I34: OTH | J34: Other Assets | K34: Main offices | L34: Main offices | M34: OTH | N34: 1500B/Case W/Glass door mahogany Veneer | O34: OTH | Q34: 1500B/Case W/Glass door mahogany Veneer | R34: Cost Model | S34: Owned | T34: Core | U34: Other Assets | V34: Finance and Administration : Asset Management | W34: FX005002001000000000000000000000000 | X34: IA002015001018001001000000000000000000 | Y34: 1 | Z34: 12/09/2005 | AA34: 38607 | AB34: NO | AC34: Yes | AD34: 44651 | AE34: NA - Actual Cost | AF34: 6 | AG34: 0 | AH34: 0 | AI34: No Change | AL34: 1 | AN34: 1 | AO34: 0 | AP34: 2 - Good (46-70%) | AR34: Actual Cost | AS34: 3192 | AU34: 0 | AV34: 0 | AW34: 0 | AX34: 3192 | AY34: 177.33333 | AZ34: 0 | BC34: -3014.6667 | BE34: NO | BH34: -177.33333 | BI34: -14.777778 | BK34: Straight line | BL34: 0 | BM34: -3192 | BR34: 0 | BS34: 0 | BW34: Purchased | BX34: Own funding | BZ34: P. Kadi
A35: NHC 000230 | B35: Open plan finance | C35: PPE | D35: Property, plant & equipment | E35: MOV | F35: Movable assets | G35: OTH | H35: FURNITURE AND FITTINGS | I35: OTH | J35: Other Assets | K35: Main offices | L35: Main offices | M35: OTH | N35: 1500 B/Case W/Glass door Mahogany Veneer | O35: OTH | Q35: 1500 B/Case W/Glass door Mahogany Veneer | R35: Cost Model | S35: Owned | T35: Core | U35: Other Assets | V35: Finance and Administration : Asset Management | W35: FX005002001000000000000000000000000 | X35: IA002015001018001001000000000000000000 | Y35: 1 | Z35: 12/09/2005 | AA35: 38607 | AB35: NO | AC35: Yes | AD35: 44651 | AE35: NA - Actual Cost | AF35: 6 | AG35: 0 | AH35: 0 | AI35: No Change | AL35: 1 | AN35: 1 | AO35: 0 | AP35: 2 - Good (46-70%) | AR35: Actual Cost | AS35: 3192 | AU35: 0 | AV35: 0 | AW35: 0 | AX35: 3192 | AY35: 177.33333 | AZ35: 0 | BC35: -3014.6667 | BE35: NO | BH35: -177.33333 | BI35: -14.777778 | BK35: Straight line | BL35: 0 | BM35: -3192 | BR35: 0 | BS35: 0 | BW35: Purchased | BX35: Own funding | BZ35: K.Mashilo
A36: NHC 000244 | B36: R13 ceo office | C36: PPE | D36: Property, plant & equipment | E36: MOV | F36: Movable assets | G36: OTH | H36: FURNITURE AND FITTINGS | I36: OTH | J36: Other Assets | K36: Main offices | L36: Main offices | M36: OTH | N36: 1500 B/Case W/Glass Mahogany Veneer | O36: OTH | Q36: 1500 B/Case W/Glass Mahogany Veneer | R36: Cost Model | S36: Owned | T36: Core | U36: Other Assets | V36: Finance and Administration : Asset Management | W36: FX005002001000000000000000000000000 | X36: IA002015001018001001000000000000000000 | Y36: 1 | Z36: 12/09/2005 | AA36: 38607 | AB36: NO | AC36: Yes | AD36: 44651 | AE36: NA - Actual Cost | AF36: 6 | AG36: 0 | AH36: 0 | AI36: No Change | AL36: 1 | AN36: 1 | AO36: 0 | AP36: 2 - Good (46-70%) | AR36: Actual Cost | AS36: 3192 | AU36: 0 | AV36: 0 | AW36: 0 | AX36: 3192 | AY36: 177.33333 | AZ36: 0 | BC36: -3014.6667 | BE36: NO | BH36: -177.33333 | BI36: -14.777778 | BK36: Straight line | BL36: 0 | BM36: -3192 | BR36: 0 | BS36: 0 | BW36: Purchased | BX36: Own funding | BZ36: T. Manetsi
A37: NHC 00245 | B37: Open plan co- business | C37: PPE | D37: Property, plant & equipment | E37: MOV | F37: Movable assets | G37: OTH | H37: FURNITURE AND FITTINGS | I37: OTH | J37: Other Assets | K37: Main offices | L37: Main offices | M37: OTH | N37: 1500 B/Case W/Glass Mahogany Venneer | O37: OTH | Q37: 1500 B/Case W/Glass Mahogany Venneer | R37: Cost Model | S37: Owned | T37: Core | U37: Other Assets | V37: Finance and Administration : Asset Management | W37: FX005002001000000000000000000000000 | X37: IA002015001018001001000000000000000000 | Y37: 1 | Z37: 12/09/2005 | AA37: 38607 | AB37: NO | AC37: Yes | AD37: 44651 | AE37: NA - Actual Cost | AF37: 6 | AG37: 0 | AH37: 0 | AI37: No Change | AL37: 1 | AN37: 1 | AO37: 0 | AP37: 2 - Good (46-70%) | AR37: Actual Cost | AS37: 3192 | AU37: 0 | AV37: 0 | AW37: 0 | AX37: 3192 | AY37: 177.33333 | AZ37: 0 | BC37: -3014.6667 | BE37: NO | BH37: -177.33333 | BI37: -14.777778 | BK37: Straight line | BL37: 0 | BM37: -3192 | BR37: 0 | BS37: 0 | BW37: Purchased | BX37: Own funding | BZ37: S.Skenjana
A38: NHC 000237 | B38: R27 | C38: PPE | D38: Property, plant & equipment | E38: MOV | F38: Movable assets | G38: OTH | H38: FURNITURE AND FITTINGS | I38: OTH | J38: Other Assets | K38: Main offices | L38: Main offices | M38: OTH | N38: 1500 B/Case W/Glass Mahogany Veneer | O38: OTH | Q38: 1500 B/Case W/Glass Mahogany Veneer | R38: Cost Model | S38: Owned | T38: Core | U38: Other Assets | V38: Finance and Administration : Asset Management | W38: FX005002001000000000000000000000000 | X38: IA002015001018001001000000000000000000 | Y38: 1 | Z38: 12/09/2005 | AA38: 38607 | AB38: NO | AC38: Yes | AD38: 44651 | AE38: NA - Actual Cost | AF38: 6 | AG38: 0 | AH38: 0 | AI38: No Change | AL38: 1 | AN38: 1 | AO38: 0 | AP38: 2 - Good (46-70%) | AR38: Actual Cost | AS38: 3192 | AU38: 0 | AV38: 0 | AW38: 0 | AX38: 3192 | AY38: 177.33333 | AZ38: 0 | BC38: -3014.6667 | BE38: NO | BH38: -177.33333 | BI38: -14.777778 | BK38: Straight line | BL38: 0 | BM38: -3192 | BR38: 0 | BS38: 0 | BW38: Purchased | BX38: Own funding | BZ38: B. Maqasela
A39: NHC 000253 | B39: Open plan Risk | C39: PPE | D39: Property, plant & equipment | E39: MOV | F39: Movable assets | G39: OTH | H39: FURNITURE AND FITTINGS | I39: OTH | J39: Other Assets | K39: Main offices | L39: Main offices | M39: OTH | N39: 1500 B/Case W/Glass Mahogany Veneer | O39: OTH | Q39: 1500 B/Case W/Glass Mahogany Veneer | R39: Cost Model | S39: Owned | T39: Core | U39: Other Assets | V39: Finance and Administration : Asset Management | W39: FX005002001000000000000000000000000 | X39: IA002015001018001001000000000000000000 | Y39: 1 | Z39: 12/09/2005 | AA39: 38607 | AB39: NO | AC39: Yes | AD39: 44651 | AE39: NA - Actual Cost | AF39: 6 | AG39: 0 | AH39: 0 | AI39: No Change | AL39: 1 | AN39: 1 | AO39: 0 | AP39: 2 - Good (46-70%) | AR39: Actual Cost | AS39: 3192 | AU39: 0 | AV39: 0 | AW39: 0 | AX39: 3192 | AY39: 177.33333 | AZ39: 0 | BC39: -3014.6667 | BE39: NO | BH39: -177.33333 | BI39: -14.777778 | BK39: Straight line | BL39: 0 | BM39: -3192 | BR39: 0 | BS39: 0 | BW39: Purchased | BX39: Own funding | BZ39: M. Ngwaila
... A91: NHC000297 | B91: R25 | C91: PPE | D91: Property, plant & equipment | E91: MOV | F91: Movable assets | G91: OTH | H91: FURNITURE AND FITTINGS | I91: OTH | J91: Other Assets | K91: Main offices | L91: Main offices | M91: OTH | N91: Desk | O91: OTH | Q91: Desk | R91: Cost Model | S91: Owned | T91: Core | U91: Other Assets | V91: Finance and Administration : Asset Management | W91: FX005002001000000000000000000000000 | X91: IA002015001018001001000000000000000000 | Y91: 1 | Z91: 30/03/2007 | AA91: 39171 | AB91: NO | AC91: Yes | AD91: 44651 | AE91: NA - Actual Cost | AF91: 6 | AG91: 0 | AH91: 0 | AI91: No Change | AL91: 1 | AN91: 1 | AO91: 0 | AP91: 2 - Good (46-70%) | AR91: Actual Cost | AS91: 9690 | AU91: 0 | AV91: 0 | AW91: 0 | AX91: 9690 | AY91: 538.33333 | AZ91: 0 | BC91: -9151.6667 | BE91: NO | BH91: -538.33333 | BI91: -44.861111 | BK91: Straight line | BL91: 0 | BM91: -9690 | BR91: 0 | BS91: 0 | BW91: Purchased | BX91: Own funding | BZ91: L. Mphafe
A92: NHC000298 | B92: 0 | C92: PPE | D92: Property, plant & equipment | E92: MOV | F92: Movable assets | G92: OTH | H92: FURNITURE AND FITTINGS | I92: OTH | J92: Other Assets | K92: Main offices | L92: Main offices | M92: OTH | N92: Table Extension | O92: OTH | Q92: Table Extension | R92: Cost Model | S92: Owned | T92: Core | U92: Other Assets | V92: Finance and Administration : Asset Management | W92: FX005002001000000000000000000000000 | X92: IA002015001018001001000000000000000000 | Y92: 1 | Z92: 30/03/2007 | AA92: 39171 | AB92: NO | AC92: Yes | AD92: 44651 | AE92: NA - Actual Cost | AF92: 6 | AG92: 0 | AH92: 0 | AI92: No Change | AL92: 1 | AN92: 1 | AO92: 0 | AP92: 0 | AR92: Actual Cost | AS92: 3306 | AU92: 0 | AV92: 0 | AW92: 0 | AX92: 3306 | AY92: 183.66667 | AZ92: 0 | BC92: -3122.3333 | BE92: NO | BH92: -183.66667 | BI92: -15.305556 | BK92: Straight line | BL92: 0 | BM92: -3306 | BR92: 0 | BS92: 0 | BW92: Purchased | BX92: Own funding | BZ92: 0
A93: NHC000295 | B93: R27 | C93: PPE | D93: Property, plant & equipment | E93: MOV | F93: Movable assets | G93: OTH | H93: FURNITURE AND FITTINGS | I93: OTH | J93: Other Assets | K93: Main offices | L93: Main offices | M93: OTH | N93: 3 Drawer Pedestal | O93: OTH | Q93: 3 Drawer Pedestal | R93: Cost Model | S93: Owned | T93: Core | U93: Other Assets | V93: Finance and Administration : Asset Management | W93: FX005002001000000000000000000000000 | X93: IA002015001018001001000000000000000000 | Y93: 1 | Z93: 30/03/2007 | AA93: 39171 | AB93: NO | AC93: Yes | AD93: 44651 | AE93: NA - Actual Cost | AF93: 6 | AG93: 0 | AH93: 0 | AI93: No Change | AL93: 1 | AN93: 1 | AO93: 0 | AP93: 2 - Good (46-70%) | AR93: Actual Cost | AS93: 1824 | AU93: 0 | AV93: 0 | AW93: 0 | AX93: 1824 | AY93: 101.33333 | AZ93: 0 | BC93: -1722.6667 | BE93: NO | BH93: -101.33333 | BI93: -8.4444444 | BK93: Straight line | BL93: 0 | BM93: -1824 | BR93: 0 | BS93: 0 | BW93: Purchased | BX93: Own funding | BZ93: B. Maqasela
A94: NHC 000319 | B94: R13 CEO Offce | C94: PPE | D94: Property, plant & equipment | E94: MOV | F94: Movable assets | G94: OTH | H94: FURNITURE AND FITTINGS | I94: OTH | J94: Other Assets | K94: Main offices | L94: Main offices | M94: OTH | N94: Artifacts | O94: OTH | Q94: Artifacts | R94: Cost Model | S94: Owned | T94: Core | U94: Other Assets | V94: Finance and Administration : Asset Management | W94: FX005002001000000000000000000000000 | X94: IA002015001018001001000000000000000000 | Y94: 1 | Z94: 10/08/2007 | AA94: 39304 | AB94: NO | AC94: Yes | AD94: 44651 | AE94: NA - Actual Cost | AF94: 6 | AG94: 0 | AH94: 0 | AI94: No Change | AL94: 1 | AN94: 1 | AO94: 0 | AP94: 2 - Good (46-70%) | AR94: Actual Cost | AS94: 1020.34 | AU94: 0 | AV94: 0 | AW94: 0 | AX94: 1020.34 | AY94: 56.685556 | AZ94: 0 | BC94: -963.65444 | BE94: NO | BH94: -56.685556 | BI94: -4.7237963 | BK94: Straight line | BL94: 0 | BM94: -1020.34 | BR94: 0 | BS94: 0 | BW94: Purchased | BX94: Own funding | BZ94: T. Manetsi
A95: NHC 000320 | B95: R13 ceo office | C95: PPE | D95: Property, plant & equipment | E95: MOV | F95: Movable assets | G95: OTH | H95: FURNITURE AND FITTINGS | I95: OTH | J95: Other Assets | K95: Main offices | L95: Main offices | M95: OTH | N95: Artifacts | O95: OTH | Q95: Artifacts | R95: Cost Model | S95: Owned | T95: Core | U95: Other Assets | V95: Finance and Administration : Asset Management | W95: FX005002001000000000000000000000000 | X95: IA002015001018001001000000000000000000 | Y95: 1 | Z95: 10/08/2007 | AA95: 39304 | AB95: NO | AC95: Yes | AD95: 44651 | AE95: NA - Actual Cost | AF95: 6 | AG95: 0 | AH95: 0 | AI95: No Change | AL95: 1 | AN95: 1 | AO95: 0 | AP95: 2 - Good (46-70%) | AR95: Actual Cost | AS95: 1020.34 | AU95: 0 | AV95: 0 | AW95: 0 | AX95: 1020.34 | AY95: 56.685556 | AZ95: 0 | BC95: -963.65444 | BE95: NO | BH95: -56.685556 | BI95: -4.7237963 | BK95: Straight line | BL95: 0 | BM95: -1020.34 | BR95: 0 | BS95: 0 | BW95: Purchased | BX95: Own funding | BZ95: T. Manetsi
A96: NHC 000322 | B96: R1 Main Reception | C96: PPE | D96: Property, plant & equipment | E96: MOV | F96: Movable assets | G96: OTH | H96: FURNITURE AND FITTINGS | I96: OTH | J96: Other Assets | K96: Main offices | L96: Main offices | M96: OTH | N96: Artifacts | O96: OTH | Q96: Artifacts | R96: Cost Model | S96: Owned | T96: Core | U96: Other Assets | V96: Finance and Administration : Asset Management | W96: FX005002001000000000000000000000000 | X96: IA002015001018001001000000000000000000 | Y96: 1 | Z96: 10/08/2007 | AA96: 39304 | AB96: NO | AC96: Yes | AD96: 44651 | AE96: NA - Actual Cost | AF96: 6 | AG96: 0 | AH96: 0 | AI96: No Change | AL96: 1 | AN96: 1 | AO96: 0 | AP96: 2 - Good (46-70%) | AR96: Actual Cost | AS96: 1020.34 | AU96: 0 | AV96: 0 | AW96: 0 | AX96: 1020.34 | AY96: 56.685556 | AZ96: 0 | BC96: -963.65444 | BE96: NO | BH96: -56.685556 | BI96: -4.7237963 | BK96: Straight line | BL96: 0 | BM96: -1020.34 | BR96: 0 | BS96: 0 | BW96: Purchased | BX96: Own funding | BZ96: M. Letsoale
A97: NHC 000324 | B97: R13 CEO Offce | C97: PPE | D97: Property, plant & equipment | E97: MOV | F97: Movable assets | G97: OTH | H97: FURNITURE AND FITTINGS | I97: OTH | J97: Other Assets | K97: Main offices | L97: Main offices | M97: OTH | N97: Potrait | O97: OTH | Q97: Potrait | R97: Cost Model | S97: Owned | T97: Core | U97: Other Assets | V97: Finance and Administration : Asset Management | W97: FX005002001000000000000000000000000 | X97: IA002015001018001001000000000000000000 | Y97: 1 | Z97: 10/08/2007 | AA97: 39304 | AB97: NO | AC97: Yes | AD97: 44651 | AE97: NA - Actual Cost | AF97: 6 | AG97: 0 | AH97: 0 | AI97: No Change | AL97: 1 | AN97: 1 | AO97: 0 | AP97: 2 - Good (46-70%) | AR97: Actual Cost | AS97: 4733.52 | AU97: 0 | AV97: 0 | AW97: 0 | AX97: 4733.52 | AY97: 262.97333 | AZ97: 0 | BC97: -4470.5467 | BE97: NO | BH97: -262.97333 | BI97: -21.914444 | BK97: Straight line | BL97: 0 | BM97: -4733.52 | BR97: 0 | BS97: 0 | BW97: Purchased | BX97: Own funding | BZ97: T. Manetsi
