Workbook
Name all: '[1]Cost Summary'!#REF!

Sheet BOQ - FURN Summary
I2: 1st August 2022
C3: Bills of Quantities
C4: CONTRACTOR NAME
C5: CONTACT PERSON
C6: CONTACT NUMBER
C7: CONTACT EMAIL
C10: HSRC
C11: The Yacht Club - Levels 1 - New Installation
C14: ITEM | D14: DESCRIPTION OF ELEMENTAL BUILDING TRADES | E14: Unit | F14: Quantity | G14: Rate | H14: Sub Total | I14: Total
F15: x
D16: All work to be executed in strict accordance with the manufacturer's recommendations and carried out by specialist installer. Site visit required to account for accessibility to floors. Final measurements to be taken on site.
D18: ='BOQ - FURN Open Plan'!D19 -> Open Plan | E18: Item | F18: 1 | G18: ='BOQ - FURN Open Plan'!I18 -> 0 | H18: =G18*F18 -> 0
D19: ='BOQ - FURN Gen Office'!D19 -> General Offices | E19: Item | F19: 1 | G19: ='BOQ - FURN Gen Office'!I18 -> 0 | H19: =G19*F19 -> 0
D20: ='BOQ - FURN Exec Offices'!D19 -> Exec Offices | E20: Item | F20: 1 | G20: ='BOQ - FURN Exec Offices'!I18 -> 0 | H20: =G20*F20 -> 0
D21: ='BOQ - FURN CEO Offices'!D19 -> CEO Depatment Offices | E21: Item | F21: 1 | G21: ='BOQ - FURN Gen Office'!I18 -> 0 | H21: =G21*F21 -> 0
D22: ='BOQ - FURN Meeting Room'!D19 -> Meeting Rooms | E22: Item | F22: 1 | G22: ='BOQ - FURN Meeting Room'!I18 -> 0 | H22: =G22*F22 -> 0
D23: ='BOQ - FURN Reception'!D19 -> Reception | E23: Item | F23: 1 | G23: ='BOQ - FURN Reception'!I18 -> 0 | H23: =G23*F23 -> 0
D24: ='BOQ - FURN Pause and booths'!D19 -> Pause Areas and Phone/Meeting Booths | E24: Item | F24: 1 | G24: ='BOQ - FURN Pause and booths'!I18 -> 0 | H24: =G24*F24 -> 0
D25: ='BOQ - FURN Canteen'!D19 -> Canteen | E25: Item | F25: 1 | G25: ='BOQ - FURN Canteen'!I18 -> 0 | H25: =G25*F25 -> 0
D26: ='BOQ - FURN Store rooms'!D19 -> Store rooms | E26: Item | F26: 1 | G26: ='BOQ - FURN Store rooms'!I18 -> 0 | H26: =G26*F26 -> 0
D27: Delivery and Installation | E27: Item | F27: 1 | G27: ='[2]BOQ - FURN Store rooms'!I19 -> 0 | H27: =G27*F27 -> 0
G28: Total ex Vat | H28: =SUM(H18:H26) -> 0

Sheet BOQ - FURN Open Plan
I2: 1st August 2022
C3: Bills of Quantities
C4: CONTRACTOR NAME
C5: CONTACT PERSON
C6: CONTACT NUMBER
C7: CONTACT EMAIL
C10: HSRC
C11: The Yacht Club - Levels 1 - New Installation
C14: ITEM | D14: DESCRIPTION OF ELEMENTAL BUILDING TRADES | E14: Unit | F14: Quantity | G14: Rate | H14: Sub Total | I14: Total
F15: x
D16: All work to be executed in strict accordance with the manufacturer's recommendations and carried out by specialist installer. Site visit required to account for accessibility to floors. Final measurements to be taken on site.
D18: FURNITURE | H18: Sub Total ex Vat | I18: =SUM(H19:H245) -> 0
D19: Open Plan
D20: 8 way desk cluster | E20: Item | F20: 4 | H20: =G20*F20 -> 0
D21: * White hoop leg per detail in image
D22: * Charcoal grey frameless acoustic screens in PET fabric & grey chonk edging. Junction posts to be included. Screens for fronts and sides - 400mm height
D23: * 1400mm x 750mm, 32mm Melamine Fusion Brookhill
D24: * Include wire cable baskets per desk
D25: * Mobile Pedestal excluded
D46: 6 way desk cluster | E46: Item | F46: 3 | H46: =G46*F46 -> 0
D47: * White hoop leg per detail in image
D48: * Charcoal grey frameless acoustic screens in PET fabric & grey chonk edging. Junction posts to be included. Screens for fronts and sides - 400mm height
D49: * 1400mm x 750mm, 32mm Melamine Fusion Brookhill
D50: * Include wire cable baskets per desk
D51: * Mobile Pedestal excluded
D72: 4 way desk cluster | E72: Item | F72: 7 | H72: =G72*F72 -> 0
D73: * White hoop leg per detail in image
D74: * Charcoal grey frameless acoustic screens in PET fabric & grey chonk edging. Junction posts to be included. Screens for fronts and sides - 400mm height
D75: * 1400mm x 750mm, 32mm Melamine Fusion Brookhill
D76: * Include wire cable baskets per desk
D77: * Mobile Pedestal excluded
D98: 2 way desk cluster | E98: Item | F98: 2 | H98: =G98*F98 -> 0
D99: * White hoop leg per detail in image
D100: * Charcoal grey frameless acoustic screens in PET fabric & grey chonk edging. Junction posts to be included. Screens for fronts and sides - 400mm height
D101: * 1400mm x 750mm, 32mm Melamine Fusion Brookhill
D102: * Include wire cable baskets per desk
D103: * Mobile Pedestal excluded
D124: Single desk (1400mm) | E124: Item | F124: 4 | H124: =G124*F124 -> 0
D125: * White hoop leg per detail in image
D126: * Charcoal grey frameless acoustic screens in PET fabric & grey chonk edging. Junction posts to be included. Screens for fronts and sides - 400mm height
...

Sheet BOQ - FURN Gen Office
I2: 1st August 2022
C3: Bills of Quantities
C4: CONTRACTOR NAME
C5: CONTACT PERSON
C6: CONTACT NUMBER
C7: CONTACT EMAIL
C10: HSRC
C11: The Yacht Club - Levels 1 - New Installation
C14: ITEM | D14: DESCRIPTION OF ELEMENTAL BUILDING TRADES | E14: Unit | F14: Quantity | G14: Rate | H14: Sub Total | I14: Total
F15: x
D16: All work to be executed in strict accordance with the manufacturer's recommendations and carried out by specialist installer. Site visit required to account for accessibility to floors. Final measurements to be taken on site.
D18: FURNITURE | H18: Sub Total ex Vat | I18: =SUM(H19:H147) -> 0
D19: General Offices
D20: General Office L shape desk | E20: Item | F20: 55 | H20: =G20*F20 -> 0
D21: * White hoop leg per detail in image
D22: * NO acoustic screens
D23: * 1600mm x 750mm, 32mm Melamine Fusion Brookhill
D24: * Include wire cable baskets per desk
D25: * NO pedestals
D26: * 1000mm 500mm Pedenza with Melamine Fusion Brookhill drawers and white roller door
D27: * Allow for modesty panel
D48: General Office chairs | E48: Item | F48: 55 | H48: =G48*F48 -> 0
D49: * Black meshback chair
D50: * Meshback with lumbar support
D51: * Single lock synchronous mechanism with free float function.
D52: * Tension adjustable & lockable in an upright seated posture
D53: * Adjustable lumbar bolster for superior lower back support
D54: * Class 4 pneumatic gas cylinder (150kg carrying capacity)
D55: * Single lock synchronous mechanism with free float function.
D56: * Adjustable armrests
D57: * BIFMA Certified components
D58: * Base on castors
D59: * No Headrests
D80: General Office visitor chairs | E80: Item | F80: 65 | H80: =G80*F80 -> 0
D81: * Charcoal grey upholstery
D82: * White Polyprop seat base
D83: * Timber leg detail
D104: Pigeon Holes / Lockers | E104: Item | F104: 6 | H104: =G104*F104 -> 0
D105: * MDF Sprayed, 3 Different Colours Can Be Specified for locker doors. 9 bay locker.
D106: * Base in White Melamine
...

Sheet BOQ - FURN Exec Offices
I2: 1st August 2022
C3: Bills of Quantities
C4: CONTRACTOR NAME
C5: CONTACT PERSON
C6: CONTACT NUMBER
C7: CONTACT EMAIL
C10: HSRC
C11: The Yacht Club - Levels 1 - New Installation
C14: ITEM | D14: DESCRIPTION OF ELEMENTAL BUILDING TRADES | E14: Unit | F14: Quantity | G14: Rate | H14: Amount | I14: Total
F15: x
D16: All work to be executed in strict accordance with the manufacturer's recommendations and carried out by specialist installer. Site visit required to account for accessibility to floors. Final measurements to be taken on site.
D18: FURNITURE | H18: Sub Total ex Vat | I18: =SUM(I5:I15) -> 0
D19: Exec Offices
D20: Exec Office L shape | E20: Item | F20: 7 | H20: =G20*F20 -> 0
D21: * White hoop leg per detail in image
D22: * NO acoustic screens
D23: * 1800mm x 800mm, 32mm Melamine Fusion Brookhill
D24: * NO pedestals
D25: * 1700mm x 500mm Pedenza with Melamine Fusion Brookhill drawers and sliding door
D26: * Include wire cable baskets per desk
D27: * Allow for modesty panel
D43: Exec Office Chair | E43: Item | F43: 7 | H43: =G43*F43 -> 0
D44: * Black meshback chair
D45: * Meshback with lumbar support
D46: * Single lock synchronous mechanism with free float function.
D47: * Tension adjustable & lockable in an upright seated posture
D48: * Adjustable lumbar bolster for superior lower back support
D49: * Class 4 pneumatic gas cylinder (150kg carrying capacity)
D50: * Single lock synchronous mechanism with free float function.
D51: * Adjustable armrests
D52: * BIFMA Certified components
D53: * Base on castors
D54: * No Headrests
D75: Exec Office visitor chairs | E75: Item | F75: 20 | H75: =G75*F75 -> 0
D76: * Charcoal grey upholstery
D77: * Black powder coated steel leg
D98: Exec Office Small meeting table | E98: Item | F98: 3 | H98: =G98*F98 -> 0
D99: * 900mm dia White top, HPL (High pressure laminate) solid core tops for high strength and scratch and heat resistance properties with a minimalistic appearance of 12mm thickness.
D100: * White powder coated steel leg
D121: Exec Office occasional chairs | E121: Item | F121: 12 | H121: =G121*F121 -> 0
...

Sheet BOQ - FURN CEO Offices
I2: 1st August 2022
C3: Bills of Quantities
C4: CONTRACTOR NAME
C5: CONTACT PERSON
C6: CONTACT NUMBER
C7: CONTACT EMAIL
C10: HSRC
C11: The Yacht Club - Levels 1 - New Installation
C14: ITEM | D14: DESCRIPTION OF ELEMENTAL BUILDING TRADES | E14: Unit | F14: Quantity | G14: Rate | H14: Amount | I14: Total
F15: x
D16: All work to be executed in strict accordance with the manufacturer's recommendations and carried out by specialist installer. Site visit required to account for accessibility to floors. Final measurements to be taken on site.
D18: FURNITURE | H18: Sub Total ex Vat | I18: =SUM(I5:I15) -> 0
D19: CEO Depatment Offices
D20: CEO Office L shape | E20: Item | F20: 1 | H20: =G20*F20 -> 0
D21: * Oak veneer slatted leg detail and with black duco modesty panel
D22: * NO acoustic screens
D23: * 2200mm x 800mm, Oak Veneer top
D24: * Black duco pedestals
D25: * 1700mm x 500mm Pedenza with Oak veneer doors and black duco drawers
D26: * Include wire cable baskets per desk
D60: DCEO & OCEO Office L shape | E60: Item | F60: 1 | H60: =G60*F60 -> 0
D61: * Black hoop leg per detail in image
D62: * NO acoustic screens
D63: * 2000mm x 800mm, White oak veneer top
D64: * NO pedestals
D65: * 1700mm x 500mm Pedenza with White oak veneer pedenza and shelving with black duco sprayed doors
D66: * Include wire cable baskets per desk
D67: * Allow for modesty panel
D81: CEO Office Chair | E81: Item | F81: 3 | H81: =G81*F81 -> 0
D82: * Black meshback chair
D83: * Meshback with lumbar support
D84: * Single lock synchronous mechanism with free float function.
D85: * Tension adjustable & lockable in an upright seated posture
D86: * Adjustable lumbar bolster for superior lower back support
D87: * Class 4 pneumatic gas cylinder (150kg carrying capacity)
D88: * Single lock synchronous mechanism with free float function.
D89: * Adjustable armrests
D90: * BIFMA Certified components
D91: * Base on castors
D92: * Adjustable Headrests
...

Sheet BOQ - FURN Meeting Room
I2: 1st August 2022
C3: Bills of Quantities
C4: CONTRACTOR NAME
C5: CONTACT PERSON
C6: CONTACT NUMBER
C7: CONTACT EMAIL
C10: HSRC
C11: The Yacht Club - Levels 1 - New Installation
C14: ITEM | D14: DESCRIPTION OF ELEMENTAL BUILDING TRADES | E14: Unit | F14: Quantity | G14: Rate | H14: Amount | I14: Total
F15: x
D16: All work to be executed in strict accordance with the manufacturer's recommendations and carried out by specialist installer. Site visit required to account for accessibility to floors. Final measurements to be taken on site.
D18: FURNITURE | H18: Sub Total ex Vat | I18: =SUM(I5:I15) -> 0
D19: Meeting Rooms
D20: 10 pax meeting table | E20: Item | F20: 6 | H20: =G20*F20 -> 0
D21: * White hoop base legs
D22: * 3200mm x 1400mm 32mm Melamine Fusion Brookhill
D41: Mid back meeting chair for 10 pax meeting rooms | E41: Item | F41: =10*F20 -> 60 | H41: =G41*F41 -> 0
D42: * PU leather
D43: * Chrome base
D62: 20 pax meeting table (wide) | E62: Item | F62: 2 | H62: =G62*F62 -> 0
D63: * White hoop support legs and T end legs
D64: * 5300mm x 2500mm White oak veneer top
D83: 20 pax meeting table (narrow) | E83: Item | F83: 1 | H83: =G83*F83 -> 0
D84: * White hoop support legs and T end legs
D85: * 6600mm x 1500mm White oak veneer top
D104: 30 pax meeting table | E104: Item | F104: 1 | H104: =G104*F104 -> 0
D105: * White hoop support legs and T end legs
D106: * 8800mm x 2500mm White oak veneer top
D125: High back chair for 20 and 30 pax meeting rooms | E125: Item | F125: 90 | H125: =G125*F125 -> 0
D126: * PU Leather
D127: * Chrome base
D147: Server Unit | E147: Item | F147: 10 | H147: =G147*F147 -> 0
D148: * White Duco sprayed finish
D149: * Timber leg base
D170: Conference room tables | E170: Item | F170: 18 | H170: =G170*F170 -> 0
D171: * Black leg on castors
D172: * 1500mm x 450mm 32mm Melamine Fusion Brookhill
D193: Conference room chairs | E193: Item | F193: =18+12 -> 30 | H193: =G193*F193 -> 0
D194: * Black mesh back and chrome legs

Sheet BOQ - FURN Reception
I2: 1st August 2022
C3: Bills of Quantities
C4: CONTRACTOR NAME
C5: CONTACT PERSON
C6: CONTACT NUMBER
C7: CONTACT EMAIL
C10: HSRC
C11: The Yacht Club - Levels 1 - New Installation
C14: ITEM | D14: DESCRIPTION OF ELEMENTAL BUILDING TRADES | E14: Unit | F14: Quantity | G14: Rate | H14: Amount | I14: Total
F15: x
D16: All work to be executed in strict accordance with the manufacturer's recommendations and carried out by specialist installer. Site visit required to account for accessibility to floors. Final measurements to be taken on site.
D18: FURNITURE | H18: Sub Total ex Vat | I18: =SUM(I5:I15) -> 0
D19: Reception
D20: Occassional Chairs | E20: Item | F20: 2 | H20: =G20*F20 -> 0
D21: * Grey upholstery Weavers World Blazer Fabric
D22: * Timber leg details
D41: Reception Sofa | E41: Item | F41: 2 | H41: =G41*F41 -> 0
D42: * Warm grey upholstery
D43: * 3 seater
D44: * Allow for Scotchguard
D59: Side table | E59: Item | F59: 2 | H59: =G59*F59 -> 0
D60: * Black
D77: CEO coffee table | E77: Item | F77: 1 | H77: =G77*F77 -> 0
D78: * Black aluminium and copper tops, iron frames, nested coffee table
D93: General Office chairs | E93: Item | F93: 1 | H93: =G93*F93 -> 0
D94: * Black meshback chair
D95: * Meshback with lumbar support
D96: * Single lock synchronous mechanism with free float function.
D97: * Tension adjustable & lockable in an upright seated posture
D98: * Adjustable lumbar bolster for superior lower back support
D99: * Class 4 pneumatic gas cylinder (150kg carrying capacity)
D100: * Single lock synchronous mechanism with free float function.
D101: * Adjustable armrests
D102: * BIFMA Certified components
D103: * Base on castors
D104: * No Headrests

Sheet BOQ - FURN Pause and booths
I2: 1st August 2022
C3: Bills of Quantities
C4: CONTRACTOR NAME
C5: CONTACT PERSON
C6: CONTACT NUMBER
C7: CONTACT EMAIL
C10: HSRC
C11: The Yacht Club - Levels 1 - New Installation
C14: ITEM | D14: DESCRIPTION OF ELEMENTAL BUILDING TRADES | E14: Unit | F14: Quantity | G14: Rate | H14: Amount | I14: Total
F15: x
D16: All work to be executed in strict accordance with the manufacturer's recommendations and carried out by specialist installer. Site visit required to account for accessibility to floors. Final measurements to be taken on site.
D18: FURNITURE | H18: Sub Total ex Vat | I18: =SUM(I5:I15) -> 0
D19: Pause Areas and Phone/Meeting Booths
D20: Phone booth desk | E20: Item | F20: 6 | H20: =G20*F20 -> 0
D21: * White hoop leg per detail in image
D22: * 1200mm x 600mm, 32mm Melamine Fusion Brookhill
D23: * NO pedestals
D44: Phone booth desk chair | E44: Item | F44: 6 | H44: =G44*F44 -> 0
D45: * Polypropylene seat and steel frame
D46: * Base on castors
D65: Phone booth side table | E65: Item | F65: 5 | H65: =G65*F65 -> 0
D66: * Black
D83: Phone booth Armchair | E83: Item | F83: 5 | H83: =G83*F83 -> 0
D84: * Upholstered in high-quality blue velour
D85: * Swivel base
D101: Coffee bar barstools | E101: Item | F101: 3 | H101: =G101*F101 -> 0
D102: * Metal barstool in white
D119: Informal / Chill seating | E119: Item | F119: 8 | H119: =G119*F119 -> 0
D120: * Grey upholstery Weavers World Blazer Fabric
D121: * Timber leg details
D140: Informal / Chill area Side table | E140: Item | F140: 4 | H140: =G140*F140 -> 0
D141: * Black
D158: Meeting booth Small meeting table | E158: Item | F158: 5 | H158: =G158*F158 -> 0
D159: * 900mm dia White top, HPL (High pressure laminate) solid core tops for high strength and scratch and heat resistance properties with a minimalistic appearance of 12mm thickness.
D160: * White powder coated steel leg
D181: Meeting booth Ottomans | E181: Item | F181: 9 | H181: =G181*F181 -> 0
D182: * Ottomans in a mix of blue and grey fabric from Weavers World Blazer
D183: * Leather handles

Sheet BOQ - FURN Canteen
I2: 1st August 2022
C3: Bills of Quantities
C4: CONTRACTOR NAME
C5: CONTACT PERSON
C6: CONTACT NUMBER
C7: CONTACT EMAIL
C10: HSRC
C11: The Yacht Club - Levels 1 - New Installation
C14: ITEM | D14: DESCRIPTION OF ELEMENTAL BUILDING TRADES | E14: Unit | F14: Quantity | G14: Rate | H14: Amount | I14: Total
F15: x
D16: All work to be executed in strict accordance with the manufacturer's recommendations and carried out by specialist installer. Site visit required to account for accessibility to floors. Final measurements to be taken on site.
D18: FURNITURE | H18: Sub Total ex Vat | I18: =SUM(I5:I15) -> 0
D19: Canteen
D20: Café Table | E20: Item | F20: 7 | H20: =G20*F20 -> 0
D21: * Oak timber top and legs
D22: * 900mm diameter
D43: Café Chair | E43: Item | F43: 28 | H43: =G43*F43 -> 0
D44: * Polyprop chair in mix of white and blue
D45: * Timber seat
D66: Barstool | E66: Item | F66: 7 | H66: =G66*F66 -> 0
D67: * Metal barstool in white
D84: Phone booth Armchair | E84: Item | F84: 5 | H84: =G84*F84 -> 0
D85: * Upholstered in high-quality blue velour
D86: * Swivel base
D102: Canteen meeting booth chairs | E102: Item | F102: 6 | H102: =G102*F102 -> 0
D103: * Grey upholstery Weavers World Blazer Fabric
D104: * Timber leg details
D123: Canteen meeting booth side table | E123: Item | F123: 3 | H123: =G123*F123 -> 0
D124: * Black
D141: Meeting booth Small meeting table | E141: Item | F141: 5 | H141: =G141*F141 -> 0
D142: * 900mm dia White top, HPL (High pressure laminate) solid core tops for high strength and scratch and heat resistance properties with a minimalistic appearance of 12mm thickness.
D143: * White powder coated steel leg
D164: Meeting booth Ottomans | E164: Item | F164: 9 | H164: =G164*F164 -> 0
D165: * Ottomans in a mix of blue and grey fabric from Weavers World Blazer
D166: * Leather handles

Sheet BOQ - FURN Store rooms
I2: 1st August 2022
C3: Bills of Quantities
C4: CONTRACTOR NAME
C5: CONTACT PERSON
C6: CONTACT NUMBER
C7: CONTACT EMAIL
C10: HSRC
C11: The Yacht Club - Levels 1 - New Installation
C14: ITEM | D14: DESCRIPTION OF ELEMENTAL BUILDING TRADES | E14: Unit | F14: Quantity | G14: Rate | H14: Amount | I14: Total
F15: x
D16: All work to be executed in strict accordance with the manufacturer's recommendations and carried out by specialist installer. Site visit required to account for accessibility to floors. Final measurements to be taken on site.
D18: FURNITURE | H18: Sub Total ex Vat | I18: =SUM(I5:I15) -> 0
D19: Store rooms
D20: IT Store Room Shelving | E20: Item | F20: 6 | H20: =G20*F20 -> 0
D21: * 400mm deep x 1100mm wide
D42: Green Room Shelving | E42: Item | F42: 4 | H42: =G42*F42 -> 0
D43: * 400mm deep x 1100mm wide
D64: Equiptment Store Shelving | E64: Item | F64: 4 | H64: =G64*F64 -> 0
D65: * 400mm deep x 1100mm wide
D86: Facilities Store Shelving | E86: Item | F86: 3 | H86: =G86*F86 -> 0
D87: * 400mm deep x 1100mm wide
D108: Book Store Shelving | E108: Item | F108: 110 | H108: =G108*F108 -> 0
D109: * 400mm deep x 1100mm wide
