Workbook
Name _Hlk215134396: 'Year 1'!$B$3

Sheet Year 1
B1: APPENDIX A - PRICING SHEET | D1: Year 1
B3: APPOINTMENT OF SERVICE PROVIDER FOR PROVISION OF A HOSTED RISK MANAGEMENT AND COMPLIANCE SOLUTION FOR A PERIOD OF THREE YEARS Bid No: BS/2025/RFB531
A5: Specification / Description A | E5: Qty | F5: Unit Price ( Ex Vat) | G5: TOTAL AMOUNT
A6: Hosted Risk Management and Compliance Solution compatibility and availability. | E6: 1 | F6: 0 | G6: 0
A7: Number of technical reports | E7: 12 | F7: 0 | G7: 0
A8: Hours of virtual / online training (provided via Microsoft Teams) | E8: 10 | F8: 0 | G8: 0
A9: Number of thirty (30) concurrent user licenses where applicable Licence - (Users) | E9: 30 | F9: 0 | G9: 0
A10: Number of support and maintenance | E10: 12 | F10: 0 | G10: 0
A11: Hours of system enhacement | E11: 10 | F11: 0 | G11: 0
A12: Migration of data/information | E12: 1 | F12: 0 | G12: 0
A13: TOTAL | G13: =SUM(G6:G12) -> 0
A14: Other Items not included in above - BIDDER TO SPECIFY | E14: Qty | F14: Unit Price ( Ex Vat) | G14: TOTAL AMOUNT
A15: 1 | F15: 0 | G15: =F15*E15 -> 0
A16: 2 | F16: 0 | G16: =F16*E16 -> 0
A17: 3 | F17: 0 | G17: =F17*E17 -> 0
A18: 4 | F18: 0 | G18: =F18*E18 -> 0
A19: 5 | F19: 0 | G19: =F19*E19 -> 0
A20: 6 | F20: 0 | G20: =F20*E20 -> 0
A21: TOTAL OPTIONAL ADDITION | G21: =SUM(G15:G20) -> 0
C23: Total excluding VAT | F23: =G13+G21 -> 0
C24: VAT if Applicable (If VAT registered) | F24: =F23*15% -> 0
C25: TOTAL BIDDING PRICE INCL VAT | F25: =SUM(F23:F24) -> 0
A26: Notes:
A27: Pricing must cover all items detailed in the Terms of Reference
A28: Pricing must remain firm for the duration of the Project.
A29: Pricing must include Value Added Tax (VAT)
A30: Service provider must complte blocks in yellow. Total values in this spreadsheet are automatically calculated and filled in.
A32: Date:
A33: Service Provider Name
A34: Name of Person Signing
A35: Signature

Sheet Year 2
B1: APPENDIX A - PRICING SHEET | D1: Year2
B3: APPOINTMENT OF SERVICE PROVIDER FOR PROVISION OF A HOSTED RISK MANAGEMENT AND COMPLIANCE SOLUTION FOR A PERIOD OF THREE YEARS Bid No: BS/2025/RFB531
A5: Specification / Description A | E5: Qty | F5: Unit Price ( Ex Vat) | G5: TOTAL AMOUNT
A6: Hosted Risk Management and Compliance Solution compatibility and availability. | E6: 1 | F6: 0 | G6: =F6*E6 -> 0
A7: Number of technical report | E7: 12 | F7: 0 | G7: =F7*E7 -> 0
A8: Hours of virtual / online training (provided via Microsoft Teams) | E8: 5 | F8: 0 | G8: =F8*E8 -> 0
A9: Number of thirty (30) concurrent user licenses where applicable Licence | E9: 30 | F9: 0 | G9: =F9*E9 -> 0
A10: Number of support and maintenance | E10: 12 | F10: 0 | G10: =F10*E10 -> 0
A11: Hours of system enhacement | E11: 10 | F11: 0 | G11: =F11*E11 -> 0
A12: TOTAL | G12: =SUM(G6:G11) -> 0
A13: Other Items not included in above - BIDDER TO SPECIFY | E13: Qty | F13: Unit Price ( Ex Vat) | G13: TOTAL AMOUNT
A14: 2 | G14: =F14*E14 -> 0
A15: 3 | G15: =F15*E15 -> 0
A16: 4 | G16: =F16*E16 -> 0
A17: 5 | G17: =F17*E17 -> 0
A18: 6 | G18: =F18*E18 -> 0
A19: TOTAL OPTIONAL ADDITION | G19: =SUM(G14:G18) -> 0
C21: Total excluding VAT | F21: =G12+G19 -> 0
C22: VAT if Applicable (If VAT registered) | F22: =F21*15% -> 0
C23: TOTAL BIDDING PRICE INCL VAT | F23: =SUM(F21:F22) -> 0
A24: Notes:
A25: Pricing must cover all items detailed in the Terms of Reference
A26: Pricing must remain firm for the duration of the Project.
A27: Pricing must include Value Added Tax (VAT)
A28: Service provider must complte blocks in yellow. Total values in this spreadsheet are automatically calculated and filled in.
A30: Date:
A31: Service Provider Name
A32: Name of Person Signing
A33: Signature

Sheet Year 3
B1: APPENDIX A - PRICING SHEET | D1: Year3
B3: APPOINTMENT OF SERVICE PROVIDER FOR PROVISION OF A HOSTED RISK MANAGEMENT AND COMPLIANCE SOLUTION FOR A PERIOD OF THREE YEARS Bid No: BS/2025/RFB531
A5: Specification / Description A | E5: Qty | F5: Unit Price ( Ex Vat) | G5: TOTAL AMOUNT
A6: Hosted Risk Management and Compliance Solution compatibility and availability. | E6: 1 | F6: 0 | G6: =F6*E6 -> 0
A7: Number of technical report | E7: 12 | F7: 0 | G7: =F7*E7 -> 0
A8: Hours of virtual / online training (provided via Microsoft Teams) | E8: 5 | F8: 0 | G8: =F8*E8 -> 0
A9: Number of thirty (30) concurrent user licenses where applicable Licence | E9: 30 | F9: 0 | G9: =F9*E9 -> 0
A10: Number of support and maintenance | E10: 12 | F10: 0 | G10: =F10*E10 -> 0
A11: Hours of system enhacement | E11: 10 | F11: 0 | G11: =F11*E11 -> 0
A12: Migration of data/information | E12: 1 | F12: 0 | G12: =F12*E12 -> 0
A13: TOTAL | G13: =SUM(G6:G12) -> 0
A14: Other Items not included in above - BIDDER TO SPECIFY | E14: Qty | F14: Unit Price ( Ex Vat) | G14: TOTAL AMOUNT
A15: 2 | G15: =F15*E15 -> 0
A16: 3 | G16: =F16*E16 -> 0
A17: 4 | G17: =F17*E17 -> 0
A18: 5 | G18: =F18*E18 -> 0
A19: 6 | G19: =F19*E19 -> 0
A20: TOTAL OPTIONAL ADDITION | G20: =SUM(G14:G19) -> 0
C22: Total excluding VAT | F22: =G13+G20 -> 0
C23: VAT if Applicable (If VAT registered) | F23: =F22*15% -> 0
C24: TOTAL BIDDING PRICE INCL VAT | F24: =SUM(F22:F23) -> 0
A25: Notes:
A26: Pricing must cover all items detailed in the Terms of Reference
A27: Pricing must remain firm for the duration of the Project.
A28: Pricing must include Value Added Tax (VAT)
A29: Service provider must complte blocks in yellow. Total values in this spreadsheet are automatically calculated and filled in.
A31: Date:
A32: Service Provider Name
A33: Name of Person Signing
A34: Signature

Sheet Total
B1: APPENDIX A - PRICING SHEET | D1: Total
B3: APPOINTMENT OF SERVICE PROVIDER FOR PROVISION OF A HOSTED RISK MANAGEMENT AND COMPLIANCE SOLUTION FOR A PERIOD OF THREE YEARS Bid No: BS/2025/RFB531
A5: Specification / Description A | E5: TOTAL AMOUNT
A6: Hosted Risk Management and Compliance solution Compatibility and Availability. | E6: ='Year 1'!G6+'Year 2'!G6+'Year 3'!G6 -> 0
A7: Number of Technical Report | E7: ='Year 1'!G7+'Year 2'!G7+'Year 3'!G7 -> 0
A8: Hours of Virtual / online Training (Provided via Microsoft Teams) | E8: ='Year 1'!G8+'Year 2'!G8+'Year 3'!G8 -> 0
A9: Number of Thirty (30) concurrent user licenses where applicable Licence - (Users) | E9: ='Year 1'!G9+'Year 2'!G9+'Year 3'!G9 -> 0
A10: Number of Support and maintenance | E10: ='Year 1'!G10+'Year 2'!G10+'Year 3'!G10 -> 0
A11: Hours of System enhacement | E11: ='Year 1'!G11+'Year 2'!G11+'Year 3'!G11 -> 0
A12: Migration of data/information | E12: ='Year 1'!G12+'Year 3'!G12 -> 0
A13: Other Items not included in above - BIDDER TO SPECIFY | E13: TOTAL AMOUNT
A14: 2 | E14: ='Year 1'!G16+'Year 2'!G14+'Year 3'!G15 -> 0
A15: 3 | E15: ='Year 1'!G17+'Year 2'!G15+'Year 3'!G16 -> 0
A16: 4 | E16: ='Year 1'!G18+'Year 2'!G16+'Year 3'!G17 -> 0
A17: 5 | E17: ='Year 1'!G19+'Year 2'!G17+'Year 3'!G18 -> 0
A18: 6 | E18: ='Year 1'!G20+'Year 2'!G18+'Year 3'!G19 -> 0
A19: OPTIONAL ADDITION | E19: =SUM(E14:E18) -> 0
C21: Total excluding VAT
C22: VAT if Applicable (If VAT registered)
C23: TOTAL BIDDING PRICE INCL VAT
A24: Notes:
A25: Pricing must cover all items detailed in the Terms of Reference
A26: Pricing must remain firm for the duration of the Project.
A27: Pricing must include Value Added Tax (VAT)
A28: Service provider must complte blocks in yellow. Total values in this spreadsheet are automatically calculated and filled in.
A30: Date:
A31: Service Provider Name
A32: Name of Person Signing
A33: Signature
