Workbook

Sheet Instruction
B3: Instructions | C3: TRANSNET PORTS TERMINAL (TPT) INFRASTRUCTURE REFRESH PRICING WORKBOOK
C4: Service Provider Name
C5: Date
C6: The Exchange Rate to be used when completing this Pricing Workbook: | D6: R16,14
C7: All the Rand Values must be filled in as per the pricing workbook to 2 decimal places.
C8: All pricing must be inclusive of Value Added Tax (VAT).
C9: Validity of Pricing must be for One Hundred and Eighty (180) days
B10: 1. | C10: This MS Excel Workbook contains a separate spreadsheets designed to provide a robust understanding of the costing model. It is ESSENTIAL that this model be used in the pricing response.
B11: 2. | C11: The descriptions and Instructions/context for each spreadsheet, as well as convenient one-click navigation of the workbook are detailed below under the heading of "Pricing Workbook Tab Instructions" .
B12: 3. | C12: The worksheet is designed to elicit specific pricing information related to establishing, managing, developing, and deploying the work required by the TPT Infrastructure Refresh. If your typical pricing model does not normally charge for a specific element provided within this workbook, then please provide a statement in your "Assumptions" regarding your methodology for charging for that element (i.e., not applicable, charged on a time and material (T&M) basis, etc.).
B13: 4. | C13: The worksheet in this Pricing Template is protected to minimize the risk of compromising the integrity of the workbook structure and formulas. As such, the editable cells within each worksheet are indicated in light blue highlight as shown =================================> | D13: This cell is Editable
B14: 5. | C14: Service provider must note that only unconditional discounts will be taken into account for purposes of pricing evaluation.
B17: Pricing Goals
B19: Transnet has developed the following Service pricing goals for RFP respondents to utilise in developing the Service Pricing proposal. RFP respondent pricing should reflect: - Predetermined and Fixed Pricing for services over agreement term - Scalable to account for additions or reductions in business requirements - Ability to plug and unplug services to adapt new service delivery methods - All respondents assumptions in developing pricing are visible - Pricing Models ability to reflect ongoing continuous improvement gains - Pricing is structured so to encourage standardised use and behaviors - Transparent to underlying cost drivers - Enable external benchmarking of competitive services

Sheet Summary
B3: SUMMARY OF TPT INFRASTRUCTURE REFRESH SITES AND SERVICES
B4: =[1]INSTRUCTION!C3 -> Transnet Ltd SOC
B5: =[1]INSTRUCTION!C4 -> Name of Service Provider
B6: =[1]INSTRUCTION!C5 -> Date
B7: SUMMARY OF TOTALS
B8: TPT Sites | C8: Total Once-Off Cost (Incl. VAT) | D8: Total Cost - Year 1 (Incl. VAT) | E8: Total Cost - Year 2 (Incl. VAT) | F8: Total Cost - Year 3 (Incl. VAT) | G8: Total Cost - Year 4 (Incl. VAT) | H8: Total Cost - Year 5 (Incl. VAT) | I8: Total Cost (Incl. VAT)
B9: Durban | C9: =Durban!G34 -> 0 | I9: =C9 -> 0
B10: Richards Bay | C10: =Richardsbay!G23 -> 0 | I10: =C10 -> 0
B11: Port Elizabeth | C11: ='Port Elizabeth'!G14 -> 0 | I11: =C11 -> 0
B12: Cape Town | C12: ='Cape Town'!G23 -> 0 | I12: =C12 -> 0
B13: East London | C13: ='East London'!G23 -> 0 | I13: =C13 -> 0
B14: Ngqura | C14: =Ngqura!G14 -> 0 | I14: =C14 -> 0
B15: Services | C15: =Services!F118 -> 0 | D15: =Services!F124 -> 0 | E15: =Services!H124 -> 0 | F15: =Services!J124 -> 0 | G15: =Services!L124 -> 0 | H15: =Services!N123 -> 0 | I15: =SUM(C15:H15) -> 0
B16: Total (Including VAT) | C16: =SUM(C9:C15) -> 0 | D16: =D15 -> 0 | E16: =E15 -> 0 | F16: =F15 -> 0 | G16: =G15 -> 0 | H16: =H15 -> 0 | I16: =SUM(I9:I15) -> 0

Sheet Durban
B3: DURBAN TPT QUEENS WAREHOUSE INFRASTRUCTURE REFRESH PRICING WORKBOOK
B4: =[1]INSTRUCTION!C3 -> Transnet Ltd SOC
B5: =[1]INSTRUCTION!C4 -> Name of Service Provider
B6: =[1]INSTRUCTION!C5 -> Date
B7: Data Centre 1: Durban (Primary)
C8: Description | D8: Unit of Measure | E8: Quantity | F8: Unit Price (Incl. VAT) | G8: Total Once-Off Cost (Incl. VAT)
B9: Section A | C9: Virtualization Host (Memory 2048 GB, 4 CPU, 16 cores per CPU) | D9: Each | E9: 4 | G9: =E9*F9 -> 0
C10: Virtualization Host (Memory 1024 GB, 2 CPU, 16 cores per CPU) | D10: Each | E10: 2 | G10: =E10*F10 -> 0
C11: Standalone Server (Memory 512 GB, 2 CPU, 16 cores per CPU) | D11: Each | E11: 2 | G11: =E11*F11 -> 0
C12: Standalone Server (Memory 8192 GB, 8 CPU, 32 cores per CPU) | D12: Each | E12: 1 | G12: =E12*F12 -> 0
C13: Standalone Server (Memory 8192 GB, 8 CPU, 24 cores per CPU) | D13: Each | E13: 1 | G13: =E13*F13 -> 0
C14: Standalone Server (Memory 8192 GB, 4 CPU, 8 cores per CPU) | D14: Each | E14: 4 | G14: =E14*F14 -> 0
C15: Standalone Server (Memory 8192 GB, 8 CPU, 16 cores per CPU) | D15: Each | E15: 1 | G15: =E15*F15 -> 0
B16: Section B | C16: Racks, Top of Rack Switches, Fibre & CAt6 Cables, SFPs, Console & Console Cables, PDUs & Power Cables, Rack Mounting Kits (all rack mounted Devices, TOR Switches | D16: Sum (Total for site) | E16: 1 | G16: =E16*F16 -> 0
B17: Section C | C17: Flash Storage for connected Virtualization Hosts and Standalone servers | D17: TB (Usable) | E17: 300 | G17: =E17*F17 -> 0
C18: Flash Storage for Veeam and database backups | D18: TB (Usable) | E18: 200 | G18: =E18*F18 -> 0
C19: Flash Storage for DEV & QA | D19: TB (Usable) | E19: 300 | G19: =E19*F19 -> 0
B20: Total (Including VAT) | G20: =SUM(G9:G19) -> 0
B21: Data Centre 2: Durban (DR)
C22: Description | D22: Unit of Measure | E22: Quantity | F22: Unit Price (Incl. VAT) | G22: Total Once-Off Cost (Incl. VAT)
B23: Section A | C23: Virtualization Host (2048 GB, 4 CPU,16 cores per CPU) | D23: Each | E23: 4 | G23: =E23*F23 -> 0
C24: Virtualization Host (1024 GB, 2 CPU, 16 cores per CPU) | D24: Each | E24: 1 | G24: =E24*F24 -> 0
C25: Standalone Server (128 GB, 2 CPU, 16 cores per CPU) | D25: Each | E25: 2 | G25: =E25*F25 -> 0
C26: Standalone Server (8192 GB, 8 CPU, 32 cores per CPU) | D26: Each | E26: 1 | G26: =E26*F26 -> 0
C27: Standalone Server (8192 GB, 8 CPU, 24 cores per CPU) | D27: Each | E27: 1 | G27: =E27*F27 -> 0
C28: Standalone Server (8192 GB, 4 CPU, 8 cores per CPU) | D28: Each | E28: 1 | G28: =E28*F28 -> 0
B29: Section B | C29: Racks, Top of Rack Switches, Fibre & CAt6 Cables, SFPs, Console & Console Cables, PDUs & Power Cables, Rack Mounting Kits (all rack mounted Devices, TOR Switches | D29: Sum (Total for site) | E29: 1 | G29: =E29*F29 -> 0
B30: Section C | C30: Flash (Hosts & Appliances) | D30: TB (Usable) | E30: 300 | G30: =E30*F30 -> 0
C31: PBBA – Air-gapped backup | D31: TB (Usable) | E31: 500 | G31: =E31*F31 -> 0
C32: Flash (Backup) | D32: TB (Usable) | E32: 300 | G32: =E32*F32 -> 0
B33: Total (Including VAT) | G33: =SUM(G23:G32) -> 0
B34: Grand Total ( Including VAT) | G34: =G20+G33 -> 0

Sheet Richardsbay
B3: RICHARDSBAY TPT INFRASTRUCTURE REFRESH PRICING WORKBOOK
B4: ='[1]DURBAN TPT'!B3 -> Transnet Ltd SOC
B5: ='[1]DURBAN TPT'!B4 -> Name of Service Provider
B6: ='[1]DURBAN TPT'!B5 -> Date
B7: Data Centre 1: Richards Bay (Primary)
C8: Description | D8: Unit of Measure | E8: Quantity | F8: Unit Price (Incl. VAT) | G8: Total Once-Off Cost (Incl. VAT)
B9: Section A | C9: 1.Virtualization Host (Memory 1024 GB, 4 CPU, 16 cores per CPU) | D9: Each | E9: 2 | G9: =E9*F9 -> 0
C10: 2. Standalone Server (Memory 128 GB, 2 CPU, 16 cores per CPU) | D10: Each | E10: 1 | G10: =E10*F10 -> 0
B11: Section B | C11: Racks, Fibre & CAt6 Cables, SFPs, Console & Console Cables, PDUs & Power Cables, Rack Mounting Kits (all rack mounted Devices, TOR Switches | D11: Sum (Total for site) | E11: 1 | G11: =E11*F11 -> 0
B12: Section C | C12: Flash Storage for connected Virtualization Hosts | D12: TB (Usable) | E12: 60 | G12: =E12*F12 -> 0
C13: Flash Storage for Veeam and database backups | D13: TB (Usable) | E13: 120 | G13: =E13*F13 -> 0
B14: Total (Including VAT) | G14: =SUM(G9:G13) -> 0
B15: Data Centre 2: Richards Bay (Secondary)
C16: Description | D16: Unit of Measure | E16: Quantity | F16: Unit Price (Incl. VAT) | G16: Total Once-Off Cost (Incl. VAT)
B17: Section A | C17: 1. Virtualization Host (Memory 1024 GB, 4 CPU, 16 cores per CPU) | D17: Each | E17: 2 | G17: =E17*F17 -> 0
C18: 2. Standalone Server (Memory 128 GB, 2 CPU, 16 cores per CPU) | D18: Each | E18: 1 | G18: =E18*F18 -> 0
B19: Section B | C19: Racks, Fibre & CAt6 Cables, SFPs, Console & Console Cables, PDUs & Power Cables, Rack Mounting Kits (all rack mounted Devices, TOR Switches | D19: Sum (Total for site) | E19: 1 | G19: =E19*F19 -> 0
B20: Section C | C20: Flash Storage for connected Virtualization Hosts | D20: TB (Usable) | E20: 60 | G20: =E20*F20 -> 0
C21: Flash Storage for Veeam and database backups | D21: TB (Usable) | E21: 120 | G21: =E21*F21 -> 0
B22: Total (Including VAT) | G22: =SUM(G17:G21) -> 0
B23: Grand Total ( Including VAT) | G23: =G14+G22 -> 0

Sheet Port Elizabeth
B3: PORT ELIZABETH TPT INFRASTRUCTURE REFRESH PRICING WORKBOOK
B4: ='[1]RBAY TPT'!A2 -> Transnet Ltd SOC
B5: ='[1]RBAY TPT'!A3 -> Name of Service Provider
B6: ='[1]RBAY TPT'!A4 -> Date
B7: Data Centre 1: Port Elizabeth (Primary)
C8: Description | D8: Unit of Measure | E8: Quantity | F8: Unit Price (Incl. VAT) | G8: Total Once-Off Cost (Incl. VAT)
B9: Section A | C9: 1. Virtualization Host (Memory 2048 GB, 4 CPU, 16 cores per CPU) | D9: Each | E9: 2 | G9: =E9*F9 -> 0
C10: 2. Standalone Server (Memory 128 GB, 2 CPU, 16 cores per CPU) | D10: Each | E10: 1 | G10: =E10*F10 -> 0
B11: Section B | C11: Racks, Fibre & CAt6 Cables, SFPs, Console & Console Cables, PDUs & Power Cables, Rack Mounting Kits (all rack mounted Devices, TOR Switches | D11: Sum (Total for site) | E11: 1 | G11: =E11*F11 -> 0
B12: Section C | C12: Flash Storage for connected Virtualization Hosts | D12: TB (Usable) | E12: 100 | G12: =E12*F12 -> 0
C13: Flash Storage for Veeam and database backups | D13: TB (Usable) | E13: 150 | G13: =E13*F13 -> 0
B14: Total (Including VAT) | G14: =SUM(G9:G13) -> 0

Sheet Cape Town
B3: CAPE TOWN TPT INFRASTRUCTURE REFRESH PRICING WORKBOOK
B4: ='[1]RBAY TPT'!A2 -> Transnet Ltd SOC
B5: ='[1]RBAY TPT'!A3 -> Name of Service Provider
B6: ='[1]RBAY TPT'!A4 -> Date
B7: Data centre 1: Cape Town (Primary)
C8: Description | D8: Unit of Measure | E8: Quantity | F8: Unit Price (Incl. VAT) | G8: Total Once-Off Cost (Incl. VAT)
B9: Section A | C9: 1. Virtualization Host (Memory 2048 GB, 4 CPU, 16 cores per CPU) | D9: Each | E9: 2 | G9: =E9*F9 -> 0
C10: 2. Standalone Server (Memory 128 GB, 2 CPU, 16 cores per CPU) | D10: Each | E10: 1 | G10: =E10*F10 -> 0
B11: Section B | C11: Racks, Top of Rack Switches, Fibre & CAt6 Cables, SFPs, Console & Console Cables, PDUs & Power Cables, Rack Mounting Kits (all rack mounted Devices, | D11: Sum (Total for site) | E11: 1 | G11: =E11*F11 -> 0
B12: Section C | C12: Flash Storage for connected Virtualization Hosts | D12: TB (Usable) | E12: 100 | G12: =E12*F12 -> 0
C13: Flash Storage for Veeam and database backups | D13: TB (Usable) | E13: 150 | G13: =E13*F13 -> 0
B14: Total (Including VAT) | G14: =SUM(G9:G13) -> 0
B15: Data Centre 2: Cape Town (DR)
C16: Description | D16: Unit of Measure | E16: Quantity | F16: Unit Price (Incl. VAT) | G16: Total Once-Off Cost (Incl. VAT)
B17: Section A | C17: 1. Virtualization Host (Memory 2048 GB, 4 CPU, 16 cores per CPU) | D17: Each | E17: 2 | G17: =E17*F17 -> 0
C18: 2. Standalone Server (Memory 128 GB, 2 CPU, 16 cores per CPU) | D18: Each | E18: 1 | G18: =E18*F18 -> 0
B19: Section B | C19: Racks, Top of Rack Switches, Fibre & CAt6 Cables, SFPs, Console & Console Cables, PDUs & Power Cables, Rack Mounting Kits (all rack mounted Devices) | D19: Sum (Total for site) | E19: 1 | G19: =E19*F19 -> 0
B20: Section C | C20: Flash Storage for connected Virtualization Hosts | D20: TB (Usuable) | E20: 100 | G20: =E20*F20 -> 0
C21: Flash Storage for Veeam and database backups | D21: TB (Usuable) | E21: 150 | G21: =E21*F21 -> 0
B22: Total (Including VAT) | G22: =SUM(G17:G21) -> 0
B23: Grand Total ( Including VAT) | G23: =G14+G22 -> 0

Sheet East London
B3: EAST LONDON TPT INFRASTRUCTURE REFRESH PRICING WORKBOOK
B4: ='[1]RBAY TPT'!A2 -> Transnet Ltd SOC
B5: ='[1]RBAY TPT'!A3 -> Name of Service Provider
B6: ='[1]RBAY TPT'!A4 -> Date
B7: Data Centre 1: East London (Primary)
C8: Description | D8: Unit of Measure | E8: Quantity | F8: Unit Price (Incl. VAT) | G8: Total Once-Off Cost (Incl. VAT)
B9: Section A | C9: 1. Virtualization Host (Memory 1024 GB, 4 CPU, 16 cores per CPU) | D9: Each | E9: 2 | G9: =E9*F9 -> 0
C10: 2. Standalone Server (Memory 128 GB, 2 CPU, 16 cores per CPU) | D10: Each | E10: 1 | G10: =E10*F10 -> 0
B11: Section B | C11: Racks, Top of Rack Switches, Fibre & CAt6 Cables, SFPs, Console & Console Cables, PDUs & Power Cables, Rack Mounting Kits (all rack mounted Devices, TOR Switches | D11: Sum (Total for site) | E11: 1 | G11: =E11*F11 -> 0
B12: Section C | C12: Flash Storage for connected Virtualization Hosts and Standalone servers) | D12: TB (Usable) | E12: 60 | G12: =E12*F12 -> 0
C13: Flash Storage for Veeam and database backups | D13: TB (Usable) | E13: 120 | G13: =E13*F13 -> 0
B14: Total (Including VAT) | G14: =SUM(G9:G13) -> 0
B15: Data Centre 2: East London (DR)
C16: Description | D16: Unit of Measure | E16: Quantity | F16: Unit Price (Incl. VAT) | G16: Total Once-Off Cost (Incl. VAT)
B17: Section A | C17: 1. Virtualization Host (Memory 1024 GB, 4 CPU, 16 cores per CPU) | D17: Each | E17: 2 | G17: =E17*F17 -> 0
C18: 2. Standalone Server (Memory 128 GB, 2 CPU, 16 cores per CPU) | D18: Each | E18: 1 | G18: =E18*F18 -> 0
B19: Section B | C19: Racks, Top of Rack Switches, Fibre & CAt6 Cables, SFPs, Console & Console Cables, PDUs & Power Cables, Rack Mounting Kits (all rack mounted Devices, TOR Switches | D19: Sum (Total for site) | E19: 1 | G19: =E19*F19 -> 0
B20: Section C | C20: Flash Storage for connected Virtualization Hosts and Standalone servers) | D20: TB (Usable) | E20: 60 | G20: =E20*F20 -> 0
C21: Flash Storage for Veeam and database backups | D21: TB (Usable) | E21: 120 | G21: =E21*F21 -> 0
B22: Total (Including VAT) | G22: =SUM(G17:G21) -> 0
B23: Grand Total ( Including VAT) | G23: =G14+G22 -> 0

Sheet Ngqura
B3: NGQURA TPT INFRASTRUCTURE REFRESH PRICING WORKBOOK
B4: ='[1]ELONDON TPT'!B2 -> Transnet Ltd SOC
B5: ='[1]ELONDON TPT'!B3 -> Name of Service Provider
B6: ='[1]ELONDON TPT'!B4 -> Date
B7: Data Centre 1: NGQURA (Primary)
C8: Description | D8: Unit of Measure | E8: Quantity | F8: Unit Price (Incl. VAT) | G8: Total Once-Off Cost (Incl. VAT)
B9: Section A | C9: 1. Virtualization Host (Memory 2048 GB, 4 CPU, 16 cores per CPU) | D9: Each | E9: 2 | G9: =E9*F9 -> 0
C10: 2. Standalone Server (Memory 128 GB, 2 CPU, 16 cores per CPU) | D10: Each | E10: 1 | G10: =E10*F10 -> 0
B11: Section B | C11: Racks, Fibre & CAt6 Cables, SFPs, Console & Console Cables, PDUs & Power Cables, Rack Mounting Kits (all rack mounted Devices, TOR Switches | D11: Sum (Total for site) | E11: 1 | G11: =E11*F11 -> 0
B12: Section C | C12: Flash Storage for connected Virtualization Hosts and Standalone servers) | D12: TB (Usable) | E12: 100 | G12: =E12*F12 -> 0
C13: Flash Storage for Veeam and database backups | D13: TB (Usable) | E13: 150 | G13: =E13*F13 -> 0
B14: Total (Including VAT) | G14: =SUM(G9:G13) -> 0

Sheet Services
B3: TPT INFRASTRUCTURE REFRESH SERVICES SITES PRICING WORKBOOK
B4: =[1]SUMMARY!C3 -> Name of Service Provider
B5: =[1]SUMMARY!C4 -> Date
B6: Durban Sites
B7: Data Centre 1: Durban (Primary Site)
B8: Description | C8: Unit of Measure | D8: Quantity | E8: Unit Price (Incl. VAT) | F8: Total Once-Off Cost (Incl. VAT)
B9: Project management | C9: Each | D9: 1 | F9: =D9*E9 -> 0
B10: Design, Implementation and Commissioning | C10: Each | D10: 1 | F10: =D10*E10 -> 0
B11: Replication from Old to New Hardware | C11: Each | D11: 1 | F11: =D11*E11 -> 0
B12: Transportation | C12: Each | D12: 1 | F12: =D12*E12 -> 0
B13: Post-Deployment Cleanup | C13: Each | D13: 1 | F13: =D13*E13 -> 0
B14: Skills transfer and Handover Documentation | C14: Each | D14: 1 | F14: =D14*E14 -> 0
B15: Decommission of Old Hardware | C15: Each | D15: 9 | F15: =D15*E15 -> 0
B16: Total (Including VAT) | F16: =SUM(F9:F15) -> 0
B17: Data Centre 2: Durban (DR Site)
B18: Description | C18: Unit of Measure | D18: Quantity | E18: Unit Price (Incl. VAT) | F18: Total Once-Off Cost (Incl. VAT)
B19: Project management | C19: Each | D19: 1 | F19: =D19*E19 -> 0
B20: Design, Implementation and Commissioning | C20: Each | D20: 1 | F20: =D20*E20 -> 0
B21: Replication from Old to New Hardware | C21: Each | D21: 1 | F21: =D21*E21 -> 0
B22: Transportation | C22: Each | D22: 1 | F22: =D22*E22 -> 0
B23: Post-Deployment Cleanup | C23: Each | D23: 1 | F23: =D23*E23 -> 0
B24: Skills transfer and Handover Documentation | C24: Each | D24: 1 | F24: =D24*E24 -> 0
B25: Decommission of Old Hardware | C25: Each | D25: 10 | F25: =D25*E25 -> 0
B26: Total (Including VAT) | F26: =SUM(F19:F25) -> 0
B27: Richards Bay Sites
B28: Data Centre 1: Richards Bay (Primary Site)
B29: Description | C29: Unit of Measure | D29: Quantity | E29: Unit Price (Incl. VAT) | F29: Total Once-Off Cost (Incl. VAT)
B30: Project management | C30: Each | D30: 1 | F30: =D30*E30 -> 0
B31: Design, Implementation and Commissioning | C31: Each | D31: 1 | F31: =D31*E31 -> 0
B32: Replication from Old to New Hardware | C32: Each | D32: 1 | F32: =D32*E32 -> 0
B33: Transportation | C33: Each | D33: 1 | F33: =D33*E33 -> 0
B34: Post-Deployment Cleanup | C34: Each | D34: 1 | F34: =D34*E34 -> 0
B35: Skills transfer and Handover Documentation | C35: Each | D35: 1 | F35: =D35*E35 -> 0
B36: Decommission of Old Hardware | C36: Each | D36: 5 | F36: =D36*E36 -> 0
B37: Total (Including VAT) | F37: =SUM(F28:F36) -> 0
B38: Data Centre 2: Richards Bay (DR Site)
B39: Description | C39: Unit of Measure | D39: Quantity | E39: Unit Price (Incl. VAT) | F39: Total Once-Off Cost (Incl. VAT)
B40: Project management | C40: Each | D40: 1 | F40: =D40*E40 -> 0
B41: Design, Implementation and Commissioning | C41: Each | D41: 1 | F41: =D41*E41 -> 0
B42: Replication from Old to New Hardware | C42: Each | D42: 1 | F42: =D42*E42 -> 0
...
