Workbook
Name _.: #REF!
Name _.: #REF!
Name _R: #REF!
Name _R: #REF!
Name Area_Print: #REF!
Name Area_Print: #REF!
Name Clear_CAST_Price_Summary: Currency!Clear_CAST_Price_Summary
Name Clear_CAST_Price_Summary: 'Feeder Balancing'!Clear_CAST_Price_Summary
Name Clear_CAST_Price_Summary: [0]!Clear_CAST_Price_Summary
Name Cost_Allocation: [1]Data!$C$2:$C$12
Name Cost_Allocation: [2]Data!$C$2:$C$12
Name CPA_Data: [1]Data!$F$2:$F$14
Name CPA_Data: [2]Data!$F$2:$F$14
Name Currency: [1]Data!$E$2:$E$19
Name Currency: [2]Data!$E$2:$E$19
Name Currency_A: [3]Data!$E$2:$E$19
Name Currency_A: [4]Data!$E$2:$E$19
Name Currency_Allocated: '[5]Option X3'!$D$9:$D$26
Name Currency_Allocated: '[6]Option X3'!$D$9:$D$26
Name CurrencyA: [7]Data!$E$2:$E$19
Name D: #REF!
Name D: #REF!
Name Data: 'Feeder Balancing'!$B$27:$M$40
Name Data: #REF!
Name Data_Daywork: #REF!
Name Data_Daywork: #REF!
Name Data_Opt_Bill5: #REF!
Name Data_Opt_Bill5: #REF!
Name Option_N: '[5]Option X5'!$H$9:$H$18
Name Option_N: '[6]Option X5'!$H$9:$H$18
Name P: #REF!
Name P: #REF!
Name PS5_Allocation: [1]Data!$B$2:$B$20
Name PS5_Allocation: [2]Data!$B$2:$B$20
Name Q: #REF!
Name Q: #REF!
Name S: #REF!
Name S: #REF!
Name Sort_Data: #REF!
Name Sort_Data: #REF!
Name w: Currency!w
Name w: 'Feeder Balancing'!w
Name w: [0]!w

Sheet Feeder Balancing
C1: Pricing Schedule : Feeder Balancing Module
C3: VENDOR NAME
C7: IMPORTANT NOTES
C8: All cells highlighted in GREEN must be completed
C9: Quoted prices MUST be in ZAR, EXCLUDING VAT and ESCALATIONS
C11: Feeder Balancing Module
C12: Prices MUST be quoted based on the SCOPE provided
C13: Select the currency from the CURRENCY drop-down list in COLUMN "H"
C15: Capture the applicable Currency, ROE and ROE Published Date on the "Currency sheet".
C16: The adjustments for prevailing rates and the basis for future price adjustments will be determined at time of contracting.
C17: Exchange rate variations may not be claimed for the local mark-up in the pricing structure
C19: NB: Provide details on the CONTRACT PRICE ADJUSTMENT in Column O for the Implementation phase and Column AI for the Maintenance phase.
... C23: All Prices must be exclusive of VAT
J27: SOLUTION IMPLEMENTATION | Q27: CASH FLOW PROJECTIONS ACCORDING TO THE PROJECT SCHEDULE
B28: Item Number | C28: Category | D28: Description | E28: Total Estimated Quantity | F28: Unit charge | G28: CURRENCY | J28: Unit Price in Nominated Currency | K28: Unit Price in ZAR | L28: Total [Nominated Currency] | M28: Total in ZAR | O28: CONTRACT PRICE ADJUSTMENT | Q28: Month 1 | R28: Month 2 | S28: Month 3 | T28: Month 4 | U28: Month 5 | V28: Month 6 | W28: Month 7 | X28: Month 8 | Y28: Month 9 | Z28: Month 10 | AA28: Month 11 | AB28: Month 12 | AC28: Month 13 | AD28: Month 14 | AE28: Month 15 | AF28: Month 16 | AG28: Month 17 | AH28: Month 18
B29: 1 | C29: Software | D29: Software/Subscription Licenses | E29: 20 | F29: sum | G29: =IF(H29="","",IF(H29="ZAR","Local","Foreign")) -> Local | H29: ZAR | I29: =IF(G29="","",IF(G29="Foreign",VLOOKUP(H29,Currency!$E$20:$F$33,2,FALSE),1)) -> 1 | J29: 0 | K29: =J29*$I29 -> 0 | L29: =J29*$E29 -> 0 | M29: =K29*$E29 -> 0 | Q29: 0 | R29: 0 | S29: 0 | T29: 0 | U29: 0 | V29: 0 | W29: 0 | X29: 0 | Y29: 0 | Z29: 0 | AA29: 0 | AB29: 0 | AC29: 0 | AD29: 0 | AE29: 0 | AF29: 0 | AG29: 0 | AH29: 0
B30: 2 | C30: Solution Implementation | D30: Design | E30: 1 | F30: sum | G30: =IF(H30="","",IF(H30="ZAR","Local","Foreign")) -> Foreign | H30: USD | I30: =IF(G30="","",IF(G30="Foreign",VLOOKUP(H30,Currency!$E$20:$F$33,2,FALSE),1)) -> 16 | J30: 0 | K30: =J30*$I30 -> 0 | L30: =J30*$E30 -> 0 | M30: =H46*I30 -> 0 | Q30: 0 | R30: 0 | S30: 0 | T30: 0 | U30: 0 | V30: 0 | W30: 0 | X30: 0 | Y30: 0 | Z30: 0 | AA30: 0 | AB30: 0 | AC30: 0 | AD30: 0 | AE30: 0 | AF30: 0 | AG30: 0 | AH30: 0
D31: Build, Configure, Testing | E31: 1 | F31: sum | G31: =IF(H31="","",IF(H31="ZAR","Local","Foreign")) -> Local | H31: ZAR | I31: =IF(G31="","",IF(G31="Foreign",VLOOKUP(H31,Currency!$E$20:$F$33,2,FALSE),1)) -> 1 | J31: 0 | K31: =J31*$I31 -> 0 | L31: =J31*$E31 -> 0 | M31: =H49*I31 -> 0 | Q31: 0 | R31: 0 | S31: 0 | T31: 0 | U31: 0 | V31: 0 | W31: 0 | X31: 0 | Y31: 0 | Z31: 0 | AA31: 0 | AB31: 0 | AC31: 0 | AD31: 0 | AE31: 0 | AF31: 0 | AG31: 0 | AH31: 0
D32: Deployment | E32: 1 | F32: sum | G32: =IF(H32="","",IF(H32="ZAR","Local","Foreign")) -> Local | H32: ZAR | I32: =IF(G32="","",IF(G32="Foreign",VLOOKUP(H32,Currency!$E$20:$F$33,2,FALSE),1)) -> 1 | J32: 0 | K32: =J32*$I32 -> 0 | L32: =J32*$E32 -> 0 | M32: =H52*I32 -> 0 | Q32: 0 | R32: 0 | S32: 0 | T32: 0 | U32: 0 | V32: 0 | W32: 0 | X32: 0 | Y32: 0 | Z32: 0 | AA32: 0 | AB32: 0 | AC32: 0 | AD32: 0 | AE32: 0 | AF32: 0 | AG32: 0 | AH32: 0
D33: Stabilisation & Go-Live Support | E33: 1 | F33: sum | G33: =IF(H33="","",IF(H33="ZAR","Local","Foreign")) -> Local | H33: ZAR | I33: =IF(G33="","",IF(G33="Foreign",VLOOKUP(H33,Currency!$E$20:$F$33,2,FALSE),1)) -> 1 | J33: 0 | K33: =J33*$I33 -> 0 | L33: =J33*$E33 -> 0 | M33: =H56*I33 -> 0 | Q33: 0 | R33: 0 | S33: 0 | T33: 0 | U33: 0 | V33: 0 | W33: 0 | X33: 0 | Y33: 0 | Z33: 0 | AA33: 0 | AB33: 0 | AC33: 0 | AD33: 0 | AE33: 0 | AF33: 0 | AG33: 0 | AH33: 0
D34: Data Migration | E34: 1 | F34: sum | G34: =IF(H34="","",IF(H34="ZAR","Local","Foreign")) -> Local | H34: ZAR | I34: =IF(G34="","",IF(G34="Foreign",VLOOKUP(H34,Currency!$E$20:$F$33,2,FALSE),1)) -> 1 | J34: 0 | K34: =J34*$I34 -> 0 | L34: =J34*$E34 -> 0 | M34: =H59*I34 -> 0 | Q34: 0 | R34: 0 | S34: 0 | T34: 0 | U34: 0 | V34: 0 | W34: 0 | X34: 0 | Y34: 0 | Z34: 0 | AA34: 0 | AB34: 0 | AC34: 0 | AD34: 0 | AE34: 0 | AF34: 0 | AG34: 0 | AH34: 0
D35: Training | E35: 1 | F35: sum | G35: =IF(H35="","",IF(H35="ZAR","Local","Foreign")) -> Local | H35: ZAR | I35: =IF(G35="","",IF(G35="Foreign",VLOOKUP(H35,Currency!$E$20:$F$33,2,FALSE),1)) -> 1 | J35: 0 | K35: =J35*$I35 -> 0 | L35: =J35*$E35 -> 0 | M35: =H61*I35 -> 0 | Q35: 0 | R35: 0 | S35: 0 | T35: 0 | U35: 0 | V35: 0 | W35: 0 | X35: 0 | Y35: 0 | Z35: 0 | AA35: 0 | AB35: 0 | AC35: 0 | AD35: 0 | AE35: 0 | AF35: 0 | AG35: 0 | AH35: 0
D36: Change Management | E36: 1 | F36: sum | G36: =IF(H36="","",IF(H36="ZAR","Local","Foreign")) -> Local | H36: ZAR | I36: =IF(G36="","",IF(G36="Foreign",VLOOKUP(H36,Currency!$E$20:$F$33,2,FALSE),1)) -> 1 | J36: 0 | K36: =J36*$I36 -> 0 | L36: =J36*$E36 -> 0 | M36: =K36*$E36 -> 0 | Q36: 0 | R36: 0 | S36: 0 | T36: 0 | U36: 0 | V36: 0 | W36: 0 | X36: 0 | Y36: 0 | Z36: 0 | AA36: 0 | AB36: 0 | AC36: 0 | AD36: 0 | AE36: 0 | AF36: 0 | AG36: 0 | AH36: 0
D37: Project Management | E37: 1 | F37: sum | G37: =IF(H37="","",IF(H37="ZAR","Local","Foreign")) -> Local | H37: ZAR | I37: =IF(G37="","",IF(G37="Foreign",VLOOKUP(H37,Currency!$E$20:$F$33,2,FALSE),1)) -> 1 | J37: 0 | K37: =J37*$I37 -> 0 | L37: =J37*$E37 -> 0 | M37: =K37*$E37 -> 0 | Q37: 0 | R37: 0 | S37: 0 | T37: 0 | U37: 0 | V37: 0 | W37: 0 | X37: 0 | Y37: 0 | Z37: 0 | AA37: 0 | AB37: 0 | AC37: 0 | AD37: 0 | AE37: 0 | AF37: 0 | AG37: 0 | AH37: 0
D38: Business Process Analysis | E38: 1 | F38: sum | G38: =IF(H38="","",IF(H38="ZAR","Local","Foreign")) -> Local | H38: ZAR | I38: =IF(G38="","",IF(G38="Foreign",VLOOKUP(H38,Currency!$E$20:$F$33,2,FALSE),1)) -> 1 | J38: 0 | K38: =J38*$I38 -> 0 | L38: =J38*$E38 -> 0 | M38: =K38*$E38 -> 0 | Q38: 0 | R38: 0 | S38: 0 | T38: 0 | U38: 0 | V38: 0 | W38: 0 | X38: 0 | Y38: 0 | Z38: 0 | AA38: 0 | AB38: 0 | AC38: 0 | AD38: 0 | AE38: 0 | AF38: 0 | AG38: 0 | AH38: 0
C39: Total | M39: =SUM(M29:M38) -> 0 | Q39: =SUM(Q29:Q38) -> 0 | R39: =SUM(R29:R38) -> 0 | S39: =SUM(S29:S38) -> 0 | T39: =SUM(T29:T38) -> 0 | U39: =SUM(U29:U38) -> 0 | V39: =SUM(V29:V38) -> 0 | W39: =SUM(W29:W38) -> 0 | X39: =SUM(X29:X38) -> 0 | ... AH39: =SUM(AH29:AH38) -> 0
C42: TABLE 1: RESOURCES FOR IMPLEMENTATION
C43: Stage | D43: Skill | E43: No. of Hours | F43: Hourly Rate | G43: Total
C44: Design | D44: <Add required skill and level> | E44: 0 | F44: 0 | G44: =F44*E44 -> 0
D45: <Add required skill and level> | E45: 0 | F45: 0 | G45: =F45*E45 -> 0
D46: <Add required skill and level> | E46: 0 | F46: 0 | G46: =F46*E46 -> 0 | H46: =SUM(G44:G46) -> 0
C47: Build, Configure and Testing | D47: <Add required skill and level> | E47: 0 | F47: 0 | G47: =F47*E47 -> 0
D48: <Add required skill and level> | E48: 0 | F48: 0 | G48: =F48*E48 -> 0
D49: <Add required skill and level> | E49: 0 | F49: 0 | G49: =F49*E49 -> 0 | H49: =SUM(G47:G49) -> 0
C50: Deployment | D50: <Add required skill and level> | E50: 0 | F50: 0 | G50: =F50*E50 -> 0
D51: <Add required skill and level> | E51: 0 | F51: 0 | G51: =F51*E51 -> 0
D52: <Add required skill and level> | E52: 0 | F52: 0 | G52: =F52*E52 -> 0 | H52: =SUM(G50:G52) -> 0
C53: Stabilisation and Go-Live Support | D53: <Add required skill and level> | E53: 0 | F53: 0 | G53: =F53*E53 -> 0
D54: <Add required skill and level> | E54: 0 | F54: 0 | G54: =F54*E54 -> 0
D55: <Add required skill and level> | E55: 0 | F55: 0 | G55: =F55*E55 -> 0
...

Sheet Currency
B2: ='Feeder Balancing'!C3 -> VENDOR NAME
B4: EXCHANGE RATES FOR MULTIPLE CURRENCIES
B6: NOTES:
B7: 1 | C7: The table below needs to be completed if the Employer will be exposed to any currency fluctuation as stipulated in Secondary Clause X3. For conversion of the foreign portions to Rand, please use the South African Reserve Bank's (SARB) exchange rate at 12:00 on the day of advertisement of the bid. This is in terms of the Preferential Procurement Policy Framework Act (PPPFA) with which the Employer has to comply. NB: Tenderers must submit proof of the SARB rate(s) of exchange used
B8: 2 | C8: The following URL (electronic route) is to be followed to access the relevant SARB rates on their web pages:
C9: www.resbank.co.za
C10: - Select Research - Then select Rates - Click on "Select historical exchange rates and other interest rates" - Clicking on the exchange rate in the following page opens the daily rates per currency and SA Rand
B11: 3 | C11: The Employer deals only in the currencies listed below unless other currencies are specifically approved for this tender. Kindly notify the Employer of any currency that the tenderer intends to use, but is not stipulated in the table, to consider sanctioning such currency. Sufficient time must be allowed for the assessment and to respond to such request. The onus is on the tenderer to submit a bid with approved currencies
B12: 4 | C12: The format in which the exchange rate must be inserted in the table is: 1 (One) Foreign Currency = R Amount (i.e. the Rand amount for one of each foreign currency applicable). Exchange rates must be rounded to 4 decimals NB : Only the USD/ZAR, GBP/ZAR and EUR/ZAR are published in this way on the SARB web pages above. The Rand rate with the other currencies must be inverted (1/Foreign Currency Rate) in order to list it in the required format in the table below
B13: 5 | C13: All information in the table below must conform with all other equivalent information in the offer.
C14: Payment in terms of Payment Method 2 is considered as a "foreign payment" although it will be effected in South African Rand. However, amounts for "F.O.R. Price-Goods supplied from Imported Items", are NOT considered as "foreign payments"
C15: If more than one payment method apply for a currency, the Tenderer must request an additional row be inserted in the table in order to split the values and identify the relevant method.
C18: MULTIPLE CURRENCIES
C19: No | D19: Currency Description | E19: Code | F19: Exchange Rate Currency 1,00 = | G19: Date Published | H19: Source
C20: 1 | D20: Australian Dollar | E20: AUD
C21: 2 | D21: Canadian Dollar | E21: CAN
C22: 3 | D22: Swiss Franc | E22: CHF
C23: 4 | D23: Danish Krone | E23: DKK
C24: 5 | D24: European Currency | E24: EUR
C25: 6 | D25: British Pound | E25: GBP
C26: 7 | D26: Hong Kong Dollar | E26: HKD
C27: 8 | D27: Japanese Yen | E27: JPY
C28: 9 | D28: Norwegian Krone | E28: NOK
C29: 10 | D29: New Zealand Dollar | E29: NZD
C30: 11 | D30: Swedish Krone | E30: SEK
C31: 12 | D31: Singapore Dollar | E31: SGD
C32: 13 | D32: United States Dollar | E32: USD | F32: 16
C33: 14 | D33: South African Rand | E33: ZAR | F33: 1
