Workbook

Sheet Sec A- P&A
B1: APPOINTMENT OF A CONTRACTOR FOR THE REFURBISHMENT OF SEWER PUMP STATION AND WASTEWATER TREATMENT WORKS IN EDENBURG
B2: BID NO. KLM/EDN/WWTW/23/24 | H2: Section A: General
B3: ITEM NO | C3: PAYMENT | D3: DESCRIPTION | E3: UNIT | F3: QTY | G3: RATE | H3: AMOUNT R
A4: 633 | C4: SANS 1200A | D4: SECTION A: GENERAL
A6: 635 | B6: A.1 | C6: 8.3 | D6: Scheduled fixed-charge and value-related items
A8: 636 | B8: A.1.1 | C8: PSA 8.3.1 | D8: Fixed preliminary and general charges | E8: Sum | F8: 1 | H8: =G8*F8 -> 0
A10: 637 | B10: A.1.2 | C10: PSA 8.3.2 | D10: Value related preliminary and general charges | E10: Sum | F10: 1 | H10: =G10*F10 -> 0
A12: 1022 | B12: A.1.3 | D12: Penalty for falling behind on the approved Programme with reference to the critical path: | H12: =G12*F12 -> 0
A14: 1024 | B14: A.1.3.1 | D14: a) Time related penalty | E14: Day | F14: -2000 | H14: Rate Only
A16: 638 | B16: A.1.4 | C16: 8.3.4 | D16: Removal of site establishment | E16: Sum | F16: 1 | H16: =G16*F16 -> 0
A18: 641 | B18: A.2 | D18: Name boards | H18: =G18*F18 -> 0
A20: 642 | B20: A.2.1 | C20: PSAB 1 | D20: Name boards (Drawing no. 172-101) | E20: No. | F20: 1 | H20: =G20*F20 -> 0
A22: 1036 | B22: A.3 | D22: Scheduled time-related items: | H22: =G22*F22 -> 0
A24: 1037 | B24: A.3.1 | C24: PSA 8.4.1 | D24: Time-related preliminary and general charges | E24: Sum | F24: 1 | H24: =G24*F24 -> 0
A26: 1035 | B26: A.3.2 | D26: Operate and maintain Engineer's office building | E26: Sum | F26: 1 | H26: =G26*F26 -> 0
A28: 644 | B28: A.4 | C28: 8.6 | D28: Prime Cost Items | H28: =G28*F28 -> 0
A30: 645 | B30: A.4.1 | D30: Additional tests required by the Engineer | E30: PC Sum | F30: 1 | G30: 30000 | H30: =G30*F30 -> 30000
A32: 646 | B32: A.4.2 | D32: Charge required by Contractor on sub-item A4.1 above | E32: % | G32: =G30 -> 30000 | H32: =F32*G32/100 -> 0
A34: 649 | B34: A.4.3 | D34: Costs encountered by the Engineer (site supervision) | E34: PC Sum | F34: 1 | G34: 300000 | H34: =G34*F34 -> 300000
A36: 650 | B36: A.4.4 | D36: Charge required by Contractor on sub-item A4.3 above | E36: % | G36: =G34 -> 300000 | H36: =F36*G36/100 -> 0
A38: 1038 | B38: A.4.5 | D38: Transportation of the Engineer's Representative | E38: Prov Sum | F38: 1 | G38: 60000 | H38: =G38*F38 -> 60000
A40: 1039 | B40: A.4.6 | D40: Overheads, charge required by Contractor on sub-item A4.5 above | E40: % | G40: =G38 -> 60000 | H40: =F40*G40/100 -> 0
A42: 1040 | B42: A.4.7 | D42: Telephone and communication facilities for the Engineer's Representative | E42: Prov Sum | F42: 1 | G42: 10000 | H42: =G42*F42 -> 10000
A44: 1041 | B44: A.4.8 | D44: Overheads, charge required by Contractor on sub-item A4.7 above | E44: % | G44: =G42 -> 10000 | H44: =F44*G44/100 -> 0
A46: 1042 | B46: A.4.9 | D46: Photocopying machines and personal computer for the Engineer's Office | E46: Prov Sum | F46: 1 | G46: 10000 | H46: =G46*F46 -> 10000
A48: 1043 | B48: A.4.10 | D48: Overheads, charge required by Contractor on sub-item A4.9 above | E48: % | G48: =G46 -> 10000 | H48: =F48*G48/100 -> 0
A50: 1012 | B50: A.5 | D50: Community Liaison Officer | H50: =G50*F50 -> 0
A52: 1013 | B52: A.5.1 | C52: PSA 8.3.2 | D52: Establish facilities on site for the Community Liaison Officer | E52: Sum | F52: 1 | H52: =G52*F52 -> 0
A54: 1014 | B54: A.5.2 | C54: 8.3.4 | D54: Removal of Community Liaison Officer's site establishment and reinstate site upon completion | E54: Sum | F54: 1 | H54: =G54*F54 -> 0
B56: Total Carried Forward | H56: =SUM(H4:H55) -> 410000
B57: Brought Forward | H57: =H56 -> 410000
A58: 1015 | B58: A.5.3 | C58: PSA 8.4.1 | D58: Operate and maintain Community Liaison Officer's site office | E58: Sum | F58: 1 | H58: =G58*F58 -> 0
A60: 1016 | B60: A.5.4 | C60: PSA 8.5 | D60: Allow for remuneration for Community Liaison Officer | E60: Prov Sum | F60: 1 | G60: 60000 | H60: =G60*F60 -> 60000
A62: 1017 | B62: A.5.5 | D62: Overheads, charges and profit on sub-item A5.4 above | E62: % | G62: =F62 -> 0 | H62: =F62*G62/100 -> 0
B64: A.6 | C64: 8.8.5 | D64: Cost of Survey
A66: 1214 | B66: A.6.1 | D66: Surveyor for detailed survey and setting out of works by a registered land surveyor | E66: Prov Sum | F66: 1 | G66: 25000 | H66: =G66*F66 -> 25000
A68: 1215 | B68: A6.2 | D68: Overheads, charge required by Contractor on sub-item A.6.1above | E68: % | G68: =G66 -> 25000 | H68: =F68*G68/100 -> 0
A70: 1018 | B70: A.7 | C70: SPEC OHS | D70: Health and safety : | H70: =G70*F70 -> 0
A72: 1019 | B72: A.7.1 | C72: PSA 8.9 | D72: Compliance with OHS Act and Regulations | E72: Sum | F72: 1 | H72: =G72*F72 -> 0
A74: 1020 | B74: A.7.2 | C74: PSA 8.5 | D74: Health and safety specialist (Engineer) | E74: Prov Sum | F74: 1 | G74: 60000 | H74: =G74*F74 -> 60000
...

Sheet Sec B-Dayworks
B1: APPOINTMENT OF A CONTRACTOR FOR THE REFURBISHMENT OF SEWER PUMP STATION AND WASTEWATER TREATMENT WORKS IN EDENBURG
B2: ='Sec A- P&A'!B2 -> BID NO. KLM/EDN/WWTW/23/24 | H2: Section B: Dayworks
B3: ITEM NO | C3: PAYMENT | D3: DESCRIPTION | E3: UNIT | F3: QTY | G3: RATE | H3: AMOUNT R
A4: 653 | D4: SECTION B: DAYWORKS
A6: 1044 | B6: B1 | C6: PSA 8.7 | D6: Daywork
A8: 654 | B8: B1.1 | D8: Labour
A10: 655 | B10: B1.1.1 | D10: Artisan | E10: day | F10: 20 | H10: =F10*G10 -> 0
A12: 656 | B12: B1.1.2 | D12: Skilled labour | E12: day | F12: 20 | H12: =F12*G12 -> 0
A14: 657 | B14: B1.1.3 | D14: Semi-skilled labour | E14: day | F14: 20 | H14: =F14*G14 -> 0
A16: 658 | B16: B1.1.4 | D16: Unskilled labour | E16: day | F16: 20 | H16: =F16*G16 -> 0
A18: 659 | B18: B1.2 | D18: Materials
A20: 660 | B20: B1.2.1 | D20: Allow for all-inclusive materials actually used | E20: PC Sum | F20: 1 | G20: 150000 | H20: =G20*F20 -> 150000
A22: 661 | B22: B1.2.2 | D22: Charge required by Contractor on sub-item B1.2.2 above | E22: % | G22: =H20 -> 150000 | H22: =F22*G22/100 -> 0
A24: 662 | B24: B1.3 | C24: PSA 8.7 | D24: Equipment
A26: 663 | B26: B1.3.1 | D26: Case 580F or similar | E26: day | F26: 10 | H26: =F26*G26 -> 0
A28: 664 | B28: B1.3.2 | D28: Hitachi Ex 200 or similar | E28: day | F28: 10 | H28: =F28*G28 -> 0
A30: 665 | B30: B1.3.3 | D30: Honey Sucker | E30: day | F30: 10 | H30: =F30*G30 -> 0
A32: 666 | B32: B1.3.4 | D32: 6m³ tipper | E32: day | F32: 10 | H32: =F32*G32 -> 0
A34: 667 | B34: B1.3.5 | D34: 1 ton light delivery vehicle | E34: km | F34: 1000 | H34: =F34*G34 -> 0
A36: 668 | B36: B1.3.6 | D36: Bomag BW 76S or similar | E36: day | F36: 5 | H36: =F36*G36 -> 0
A38: 669 | B38: B1.3.7 | D38: 20m³/h water pump | E38: day | F38: 10 | H38: =F38*G38 -> 0
A40: 670 | B40: B1.3.8 | D40: 250 A DC welder | E40: day | F40: 5 | H40: =F40*G40 -> 0
A42: 671 | B42: B1.3.9 | D42: Compressor (breakers and piping included) | E42: day | F42: 10 | H42: =F42*G42 -> 0
A44: 672 | B44: B1.3.10 | D44: Any other equipment (specify)
A46: 673 | D46: 1)…………………………………………. | E46: day | F46: 5 | H46: =F46*G46 -> 0
A48: 674 | D48: 2)…………………………………………. | E48: day | F48: 5 | H48: =F48*G48 -> 0
A50: 675 | D50: 3)…………………………………………. | E50: day | F50: 5 | H50: =F50*G50 -> 0
B68: Total Carried Forward To Summary | H68: =SUM(H4:H58) -> 150000

Sheet Sec C- Refurbish Inlet
B1: APPOINTMENT OF A CONTRACTOR FOR THE REFURBISHMENT OF SEWER PUMP STATION AND WASTEWATER TREATMENT WORKS IN EDENBURG
B2: ='Sec A- P&A'!B2 -> BID NO. KLM/EDN/WWTW/23/24 | H2: Section C: Refurbishment of the inlet works, WWTW
B3: ITEM NO | C3: PAYMENT | D3: DESCRIPTION | E3: UNIT | F3: QTY | G3: RATE | H3: AMOUNT R
A4: 702 | D4: SECTION C: REFURBISHMENT OF INLET WORKS
B6: C1 | D6: CIVIL WORKS
A8: 704 | B8: C1.1 | C8: SANS 1200C | D8: SITE CLEARANCE
A10: 705 | B10: C1.1.1 | C10: 8.3.1 | D10: Site Clearance
A12: 706 | B12: C1.1.1.1 | D12: Clear vegetation and trees of girth up to 1m | E12: m² | F12: 1100 | H12: =G12*F12 -> 0
A14: 707 | B14: C1.1.1.2 | D14: Remove topsoil to nominal depth of 150mm and stockpile | E14: m² | F14: 200 | H14: =G14*F14 -> 0
A16: 708 | B16: C1.1.2 | D16: Clear trees and designated obstacles of girth over 1,0m | H16: =G16*F16 -> 0
A18: 709 | B18: C1.1.2.1 | D18: Over 1,0m and up to and including 2,0m | E18: No | F18: 2 | H18: =G18*F18 -> 0
A20: 710 | B20: C1.1.2.2 | D20: Over 2,0m and up to and including 3,0m | E20: No | F20: 2 | H20: =G20*F20 -> 0
B22: C2 | C22: PSC 8.1.11 | D22: Fencing | H22: =G22*F22 -> 0
B24: C2.1 | D24: Take down, stockpile and dispose of existing steel "Devil's Fork" fence at a designated site approved by Engineer. | E24: m | F24: 110 | H24: =G24*F24 -> 0
B26: C2.2 | D26: Supply, deliver, store and install 1.8m high galvanised, 75 x 150 x 3mm aperture, diamond razor mesh fencing with and including 3000 x 100 x 2mm thick overall circular galvanised plain fencing post with a 600mm long 45 degree bend at the top for flat wrap @ 3500mm cc, binding and straining wires, concrete for footings size 600 x 550mm high and all materials required. Refer to drawing 172-403 | E26: m | F26: 140 | H26: =G26*F26 -> 0
B28: C2.3 | D28: Supply, deliver, store and install 500mm galvanised flat wrap razor wire on top of perimeter fencing as per Item C2.2. | E28: m | F28: 140 | H28: =G28*F28 -> 0
B30: C2.4 | D30: Supply, deliver, store and install 2,4m high electric fencing. Rate to include 24 lines, 100mm diameter corner and intermediate galavanised poles 3000mm high, 3000mm High Y Standards @ 3000mm cc, 2.24mm steel wire, energizer, etc. (as per drawing 172-403). Staffix or similar approved. | E30: m | F30: 140 | H30: =G30*F30 -> 0
B32: C2.5 | D32: Supply, deliver, store and install galvanised electrified steel sliding gate 2,4m high x 4m wide with roller assembly and connection components to electric fencing as per item C.4 and manufacturer's specifications. Staffix or similar approved. | E32: No | F32: 1 | H32: =G32*F32 -> 0
B34: C2.6 | D34: Supply, deliver, store and install galvanised double leaf swing gate 1.8m high x 4m (as per drawing 172-402) | E34: No | F34: 1 | H34: =G34*F34 -> 0
B36: C2.7 | C36: 1200D | D36: Hand excavate trench for access gate roller assembly | E36: m³ | F36: 1 | H36: =G36*F36 -> 0
B38: C2.8 | C38: 1200G | D38: Class 15/19 Mpa mass concrete for access gate footings. | E38: m³ | F38: 1 | H38: =G38*F38 -> 0
B40: C2.9 | D40: Additional padlocks. Yale 75mm Iron Shutter padlock. | E40: No | F40: 2 | H40: =G40*F40 -> 0
B41: Total Carried Forward | H41: =SUM(H4:H40) -> 0
B42: Brought Forward | H42: =H41 -> 0
B44: C2.10 | C44: 1200G | D44: Cast with class 15/19 MPa concrete 200x200mm footing beam for all new fencing. Rate to include all materials, labour and plant. | E44: m³ | F44: 8 | H44: =G44*F44 -> 0
B46: C3 | C46: 1200D | D46: Refurbishment of existing infrastructure: | H46: =G46*F46 -> 0
B48: C3.1 | D48: Removal of all sludge, fluids and solids from the inlet works and pump station sump and dispose of at the Trompsburg Waste Water Treatment works. | E48: m³ | F48: 120 | H48: =G48*F48 -> 0
B51: C3.2 | D51: Cleaning interior of the sewer pump station sump, storage tank and inlet works by means of high pressure jet washing equipment to ensure no debris, moss, algae or other foreign materials are present. | E51: m² | F51: 110 | H51: =G51*F51 -> 0
B53: C3.3 | C53: PSC 3.5.2.2 | D53: Apply PENETRON MORTAR to areas identified by the Employers Agent or their Representative in the inlet works and sump according to suppliers specifications | E53: m² | F53: 5 | H53: =G53*F53 -> 0
B55: C3.4 | C55: PSC 3.5.2.1 | D55: Apply PENETRON slurry to the interior of the inlet works and sump according to suppliers specifications. | E55: m² | F55: 110 | H55: =G55*F55 -> 0
B57: C4 | C57: Building Spec | D57: Refurbishment of existing roofs | H57: =G57*F57 -> 0
B59: C4.1 | D59: Remove, stockpile and dispose of damaged corrugated roof sheets and lip channels were instructed by the Employers Agent or their representative. | E59: m² | F59: 110 | H59: =G59*F59 -> 0
B61: C4.2 | D61: Supply, deliver, store and install to new steel roof 3m x 0.7m x 0.47mm corrugated roof sheets. | E61: m² | F61: 90 | H61: =G61*F61 -> 0
B63: C4.3 | D63: Supply, deliver and install new 100 x 50 x 20 x 2mm lip channel for roof support structure with and including two coats of corrosion protection paint. | E63: m | F63: 30 | H63: =G63*F63 -> 0
B65: C4.4 | D65: Supply, deliver and install new 100 x 100 x 3mm square tubing for roof support structure with and including two coats of corrosion protection paint. | E65: m | F65: 18 | H65: =G65*F65 -> 0
B67: C4.5 | D67: Supply, deliver and install 150mm precast hollow core concrete roof slabs and secure to existing walls according to supplier specifications. | E67: m² | F67: =45+13 -> 58 | H67: =G67*F67 -> 0
B69: C5 | C69: Building Spec | D69: Refurbishment of existing pump station | H69: =G69*F69 -> 0
B71: C5.1 | D71: Demolish, stockpile and dispose of 220mm brick wall at a dedicated municipal dumping site. | E71: m² | F71: 50 | H71: =G71*F71 -> 0
B73: C5.2 | D73: Demolish, stockpile and dispose of 110mm brick wall at a dedicated municipal dumping site. | E73: m² | F73: 25 | H73: =G73*F73 -> 0
B75: C5.3 | D75: Demolish, stockpile and dispose of window frames at a dedicated municipal dumping site. | E75: m² | F75: 6 | H75: =G75*F75 -> 0
...

Sheet Sec D - Anaerobic ponds
B1: APPOINTMENT OF A CONTRACTOR FOR THE REFURBISHMENT OF SEWER PUMP STATION AND WASTEWATER TREATMENT WORKS IN EDENBURG
B2: ='Sec A- P&A'!B2 -> BID NO. KLM/EDN/WWTW/23/24 | H2: Section D: Anaerobic Ponds
B3: ITEM NO | C3: PAYMENT | D3: DESCRIPTION | E3: UNIT | F3: QTY | G3: RATE | H3: AMOUNT R
A4: 1127 | C4: SANS 1200C / 1200D | D4: SECTION D: ANAEROBIC PONDS
A6: 1164 | B6: D1 | D6: Cleaning Embankments
A8: 1128 | B8: D1.1 | D8: Clear all shrubs and vegetation from the anaerobic pond embankments. | E8: m² | F8: 5900 | G8: 20 | H8: =G8*F8 -> 118000
A10: 1132 | B10: D1.2 | D10: Clean and remove all dirt and debris from interconnecting pipe overflow channels and dispose. | E10: m | F10: 10 | H10: =G10*F10 -> 0
B12: D1.3 | D12: Remove all vegetation inside anaerobic ponds | E12: m² | F12: 41000 | H12: =G12*F12 -> 0
A14: 1134 | B14: D2 | D14: Repairing Damaged Embankments | H14: =G14*F14 -> 0
B16: D2.1 | D16: Repair all cracked concrete and joints 20/19 Mpa concrete and float smooth. | E16: m³ | F16: 20 | H16: =G16*F16 -> 0
B18: D2.2 | D18: Supply and compact C4 material for cavities under concrete embankments. | E18: m³ | F18: 20 | H18: =G18*F18 -> 0
B20: D3 | D20: Primary Settling ponds | H20: =G20*F20 -> 0
B22: D3.1 | D22: Remove all sludge and vegetation from primary settling ponds and pump out to veld to dry. | E22: m³ | F22: 500 | H22: =G22*F22 -> 0
B24: D3.2 | D24: Clear all shrubs and vegetation from the primary settling pond embankments. | E24: m² | F24: =80*2*2 -> 320 | H24: =G24*F24 -> 0
B26: D4 | C26: SANS 1200DB | D26: Earthworks | H26: =G26*F26 -> 0
B28: D4.1 | C28: 8.3.2 | D28: Excavate in all materials for trenches, backfill, compact and dispose of surplus material: | H28: =G28*F28 -> 0
B30: D4.1.1 | D30: DN 110mm pipes for depths: | H30: =G30*F30 -> 0
B32: D4.1.1.1 | D32: Up to 1,5m | E32: m | F32: 270 | H32: =G32*F32 -> 0
B34: D4.1.2 | D34: DN 160mm pipes for depths: | H34: =G34*F34 -> 0
B36: D4.1.2.1 | D36: Up to 1,5m | E36: m | F36: =50+40+50 -> 140 | H36: =G36*F36 -> 0
B38: D4.1.3 | D38: DN 200mm pipes for depths: | H38: =G38*F38 -> 0
B40: D4.1.3.1 | D40: Up to 1,5m | E40: m | F40: 90 | H40: =G40*F40 -> 0
B42: D4.1.4 | D42: Extra over item D4.1.1.1, D4.1.2.1 and D4.1.3.1 above for: | H42: =G42*F42 -> 0
B44: D4.1.4.1 | D44: Hard rock excavation | E44: m³ | F44: 5 | H44: =G44*F44 -> 0
B46: D4.1.4.2 | D46: Excavate and dispose of unsuitable material from trench bottom | E46: m³ | F46: 5 | H46: =G46*F46 -> 0
B48: D4.2 | C48: 8.3.3 | D48: Excavation ancillaries: | H48: =G48*F48 -> 0
B50: D4.2.1 | D50: Make up deficiency in backfill material: | H50: =G50*F50 -> 0
B52: Total Carried Forward | H52: =SUM(H4:H51) -> 118000
B53: Brought Forward | H53: =H52 -> 118000
B54: D4.2.1.1 | D54: From other necessary excavations on site | E54: m³ | F54: 20 | H54: =G54*F54 -> 0
B56: D4.2.1.2 | D56: By importation from commercial or off-site sources selected by the Contractor and approved by the Engineer | E56: m³ | F56: 20 | H56: =G56*F56 -> 0
B58: D5 | C58: SANS 1200LB | D58: Bedding (Pipes) | H58: =G58*F58 -> 0
B60: D5.1 | C60: 8.2.1 | D60: Provision of bedding from trench excavations: | H60: =G60*F60 -> 0
B62: D5.1.1 | D62: Selected granular material | E62: m³ | F62: 40 | H62: =G62*F62 -> 0
B64: D5.1.2 | D64: Selected fill material | E64: m³ | F64: 190 | H64: =G64*F64 -> 0
B66: D5.2 | C66: PSLB 8.2.2 | D66: Supply only of bedding by importation: | H66: =G66*F66 -> 0
B68: D5.2.1 | D68: From other necessary excavations: | H68: =G68*F68 -> 0
B70: D5.2.1.1 | D70: Selected granular material | E70: m³ | F70: 10 | H70: =G70*F70 -> 0
B72: D5.2.1.2 | D72: Selected fill material | E72: m³ | F72: 20 | H72: =G72*F72 -> 0
B74: D5.2.2 | D74: From commercial sources: | H74: =G74*F74 -> 0
...

Sheet Sec E - Refurb. of Chlorine
B1: APPOINTMENT OF A CONTRACTOR FOR THE REFURBISHMENT OF SEWER PUMP STATION AND WASTEWATER TREATMENT WORKS IN EDENBURG
B2: ='Sec A- P&A'!B2 -> BID NO. KLM/EDN/WWTW/23/24 | H2: Section E: Refurbishment of Chlorine room
B3: ITEM NO | C3: PAYMENT | D3: DESCRIPTION | E3: UNIT | F3: QTY | G3: RATE | H3: AMOUNT R
A4: 1127 | D4: SECTION E: CHLORINE DOSING STATION
A6: 1164 | B6: E1 | C6: SANS 1200 C | D6: Cleaning of Chlorine dosing station
A8: 1128 | B8: E1.1 | D8: Clear and grub all shrubs and vegetation from the Chlorine dosing station utilising labour intense methods. | E8: m² | F8: 210 | H8: =G8*F8 -> 0
A10: 1130 | B10: E1.2 | D10: Remove rubble and debris from chlorine dosing station building. | E10: m³ | F10: 2 | H10: =G10*F10 -> 0
A12: 1131 | B12: E1.3 | D12: Pump out water from chlorine contact channels. | E12: m³ | F12: 15 | H12: =G12*F12 -> 0
A14: 1133 | B14: E1.4 | D14: Remove all Gritt, mud, and debris from chlorine contact channels and dispose at an approved municipal dumping site. | E14: m³ | F14: 5 | H14: =G14*F14 -> 0
A16: 1134 | B16: E2 | C16: Building Spec | D16: Refurbishment of chlorine contact room | H16: =G16*F16 -> 0
A18: 1135 | B18: E2.1 | D18: Remove, stockpile and dispose of damaged corrugated roof sheets and lip channels were instructed by the Employers Agent or their representative. | E18: m² | F18: 10 | H18: =G18*F18 -> 0
A20: 1135 | B20: E2.2 | D20: Supply, deliver and install 150mm precast hollow core concrete roof slabs and secure to existing walls according to supplier specifications. | E20: m² | F20: 10 | H20: =G20*F20 -> 0
B22: E2.3 | D22: Break out, store and dispose of existing steel windows size 1500 x 1800mm high at a official municipal dumping site | E22: No | F22: 1 | H22: =G22*F22 -> 0
A24: 1136 | B24: E2.4 | D24: Supply, deliver, store and install Type BV transformer door and door frame. | E24: No | F24: 2 | H24: =G24*F24 -> 0
A26: 1137 | B26: E2.5 | D26: Outside shower | H26: =G26*F26 -> 0
B28: E2.5.1 | D28: Supply, deliver, store and install new plastic shower taps. | E28: No | F28: 1 | H28: =G28*F28 -> 0
B30: E2.5.2 | D30: Supply, deliver, store and install new plastic shower head and arm. | E30: No | F30: 1 | H30: =G30*F30 -> 0
A32: 1138 | B32: E2.5.3 | D32: Supply, deliver, store and install new Polly cop 15mm pipe complete with all couplings and fittings to fit existing pipework mounted to exterior of existing brickwork. | E32: m | F32: 10 | H32: =G32*F32 -> 0
A34: 1139 | B34: E3 | D34: Allow for water connection to chlorine dosing station. | E34: Prov Sum | F34: 1 | G34: 10000 | H34: =G34*F34 -> 10000
B36: E3.1 | D36: Overheads, charges and profit on item E3 | E36: % | G36: =H34 -> 10000 | H36: =G36*F36 -> 0
A38: 1140 | B38: E4 | D38: Fencing | H38: =G38*F38 -> 0
A40: 1141 | B40: E4.1 | D40: Take down, stockpile and dispose of existing steel "Devil's Fork" fence at a designated site approved by Engineer. | E40: m | F40: 50 | H40: =G40*F40 -> 0
A42: 1142 | B42: E4.2 | D42: Supply, deliver, store and install 1.8m high galvanised, 75 x 150 x 3mm aperture, diamond razor mesh fencing with and including 3000 x 100 x 2mm thick overall circular galvanised plain fencing post with a 600mm long 45 degree bend at the top for flat wrap @ 3500mm cc, binding and straining wires, concrete for footings size 600 x 550mm high and all materials required. Refer to drawing 172-403 | E42: m | F42: 50 | H42: =G42*F42 -> 0
B43: Total Carried Forward | H43: =SUM(H4:H42) -> 10000
B44: Brought Forward | H44: =H43 -> 10000
A46: 1143 | B46: E4.3 | D46: Supply, deliver, store and install 500mm galvanised flat wrap razor wire on top of perimeter fencing as per Item E4.2. | E46: m | F46: 50 | H46: =G46*F46 -> 0
A48: 1144 | B48: E4.4 | D48: Galvanised double leaf swing gate 1.8m high x 4m (as per drawing 172-402) | E48: No | F48: 1 | H48: =G48*F48 -> 0
A50: 1145 | B50: E4.5 | D50: Additional padlocks Yale 75mm Iron Shutter padlock. | E50: No | F50: 1 | H50: =G50*F50 -> 0 | J50: =3.5*0.3*0.2 -> 0.21
A52: 1146 | B52: E4.6 | D52: Cast with class 15/19 MPa concrete 200x200mm footing beam for all new fencing. Rate to include all materials, labour and plant. | E52: m³ | F52: =50*0.2*0.2 -> 2 | H52: =G52*F52 -> 0 | J52: =3.5*0.3*0.2 -> 0.21
B54: E4.7 | D54: Hand excavation for fencing footing beam, backfill and recompact using excess material | E54: m³ | F54: =50*0.3*0.3 -> 5 | H54: =G54*F54 -> 0
B56: E4.8 | D56: Supply, deliver and install 300mm galvanised whirlybird turbine ventilator to concrete roof. | E56: No | F56: 2 | H56: =G56*F56 -> 0
D58: MECHANICAL
B60: E5 | D60: CHLORINATION DOSING
B62: E5.1 | D62: Deinstall, remove and store existing chlorination equipment at Municipal storage facility | E62: Sum | F62: 1 | H62: =G62*F62 -> 0
B64: E5.2 | D64: Prepare/Submit G.A drawing (s) for chlorination dosing equipment | E64: Sum | F64: 1 | H64: =G64*F64 -> 0
B66: E5.3 | D66: Manufacture, deliver and store chlorination dosing equipment | E66: Prov Sum | F66: 1 | G66: 150000 | H66: =G66*F66 -> 150000
B68: E5.4 | D68: Overheads, charges and profit on item E5.3 | E68: % | G68: =H66 -> 150000 | H68: =G68*F68 -> 0
B70: Total Carried Forward to Summary | H70: =SUM(H44:H69) -> 160000

Sheet Sec F- Refurbish. PS
B1: APPOINTMENT OF A CONTRACTOR FOR THE REFURBISHMENT OF SEWER PUMP STATION AND WASTEWATER TREATMENT WORKS IN EDENBURG
B2: ='Sec A- P&A'!B2 -> BID NO. KLM/EDN/WWTW/23/24 | H2: Section F: Refurbishment of Pump Station
B3: ITEM NO | C3: PAYMENT | D3: DESCRIPTION | E3: UNIT | F3: QTY | G3: RATE | H3: AMOUNT R
A4: 702 | D4: SECTION F: REFURBISHMENT OF PUMP STATION
B6: F1 | D6: CIVIL WORKS
A8: 704 | B8: F1.1 | C8: SANS 1200C | D8: SITE CLEARANCE
A10: 705 | B10: F1.1.1 | C10: 8.3.1 | D10: Site Clearance
A12: 706 | B12: F1.1.1.1 | D12: Clear vegetation and trees of girth up to 1m | E12: m² | F12: 280 | H12: =G12*F12 -> 0
A14: 707 | B14: F1.1.1.2 | D14: Remove topsoil to nominal depth of 150mm and stockpile | E14: m² | F14: 90 | H14: =G14*F14 -> 0
B16: F1.2 | C16: PSC 8.1.11 | D16: Fencing | H16: =G16*F16 -> 0
B18: F1.2.1 | D18: Take down, stockpile and dispose of existing steel "Devil's Fork" fence at a designated site approved by Engineer. | E18: m | F18: 70 | H18: =G18*F18 -> 0
B20: F1.2.2 | D20: Supply, deliver, store and install 1.8m high galvanised, 75 x 150 x 3mm aperture, diamond razor mesh fencing with and including 3000 x 100 x 2mm thick overall circular galvanised plain fencing post with a 600mm long 45 degree bend at the top for flat wrap @ 3500mm cc, binding and straining wires, concrete for footings size 600 x 550mm high and all materials required. Refer to drawing 172-403 | E20: m | F20: 80 | H20: =G20*F20 -> 0
B22: F1.2.3 | D22: Supply, deliver, store and install 500mm galvanised flat wrap razor wire on top of perimeter fencing as per Item F1.2.4. | E22: m | F22: 80 | H22: =G22*F22 -> 0
B24: F1.2.4 | D24: Galvanised double leaf swing gate 1.8m high x 4m (as per drawing 172-403) | E24: No | F24: 1 | H24: =G24*F24 -> 0
B26: F1.2.5 | D26: Additional padlocks. Yale 75mm Iron Shutter padlock. | E26: No | F26: 1 | H26: =G26*F26 -> 0
B28: F1.2.6 | D28: Cast to excavated surfaces with class 15/19 MPa concrete 200x200mm footing beam for all new fencing. Rate to include all materials, labour and plant. | E28: m³ | F28: =0.2*0.2*80 -> 3 | H28: =G28*F28 -> 0
B30: F2 | D30: Gritt Collecting Manhole | H30: =G30*F30 -> 0
B32: F2.1 | D32: Cast 20/19 MPa concrete to floor and cover slabs. | E32: m³ | F32: 6 | H32: =G32*F32 -> 0
B34: F2.2 | D34: Smooth formwork | H34: =G34*F34 -> 0
B36: F2.2.1 | D36: To sides of roof slab | E36: m² | F36: 3 | H36: =G36*F36 -> 0
B38: F2.3 | D38: Narrow Widths | H38: =G38*F38 -> 0
B40: F2.3.1 | D40: Vertical sides of foundations up to 300mm high | E40: m | F40: 25 | H40: =G40*F40 -> 0
B42: F2.4 | D42: Steel reinforcing | H42: =G42*F42 -> 0
B44: F2.4.1 | D44: R8 | E44: t | F44: 1 | H44: =G44*F44 -> 0
B46: F2.4.2 | D46: Y12 | E46: t | F46: 1 | H46: =G46*F46 -> 0
B48: Total Carried Forward | H48: =SUM(H4:H46) -> 0
B49: Brought Forward | H49: =H48 -> 0
B50: F2.5 | D50: 230 mm thick brick wall with brick force every 3rd layer, inside plastered with 15mm thick screed | E50: m² | F50: 25 | H50: =G50*F50 -> 0
B52: F2.6 | C52: PSC 3.5.2.4 | D52: Mavrick Trading Type 9E Domestic Cover and Frame or Similar approved | E52: No. | F52: 1 | H52: =G52*F52 -> 0
B54: F2.7 | D54: Gritt collecting basket as per DWG no. 172/304 complete with all cables and attachments | E54: No. | F54: 1 | H54: =G54*F54 -> 0
B56: F2.8 | D56: Supply and install IPE 160 I-beams gantry including all fasteners as per DWG 172/305. Rate to include 2 coats red oxide. | E56: No. | F56: 1 | H56: =G56*F56 -> 0
B58: F2.9 | D58: Supply 1.5 ton capacity mobile rolling block and tackle | E58: Prov Sum. | F58: 1 | G58: 15000 | H58: =G58*F58 -> 15000
B60: F2.10 | D60: Overheads, charges and profit on sub-item C above | E60: % | G60: =H58 -> 15000 | H60: =G60*F60 -> 0
B62: F2.11 | D62: Supply and install step irons to all gritt manholes | E62: No | F62: 15 | H62: =G62*F62 -> 0
B64: F3 | D64: Restricted excavations
B66: F3.1 | D66: Excavate in all materials for Gritt collecting manholes and use for backfilling or embankments, or dispose: | E66: m³ | F66: 40 | H66: =G66*F66 -> 0
B68: F3.2 | D68: Extra over item F3.1 above
B70: F3.2.1 | D70: Hard rock excavation. | E70: m³ | F70: 10 | H70: =G70*F70 -> 0
B72: F3.3 | D72: Hand excavations in all materials | E72: m³ | F72: =60+(0.76*1*20) -> 75 | H72: =G72*F72 -> 0
B74: F3.4 | D74: Extra over item F3.3 above | H74: =G74*F74 -> 0
...

Sheet Sec G - Network refurbishment
B1: APPOINTMENT OF A CONTRACTOR FOR THE REFURBISHMENT OF SEWER PUMP STATION AND WASTEWATER TREATMENT WORKS IN EDENBURG
B2: ='Sec A- P&A'!B2 -> BID NO. KLM/EDN/WWTW/23/24 | H2: Section G: Network Refurbishment
B3: ITEM NO | C3: PAYMENT | D3: DESCRIPTION | E3: UNIT | F3: QTY | G3: RATE | H3: AMOUNT R
A4: 1127 | D4: SECTION G: NETWORK REFURBISHMENT
A6: 1129 | B6: J1 | C6: PSCE | D6: Cleaning of existing sewer pipes | H6: =G6*F6 -> 0
A8: 1130 | B8: J1.1 | D8: Clearing, unblocking and removal of silt, sand, sludge, roots and other debris from sewer pipe lines, and manholes by using high pressure water jetting equipment and machinery. Remove and deposit this material at the official municipal disposal sites for the following pipe sizes: | H8: =G8*F8 -> 0
A10: 1131 | B10: J1.1.1 | D10: 110mm dia. | E10: m | F10: 25 | H10: =G10*F10 -> 0
A12: 1132 | B12: J1.1.2 | D12: 160mm dia. | E12: m | F12: 2000 | H12: =G12*F12 -> 0
A14: 1133 | B14: J1.1.3 | D14: 200mm dia. | E14: m | F14: 1100 | H14: =G14*F14 -> 0
B16: J1.1.4 | D16: 250mm dia. | E16: m | F16: 1100 | H16: =G16*F16 -> 0
A18: 1134 | B18: J2 | D18: Rebuilding of benching to existing manholes where instructed by the Engineer irrespective of pipe size or depth: | E18: No | F18: 10 | H18: =G18*F18 -> 0
A20: 1135 | B20: J4 | D20: Supply, deliver, store and replace damaged covers and frames irrespective of size where instructed by the Engineer | E20: No | F20: 10 | H20: =G20*F20 -> 0
A22: 1136 | B22: J5 | C22: PSCI | D22: Camera inspections
A24: 1137 | B24: J5.1 | C24: PSCI 1.1a) | D24: Allow of camera inspection of the networks designated by the Engineer | E24: Prov Sum | F24: 1 | G24: 50000 | H24: =G24*F24 -> 50000
B26: J5.1.1 | D26: Overheads, charges and profit on sub-item J5.1 above | E26: % | G26: =H24 -> 50000 | H26: =F26*G26/100 -> 0
A28: 1138 | B28: J5.2 | C28: PSCI 1.1b) | D28: Allow of Blocking existing flow per manhole for various diameters | E28: Prov Sum | F28: 1 | G28: 15000 | H28: =G28*F28 -> 15000
B30: J5.2.1 | D30: Overheads, charges and profit on sub-item J5.2 above | E30: % | G30: =H28 -> 15000 | H30: =F30*G30/100 -> 0
A32: 1139 | B32: J5.3 | C32: PSCI 1.1c) | D32: Diversion of flow in existing pipes for
A34: 1140 | B34: J5.3.1 | D34: Flows up to 1m3/min | E34: hr | F34: 40 | H34: =G34*F34 -> 0
A36: 1141 | B36: J5.3.2 | D36: Flows between 1m3/min up to 10m3/min | E36: hr | F36: 60 | H36: =G36*F36 -> 0
A38: 1142 | H38: =G38*F38 -> 0
A40: 1143 | H40: =G40*F40 -> 0
B42: Total Carried Forward to Summary | H42: =SUM(H5:H41) -> 65000

Sheet Summary
C1: APPOINTMENT OF A CONTRACTOR FOR THE REFURBISHMENT OF SEWER PUMP STATION AND WASTEWATER TREATMENT WORKS IN EDENBURG
C2: ='Sec G - Network refurbishment'!B2 -> BID NO. KLM/EDN/WWTW/23/24
D4: SUMMARY OF SCHEDULES
C5: SCHEDULE | D5: DESCRIPTION | E5: AMOUNT (RAND)
C6: A | D6: Section A: General | E6: ='Sec A- P&A'!H111 -> 615000
C8: B | D8: Section B: Dayworks | E8: ='Sec B-Dayworks'!H68 -> 150000
C10: C | D10: Section C: Refurbishment of WWTW | E10: ='Sec C- Refurbish Inlet'!H377 -> 735000
C12: D | D12: Section D: Anarobic ponds | E12: ='Sec D - Anaerobic ponds'!H165 -> 118000
C14: E | D14: Section E: Refurbishment of Chlorine Room | E14: ='Sec E - Refurb. of Chlorine'!H70 -> 160000
C16: F | D16: Section F: Refurbishment of Sewer Pump Station | E16: ='Sec F- Refurbish. PS'!H327 -> 325000
C18: J | D18: Section G: Network Refurbisghment | E18: ='Sec G - Network refurbishment'!H42 -> 65000
D20: SUB-TOTAL 1 | E20: =SUM(E5:E19) -> 2168000
D22: 10% Contingencies | E22: =E20*0.1 -> 216800
D24: SUB-TOTAL 2 | E24: =E20+E22 -> 2384800
D26: 15% Value added tax | E26: =E24*0.15 -> 357720
C28: TOTAL CARRIED FORWARD TO SUMMARY OF SCHEDULES | E28: =E26+E24 -> 2742520
D51: 14
