Workbook

Sheet Rates Estimation
B2: APPOINTMENT OF EXTERNAL ASSURANCE PROVIDER : OTHER AUDIT RELATED SERVICES
B3: PROPOSED BUDGET (5 YEAR APPOINTMENT)
B5: ENTER BID NAME | C5: RW10390780/22
B7: 1. RATES ESTIMATION
B9: Based on National Treasury Instruction Note 3 of 2017-18 on cost containment measures, the appointment of an external assurance provider would constitute the engagement of professional service providers (consultants) and as such, paragraph 4.3 and 4.6 are applicable:
B20: In order to determine a fair and reasonable remuneration framework for this appointment , the Circular 01/2022/23 "Guideline on fees for audits done on behalf of the Auditor General of South Africa (AGSA)" is to be used as a basis and guidance for the determination of rates per professional level of the assurance providers team.
B21: These rates are then to be adjusted to reflect the time period of the appointment - 5 years.
B23: ENTER RATE PER HOUR PER PROFESSIONAL LEVEL: | C23: Year 1 | D23: Year 2 | E23: Year 3 | F23: Year 4 | G23: Year 5
C24: 2022 - 2023 | D24: 2023 - 2024 | E24: 2024-2025 | F24: 2025 - 2026 | G24: 2026-2027
B25: Professional Level: | C25: Rate per Hour (Excl VAT) | D25: Rate per Hour (Excl VAT) | E25: Rate per Hour (Excl VAT) | F25: Rate per Hour (Excl VAT) | G25: Rate per Hour (Excl VAT)
B26: Engagement Partner CA (SA)/LLB/ACFE/ ICFP or other relevant qualifications
B27: Senior Manager/Specialist CA (SA)/LLB/ACFE/ ICFP or other relevant qualifications
B28: Audit Manager CA (SA)/LLB/ACFE/ ICFP or other relevant qualifications
B29: Assistant Manager /Audit Senior / Supervisor (APC (QE2) RGA FQE (Final qualifying exam) ACCA P5 + P7)
B30: Trainees (Bcom degree, Honours, CTA, ITC (QE1) or RGA FQE(Mid Rate )
B32: Assumptions Used :
B33: Regulatory Audit Charge (RA) Rates - 3 year Training Programme
B34: Professional Level of composition
B35: Travel and Subsistence Disbursements shall be capped at approximately 7.5% of audit service costs incurred
B37: Assumed learning rate of 90% only in year 2
B38: Inflationary increases aligned to Rand Water's 5 Year Budget Plan
B39: Assumed at 5% to be adjusted - In line with the below 3 year CPI projections.

Sheet Proposed Pricing
A1: PRICING STRUCTURE - 5 YEAR PLAN: APPOINTMENT OF EXTERNAL ASSURANCE PROVIDER : OTHER AUDIT RELATED SERVICES
A2: PRICING STRUCTURE FOR AGREED UPON PROCEDURES - SHORT TERM INCENTIVE
C3: Year 1 (2022-2023) | F3: Year 2 (2023-2024) | I3: Year 3 (2024-2025) | L3: Year 4 (2025-2026) | O3: Year 5 (2026-202) | R3: TOTAL PROPOSED COSTING
A4: AUDIT TEAM COMPOSITION | B4: PAX | C4: EST HOURS | D4: EST RATE | E4: TOTAL | F4: EST HOURS | G4: EST RATE | H4: TOTAL | I4: EST HOURS | J4: EST RATE | K4: TOTAL | L4: EST HOURS | M4: EST RATE | N4: TOTAL | O4: EST HOURS | P4: EST RATE | Q4: TOTAL
A5: Engagement Partner | B5: =+'[1]Cost Estimates'!D16 -> 1 | C5: 10 | D5: =+'Rates Estimation'!$C$26 -> 0 | E5: =C5*D5*B5 -> 0 | F5: =+C5*90% -> 9 | G5: =+'Rates Estimation'!$D$26 -> 0 | H5: =F5*G5 -> 0 | I5: =+F5 -> 9 | J5: =+'Rates Estimation'!$E$26 -> 0 | K5: =I5*J5 -> 0 | L5: =+I5 -> 9 | M5: =+'Rates Estimation'!$F$26 -> 0 | N5: =L5*M5 -> 0 | O5: =+L5 -> 9 | P5: =+'Rates Estimation'!$G$26 -> 0 | Q5: =O5*P5 -> 0 | R5: =E5+H5+K5+N5+Q5 -> 0
A6: Senior Manager | B6: =+'[1]Cost Estimates'!D17 -> 1 | C6: 15 | D6: =+'Rates Estimation'!$C$27 -> 0 | E6: =C6*D6 -> 0 | F6: =+C6*90% -> 13.5 | G6: =+'Rates Estimation'!$D$27 -> 0 | H6: =F6*G6 -> 0 | I6: =+F6 -> 13.5 | J6: =+'Rates Estimation'!$E$27 -> 0 | K6: =I6*J6 -> 0 | L6: =+I6 -> 13.5 | M6: =+'Rates Estimation'!$F$27 -> 0 | N6: =L6*M6 -> 0 | O6: =+L6 -> 13.5 | P6: =+'Rates Estimation'!$G$27 -> 0 | Q6: =O6*P6 -> 0 | R6: =E6+H6+K6+N6+Q6 -> 0
A7: Audit Manager | B7: =+'[1]Cost Estimates'!D18 -> 1 | C7: 25 | D7: =+'Rates Estimation'!$C$28 -> 0 | E7: =C7*D7 -> 0 | F7: =+C7*90% -> 22.5 | G7: =+'Rates Estimation'!$D$28 -> 0 | H7: =F7*G7 -> 0 | I7: =+F7 -> 22.5 | J7: =+'Rates Estimation'!$E$28 -> 0 | K7: =I7*J7 -> 0 | L7: =+I7 -> 22.5 | M7: =+'Rates Estimation'!$F$28 -> 0 | N7: =L7*M7 -> 0 | O7: =+L7 -> 22.5 | P7: =+'Rates Estimation'!$G$28 -> 0 | Q7: =O7*P7 -> 0 | R7: =E7+H7+K7+N7+Q7 -> 0
A8: Assistant Manager | B8: =+'[1]Cost Estimates'!D19 -> 2 | C8: 70 | D8: =+'Rates Estimation'!$C$29 -> 0 | E8: =C8*D8 -> 0 | F8: =+C8*90% -> 63 | G8: =+'Rates Estimation'!$D$29 -> 0 | H8: =F8*G8 -> 0 | I8: =+F8 -> 63 | J8: =+'Rates Estimation'!$E$29 -> 0 | K8: =I8*J8 -> 0 | L8: =+I8 -> 63 | M8: =+'Rates Estimation'!$F$29 -> 0 | N8: =L8*M8 -> 0 | O8: =+L8 -> 63 | P8: =+'Rates Estimation'!$G$29 -> 0 | Q8: =O8*P8 -> 0 | R8: =E8+H8+K8+N8+Q8 -> 0
A9: Trainees | B9: =+'[1]Cost Estimates'!D20 -> 3 | C9: 210 | D9: =+'Rates Estimation'!$C$30 -> 0 | E9: =C9*D9 -> 0 | F9: =+C9*90% -> 189 | G9: =+'Rates Estimation'!$D$30 -> 0 | H9: =F9*G9 -> 0 | I9: =+F9 -> 189 | J9: =+'Rates Estimation'!$E$30 -> 0 | K9: =I9*J9 -> 0 | L9: =+I9 -> 189 | M9: =+'Rates Estimation'!$F$30 -> 0 | N9: =L9*M9 -> 0 | O9: =+L9 -> 189 | P9: =+'Rates Estimation'!$G$30 -> 0 | Q9: =O9*P9 -> 0 | R9: =E9+H9+K9+N9+Q9 -> 0
A10: SUBTOTAL (EXCL VAT) | C10: =SUM(C5:C9) -> 330 | E10: =SUM(E5:E9) -> 0 | F10: =SUM(F5:F9) -> 297 | H10: =SUM(H5:H9) -> 0 | I10: =SUM(I5:I9) -> 297 | K10: =SUM(K5:K9) -> 0 | L10: =SUM(L5:L9) -> 297 | N10: =SUM(N5:N9) -> 0 | O10: =SUM(O5:O9) -> 297 | Q10: =SUM(Q5:Q9) -> 0 | R10: =SUM(R5:R9) -> 0
A11: Travel and Subsistence Disbursements | B11: 0.075 | E11: =E10*B11 -> 0 | H11: =H10*B11 -> 0 | K11: =K10*B11 -> 0 | N11: =N10*B11 -> 0 | Q11: =Q10*B11 -> 0 | R11: =E11+H11+K11+N11+Q11 -> 0
A12: PRICING STRUCTURE (EXCL VAT) | E12: =SUM(E10:E11) -> 0 | H12: =SUM(H10:H11) -> 0 | K12: =SUM(K10:K11) -> 0 | N12: =SUM(N10:N11) -> 0 | Q12: =SUM(Q10:Q11) -> 0 | R12: =SUM(R10:R11) -> 0
A13: VAT | E13: =E12*15% -> 0 | H13: =H12*15% -> 0 | K13: =K12*15% -> 0 | N13: =N12*15% -> 0 | Q13: =Q12*15% -> 0 | R13: =R12*15% -> 0
A14: TOTAL PRICING STRUCTURE (INCL VAT) | E14: =E12+E13 -> 0 | H14: =SUM(H12:H13) -> 0 | K14: =K12+K13 -> 0 | N14: =N12+N13 -> 0 | Q14: =Q12+Q13 -> 0 | R14: =R12+R13 -> 0
A16: PRICING STRUCTURE FOR CONSOLIDATED INTERIM FINANCIAL STATEMENTS REVIEW
C17: Year 1 (2022-2023) | F17: Year 2 (2023-2024) | I17: Year 3 (2024-2025) | L17: Year 4 (2025-2026) | O17: Year 5 (2026-202) | R17: TOTAL PROPOSED COSTING
A18: AUDIT TEAM COMPOSITION | B18: PAX | C18: EST HOURS | D18: EST RATE | E18: TOTAL | F18: EST HOURS | G18: EST RATE | H18: TOTAL | I18: EST HOURS | J18: EST RATE | K18: TOTAL | L18: EST HOURS | M18: EST RATE | N18: TOTAL | O18: EST HOURS | P18: EST RATE | Q18: TOTAL
A19: Engagement Partner | B19: =+'[1]Cost Estimates'!D5 -> 1 | C19: 12 | D19: =+'Rates Estimation'!$C$26 -> 0 | E19: =C19*D19*B19 -> 0 | F19: =+C19*90% -> 10.8 | G19: =+'Rates Estimation'!$D$26 -> 0 | H19: =F19*G19 -> 0 | I19: =+F19 -> 10.8 | J19: =+'Rates Estimation'!$E$26 -> 0 | K19: =I19*J19 -> 0 | L19: =+I19 -> 10.8 | M19: =+'Rates Estimation'!$F$26 -> 0 | N19: =L19*M19 -> 0 | O19: =+L19 -> 10.8 | P19: =+'Rates Estimation'!$G$26 -> 0 | Q19: =O19*P19 -> 0 | R19: =E19+H19+K19+N19+Q19 -> 0
A20: Senior Manager | B20: =+'[1]Cost Estimates'!D6 -> 1 | C20: 18 | D20: =+'Rates Estimation'!$C$27 -> 0 | E20: =C20*D20 -> 0 | F20: =+C20*90% -> 16.2 | G20: =+'Rates Estimation'!$D$27 -> 0 | H20: =F20*G20 -> 0 | I20: =+F20 -> 16.2 | J20: =+'Rates Estimation'!$E$27 -> 0 | K20: =I20*J20 -> 0 | L20: =+I20 -> 16.2 | M20: =+'Rates Estimation'!$F$27 -> 0 | N20: =L20*M20 -> 0 | O20: =+L20 -> 16.2 | P20: =+'Rates Estimation'!$G$27 -> 0 | Q20: =O20*P20 -> 0 | R20: =E20+H20+K20+N20+Q20 -> 0
A21: Audit Manager | B21: =+'[1]Cost Estimates'!D7 -> 1 | C21: 24 | D21: =+'Rates Estimation'!$C$28 -> 0 | E21: =C21*D21 -> 0 | F21: =+C21*90% -> 21.6 | G21: =+'Rates Estimation'!$D$28 -> 0 | H21: =F21*G21 -> 0 | I21: =+F21 -> 21.6 | J21: =+'Rates Estimation'!$E$28 -> 0 | K21: =I21*J21 -> 0 | L21: =+I21 -> 21.6 | M21: =+'Rates Estimation'!$F$28 -> 0 | N21: =L21*M21 -> 0 | O21: =+L21 -> 21.6 | P21: =+'Rates Estimation'!$G$28 -> 0 | Q21: =O21*P21 -> 0 | R21: =E21+H21+K21+N21+Q21 -> 0
A22: Assistant Manager | B22: =+'[1]Cost Estimates'!D8 -> 2 | C22: 140 | D22: =+'Rates Estimation'!$C$29 -> 0 | E22: =C22*D22 -> 0 | F22: =+C22*90% -> 126 | G22: =+'Rates Estimation'!$D$29 -> 0 | H22: =F22*G22 -> 0 | I22: =+F22 -> 126 | J22: =+'Rates Estimation'!$E$29 -> 0 | K22: =I22*J22 -> 0 | L22: =+I22 -> 126 | M22: =+'Rates Estimation'!$F$29 -> 0 | N22: =L22*M22 -> 0 | O22: =+L22 -> 126 | P22: =+'Rates Estimation'!$G$29 -> 0 | Q22: =O22*P22 -> 0 | R22: =E22+H22+K22+N22+Q22 -> 0
A23: Trainees | B23: =+'[1]Cost Estimates'!D9 -> 4 | C23: 560 | D23: =+'Rates Estimation'!$C$30 -> 0 | E23: =C23*D23 -> 0 | F23: =+C23*90% -> 504 | G23: =+'Rates Estimation'!$D$30 -> 0 | H23: =F23*G23 -> 0 | I23: =+F23 -> 504 | J23: =+'Rates Estimation'!$E$30 -> 0 | K23: =I23*J23 -> 0 | L23: =+I23 -> 504 | M23: =+'Rates Estimation'!$F$30 -> 0 | N23: =L23*M23 -> 0 | O23: =+L23 -> 504 | P23: =+'Rates Estimation'!$G$30 -> 0 | Q23: =O23*P23 -> 0 | R23: =E23+H23+K23+N23+Q23 -> 0
A24: SUBTOTAL (EXCL VAT) | C24: =SUM(C19:C23) -> 754 | E24: =SUM(E19:E23) -> 0 | F24: =SUM(F19:F23) -> 678.6 | H24: =SUM(H19:H23) -> 0 | I24: =SUM(I19:I23) -> 678.6 | K24: =SUM(K19:K23) -> 0 | L24: =SUM(L19:L23) -> 678.6 | N24: =SUM(N19:N23) -> 0 | O24: =SUM(O19:O23) -> 678.6 | Q24: =SUM(Q19:Q23) -> 0 | R24: =SUM(R19:R23) -> 0
A25: Travel and Subsistence Disbursements | B25: 0.075 | E25: =E24*B25 -> 0 | H25: =H24*B25 -> 0 | K25: =K24*B25 -> 0 | N25: =N24*B25 -> 0 | Q25: =Q24*B25 -> 0 | R25: =E25+H25+K25+N25+Q25 -> 0
A26: PRICING STRUCTURE (EXCL VAT) | E26: =SUM(E24:E25) -> 0 | H26: =SUM(H24:H25) -> 0 | K26: =SUM(K24:K25) -> 0 | N26: =SUM(N24:N25) -> 0 | Q26: =SUM(Q24:Q25) -> 0 | R26: =SUM(R24:R25) -> 0
A27: VAT | E27: =E26*15% -> 0 | H27: =H26*15% -> 0 | K27: =K26*15% -> 0 | N27: =N26*15% -> 0 | Q27: =Q26*15% -> 0 | R27: =R26*15% -> 0
A28: TOTAL PRICING STRUCTURE (INCL VAT) | E28: =E26+E27 -> 0 | H28: =SUM(H26:H27) -> 0 | K28: =K26+K27 -> 0 | N28: =N26+N27 -> 0 | Q28: =Q26+Q27 -> 0 | R28: =R26+R27 -> 0
A30: PRICING STRUCTURE FOR SUSTAINABILITY REPORTING REVIEW
C31: Year 1 (2022-2023) | F31: Year 2 (2023-2024) | I31: Year 3 (2024-2025) | L31: Year 4 (2025-2026) | O31: Year 5 (2026-202) | R31: TOTAL PROPOSED COSTING
A32: AUDIT TEAM COMPOSITION | B32: PAX | C32: EST HOURS | D32: EST RATE | E32: TOTAL | F32: EST HOURS | G32: EST RATE | H32: TOTAL | I32: EST HOURS | J32: EST RATE | K32: TOTAL | L32: EST HOURS | M32: EST RATE | N32: TOTAL | O32: EST HOURS | P32: EST RATE | Q32: TOTAL
A33: Engagement Partner | B33: =+'[1]Cost Estimates'!D27 -> 1 | C33: 12 | D33: =+'Rates Estimation'!$C$26 -> 0 | E33: =C33*D33 -> 0 | F33: =+C33*90% -> 10.8 | G33: =+'Rates Estimation'!$D$26 -> 0 | H33: =F33*G33 -> 0 | I33: =+F33 -> 10.8 | J33: =+'Rates Estimation'!$E$26 -> 0 | K33: =I33*J33 -> 0 | L33: =+I33 -> 10.8 | M33: =+'Rates Estimation'!$F$26 -> 0 | N33: =L33*M33 -> 0 | O33: =+L33 -> 10.8 | P33: =+'Rates Estimation'!$G$26 -> 0 | Q33: =O33*P33 -> 0 | R33: =E33+H33+K33+N33+Q33 -> 0
A34: Senior Manager | B34: =+'[1]Cost Estimates'!D28 -> 1 | C34: 18 | D34: =+'Rates Estimation'!$C$27 -> 0 | E34: =C34*D34 -> 0 | F34: =+C34*90% -> 16.2 | G34: =+'Rates Estimation'!$D$27 -> 0 | H34: =F34*G34 -> 0 | I34: =+F34 -> 16.2 | J34: =+'Rates Estimation'!$E$27 -> 0 | K34: =I34*J34 -> 0 | L34: =+I34 -> 16.2 | M34: =+'Rates Estimation'!$F$27 -> 0 | N34: =L34*M34 -> 0 | O34: =+L34 -> 16.2 | P34: =+'Rates Estimation'!$G$27 -> 0 | Q34: =O34*P34 -> 0 | R34: =E34+H34+K34+N34+Q34 -> 0
A35: Audit Manager | B35: =+'[1]Cost Estimates'!D29 -> 1 | C35: 30 | D35: =+'Rates Estimation'!$C$28 -> 0 | E35: =C35*D35 -> 0 | F35: =+C35*90% -> 27 | G35: =+'Rates Estimation'!$D$28 -> 0 | H35: =F35*G35 -> 0 | I35: =+F35 -> 27 | J35: =+'Rates Estimation'!$E$28 -> 0 | K35: =I35*J35 -> 0 | L35: =+I35 -> 27 | M35: =+'Rates Estimation'!$F$28 -> 0 | N35: =L35*M35 -> 0 | O35: =+L35 -> 27 | P35: =+'Rates Estimation'!$G$28 -> 0 | Q35: =O35*P35 -> 0 | R35: =E35+H35+K35+N35+Q35 -> 0
A36: Assistant Manager | B36: =+'[1]Cost Estimates'!D30 -> 2 | C36: 105 | D36: =+'Rates Estimation'!$C$29 -> 0 | E36: =C36*D36 -> 0 | F36: =+C36*90% -> 94.5 | G36: =+'Rates Estimation'!$D$29 -> 0 | H36: =F36*G36 -> 0 | I36: =+F36 -> 94.5 | J36: =+'Rates Estimation'!$E$29 -> 0 | K36: =I36*J36 -> 0 | L36: =+I36 -> 94.5 | M36: =+'Rates Estimation'!$F$29 -> 0 | N36: =L36*M36 -> 0 | O36: =+L36 -> 94.5 | P36: =+'Rates Estimation'!$G$29 -> 0 | Q36: =O36*P36 -> 0 | R36: =E36+H36+K36+N36+Q36 -> 0
A37: Trainees | B37: =+'[1]Cost Estimates'!D31 -> 3 | C37: 315 | D37: =+'Rates Estimation'!$C$30 -> 0 | E37: =C37*D37 -> 0 | F37: =+C37*90% -> 283.5 | G37: =+'Rates Estimation'!$D$30 -> 0 | H37: =F37*G37 -> 0 | I37: =+F37 -> 283.5 | J37: =+'Rates Estimation'!$E$30 -> 0 | K37: =I37*J37 -> 0 | L37: =+I37 -> 283.5 | M37: =+'Rates Estimation'!$F$30 -> 0 | N37: =L37*M37 -> 0 | O37: =+L37 -> 283.5 | P37: =+'Rates Estimation'!$G$30 -> 0 | Q37: =O37*P37 -> 0 | R37: =E37+H37+K37+N37+Q37 -> 0
A38: SUBTOTAL (EXCL VAT) | C38: =SUM(C33:C37) -> 480 | E38: =SUM(E33:E37) -> 0 | F38: =SUM(F33:F37) -> 432 | H38: =SUM(H33:H37) -> 0 | I38: =SUM(I33:I37) -> 432 | K38: =SUM(K33:K37) -> 0 | L38: =SUM(L33:L37) -> 432 | N38: =SUM(N33:N37) -> 0 | O38: =SUM(O33:O37) -> 432 | Q38: =SUM(Q33:Q37) -> 0 | R38: =SUM(R33:R37) -> 0
A39: Travel and Subsistence Disbursements | B39: 0.075 | E39: =E38*B39 -> 0 | H39: =H38*B39 -> 0 | K39: =K38*B39 -> 0 | N39: =N38*B39 -> 0 | Q39: =Q38*B39 -> 0 | R39: =E39+H39+K39+N39+Q39 -> 0
A40: PRICING STRUCTURE (EXCL VAT) | E40: =SUM(E38:E39) -> 0 | H40: =SUM(H38:H39) -> 0 | K40: =SUM(K38:K39) -> 0 | N40: =SUM(N38:N39) -> 0 | Q40: =SUM(Q38:Q39) -> 0 | R40: =SUM(R38:R39) -> 0
A41: VAT | E41: =E40*15% -> 0 | H41: =H40*15% -> 0 | K41: =K40*15% -> 0 | N41: =N40*15% -> 0 | Q41: =Q40*15% -> 0 | R41: =R40*15% -> 0
A42: TOTAL PRICING STRUCTURE (INCL VAT) | E42: =E40+E41 -> 0 | H42: =SUM(H40:H41) -> 0 | K42: =K40+K41 -> 0 | N42: =N40+N41 -> 0 | Q42: =Q40+Q41 -> 0 | R42: =R40+R41 -> 0
...

Sheet Sheet2
B2: Cost Per Item PA | C2: 1 | D2: 2 | E2: 3 | F2: 4 | G2: 5 | H2: TOTAL
B3: STI AUP | C3: 250000 | D3: 250000 | E3: 250000 | F3: 250000 | G3: 250000 | H3: =SUM(C3:G3) -> 1250000
B4: CIFS Review | C4: 350000 | D4: 350000 | E4: 350000 | F4: 350000 | G4: 350000 | H4: =SUM(C4:G4) -> 1750000
B5: Other | D5: 300000 | E5: 300000 | F5: 300000 | G5: 300000 | H5: =SUM(C5:G5) -> 1200000
G6: TOTAL EXCL VAT | H6: =SUM(H3:H5) -> 4200000
G7: VAT | H7: =H6*15% -> 630000
G8: TOTAL INCL VAT | H8: =SUM(H6:H7) -> 4830000
