Workbook

Sheet PROJECT MNGMNT
A1: PROJECT: | B1: Upgrade of Emasdal, Heidelberg and Rensburg Pump Stations and Repair of Bergendal Pump Station
A2: CONTRACT: | B2: Electrical and Mechanical Services
A4: Item No. | B4: Description | C4: Unit | D4: Qty | E4: Rate | F4: Amount
A6: A1 | B6: Site Establishment/storage Container | C6: Sum | D6: 1 | F6: =E6*D6 -> 0
A8: A2 | B8: Supervision | C8: Month | D8: 5 | F8: =E8*D8 -> 0
A10: A3 | B10: Transport | C10: Sum | D10: 1 | F10: =E10*D10 -> 0
A12: A4 | B12: Plant and Equipment | C12: Sum | D12: 1 | F12: =E12*D12 -> 0
A14: A5 | B14: Attendance of Site meetings | C14: Sum | D14: 1 | F14: =E14*D14 -> 0
A16: A6 | B16: Submission of OHSA file | C16: Sum | D16: 1 | F16: =E16*D16 -> 0
A18: A7 | B18: Compliance to OHS | C18: Month | D18: 5 | F18: =E18*D18 -> 0
A20: A8 | B20: Provisional Sum for CLO | C20: Prov Sum | D20: 1 | E20: =6000*5 -> 30000 | F20: =E20*D20 -> 30000
A22: A9 | B22: Profit of CLO Remuneration | C22: % | D22: =F20 -> 30000 | F22: =E22*D22 -> 0
A24: A10 | B24: Provision of Security for the Duration of the Project | C24: Month | D24: 5 | F24: =E24*D24 -> 0
A26: A11 | B26: Contract Nameboard | C26: No | D26: 1 | F26: =E26*D26 -> 0
A28: A12 | B28: Contractual Obligations | C28: Sum | D28: 1 | F28: =E28*D28 -> 0
A31: A | B31: TOTAL THIS CARRIED FORWARD TO SUMMARY PAGE | F31: =SUM(F6:F28) -> 30000

Sheet Emasdal Pump Station
A1: PROJECT: | B1: Upgrade of Emasdal, Heidelberg and Rensburg Pump Stations and Repair of Bergendal Pump Station
A2: CONTRACT: | B2: Electrical and Mechanical Services
B3: MECHANICAL SECTION
A4: Item No. | B4: Description | C4: Unit | D4: Qty | E4: Rate | F4: Amount
A6: B | B6: EMASDAL PUMP STATION
A8: B1 | B8: Supply and install water Pumps as Specified in the drawings and standard specification and detailed specification
A10: 1 | B10: Supply and install 701 cubic metre/hr Single stage centirfugal pumps with a drive power of 165kW, impeller size 490mm and head of 71.9m. One pump should be standby duty | C10: No. | D10: 2 | F10: =E10*D10 -> 0
A12: 2 | B12: Allow for the installation of the pump and all neccessary fiitings and equipment tp position the water pmps | C12: No. | D12: 2 | F12: =E12*D12 -> 0
A14: 3 | B14: Supply and install baseplates with antivibration mounts to match the new pumps. | C14: No. | D14: 2 | F14: =E14*D14 -> 0
A16: B2 | B16: PIPEWORK AND ACCESSORIES
B18: Supply and Install above ground pipework and fittings to suite the new Pumps
A20: 1 | B20: Supply and Install 400mm Gate Valve | C20: No. | D20: 3 | F20: =E20*D20 -> 0
A22: 2 | B22: Supply and install Digital flow meter | C22: No. | D22: 2 | F22: =E22*D22 -> 0
A24: 3 | B24: Supply and Install 350mm Gate Valve | C24: No. | D24: 3 | F24: =E24*D24 -> 0
A26: 4 | B26: Supply and install 350mm Non Reurn Valve | C26: No. | D26: 2 | F26: =E26*D26 -> 0
A28: 5 | B28: Supply and Install Digital Pressure Guage | C28: No. | D28: 4 | F28: =E28*D28 -> 0
A30: 6 | B30: Supply and Install 200mm to 250mm Reducer | C30: No. | D30: 4 | F30: =E30*D30 -> 0
A32: 7 | B32: Supply and Install 250mm to 350mm Reducer | C32: No. | D32: 4 | F32: =E32*D32 -> 0
A34: 8 | B34: Supply and Install new Plinth of the Water Pumps (1000x3500x300(h)) | C34: No. | D34: 2 | F34: =E34*D34 -> 0
A36: 9 | B36: Supply and Install a level Sensor at the 5000KL Concrete Reservior | C36: No. | D36: 2 | F36: =E36*D36 -> 0
A38: 10 | B38: Link and Connect the Level sensor to the Pump Controller | C38: Item | D38: 1 | F38: =E38*D38 -> 0
A40: 11 | B40: Supply and install overload protection relay for the water pumps | C40: No. | D40: 2 | F40: =E40*D40 -> 0
A42: 12 | B42: Supply and install manual overide switch for pump testing | C42: No. | D42: 2 | F42: =E42*D42 -> 0
... A52: 17 | B52: Supply and install Pressure Release valve | C52: No. | D52: 1 | F52: =E52*D52 -> 0
B55: BALANCE BROUGHT DOWN | F55: =SUM(F5:F54) -> 0
B57: BALANCE BROUGHT FORWARD | F57: =F55 -> 0
A59: 18 | B59: Production of shopfloor drawings for Approval | C59: Item | D59: 1 | F59: =E59*D59 -> 0
A61: B3 | B61: PROJECT ENGINEERING AND QUALITY MANAGEMENT
B63: Testing, commissioning and handover of Pumping system, including pressure testing and inspection and compilation of plans submitted to the Engineer for approval.
A65: 1 | B65: Operation and Maintenance Instruction Manuals | C65: set | D65: 4 | F65: =E65*D65 -> 0
A67: 2 | B67: User Training | C67: Item | D67: 1 | F67: =E67*D67 -> 0
B69: TEST & COMMISSION
A71: 3 | B71: Test and Commission Pumping system | C71: Item | D71: 1 | F71: =E71*D71 -> 0
A76: B | B76: TOTAL CARRIED FORWARD TO SUMMARY PAGE | E76: R | F76: =SUM(F57:F75) -> 0

Sheet Rensburg Pump Station
A1: PROJECT: | B1: Upgrade of Emasdal, Heidelberg and Rensburg Pump Stations and Repair of Bergendal Pump Station
A2: CONTRACT: | B2: Electrical and Mechanical Services
B3: MECHANICAL SECTION
A4: Item No. | B4: Description | C4: Unit | D4: Qty | E4: Rate | F4: Amount
A6: C | B6: RENSBURG PUMP STATION
A8: C1 | B8: Supply and install water Pumps as Specififed in the drawings and standard specification and detailed specification
A10: 1 | B10: Supply and install 174 cubic metre/hr Single stage centirfugal pumps with a drive power of 26,1kW, impeller size 352mm and head of 41.72m. One pump should be standby duty | C10: No. | D10: 2 | F10: =E10*D10 -> 0
A12: 2 | B12: Allow for the installation of the pump and all neccessary fiitings and equipment tp position the water pmps | C12: No. | D12: 2 | F12: =E12*D12 -> 0
A14: 3 | B14: Supply and install baseplates with antivibration mounts to match the new pumps. | C14: No. | D14: 2 | F14: =E14*D14 -> 0
A16: C2 | B16: PIPEWORK AND ACCESSORIES
B18: Supply and Install above ground pipework and fittings to suite the new Pumps
A20: 1 | B20: Supply and Install 200mm Gate Valve | C20: No. | D20: 3 | F20: =E20*D20 -> 0
A22: 2 | B22: Supply and install Digital flow meter | C22: No. | D22: 2 | F22: =E22*D22 -> 0
A24: 3 | B24: Supply and Install 150mm Gate Valve | C24: No. | D24: 3 | F24: =E24*D24 -> 0
A26: 4 | B26: Supply and install 150mm Non Reurn Valve | C26: No. | D26: 2 | F26: =E26*D26 -> 0
A28: 5 | B28: Supply and Install Digital Pressure Guage | C28: No. | D28: 4 | F28: =E28*D28 -> 0
A30: 6 | B30: Supply and Install 100mm to 150mm Reducer | C30: No. | D30: 4 | F30: =E30*D30 -> 0
A32: 7 | B32: Supply and Install 150mm to 200mm Reducer | C32: No. | D32: 4 | F32: =E32*D32 -> 0
A34: 8 | B34: Supply and Install new Plinth of the Water Pumps (800x2500x300(h)) | C34: No. | D34: 2 | F34: =E34*D34 -> 0
A36: 9 | B36: Supply and install new Motor Control Panel IP65 including relays, contactors, overloead relay set, Auto/manual switch, run fault indicator lights, control relays/timers, surge protection device and cables and termination and glands | C36: Item | D36: 1 | F36: =E36*D36 -> 0
A38: 10 | B38: Supply and Install a level Sensor at the 318KL Concrete Reservior | C38: No. | D38: 1 | F38: =E38*D38 -> 0
A40: 11 | B40: Supply and Install a level Sensor at the 1350KL Concrete Reservior | C40: No. | D40: 1 | F40: =E40*D40 -> 0
A42: 12 | B42: Link and Connect the Level sensor to the Pump Controller | C42: Item | D42: 1 | F42: =E42*D42 -> 0
... A48: 15 | B48: Supply and Install Pressure switch | C48: No. | D48: 2 | F48: =E48*D48 -> 0
B54: BALANCE BROUGHT DOWN | F54: =SUM(F5:F53) -> 0
B56: BALANCE BROUGHT FORWARD | F56: =F54 -> 0
A58: 16 | B58: Supply and install battery backup for Telemetry System 24V | C58: No. | D58: 1 | F58: =E58*D58 -> 0
A60: 17 | B60: Supply and install 200mm strainer | C60: No. | D60: 1 | F60: =E60*D60 -> 0
A62: 18 | B62: Supply and install Air Release valve | C62: No. | D62: 1 | F62: =E62*D62 -> 0
A64: 19 | B64: Supply and install Pressure Release valve | C64: No. | D64: 1 | F64: =E64*D64 -> 0
A66: 20 | B66: Production of shopfloor drawings for Approval | C66: Item | D66: 1 | F66: =E66*D66 -> 0
A68: C3 | B68: PROJECT ENGINEERING AND QUALITY MANAGEMENT
B70: Testing, commissioning and handover of Pumping system, including pressure testing and inspection and compilation of plans submitted to the Engineer for approval.
A72: 1 | B72: Operation and Maintenance Instruction Manuals | C72: set | D72: 4 | F72: =E72*D72 -> 0
A74: 2 | B74: User Training | C74: Item | D74: 1 | F74: =E74*D74 -> 0
B76: TEST & COMMISSION
A78: 3 | B78: Test and Commission Pumping system | C78: Item | D78: 1 | F78: =E78*D78 -> 0
A83: C | B83: TOTAL CARRIED FORWARD TO SUMMARY PAGE | E83: R | F83: =SUM(F56:F82) -> 0

Sheet Heidelberg Pump Station
A1: PROJECT: | B1: Upgrade of Emasdal, Heidelberg and Rensburg Pump Stations and Repair of Bergendal Pump Station
A2: CONTRACT: | B2: Electrical and Mechanical Services
B3: MECHANICAL SECTION
A4: Item No. | B4: Description | C4: Unit | D4: Qty | E4: Rate | F4: Amount
A6: D | B6: HEIDELBERG PUMP STATION
A8: D1 | B8: Supply and install water Pumps as Specififed in the drawings and standard specification and detailed specification
A10: 1 | B10: Supply and install 145,26 cubic metre/hr Single stage centirfugal pumps with a drive power of 106kW, impeller size 329mm and head of 161m. One pump should be standby duty | C10: No. | D10: 2 | F10: =E10*D10 -> 0
A12: 2 | B12: Allow for the installation of the pump and all neccessary fiitings and equipment tp position the water pmps | C12: No. | D12: 2 | F12: =E12*D12 -> 0
A14: 3 | B14: Supply and install baseplates with antivibration mounts to match the new pumps. | C14: No. | D14: 2 | F14: =E14*D14 -> 0
A16: D2 | B16: PIPEWORK AND ACCESSORIES
B18: Supply and Install above ground pipework and fittings to suite the new Pumps
A20: 1 | B20: Supply and Install 300mm Gate Valve | C20: No. | D20: 3 | F20: =E20*D20 -> 0
A22: 2 | B22: Supply and install Digital flow meter | C22: No. | D22: 2 | F22: =E22*D22 -> 0
A24: 3 | B24: Supply and Install 250mm Gate Valve | C24: No. | D24: 3 | F24: =E24*D24 -> 0
A26: 4 | B26: Supply and install 250mm Non Reurn Valve | C26: No. | D26: 2 | F26: =E26*D26 -> 0
A28: 5 | B28: Supply and Install Digital Pressure Guage | C28: No. | D28: 4 | F28: =E28*D28 -> 0
A30: 6 | B30: Supply and Install 200mm to 250mm Reducer | C30: No. | D30: 4 | F30: =E30*D30 -> 0
A32: 7 | B32: Supply and Install 250mm to 300mm Reducer | C32: No. | D32: 4 | F32: =E32*D32 -> 0
A34: 8 | B34: Supply and Install new Plinth of the Water Pumps (1000x3500x300(h)) | C34: No. | D34: 2 | F34: =E34*D34 -> 0
A36: 9 | B36: Supply and install new Motor Control Panel IP65 including relays, contactors, overloead relay set, Auto/manual switch, run fault indicator lights, control relays/timers, surge protection device and cables and termination and glands | C36: Item | D36: 1 | F36: =E36*D36 -> 0
A38: 10 | B38: Supply and Install a level Sensor at the 5000KL Concrete Reservior | C38: No. | D38: 2 | F38: =E38*D38 -> 0
A40: 11 | B40: Link and Connect the Level sensor to the Pump Controller | C40: Item | D40: 1 | F40: =E40*D40 -> 0
A42: 12 | B42: Supply and install overload protection relay for the water pumps | C42: No. | D42: 2 | F42: =E42*D42 -> 0
... A46: 14 | B46: Supply and Install Pressure switch | C46: No. | D46: 2 | F46: =E46*D46 -> 0
B52: BALANCE BROUGHT DOWN | F52: =SUM(F5:F51) -> 0
B54: BALANCE BROUGHT FORWARD | F54: =F52 -> 0
A57: 15 | B57: Supply and install battery backup for Telemetry System 24V | C57: No. | D57: 1 | F57: =E57*D57 -> 0
A59: 16 | B59: Supply and install 300mm strainer | C59: No. | D59: 1 | F59: =E59*D59 -> 0
A61: 17 | B61: Supply and install Air Release valve | C61: No. | D61: 1 | F61: =E61*D61 -> 0
A63: 18 | B63: Supply and install Pressure Release valve | C63: No. | D63: 1 | F63: =E63*D63 -> 0
A65: 19 | B65: Production of shopfloor drawings for Approval | C65: Item | D65: 1 | F65: =E65*D65 -> 0
A67: D3 | B67: PROJECT ENGINEERING AND QUALITY MANAGEMENT
B69: Testing, commissioning and handover of Pumping system, including pressure testing and inspection and compilation of plans submitted to the Engineer for approval.
A71: 1 | B71: Operation and Maintenance Instruction Manuals | C71: set | D71: 4 | F71: =E71*D71 -> 0
A73: 2 | B73: User Training | C73: Item | D73: 1 | F73: =E73*D73 -> 0
B75: TEST & COMMISSION
A77: 3 | B77: Test and Commission Pumping system | C77: Item | D77: 1 | F77: =E77*D77 -> 0
A82: D | B82: TOTAL CARRIED FORWARD TO SUMMARY PAGE | E82: R | F82: =SUM(F54:F81) -> 0

Sheet Bergendal Pump Station
A1: PROJECT: | B1: Upgrade of Emasdal, Heidelberg and Rensburg Pump Stations and Repair of Bergendal Pump Station
A2: CONTRACT: | B2: Electrical and Mechanical Services
B3: MECHANICAL SECTION
A4: Item No. | B4: Description | C4: Unit | D4: Qty | E4: Rate | F4: Amount
A6: E | B6: BERGENDAL PUMP STATION
A8: E1 | B8: Service existing water Pumps as Specififed in the drawings and standard specification and detailed specification
A10: 1 | B10: Service Inline high pressure pump 106,4 cubic metre/hr with a drive power of 15kW | C10: No. | D10: 2 | F10: =E10*D10 -> 0
A12: 2 | B12: Reconncet existing 4 x 500L Pressure tanks to booster pumping system | C12: Item | D12: 1 | F12: =E12*D12 -> 0
A14: 3 | B14: Pressure test exising pressure tanks | C14: No. | D14: 4 | F14: =E14*D14 -> 0
A16: 4 | B16: Supply and install 2.2kw submersible pump | C16: No. | D16: 1 | F16: =E16*D16 -> 0
A19: 5 | B19: Supply and install Telemetry system for remote monitoring of flow rate, pressure indicators, tank levels | C19: Item | D19: 1 | F19: =E19*D19 -> 0
A21: 5.1 | B21: Supply and install Telemetry Remote Terminal Unit | C21: No. | D21: 1 | F21: =E21*D21 -> 0
A23: 5.2 | B23: Supply and install Digital Analogue Input Modules | C23: No. | D23: 1 | F23: =E23*D23 -> 0
A25: 5.3 | B25: Supply and Install Antenna with signal booster | C25: No. | D25: 1 | F25: =E25*D25 -> 0
A27: 5.4 | B27: Supply and install battery backup for Telemetry System 24V | C27: No. | D27: 1 | F27: =E27*D27 -> 0
A29: 6 | B29: Provide Pump spare parts | C29: No. | D29: 1 | F29: =E29*D29 -> 0
A31: 6.1 | B31: Mechanical Seals | C31: No. | D31: 5 | F31: =E31*D31 -> 0
A33: 6.2 | B33: Impeller | C33: No. | D33: 2 | F33: =E33*D33 -> 0
... A51: 7.1 | B51: Terminal Box cover | C51: No. | D51: 3 | F51: =E51*D51 -> 0
B54: BALANCE BROUGHT DOWN | F54: =SUM(F5:F53) -> 0
B56: BALANCE BROUGHT FORWARD | F56: =F54 -> 0
A58: 7.2 | B58: Baseplate mounts | C58: Item | D58: 2 | F58: =E58*D58 -> 0
A60: 7.3 | B60: Intergrated internal check valve | C60: Item | D60: 2 | F60: =E60*D60 -> 0
A62: 7.4 | B62: Cooling jacket/shroud | C62: Item | D62: 2 | F62: =E62*D62 -> 0
A64: 7.5 | B64: Seal cover plates | C64: Item | D64: 10 | F64: =E64*D64 -> 0
A66: 7.6 | B66: Bolts, washers and studs | C66: Item | D66: 1 | F66: =E66*D66 -> 0
A68: E2 | B68: PROJECT ENGINEERING AND QUALITY MANAGEMENT
B70: Testing, commissioning and handover of Pumping system, including pressure testing and inspection and compilation of plans submitted to the Engineer for approval.
A72: 1 | B72: Operation and Maintenance Instruction Manuals | C72: set | D72: 4 | F72: =E72*D72 -> 0
A74: 2 | B74: User Training | C74: Item | D74: 1 | F74: =E74*D74 -> 0
B76: TEST & COMMISSION
A78: 3 | B78: Test and Commission Pumping system | C78: Item | D78: 1 | F78: =E78*D78 -> 0
A83: E | B83: TOTAL CARRIED FORWARD TO SUMMARY PAGE | E83: R | F83: =SUM(F56:F82) -> 0

Sheet Emasdal Electrical 
A1: PROJECT: | B1: Upgrade of Emasdal, Heidelberg and Rensburg Pump Stations and Repair of Bergendal Pump Station
A2: CONTRACT: | B2: Electrical and Mechanical Services
B3: ELECTRICAL SECTION
A4: Item No. | B4: Description | C4: Unit | D4: Qty | E4: Rate | F4: Amount
B5: EMASDAL PUMP STATION ELECTRICAL
B6: BILL No. 01
B7: LOW VOLTAGE CABLES
B9: As specified in Standard Specification Sections and in the Detailed Spec
B11: Supply and Install 600/1000V grade PVC/SWA insulated stranded copper conductors drawn into conduit, laid in ground or cable tray, all as per the cable schedule below.
B13: 50 mm2, 3-core
A14: 1 | B14: Supply | C14: m | D14: 80 | F14: =E14*D14 -> 0
A15: 2 | B15: Install | C15: m | D15: 80 | F15: =E15*D15 -> 0
B17: 10 mm2, 3-core
A18: 3 | B18: Supply | C18: m | D18: 0 | F18: =+D18*E18 -> 0
A19: 4 | B19: Install | C19: m | D19: 0 | F19: =+D19*E19 -> 0
D20: 0
B21: Termination of LV cables:
B23: 50 mm2, 3-core
A24: 5 | B24: Supply | C24: No | D24: 4 | F24: =+D24*E24 -> 0
A25: 6 | B25: Install | C25: No | D25: 4 | F25: =+D25*E25 -> 0
B27: 10 mm2, 3-core
A28: 7 | B28: Supply | C28: No | D28: 0 | F28: =+D28*E28 -> 0
A29: 8 | B29: Install | C29: No | D29: 0 | F29: =+D29*E29 -> 0
B31: Supply earth continuity conductor
B33: 25mm2, BCEW
A34: 9 | B34: Supply | C34: m | D34: 80 | F34: =+D34*E34 -> 0
A35: 10 | B35: Install | C35: m | D35: 80 | F35: =+D35*E35 -> 0
B38: 6 mm2,BCEW
A39: 11 | B39: Supply | C39: m | D39: 0 | F39: =+D39*E39 -> 0
A40: 12 | B40: Install | C40: m | D40: 0 | F40: =+D40*E40 -> 0
B42: Terminate earth continuity conductor
B44: 25mm2, BCEW
A45: 13 | B45: Supply | C45: No | D45: 4 | F45: =+D45*E45 -> 0
A46: 14 | B46: Install | C46: No | D46: 4 | F46: =+D46*E46 -> 0
B48: 6 mm2,BCEW
A49: 15 | B49: Supply | C49: No | D49: 0 | F49: =+D49*E49 -> 0
A50: 16 | B50: Install | C50: No | D50: 0 | F50: =+D50*E50 -> 0
B52: Earthing
A54: 17 | B54: Earthing as require at Main Control Centre to achieve maximum 1 Ohm resistance including testing. | C54: Item | D54: 1 | F54: =E54*D54 -> 0
A56: 18 | B56: Earthing and bonding of the complete electrical installation in accordance with the specification. | C56: Item | D56: 1 | F56: =E56*D56 -> 0
...

Sheet Rensburg Electrical
A1: PROJECT: | B1: Upgrade of Emasdal, Heidelberg and Rensburg Pump Stations and Repair of Bergendal Pump Station
A2: CONTRACT: | B2: Electrical and Mechanical Services
B3: ELECTRICAL SECTION
A4: Item No. | B4: Description | C4: Unit | D4: Qty | E4: Rate | F4: Amount
B5: Rensburg PUMP STATION ELECTRICAL
B6: BILL No. 01
B7: LOW VOLTAGE CABLES
B9: As specified in Standard Specification Sections and in the Detailed Spec
B11: Supply and Install 600/1000V grade PVC/SWA insulated stranded copper conductors drawn into conduit, laid in ground or cable tray, all as per the cable schedule below.
B13: 95 mm2, 3-core
A14: 1 | B14: Supply | C14: m | D14: 0 | F14: =+D14*E14 -> 0
A15: 2 | B15: Install | C15: m | D15: 0 | F15: =+D15*E15 -> 0
B17: 10 mm2, 3-core
A18: 3 | B18: Supply | C18: m | D18: 30 | F18: =+D18*E18 -> 0
A19: 4 | B19: Install | C19: m | D19: 30 | F19: =+D19*E19 -> 0
D20: 0
B21: Termination of LV cables:
B23: 95 mm2, 3-core
A24: 5 | B24: Supply | C24: No | D24: 0 | F24: =+D24*E24 -> 0
A25: 6 | B25: Install | C25: No | D25: 0 | F25: =+D25*E25 -> 0
B27: 10 mm2, 3-core
A28: 7 | B28: Supply | C28: No | D28: 2 | F28: =+D28*E28 -> 0
A29: 8 | B29: Install | C29: No | D29: 2 | F29: =+D29*E29 -> 0
B31: Supply earth continuity conductor
B33: 50mm2, BCEW
A34: 9 | B34: Supply | C34: m | D34: 0 | F34: =+D34*E34 -> 0
A35: 10 | B35: Install | C35: m | D35: 0 | F35: =+D35*E35 -> 0
B38: 6 mm2,BCEW
A39: 11 | B39: Supply | C39: m | D39: 15 | F39: =+D39*E39 -> 0
A40: 12 | B40: Install | C40: m | D40: 15 | F40: =+D40*E40 -> 0
B42: Terminate earth continuity conductor
B44: 50mm2, BCEW
A45: 13 | B45: Supply | C45: No | D45: 0 | F45: =+D45*E45 -> 0
A46: 14 | B46: Install | C46: No | D46: 0 | F46: =+D46*E46 -> 0
B48: 6 mm2,BCEW
A49: 15 | B49: Supply | C49: No | D49: 2 | F49: =+D49*E49 -> 0
A50: 16 | B50: Install | C50: No | D50: 2 | F50: =+D50*E50 -> 0
B52: Earthing
A54: 17 | B54: Earthing as require at Main Control Centre to achieve maximum 1 Ohm resistance including testing. | C54: Item | D54: 1 | F54: =+D54*E54 -> 0
A56: 18 | B56: Earthing and bonding of the complete electrical installation in accordance with the specification. | C56: Item | D56: 1 | F56: =+D56*E56 -> 0
...

Sheet Heidelberg Electrical
A1: PROJECT: | B1: Upgrade of Emasdal, Heidelberg and Rensburg Pump Stations and Repair of Bergendal Pump Station
A2: CONTRACT: | B2: Electrical and Mechanical Services
B3: ELECTRICAL SECTION
A4: Item No. | B4: Description | C4: Unit | D4: Qty | E4: Rate | F4: Amount
B5: HEIDELBURG PUMP STATION ELECTRICAL
B6: BILL No. 01
B7: LOW VOLTAGE CABLES
B9: As specified in Standard Specification Sections and in the Detailed Spec
B11: Supply and Install 600/1000V grade PVC/SWA insulated stranded copper conductors drawn into conduit, laid in ground or cable tray, all as per the cable schedule below.
B13: 95 mm2, 3-core
A14: 1 | B14: Supply | C14: m | D14: 40 | F14: =+D14*E14 -> 0
A15: 2 | B15: Install | C15: m | D15: 40 | F15: =+D15*E15 -> 0
B17: 10 mm2, 3-core
A18: 3 | B18: Supply | C18: m | D18: 2 | F18: =+D18*E18 -> 0
A19: 4 | B19: Install | C19: m | D19: 2 | F19: =+D19*E19 -> 0
D20: 0
B21: Termination of LV cables:
B23: 95 mm2, 3-core
A24: 5 | B24: Supply | C24: No | D24: 4 | F24: =+D24*E24 -> 0
A25: 6 | B25: Install | C25: No | D25: 4 | F25: =+D25*E25 -> 0
B27: 10 mm2, 3-core
A28: 7 | B28: Supply | C28: No | D28: 0 | F28: =+D28*E28 -> 0
A29: 8 | B29: Install | C29: No | D29: 0 | F29: =+D29*E29 -> 0
B31: Supply earth continuity conductor
B33: 50mm2, BCEW
A34: 9 | B34: Supply | C34: m | D34: 0 | F34: =+D34*E34 -> 0
A35: 10 | B35: Install | C35: m | D35: 0 | F35: =+D35*E35 -> 0
B38: 6 mm2,BCEW
A39: 11 | B39: Supply | C39: m | D39: 40 | F39: =+D39*E39 -> 0
A40: 12 | B40: Install | C40: m | D40: 40 | F40: =+D40*E40 -> 0
B42: Terminate earth continuity conductor
B44: 50mm2, BCEW
A45: 13 | B45: Supply | C45: No | D45: 4 | F45: =+D45*E45 -> 0
A46: 14 | B46: Install | C46: No | D46: 4 | F46: =+D46*E46 -> 0
B48: 6 mm2,BCEW
A49: 15 | B49: Supply | C49: No | D49: 0 | F49: =+D49*E49 -> 0
A50: 16 | B50: Install | C50: No | D50: 0 | F50: =+D50*E50 -> 0
B52: Earthing
A54: 17 | B54: Earthing as require at Main Control Centre to achieve maximum 1 Ohm resistance including testing. | C54: Item | D54: 1 | F54: =+D54*E54 -> 0
A56: 18 | B56: Earthing and bonding of the complete electrical installation in accordance with the specification. | C56: Item | D56: 1 | F56: =+D56*E56 -> 0
...

Sheet Sheet3

Sheet Sheet1

Sheet Sheet2

Sheet Summary
A1: PROJECT: | B1: Upgrade of Emasdal, Heidelburg and Rensburg Pump Stations and Repair of Bergendal Pump Station
A2: CONTRACT: | B2: Electrical and Mechanical Services
A4: Item No. | B4: Description | H4: AMOUNT
B6: FINAL SUMMARY PAGE
B8: PRELIMINARIES AND GENERAL CONDITIONS OF THE CONTRACT
A10: A | B10: TOTAL BROUGHT FORWARD FROM Ps and Gs | H10: ='PROJECT MNGMNT'!F31 -> 30000
B12: ELECTRICAL AND MECHANICAL SERVICES INSTALLATION
A14: B | B14: TOTAL BROUGHT FORWARD FROM MECHANICAL EMASDAL PUMP STATION | H14: ='Emasdal Pump Station'!F76 -> 0
A16: C | B16: TOTAL BROUGHT FORWARD FROM MECHANICAL RENSBURG PUMP STATION | H16: ='Rensburg Pump Station'!F83 -> 0
A18: D | B18: TOTAL BROUGHT FORWARD FROM MECHANICAL HEIDELBURG PUMP STATION | H18: ='Heidelberg Pump Station'!F82 -> 0
A20: E | B20: TOTAL BROUGHT FORWARD FROM MECHANICAL Bergendal PUMP STATION | H20: ='Bergendal Pump Station'!F83 -> 0
B22: SUB TOTAL MECHANICAL | H22: =SUM(H14:H20) -> 0
A24: F | B24: TOTAL BROUGHT FORWARD FROM ELECTRICAL EMASDAL PUMP STATION | H24: ='Emasdal Electrical '!F233 -> 0
A26: G | B26: TOTAL BROUGHT FORWARD FROM ELECTRICAL RENSBURG PUMP STATION | H26: ='Rensburg Electrical'!F234 -> 0
A28: H | B28: TOTAL BROUGHT FORWARD FROM ELECTRICAL HEIDELBURG PUMP STATION | H28: ='Heidelberg Electrical'!F237 -> 0
B30: SUBTOTAL ELECTRICAL | H30: =SUM(H24:H29) -> 0
B33: Subtotal (Electrical and Mechanical) | H33: =H10+H22+H30 -> 30000
B35: Add 15% VAT | H35: =0.15*H33 -> 4500
B39: TOTAL | H39: =H33+H35 -> 34500
F45: =D45*E45 -> 0
