Workbook
Name _.: #REF!
Name _.: #REF!
Name _R: #REF!
Name _R: #REF!
Name Area_Print: #REF!
Name Area_Print: #REF!
Name Clear_CAST_Price_Summary: Currency!Clear_CAST_Price_Summary
Name Clear_CAST_Price_Summary: USSD!Clear_CAST_Price_Summary
Name Clear_CAST_Price_Summary: [0]!Clear_CAST_Price_Summary
Name Cost_Allocation: [1]Data!$C$2:$C$12
Name Cost_Allocation: [2]Data!$C$2:$C$12
Name CPA_Data: [1]Data!$F$2:$F$14
Name CPA_Data: [2]Data!$F$2:$F$14
Name Currency: [1]Data!$E$2:$E$19
Name Currency: [2]Data!$E$2:$E$19
Name Currency_A: [3]Data!$E$2:$E$19
Name Currency_A: [4]Data!$E$2:$E$19
Name Currency_Allocated: '[5]Option X3'!$D$9:$D$26
Name Currency_Allocated: '[6]Option X3'!$D$9:$D$26
Name CurrencyA: [7]Data!$E$2:$E$19
Name D: #REF!
Name D: #REF!
Name Data: USSD!$A$28:$H$57
Name Data: #REF!
Name Data_Daywork: #REF!
Name Data_Daywork: #REF!
Name Data_Opt_Bill5: #REF!
Name Data_Opt_Bill5: #REF!
Name Option_N: '[5]Option X5'!$H$9:$H$18
Name Option_N: '[6]Option X5'!$H$9:$H$18
Name P: #REF!
Name P: #REF!
Name PS5_Allocation: [1]Data!$B$2:$B$20
Name PS5_Allocation: [2]Data!$B$2:$B$20
Name Q: #REF!
Name Q: #REF!
Name S: #REF!
Name S: #REF!
Name Sort_Data: #REF!
Name Sort_Data: #REF!
Name w: Currency!w
Name w: USSD!w
Name w: [0]!w

Sheet USSD
B1: Pricing Schedule : USSD Solution
B3: VENDOR NAME
B7: IMPORTANT NOTES
B8: All cells highlighted in GREEN must be completed
B9: Quoted prices MUST be in ZAR, EXCLUDING VAT and ESCALATIONS
B11: USSD Solution
B12: Prices MUST be quoted based on the SCOPE provided
B13: Select the currency from the CURRENCY drop-down list in COLUMN "G"
B15: Capture the applicable Currency, ROE and ROE Published Date on the "Currency sheet".
B16: The adjustments for prevailing rates and the basis for future price adjustments will be determined at time of contracting.
B17: Exchange rate variations may not be claimed for the local mark-up in the pricing structure
B19: Record the information as such if two currencies are relevant for one service line (Each Service has two lines to accommodate multiple currencies)
... B25: All Prices must be exclusive of VAT
I28: SOLUTION IMPLEMENTATION | M28: YEAR 1 | Q28: YEAR 2 | U28: YEAR 3 | Y28: YEAR 4 | AC28: YEAR 5 | AH28: SLIDING SCALE (MONTHLY INSTANCES)
A29: Item Number | B29: Category | C29: Description | D29: Total Estimated Quantity | E29: Unit charge | F29: CURRENCY | I29: Unit Price in Nominated Currency | J29: Unit Price in ZAR | K29: Total [Nominated Currency] | L29: Total in ZAR | M29: Unit Price in Nominated Currency | N29: Unit Price in ZAR | O29: Total [Nominated Currency] | P29: Total in ZAR | Q29: Unit Price in Nominated Currency | R29: Unit Price in ZAR | S29: Total [Nominated Currency] | T29: Total in ZAR | U29: Unit Price in Nominated Currency | V29: Unit Price in ZAR | W29: Total [Nominated Currency] | X29: Total in ZAR | Y29: Unit Price in Nominated Currency | Z29: Unit Price in ZAR | AA29: Total [Nominated Currency] | AB29: Total in ZAR | AC29: Unit Price in Nominated Currency | AD29: Unit Price in ZAR | AE29: Total [Nominated Currency] | AF29: Total in ZAR | AH29: 90000 | AI29: 120000 | AJ29: 150000 | AK29: 210000 | AL29: 300000 (and more)
A30: 1 | B30: Licenses (if applicable) | C30: Software License | D30: 1 | E30: per License | F30: =IF(G30="","",IF(G30="ZAR","Local","Foreign")) -> Local | G30: ZAR | H30: =IF(F30="","",IF(F30="Foreign",VLOOKUP(G30,Currency!$E$20:$F$33,2,FALSE),1)) -> 1 | M30: 0 | N30: =M30*$H30 -> 0 | O30: =M30*$D30 -> 0 | P30: =N30*$D30 -> 0 | Q30: 0 | R30: =Q30*$H30 -> 0 | S30: =Q30*$D30 -> 0 | T30: =R30*$D30 -> 0 | U30: 0 | V30: =U30*$H30 -> 0 | W30: =U30*$D30 -> 0 | X30: =V30*$D30 -> 0 | Y30: 0 | Z30: =Y30*$H30 -> 0 | AA30: =Y30*$D30 -> 0 | AB30: =Z30*$D30 -> 0 | AC30: 0 | AD30: =AC30*$H30 -> 0 | AE30: =AC30*$D30 -> 0 | AF30: =AD30*$D30 -> 0
F31: =IF(G31="","",IF(G31="ZAR","Local","Foreign")) -> Local | G31: ZAR | H31: =IF(F31="","",IF(F31="Foreign",VLOOKUP(G31,Currency!$E$20:$F$33,2,FALSE),1)) -> 1 | M31: 0 | N31: =M31*$H31 -> 0 | O31: =M31*$D30 -> 0 | P31: =N31*$D30 -> 0 | Q31: 0 | R31: =Q31*$H31 -> 0 | S31: =Q31*$D30 -> 0 | T31: =R31*$D30 -> 0 | U31: 0 | V31: =U31*$H31 -> 0 | W31: =U31*$D30 -> 0 | X31: =V31*$D30 -> 0 | Y31: 0 | Z31: =Y31*$H31 -> 0 | AA31: =Y31*$D30 -> 0 | AB31: =Z31*$D30 -> 0 | AC31: 0 | AD31: =AC31*$H31 -> 0 | AE31: =AC31*$D30 -> 0 | AF31: =AD31*$D30 -> 0
C32: Maintenance and Support | D32: 1 | E32: per License | F32: =IF(G32="","",IF(G32="ZAR","Local","Foreign")) -> Local | G32: ZAR | H32: =IF(F32="","",IF(F32="Foreign",VLOOKUP(G32,Currency!$E$20:$F$33,2,FALSE),1)) -> 1 | M32: 0 | N32: =M32*$H32 -> 0 | O32: =M32*$D32 -> 0 | P32: =N32*$D32 -> 0 | Q32: 0 | R32: =Q32*$H32 -> 0 | S32: =Q32*$D32 -> 0 | T32: =R32*$D32 -> 0 | U32: 0 | V32: =U32*$H32 -> 0 | W32: =U32*$D32 -> 0 | X32: =V32*$D32 -> 0 | Y32: 0 | Z32: =Y32*$H32 -> 0 | AA32: =Y32*$D32 -> 0 | AB32: =Z32*$D32 -> 0 | AC32: 0 | AD32: =AC32*$H32 -> 0 | AE32: =AC32*$D32 -> 0 | AF32: =AD32*$D32 -> 0
F33: =IF(G33="","",IF(G33="ZAR","Local","Foreign")) -> Local | G33: ZAR | H33: =IF(F33="","",IF(F33="Foreign",VLOOKUP(G33,Currency!$E$20:$F$33,2,FALSE),1)) -> 1 | M33: 0 | N33: =M33*$H33 -> 0 | O33: =M33*$D32 -> 0 | P33: =N33*$D32 -> 0 | Q33: 0 | R33: =Q33*$H33 -> 0 | S33: =Q33*$D32 -> 0 | T33: =R33*$D32 -> 0 | U33: 0 | V33: =U33*$H33 -> 0 | W33: =U33*$D32 -> 0 | X33: =V33*$D32 -> 0 | Y33: 0 | Z33: =Y33*$H33 -> 0 | AA33: =Y33*$D32 -> 0 | AB33: =Z33*$D32 -> 0 | AC33: 0 | AD33: =AC33*$H33 -> 0 | AE33: =AC33*$D32 -> 0 | AF33: =AD33*$D32 -> 0
A34: 2 | B34: Usage | C34: Cost per Transaction (Base Volume - approximately 5000 per day) | D34: =5000*30 -> 150000 | E34: per instance / Month | F34: =IF(G34="","",IF(G34="ZAR","Local","Foreign")) -> Local | G34: ZAR | H34: =IF(F34="","",IF(F34="Foreign",VLOOKUP(G34,Currency!$E$20:$F$33,2,FALSE),1)) -> 1 | M34: 0 | N34: =M34*$H34 -> 0 | O34: =M34*$D34*12 -> 0 | P34: =N34*$D34*12 -> 0 | Q34: 0 | R34: =Q34*$H34 -> 0 | S34: =Q34*$D34*12 -> 0 | T34: =R34*$D34*12 -> 0 | U34: 0 | V34: =U34*$H34 -> 0 | W34: =U34*$D34*12 -> 0 | X34: =V34*$D34*12 -> 0 | Y34: 0 | Z34: =Y34*$H34 -> 0 | AA34: =Y34*$D34*12 -> 0 | AB34: =Z34*$D34*12 -> 0 | AC34: 0 | AD34: =AC34*$H34 -> 0 | AE34: =AC34*$D34*12 -> 0 | AF34: =AD34*$D34*12 -> 0 | AH34: 0 | AI34: 0 | AJ34: 0 | AK34: 0 | AL34: 0
F35: =IF(G35="","",IF(G35="ZAR","Local","Foreign")) -> Local | G35: ZAR | H35: =IF(F35="","",IF(F35="Foreign",VLOOKUP(G35,Currency!$E$20:$F$33,2,FALSE),1)) -> 1 | M35: 0 | N35: =M35*$H35 -> 0 | O35: =M35*$D34*12 -> 0 | P35: =N35*$D34*12 -> 0 | Q35: 0 | R35: =Q35*$H35 -> 0 | S35: =Q35*$D34*12 -> 0 | T35: =R35*$D34 -> 0 | U35: 0 | V35: =U35*$H35 -> 0 | W35: =U35*$D34*12 -> 0 | X35: =V35*$D34*12 -> 0 | Y35: 0 | Z35: =Y35*$H35 -> 0 | AA35: =Y35*$D34*12 -> 0 | AB35: =Z35*$D34*12 -> 0 | AC35: 0 | AD35: =AC35*$H35 -> 0 | AE35: =AC35*$D34*12 -> 0 | AF35: =AD35*$D34*12 -> 0 | AH35: 0 | AI35: 0 | AJ35: 0 | AK35: 0 | AL35: 0
A36: 3 | B36: Professional Services | C36: Professional Services (As and when required - Estimated 160hrs) | D36: 160 | E36: Hours | F36: =IF(G36="","",IF(G36="ZAR","Local","Foreign")) -> Local | G36: ZAR | H36: =IF(F36="","",IF(F36="Foreign",VLOOKUP(G36,Currency!$E$20:$F$33,2,FALSE),1)) -> 1 | M36: 0 | N36: =M36*$H36 -> 0 | O36: =M36*$D36 -> 0 | P36: =N36*$D36 -> 0 | Q36: 0 | R36: =Q36*$H36 -> 0 | S36: =Q36*$D36 -> 0 | T36: =R36*$D36 -> 0 | U36: 0 | V36: =U36*$H36 -> 0 | W36: =U36*$D36 -> 0 | X36: =V36*$D36 -> 0 | Y36: 0 | Z36: =Y36*$H36 -> 0 | AA36: =Y36*$D36 -> 0 | AB36: =Z36*$D36 -> 0 | AC36: 0 | AD36: =AC36*$H36 -> 0 | AE36: =AC36*$D36 -> 0 | AF36: =AD36*$D36 -> 0 | AH36: 0 | AI36: 0 | AJ36: 0 | AK36: 0 | AL36: 0
F37: =IF(G37="","",IF(G37="ZAR","Local","Foreign")) -> Local | G37: ZAR | H37: =IF(F37="","",IF(F37="Foreign",VLOOKUP(G37,Currency!$E$20:$F$33,2,FALSE),1)) -> 1 | M37: 0 | N37: =M37*$H37 -> 0 | O37: =M37*$D36 -> 0 | P37: =N37*$D36 -> 0 | Q37: 0 | R37: =Q37*$H37 -> 0 | S37: =Q37*$D36 -> 0 | T37: =R37*$D36 -> 0 | U37: 0 | V37: =U37*$H37 -> 0 | W37: =U37*$D36 -> 0 | X37: =V37*$D36 -> 0 | Y37: 0 | Z37: =Y37*$H37 -> 0 | AA37: =Y37*$D36 -> 0 | AB37: =Z37*$D36 -> 0 | AC37: 0 | AD37: =AC37*$H37 -> 0 | AE37: =AC37*$D36 -> 0 | AF37: =AD37*$D36 -> 0 | AH37: 0 | AI37: 0 | AJ37: 0 | AK37: 0 | AL37: 0
A38: 4 | B38: Solution Implementation | C38: Design | D38: 1 | E38: sum | F38: =IF(G38="","",IF(G38="ZAR","Local","Foreign")) -> Local | G38: ZAR | H38: =IF(F38="","",IF(F38="Foreign",VLOOKUP(G38,Currency!$E$20:$F$33,2,FALSE),1)) -> 1 | I38: 0 | J38: =I38*$H38 -> 0 | K38: =I38*$D38 -> 0 | L38: =J38*$D38 -> 0
F39: =IF(G39="","",IF(G39="ZAR","Local","Foreign")) -> Local | G39: ZAR | H39: =IF(F39="","",IF(F39="Foreign",VLOOKUP(G39,Currency!$E$20:$F$33,2,FALSE),1)) -> 1 | I39: 0 | J39: =I39*$H39 -> 0 | K39: =I39*$D38 -> 0 | L39: =J39*$D38 -> 0
C40: Build, Configure, Test (SIT, Regression, Disaster Recovery, Vulnerability & UAT) | D40: 1 | E40: sum | F40: =IF(G40="","",IF(G40="ZAR","Local","Foreign")) -> Local | G40: ZAR | H40: =IF(F40="","",IF(F40="Foreign",VLOOKUP(G40,Currency!$E$20:$F$33,2,FALSE),1)) -> 1 | I40: 0 | J40: =I40*$H40 -> 0 | K40: =I40*$D40 -> 0 | L40: =J40*$D40 -> 0
F41: =IF(G41="","",IF(G41="ZAR","Local","Foreign")) -> Local | G41: ZAR | H41: =IF(F41="","",IF(F41="Foreign",VLOOKUP(G41,Currency!$E$20:$F$33,2,FALSE),1)) -> 1 | I41: 0 | J41: =I41*$H41 -> 0 | K41: =I41*$D40 -> 0 | L41: =J41*$D40 -> 0
C42: Performance Testing | D42: 1 | E42: sum | F42: =IF(G42="","",IF(G42="ZAR","Local","Foreign")) -> Local | G42: ZAR | H42: =IF(F42="","",IF(F42="Foreign",VLOOKUP(G42,Currency!$E$20:$F$33,2,FALSE),1)) -> 1 | I42: 0 | J42: =I42*$H42 -> 0 | K42: =I42*$D42 -> 0 | L42: =J42*$D42 -> 0
F43: =IF(G43="","",IF(G43="ZAR","Local","Foreign")) -> Local | G43: ZAR | H43: =IF(F43="","",IF(F43="Foreign",VLOOKUP(G43,Currency!$E$20:$F$33,2,FALSE),1)) -> 1 | I43: 0 | J43: =I43*$H43 -> 0 | K43: =I43*$D42 -> 0 | L43: =J43*$D42 -> 0
C44: System integration - all applications / channels as per the logical design | D44: 1 | E44: sum | F44: =IF(G44="","",IF(G44="ZAR","Local","Foreign")) -> Local | G44: ZAR | H44: =IF(F44="","",IF(F44="Foreign",VLOOKUP(G44,Currency!$E$20:$F$33,2,FALSE),1)) -> 1 | I44: 0 | J44: =I44*$H44 -> 0 | K44: =I44*$D44 -> 0 | L44: =J44*$D44 -> 0
F45: =IF(G45="","",IF(G45="ZAR","Local","Foreign")) -> Local | G45: ZAR | H45: =IF(F45="","",IF(F45="Foreign",VLOOKUP(G45,Currency!$E$20:$F$33,2,FALSE),1)) -> 1 | I45: 0 | J45: =I45*$H45 -> 0 | K45: =I45*$D44 -> 0 | L45: =J45*$D44 -> 0
C46: Deployment | D46: 1 | E46: sum | F46: =IF(G46="","",IF(G46="ZAR","Local","Foreign")) -> Local | G46: ZAR | H46: =IF(F46="","",IF(F46="Foreign",VLOOKUP(G46,Currency!$E$20:$F$33,2,FALSE),1)) -> 1 | I46: 0 | J46: =I46*$H46 -> 0 | K46: =I46*$D46 -> 0 | L46: =J46*$D46 -> 0
F47: =IF(G47="","",IF(G47="ZAR","Local","Foreign")) -> Local | G47: ZAR | H47: =IF(F47="","",IF(F47="Foreign",VLOOKUP(G47,Currency!$E$20:$F$33,2,FALSE),1)) -> 1 | I47: 0 | J47: =I47*$H47 -> 0 | K47: =I47*$D46 -> 0 | L47: =J47*$D46 -> 0
C48: Stabilisation | D48: 1 | E48: sum | F48: =IF(G48="","",IF(G48="ZAR","Local","Foreign")) -> Local | G48: ZAR | H48: =IF(F48="","",IF(F48="Foreign",VLOOKUP(G48,Currency!$E$20:$F$33,2,FALSE),1)) -> 1 | I48: 0 | J48: =I48*$H48 -> 0 | K48: =I48*$D48 -> 0 | L48: =J48*$D48 -> 0
F49: =IF(G49="","",IF(G49="ZAR","Local","Foreign")) -> Local | G49: ZAR | H49: =IF(F49="","",IF(F49="Foreign",VLOOKUP(G49,Currency!$E$20:$F$33,2,FALSE),1)) -> 1 | I49: 0 | J49: =I49*$H49 -> 0 | K49: =I49*$D48 -> 0 | L49: =J49*$D48 -> 0
A50: 5 | B50: Training | C50: Online training | D50: 10 | E50: Per Attendee | F50: =IF(G50="","",IF(G50="ZAR","Local","Foreign")) -> Local | G50: ZAR | H50: =IF(F50="","",IF(F50="Foreign",VLOOKUP(G50,Currency!$E$20:$F$33,2,FALSE),1)) -> 1 | I50: 0 | J50: =I50*$H50 -> 0 | K50: =I50*$D50 -> 0 | L50: =J50*$D50 -> 0
F51: =IF(G51="","",IF(G51="ZAR","Local","Foreign")) -> Local | G51: ZAR | H51: =IF(F51="","",IF(F51="Foreign",VLOOKUP(G51,Currency!$E$20:$F$33,2,FALSE),1)) -> 1 | I51: 0 | J51: =I51*$H51 -> 0 | K51: =I51*$D50 -> 0 | L51: =J51*$D50 -> 0
A52: 6 | B52: Alternative Usage Charge Model | C52: <Please specify> | D52: 1 | E52: sum | F52: =IF(G52="","",IF(G52="ZAR","Local","Foreign")) -> Local | G52: ZAR | H52: =IF(F52="","",IF(F52="Foreign",VLOOKUP(G52,Currency!$E$20:$F$33,2,FALSE),1)) -> 1 | M52: 0 | N52: =M52*$H52 -> 0 | O52: =M52*$D52 -> 0 | P52: =N52*$D52 -> 0 | Q52: 0 | R52: =Q52*$H52 -> 0 | S52: =Q52*$D52 -> 0 | T52: =R52*$D52 -> 0 | U52: 0 | V52: =U52*$H52 -> 0 | W52: =U52*$D52 -> 0 | X52: =V52*$D52 -> 0 | Y52: 0 | Z52: =Y52*$H52 -> 0 | AA52: =Y52*$D52 -> 0 | AB52: =Z52*$D52 -> 0 | AC52: 0 | AD52: =AC52*$H52 -> 0 | AE52: =AC52*$D52 -> 0 | AF52: =AD52*$D52 -> 0
F53: =IF(G53="","",IF(G53="ZAR","Local","Foreign")) -> Local | G53: ZAR | H53: =IF(F53="","",IF(F53="Foreign",VLOOKUP(G53,Currency!$E$20:$F$33,2,FALSE),1)) -> 1 | M53: 0 | N53: =M53*$H53 -> 0 | O53: =M53*$D52 -> 0 | P53: =N53*$D52 -> 0 | Q53: 0 | R53: =Q53*$H53 -> 0 | S53: =Q53*$D52 -> 0 | T53: =R53*$D52 -> 0 | U53: 0 | V53: =U53*$H53 -> 0 | W53: =U53*$D52 -> 0 | X53: =V53*$D52 -> 0 | Y53: 0 | Z53: =Y53*$H53 -> 0 | AA53: =Y53*$D52 -> 0 | AB53: =Z53*$D52 -> 0 | AC53: 0 | AD53: =AC53*$H53 -> 0 | AE53: =AC53*$D52 -> 0 | AF53: =AD53*$D52 -> 0
C54: <Please specify> | D54: 1 | E54: sum | F54: =IF(G54="","",IF(G54="ZAR","Local","Foreign")) -> Local | G54: ZAR | H54: =IF(F54="","",IF(F54="Foreign",VLOOKUP(G54,Currency!$E$20:$F$33,2,FALSE),1)) -> 1 | M54: 0 | N54: =M54*$H54 -> 0 | O54: =M54*$D54 -> 0 | P54: =N54*$D54 -> 0 | Q54: 0 | R54: =Q54*$H54 -> 0 | S54: =Q54*$D54 -> 0 | T54: =R54*$D54 -> 0 | U54: 0 | V54: =U54*$H54 -> 0 | W54: =U54*$D54 -> 0 | X54: =V54*$D54 -> 0 | Y54: 0 | Z54: =Y54*$H54 -> 0 | AA54: =Y54*$D54 -> 0 | AB54: =Z54*$D54 -> 0 | AC54: 0 | AD54: =AC54*$H54 -> 0 | AE54: =AC54*$D54 -> 0 | AF54: =AD54*$D54 -> 0
...

Sheet Currency
B2: =USSD!B3 -> VENDOR NAME
B4: EXCHANGE RATES FOR MULTIPLE CURRENCIES
B6: NOTES:
B7: 1 | C7: The table below needs to be completed if the Employer will be exposed to any currency fluctuation as stipulated in Secondary Clause X3. For conversion of the foreign portions to Rand, please use the South African Reserve Bank's (SARB) exchange rate at 12:00 on the day of advertisement of the bid. This is in terms of the Preferential Procurement Policy Framework Act (PPPFA) with which the Employer has to comply. NB: Tenderers must submit proof of the SARB rate(s) of exchange used
B8: 2 | C8: The following URL (electronic route) is to be followed to access the relevant SARB rates on their web pages:
C9: www.resbank.co.za
C10: - Select Research - Then select Rates - Click on "Select historical exchange rates and other interest rates" - Clicking on the exchange rate in the following page opens the daily rates per currency and SA Rand
B11: 3 | C11: The Employer deals only in the currencies listed below unless other currencies are specifically approved for this tender. Kindly notify the Employer of any currency that the tenderer intends to use, but is not stipulated in the table, to consider sanctioning such currency. Sufficient time must be allowed for the assessment and to respond to such request. The onus is on the tenderer to submit a bid with approved currencies
B12: 4 | C12: The format in which the exchange rate must be inserted in the table is: 1 (One) Foreign Currency = R Amount (i.e. the Rand amount for one of each foreign currency applicable). Exchange rates must be rounded to 4 decimals NB : Only the USD/ZAR, GBP/ZAR and EUR/ZAR are published in this way on the SARB web pages above. The Rand rate with the other currencies must be inverted (1/Foreign Currency Rate) in order to list it in the required format in the table below
B13: 5 | C13: All information in the table below must conform with all other equivalent information in the offer.
C14: Payment in terms of Payment Method 2 is considered as a "foreign payment" although it will be effected in South African Rand. However, amounts for "F.O.R. Price-Goods supplied from Imported Items", are NOT considered as "foreign payments"
C15: If more than one payment method apply for a currency, the Tenderer must request an additional row be inserted in the table in order to split the values and identify the relevant method.
C18: MULTIPLE CURRENCIES
C19: No | D19: Currency Description | E19: Code | F19: Exchange Rate Currency 1,00 = | G19: Date Published | H19: Source
C20: 1 | D20: Australian Dollar | E20: AUD
C21: 2 | D21: Canadian Dollar | E21: CAN
C22: 3 | D22: Swiss Franc | E22: CHF
C23: 4 | D23: Danish Krone | E23: DKK
C24: 5 | D24: European Currency | E24: EUR
C25: 6 | D25: British Pound | E25: GBP
C26: 7 | D26: Hong Kong Dollar | E26: HKD
C27: 8 | D27: Japanese Yen | E27: JPY
C28: 9 | D28: Norwegian Krone | E28: NOK
C29: 10 | D29: New Zealand Dollar | E29: NZD
C30: 11 | D30: Swedish Krone | E30: SEK
C31: 12 | D31: Singapore Dollar | E31: SGD
C32: 13 | D32: United States Dollar | E32: USD
C33: 14 | D33: South African Rand | E33: ZAR | F33: 1
