{"text_format":"3","workbook":"xlsx","n_sheets":2,"sheets":["Sheet1","Sheet2"],"not_rendered":{"external_links":1,"defined_names":1},"read":"whole","date_system":"1900"}

{"sheet":"Sheet1","index":0,"n_rows":228,"n_cols":11,"rows_kept":228}
["Asset Number","Description"," Cost centre","Location","Capitalised on","Cost","Book Value ","Last Inv Date"," Rationale for disposal or write off","Recommendation","Comments / Other Reasons for Disposal / Insurance Number"]
[11000017142,"Dell Desktop",{"$f":"_xlfn.XLOOKUP(A2,[1]Sheet1!$A:$A,[1]Sheet1!$C:$C,\"Not found\",0)","v":"10135"},{"$f":"_xlfn.XLOOKUP(A2,[1]Sheet1!$A:$A,[1]Sheet1!$F:$F,\"Not found\",0)","v":"REC-0071"},{"$f":"_xlfn.XLOOKUP(A2,[1]Sheet1!$A:$A,[1]Sheet1!$H:$H,\"not found\",0)","v":"2016-05-19"},{"$f":"_xlfn.XLOOKUP(A2,[1]Sheet1!$A:$A,[1]Sheet1!$D:$D,\"not found\",0)","v":{"v":7239.18,"d":"R7,239.18"}},{"$f":"_xlfn.XLOOKUP(A2,[1]Sheet1!$A:$A,[1]Sheet1!$E:$E,\"not found\",0)","v":{"v":1,"d":"R1.00"}},{"$f":"_xlfn.XLOOKUP(A2,[1]Sheet1!$A:$A,[1]Sheet1!$I:$I,\"not found\",0)","v":"2026-03-31"},"No longer provide economic value to the organisation","Scrap","Asset no longer meets a business requirement"]
[11000017143,"Dell Desktop",{"$f":"_xlfn.XLOOKUP(A3,[1]Sheet1!$A:$A,[1]Sheet1!$C:$C,\"Not found\",0)","v":"10135"},{"$f":"_xlfn.XLOOKUP(A3,[1]Sheet1!$A:$A,[1]Sheet1!$F:$F,\"Not found\",0)","v":"REC-0071"},{"$f":"_xlfn.XLOOKUP(A3,[1]Sheet1!$A:$A,[1]Sheet1!$H:$H,\"not found\",0)","v":"2016-05-19"},{"$f":"_xlfn.XLOOKUP(A3,[1]Sheet1!$A:$A,[1]Sheet1!$D:$D,\"not found\",0)","v":{"v":7239.18,"d":"R7,239.18"}},{"$f":"_xlfn.XLOOKUP(A3,[1]Sheet1!$A:$A,[1]Sheet1!$E:$E,\"not found\",0)","v":{"v":1,"d":"R1.00"}},{"$f":"_xlfn.XLOOKUP(A3,[1]Sheet1!$A:$A,[1]Sheet1!$I:$I,\"not found\",0)","v":"2026-03-31"},"No longer provide economic value to the organisation","Scrap","Asset no longer meets a business requirement"]
[11000017144,"Dell Desktop",{"$f":"_xlfn.XLOOKUP(A4,[1]Sheet1!$A:$A,[1]Sheet1!$C:$C,\"Not found\",0)","v":"10135"},{"$f":"_xlfn.XLOOKUP(A4,[1]Sheet1!$A:$A,[1]Sheet1!$F:$F,\"Not found\",0)","v":"REC-0071"},{"$f":"_xlfn.XLOOKUP(A4,[1]Sheet1!$A:$A,[1]Sheet1!$H:$H,\"not found\",0)","v":"2016-05-19"},{"$f":"_xlfn.XLOOKUP(A4,[1]Sheet1!$A:$A,[1]Sheet1!$D:$D,\"not found\",0)","v":{"v":7239.18,"d":"R7,239.18"}},{"$f":"_xlfn.XLOOKUP(A4,[1]Sheet1!$A:$A,[1]Sheet1!$E:$E,\"not found\",0)","v":{"v":1,"d":"R1.00"}},{"$f":"_xlfn.XLOOKUP(A4,[1]Sheet1!$A:$A,[1]Sheet1!$I:$I,\"not found\",0)","v":"2026-03-31"},"No longer provide economic value to the organisation","Scrap","Asset no longer meets a business requirement"]
[11000017145,"Dell Desktop",{"$f":"_xlfn.XLOOKUP(A5,[1]Sheet1!$A:$A,[1]Sheet1!$C:$C,\"Not found\",0)","v":"10135"},{"$f":"_xlfn.XLOOKUP(A5,[1]Sheet1!$A:$A,[1]Sheet1!$F:$F,\"Not found\",0)","v":"REC-0071"},{"$f":"_xlfn.XLOOKUP(A5,[1]Sheet1!$A:$A,[1]Sheet1!$H:$H,\"not found\",0)","v":"2016-05-19"},{"$f":"_xlfn.XLOOKUP(A5,[1]Sheet1!$A:$A,[1]Sheet1!$D:$D,\"not found\",0)","v":{"v":7239.18,"d":"R7,239.18"}},{"$f":"_xlfn.XLOOKUP(A5,[1]Sheet1!$A:$A,[1]Sheet1!$E:$E,\"not found\",0)","v":{"v":1,"d":"R1.00"}},{"$f":"_xlfn.XLOOKUP(A5,[1]Sheet1!$A:$A,[1]Sheet1!$I:$I,\"not found\",0)","v":"2026-03-31"},"No longer provide economic value to the organisation","Scrap","Asset no longer meets a business requirement"]
[11000017146,"Dell Desktop",{"$f":"_xlfn.XLOOKUP(A6,[1]Sheet1!$A:$A,[1]Sheet1!$C:$C,\"Not found\",0)","v":"10135"},{"$f":"_xlfn.XLOOKUP(A6,[1]Sheet1!$A:$A,[1]Sheet1!$F:$F,\"Not found\",0)","v":"REC-0071"},{"$f":"_xlfn.XLOOKUP(A6,[1]Sheet1!$A:$A,[1]Sheet1!$H:$H,\"not found\",0)","v":"2016-05-19"},{"$f":"_xlfn.XLOOKUP(A6,[1]Sheet1!$A:$A,[1]Sheet1!$D:$D,\"not found\",0)","v":{"v":7239.18,"d":"R7,239.18"}},{"$f":"_xlfn.XLOOKUP(A6,[1]Sheet1!$A:$A,[1]Sheet1!$E:$E,\"not found\",0)","v":{"v":1,"d":"R1.00"}},{"$f":"_xlfn.XLOOKUP(A6,[1]Sheet1!$A:$A,[1]Sheet1!$I:$I,\"not found\",0)","v":"2026-03-31"},"No longer provide economic value to the organisation","Scrap","Asset no longer meets a business requirement"]
[14000000078,"Dell Monitor",{"$f":"_xlfn.XLOOKUP(A7,[1]Sheet1!$A:$A,[1]Sheet1!$C:$C,\"Not found\",0)","v":"10135"},{"$f":"_xlfn.XLOOKUP(A7,[1]Sheet1!$A:$A,[1]Sheet1!$F:$F,\"Not found\",0)","v":"REC-0071"},{"$f":"_xlfn.XLOOKUP(A7,[1]Sheet1!$A:$A,[1]Sheet1!$H:$H,\"not found\",0)","v":"2016-05-19"},{"$f":"_xlfn.XLOOKUP(A7,[1]Sheet1!$A:$A,[1]Sheet1!$D:$D,\"not found\",0)","v":{"v":1617.1,"d":"R1,617.10"}},{"$f":"_xlfn.XLOOKUP(A7,[1]Sheet1!$A:$A,[1]Sheet1!$E:$E,\"not found\",0)","v":{"v":1,"d":"R1.00"}},{"$f":"_xlfn.XLOOKUP(A7,[1]Sheet1!$A:$A,[1]Sheet1!$I:$I,\"not found\",0)","v":"2026-03-31"},"No longer provide economic value to the organisation","Scrap","Asset no longer meets a business requirement"]
[14000000272,"Dell Monitor",{"$f":"_xlfn.XLOOKUP(A8,[1]Sheet1!$A:$A,[1]Sheet1!$C:$C,\"Not found\",0)","v":"10135"},{"$f":"_xlfn.XLOOKUP(A8,[1]Sheet1!$A:$A,[1]Sheet1!$F:$F,\"Not found\",0)","v":"REC-0071"},{"$f":"_xlfn.XLOOKUP(A8,[1]Sheet1!$A:$A,[1]Sheet1!$H:$H,\"not found\",0)","v":"2016-12-12"},{"$f":"_xlfn.XLOOKUP(A8,[1]Sheet1!$A:$A,[1]Sheet1!$D:$D,\"not found\",0)","v":{"v":1138.86,"d":"R1,138.86"}},{"$f":"_xlfn.XLOOKUP(A8,[1]Sheet1!$A:$A,[1]Sheet1!$E:$E,\"not found\",0)","v":{"v":1,"d":"R1.00"}},{"$f":"_xlfn.XLOOKUP(A8,[1]Sheet1!$A:$A,[1]Sheet1!$I:$I,\"not found\",0)","v":"2026-03-31"},"No longer provide economic value to the organisation","Scrap","Asset no longer meets a business requirement"]
[16000000000,"Acer Monitor",{"$f":"_xlfn.XLOOKUP(A9,[1]Sheet1!$A:$A,[1]Sheet1!$C:$C,\"Not found\",0)","v":"10135"},{"$f":"_xlfn.XLOOKUP(A9,[1]Sheet1!$A:$A,[1]Sheet1!$F:$F,\"Not found\",0)","v":"REC-0071"},{"$f":"_xlfn.XLOOKUP(A9,[1]Sheet1!$A:$A,[1]Sheet1!$H:$H,\"not found\",0)","v":"2017-07-11"},{"$f":"_xlfn.XLOOKUP(A9,[1]Sheet1!$A:$A,[1]Sheet1!$D:$D,\"not found\",0)","v":{"v":2061.76,"d":"R2,061.76"}},{"$f":"_xlfn.XLOOKUP(A9,[1]Sheet1!$A:$A,[1]Sheet1!$E:$E,\"not found\",0)","v":{"v":1,"d":"R1.00"}},{"$f":"_xlfn.XLOOKUP(A9,[1]Sheet1!$A:$A,[1]Sheet1!$I:$I,\"not found\",0)","v":"2026-03-31"},"No longer provide economic value to the organisation","Scrap","Asset no longer meets a business requirement"]
[16000000016,"Acer Monitor",{"$f":"_xlfn.XLOOKUP(A10,[1]Sheet1!$A:$A,[1]Sheet1!$C:$C,\"Not found\",0)","v":"10135"},{"$f":"_xlfn.XLOOKUP(A10,[1]Sheet1!$A:$A,[1]Sheet1!$F:$F,\"Not found\",0)","v":"REC-0071"},{"$f":"_xlfn.XLOOKUP(A10,[1]Sheet1!$A:$A,[1]Sheet1!$H:$H,\"not found\",0)","v":"2017-07-11"},{"$f":"_xlfn.XLOOKUP(A10,[1]Sheet1!$A:$A,[1]Sheet1!$D:$D,\"not found\",0)","v":{"v":2061.76,"d":"R2,061.76"}},{"$f":"_xlfn.XLOOKUP(A10,[1]Sheet1!$A:$A,[1]Sheet1!$E:$E,\"not found\",0)","v":{"v":1,"d":"R1.00"}},{"$f":"_xlfn.XLOOKUP(A10,[1]Sheet1!$A:$A,[1]Sheet1!$I:$I,\"not found\",0)","v":"2026-03-31"},"No longer provide economic value to the organisation","Scrap","Asset no longer meets a business requirement"]
[16000000017,"Acer Monitor",{"$f":"_xlfn.XLOOKUP(A11,[1]Sheet1!$A:$A,[1]Sheet1!$C:$C,\"Not found\",0)","v":"10135"},{"$f":"_xlfn.XLOOKUP(A11,[1]Sheet1!$A:$A,[1]Sheet1!$F:$F,\"Not found\",0)","v":"REC-0071"},{"$f":"_xlfn.XLOOKUP(A11,[1]Sheet1!$A:$A,[1]Sheet1!$H:$H,\"not found\",0)","v":"2017-07-11"},{"$f":"_xlfn.XLOOKUP(A11,[1]Sheet1!$A:$A,[1]Sheet1!$D:$D,\"not found\",0)","v":{"v":2061.76,"d":"R2,061.76"}},{"$f":"_xlfn.XLOOKUP(A11,[1]Sheet1!$A:$A,[1]Sheet1!$E:$E,\"not found\",0)","v":{"v":1,"d":"R1.00"}},{"$f":"_xlfn.XLOOKUP(A11,[1]Sheet1!$A:$A,[1]Sheet1!$I:$I,\"not found\",0)","v":"2026-03-31"},"No longer provide economic value to the organisation","Scrap","Asset no longer meets a business requirement"]
[16000000018,"Acer Monitor",{"$f":"_xlfn.XLOOKUP(A12,[1]Sheet1!$A:$A,[1]Sheet1!$C:$C,\"Not found\",0)","v":"10135"},{"$f":"_xlfn.XLOOKUP(A12,[1]Sheet1!$A:$A,[1]Sheet1!$F:$F,\"Not found\",0)","v":"REC-0071"},{"$f":"_xlfn.XLOOKUP(A12,[1]Sheet1!$A:$A,[1]Sheet1!$H:$H,\"not found\",0)","v":"2017-07-11"},{"$f":"_xlfn.XLOOKUP(A12,[1]Sheet1!$A:$A,[1]Sheet1!$D:$D,\"not found\",0)","v":{"v":2061.76,"d":"R2,061.76"}},{"$f":"_xlfn.XLOOKUP(A12,[1]Sheet1!$A:$A,[1]Sheet1!$E:$E,\"not found\",0)","v":{"v":1,"d":"R1.00"}},{"$f":"_xlfn.XLOOKUP(A12,[1]Sheet1!$A:$A,[1]Sheet1!$I:$I,\"not found\",0)","v":"2026-03-31"},"No longer provide economic value to the organisation","Scrap","Asset no longer meets a business requirement"]
[16000000019,"Acer Monitor",{"$f":"_xlfn.XLOOKUP(A13,[1]Sheet1!$A:$A,[1]Sheet1!$C:$C,\"Not found\",0)","v":"10135"},{"$f":"_xlfn.XLOOKUP(A13,[1]Sheet1!$A:$A,[1]Sheet1!$F:$F,\"Not found\",0)","v":"REC-0071"},{"$f":"_xlfn.XLOOKUP(A13,[1]Sheet1!$A:$A,[1]Sheet1!$H:$H,\"not found\",0)","v":"2017-07-11"},{"$f":"_xlfn.XLOOKUP(A13,[1]Sheet1!$A:$A,[1]Sheet1!$D:$D,\"not found\",0)","v":{"v":2061.76,"d":"R2,061.76"}},{"$f":"_xlfn.XLOOKUP(A13,[1]Sheet1!$A:$A,[1]Sheet1!$E:$E,\"not found\",0)","v":{"v":1,"d":"R1.00"}},{"$f":"_xlfn.XLOOKUP(A13,[1]Sheet1!$A:$A,[1]Sheet1!$I:$I,\"not found\",0)","v":"2026-03-31"},"No longer provide economic value to the organisation","Scrap","Asset no longer meets a business requirement"]
[16000000020,"Acer Monitor",{"$f":"_xlfn.XLOOKUP(A14,[1]Sheet1!$A:$A,[1]Sheet1!$C:$C,\"Not found\",0)","v":"10135"},{"$f":"_xlfn.XLOOKUP(A14,[1]Sheet1!$A:$A,[1]Sheet1!$F:$F,\"Not found\",0)","v":"REC-0071"},{"$f":"_xlfn.XLOOKUP(A14,[1]Sheet1!$A:$A,[1]Sheet1!$H:$H,\"not found\",0)","v":"2017-07-11"},{"$f":"_xlfn.XLOOKUP(A14,[1]Sheet1!$A:$A,[1]Sheet1!$D:$D,\"not found\",0)","v":{"v":2061.76,"d":"R2,061.76"}},{"$f":"_xlfn.XLOOKUP(A14,[1]Sheet1!$A:$A,[1]Sheet1!$E:$E,\"not found\",0)","v":{"v":1,"d":"R1.00"}},{"$f":"_xlfn.XLOOKUP(A14,[1]Sheet1!$A:$A,[1]Sheet1!$I:$I,\"not found\",0)","v":"2026-03-31"},"No longer provide economic value to the organisation","Scrap","Asset no longer meets a business requirement"]
[16000000021,"Acer Monitor",{"$f":"_xlfn.XLOOKUP(A15,[1]Sheet1!$A:$A,[1]Sheet1!$C:$C,\"Not found\",0)","v":"10135"},{"$f":"_xlfn.XLOOKUP(A15,[1]Sheet1!$A:$A,[1]Sheet1!$F:$F,\"Not found\",0)","v":"REC-0071"},{"$f":"_xlfn.XLOOKUP(A15,[1]Sheet1!$A:$A,[1]Sheet1!$H:$H,\"not found\",0)","v":"2017-07-11"},{"$f":"_xlfn.XLOOKUP(A15,[1]Sheet1!$A:$A,[1]Sheet1!$D:$D,\"not found\",0)","v":{"v":2061.76,"d":"R2,061.76"}},{"$f":"_xlfn.XLOOKUP(A15,[1]Sheet1!$A:$A,[1]Sheet1!$E:$E,\"not found\",0)","v":{"v":1,"d":"R1.00"}},{"$f":"_xlfn.XLOOKUP(A15,[1]Sheet1!$A:$A,[1]Sheet1!$I:$I,\"not found\",0)","v":"2026-03-31"},"No longer provide economic value to the organisation","Scrap","Asset no longer meets a business requirement"]
[16000000022,"Acer Monitor",{"$f":"_xlfn.XLOOKUP(A16,[1]Sheet1!$A:$A,[1]Sheet1!$C:$C,\"Not found\",0)","v":"10135"},{"$f":"_xlfn.XLOOKUP(A16,[1]Sheet1!$A:$A,[1]Sheet1!$F:$F,\"Not found\",0)","v":"REC-0071"},{"$f":"_xlfn.XLOOKUP(A16,[1]Sheet1!$A:$A,[1]Sheet1!$H:$H,\"not found\",0)","v":"2017-07-11"},{"$f":"_xlfn.XLOOKUP(A16,[1]Sheet1!$A:$A,[1]Sheet1!$D:$D,\"not found\",0)","v":{"v":2061.76,"d":"R2,061.76"}},{"$f":"_xlfn.XLOOKUP(A16,[1]Sheet1!$A:$A,[1]Sheet1!$E:$E,\"not found\",0)","v":{"v":1,"d":"R1.00"}},{"$f":"_xlfn.XLOOKUP(A16,[1]Sheet1!$A:$A,[1]Sheet1!$I:$I,\"not found\",0)","v":"2026-03-31"},"No longer provide economic value to the organisation","Scrap","Asset no longer meets a business requirement"]
[16000000023,"Acer Monitor",{"$f":"_xlfn.XLOOKUP(A17,[1]Sheet1!$A:$A,[1]Sheet1!$C:$C,\"Not found\",0)","v":"10135"},{"$f":"_xlfn.XLOOKUP(A17,[1]Sheet1!$A:$A,[1]Sheet1!$F:$F,\"Not found\",0)","v":"REC-0071"},{"$f":"_xlfn.XLOOKUP(A17,[1]Sheet1!$A:$A,[1]Sheet1!$H:$H,\"not found\",0)","v":"2017-07-11"},{"$f":"_xlfn.XLOOKUP(A17,[1]Sheet1!$A:$A,[1]Sheet1!$D:$D,\"not found\",0)","v":{"v":2061.76,"d":"R2,061.76"}},{"$f":"_xlfn.XLOOKUP(A17,[1]Sheet1!$A:$A,[1]Sheet1!$E:$E,\"not found\",0)","v":{"v":1,"d":"R1.00"}},{"$f":"_xlfn.XLOOKUP(A17,[1]Sheet1!$A:$A,[1]Sheet1!$I:$I,\"not found\",0)","v":"2026-03-31"},"No longer provide economic value to the organisation","Scrap","Asset no longer meets a business requirement"]
[16000000024,"Acer Monitor",{"$f":"_xlfn.XLOOKUP(A18,[1]Sheet1!$A:$A,[1]Sheet1!$C:$C,\"Not found\",0)","v":"10135"},{"$f":"_xlfn.XLOOKUP(A18,[1]Sheet1!$A:$A,[1]Sheet1!$F:$F,\"Not found\",0)","v":"REC-0071"},{"$f":"_xlfn.XLOOKUP(A18,[1]Sheet1!$A:$A,[1]Sheet1!$H:$H,\"not found\",0)","v":"2017-07-11"},{"$f":"_xlfn.XLOOKUP(A18,[1]Sheet1!$A:$A,[1]Sheet1!$D:$D,\"not found\",0)","v":{"v":2061.76,"d":"R2,061.76"}},{"$f":"_xlfn.XLOOKUP(A18,[1]Sheet1!$A:$A,[1]Sheet1!$E:$E,\"not found\",0)","v":{"v":1,"d":"R1.00"}},{"$f":"_xlfn.XLOOKUP(A18,[1]Sheet1!$A:$A,[1]Sheet1!$I:$I,\"not found\",0)","v":"2026-03-31"},"No longer provide economic value to the organisation","Scrap","Asset no longer meets a business requirement"]
[16000000025,"Acer Monitor",{"$f":"_xlfn.XLOOKUP(A19,[1]Sheet1!$A:$A,[1]Sheet1!$C:$C,\"Not found\",0)","v":"10135"},{"$f":"_xlfn.XLOOKUP(A19,[1]Sheet1!$A:$A,[1]Sheet1!$F:$F,\"Not found\",0)","v":"REC-0071"},{"$f":"_xlfn.XLOOKUP(A19,[1]Sheet1!$A:$A,[1]Sheet1!$H:$H,\"not found\",0)","v":"2017-07-11"},{"$f":"_xlfn.XLOOKUP(A19,[1]Sheet1!$A:$A,[1]Sheet1!$D:$D,\"not found\",0)","v":{"v":2061.76,"d":"R2,061.76"}},{"$f":"_xlfn.XLOOKUP(A19,[1]Sheet1!$A:$A,[1]Sheet1!$E:$E,\"not found\",0)","v":{"v":1,"d":"R1.00"}},{"$f":"_xlfn.XLOOKUP(A19,[1]Sheet1!$A:$A,[1]Sheet1!$I:$I,\"not found\",0)","v":"2026-03-31"},"No longer provide economic value to the organisation","Scrap","Asset no longer meets a business requirement"]
[16000000027,"Acer Monitor",{"$f":"_xlfn.XLOOKUP(A20,[1]Sheet1!$A:$A,[1]Sheet1!$C:$C,\"Not found\",0)","v":"10135"},{"$f":"_xlfn.XLOOKUP(A20,[1]Sheet1!$A:$A,[1]Sheet1!$F:$F,\"Not found\",0)","v":"REC-0071"},{"$f":"_xlfn.XLOOKUP(A20,[1]Sheet1!$A:$A,[1]Sheet1!$H:$H,\"not found\",0)","v":"2017-07-11"},{"$f":"_xlfn.XLOOKUP(A20,[1]Sheet1!$A:$A,[1]Sheet1!$D:$D,\"not found\",0)","v":{"v":2061.76,"d":"R2,061.76"}},{"$f":"_xlfn.XLOOKUP(A20,[1]Sheet1!$A:$A,[1]Sheet1!$E:$E,\"not found\",0)","v":{"v":1,"d":"R1.00"}},{"$f":"_xlfn.XLOOKUP(A20,[1]Sheet1!$A:$A,[1]Sheet1!$I:$I,\"not found\",0)","v":"2026-03-31"},"No longer provide economic value to the organisation","Scrap","Asset no longer meets a business requirement"]
[16000000028,"Acer Monitor",{"$f":"_xlfn.XLOOKUP(A21,[1]Sheet1!$A:$A,[1]Sheet1!$C:$C,\"Not found\",0)","v":"10135"},{"$f":"_xlfn.XLOOKUP(A21,[1]Sheet1!$A:$A,[1]Sheet1!$F:$F,\"Not found\",0)","v":"REC-0071"},{"$f":"_xlfn.XLOOKUP(A21,[1]Sheet1!$A:$A,[1]Sheet1!$H:$H,\"not found\",0)","v":"2017-07-11"},{"$f":"_xlfn.XLOOKUP(A21,[1]Sheet1!$A:$A,[1]Sheet1!$D:$D,\"not found\",0)","v":{"v":2061.76,"d":"R2,061.76"}},{"$f":"_xlfn.XLOOKUP(A21,[1]Sheet1!$A:$A,[1]Sheet1!$E:$E,\"not found\",0)","v":{"v":1,"d":"R1.00"}},{"$f":"_xlfn.XLOOKUP(A21,[1]Sheet1!$A:$A,[1]Sheet1!$I:$I,\"not found\",0)","v":"2026-03-31"},"No longer provide economic value to the organisation","Scrap","Asset no longer meets a business requirement"]
[16000000029,"Acer Monitor",{"$f":"_xlfn.XLOOKUP(A22,[1]Sheet1!$A:$A,[1]Sheet1!$C:$C,\"Not found\",0)","v":"10135"},{"$f":"_xlfn.XLOOKUP(A22,[1]Sheet1!$A:$A,[1]Sheet1!$F:$F,\"Not found\",0)","v":"REC-0071"},{"$f":"_xlfn.XLOOKUP(A22,[1]Sheet1!$A:$A,[1]Sheet1!$H:$H,\"not found\",0)","v":"2017-07-11"},{"$f":"_xlfn.XLOOKUP(A22,[1]Sheet1!$A:$A,[1]Sheet1!$D:$D,\"not found\",0)","v":{"v":2061.76,"d":"R2,061.76"}},{"$f":"_xlfn.XLOOKUP(A22,[1]Sheet1!$A:$A,[1]Sheet1!$E:$E,\"not found\",0)","v":{"v":1,"d":"R1.00"}},{"$f":"_xlfn.XLOOKUP(A22,[1]Sheet1!$A:$A,[1]Sheet1!$I:$I,\"not found\",0)","v":"2026-03-31"},"No longer provide economic value to the organisation","Scrap","Asset no longer meets a business requirement"]
[16000000030,"Acer Monitor",{"$f":"_xlfn.XLOOKUP(A23,[1]Sheet1!$A:$A,[1]Sheet1!$C:$C,\"Not found\",0)","v":"10135"},{"$f":"_xlfn.XLOOKUP(A23,[1]Sheet1!$A:$A,[1]Sheet1!$F:$F,\"Not found\",0)","v":"REC-0071"},{"$f":"_xlfn.XLOOKUP(A23,[1]Sheet1!$A:$A,[1]Sheet1!$H:$H,\"not found\",0)","v":"2017-07-11"},{"$f":"_xlfn.XLOOKUP(A23,[1]Sheet1!$A:$A,[1]Sheet1!$D:$D,\"not found\",0)","v":{"v":2061.76,"d":"R2,061.76"}},{"$f":"_xlfn.XLOOKUP(A23,[1]Sheet1!$A:$A,[1]Sheet1!$E:$E,\"not found\",0)","v":{"v":1,"d":"R1.00"}},{"$f":"_xlfn.XLOOKUP(A23,[1]Sheet1!$A:$A,[1]Sheet1!$I:$I,\"not found\",0)","v":"2026-03-31"},"No longer provide economic value to the organisation","Scrap","Asset no longer meets a business requirement"]
[16000000031,"Acer Monitor",{"$f":"_xlfn.XLOOKUP(A24,[1]Sheet1!$A:$A,[1]Sheet1!$C:$C,\"Not found\",0)","v":"10135"},{"$f":"_xlfn.XLOOKUP(A24,[1]Sheet1!$A:$A,[1]Sheet1!$F:$F,\"Not found\",0)","v":"REC-0071"},{"$f":"_xlfn.XLOOKUP(A24,[1]Sheet1!$A:$A,[1]Sheet1!$H:$H,\"not found\",0)","v":"2017-07-11"},{"$f":"_xlfn.XLOOKUP(A24,[1]Sheet1!$A:$A,[1]Sheet1!$D:$D,\"not found\",0)","v":{"v":2061.76,"d":"R2,061.76"}},{"$f":"_xlfn.XLOOKUP(A24,[1]Sheet1!$A:$A,[1]Sheet1!$E:$E,\"not found\",0)","v":{"v":1,"d":"R1.00"}},{"$f":"_xlfn.XLOOKUP(A24,[1]Sheet1!$A:$A,[1]Sheet1!$I:$I,\"not found\",0)","v":"2026-03-31"},"No longer provide economic value to the organisation","Scrap","Asset no longer meets a business requirement"]
[16000000032,"Acer Monitor",{"$f":"_xlfn.XLOOKUP(A25,[1]Sheet1!$A:$A,[1]Sheet1!$C:$C,\"Not found\",0)","v":"10135"},{"$f":"_xlfn.XLOOKUP(A25,[1]Sheet1!$A:$A,[1]Sheet1!$F:$F,\"Not found\",0)","v":"REC-0071"},{"$f":"_xlfn.XLOOKUP(A25,[1]Sheet1!$A:$A,[1]Sheet1!$H:$H,\"not found\",0)","v":"2017-07-11"},{"$f":"_xlfn.XLOOKUP(A25,[1]Sheet1!$A:$A,[1]Sheet1!$D:$D,\"not found\",0)","v":{"v":2061.76,"d":"R2,061.76"}},{"$f":"_xlfn.XLOOKUP(A25,[1]Sheet1!$A:$A,[1]Sheet1!$E:$E,\"not found\",0)","v":{"v":1,"d":"R1.00"}},{"$f":"_xlfn.XLOOKUP(A25,[1]Sheet1!$A:$A,[1]Sheet1!$I:$I,\"not found\",0)","v":"2026-03-31"},"No longer provide economic value to the organisation","Scrap","Asset no longer meets a business requirement"]
[16000000033,"Acer Monitor",{"$f":"_xlfn.XLOOKUP(A26,[1]Sheet1!$A:$A,[1]Sheet1!$C:$C,\"Not found\",0)","v":"10135"},{"$f":"_xlfn.XLOOKUP(A26,[1]Sheet1!$A:$A,[1]Sheet1!$F:$F,\"Not found\",0)","v":"REC-0071"},{"$f":"_xlfn.XLOOKUP(A26,[1]Sheet1!$A:$A,[1]Sheet1!$H:$H,\"not found\",0)","v":"2017-07-11"},{"$f":"_xlfn.XLOOKUP(A26,[1]Sheet1!$A:$A,[1]Sheet1!$D:$D,\"not found\",0)","v":{"v":2061.76,"d":"R2,061.76"}},{"$f":"_xlfn.XLOOKUP(A26,[1]Sheet1!$A:$A,[1]Sheet1!$E:$E,\"not found\",0)","v":{"v":1,"d":"R1.00"}},{"$f":"_xlfn.XLOOKUP(A26,[1]Sheet1!$A:$A,[1]Sheet1!$I:$I,\"not found\",0)","v":"2026-03-31"},"No longer provide economic value to the organisation","Scrap","Asset no longer meets a business requirement"]
[16000000034,"Acer Monitor",{"$f":"_xlfn.XLOOKUP(A27,[1]Sheet1!$A:$A,[1]Sheet1!$C:$C,\"Not found\",0)","v":"10135"},{"$f":"_xlfn.XLOOKUP(A27,[1]Sheet1!$A:$A,[1]Sheet1!$F:$F,\"Not found\",0)","v":"REC-0071"},{"$f":"_xlfn.XLOOKUP(A27,[1]Sheet1!$A:$A,[1]Sheet1!$H:$H,\"not found\",0)","v":"2017-07-11"},{"$f":"_xlfn.XLOOKUP(A27,[1]Sheet1!$A:$A,[1]Sheet1!$D:$D,\"not found\",0)","v":{"v":2061.76,"d":"R2,061.76"}},{"$f":"_xlfn.XLOOKUP(A27,[1]Sheet1!$A:$A,[1]Sheet1!$E:$E,\"not found\",0)","v":{"v":1,"d":"R1.00"}},{"$f":"_xlfn.XLOOKUP(A27,[1]Sheet1!$A:$A,[1]Sheet1!$I:$I,\"not found\",0)","v":"2026-03-31"},"No longer provide economic value to the organisation","Scrap","Asset no longer meets a business requirement"]
[16000000035,"Acer Monitor",{"$f":"_xlfn.XLOOKUP(A28,[1]Sheet1!$A:$A,[1]Sheet1!$C:$C,\"Not found\",0)","v":"10135"},{"$f":"_xlfn.XLOOKUP(A28,[1]Sheet1!$A:$A,[1]Sheet1!$F:$F,\"Not found\",0)","v":"REC-0071"},{"$f":"_xlfn.XLOOKUP(A28,[1]Sheet1!$A:$A,[1]Sheet1!$H:$H,\"not found\",0)","v":"2017-07-11"},{"$f":"_xlfn.XLOOKUP(A28,[1]Sheet1!$A:$A,[1]Sheet1!$D:$D,\"not found\",0)","v":{"v":2061.76,"d":"R2,061.76"}},{"$f":"_xlfn.XLOOKUP(A28,[1]Sheet1!$A:$A,[1]Sheet1!$E:$E,\"not found\",0)","v":{"v":1,"d":"R1.00"}},{"$f":"_xlfn.XLOOKUP(A28,[1]Sheet1!$A:$A,[1]Sheet1!$I:$I,\"not found\",0)","v":"2026-03-31"},"No longer provide economic value to the organisation","Scrap","Asset no longer meets a business requirement"]
[16000000036,"Acer Monitor",{"$f":"_xlfn.XLOOKUP(A29,[1]Sheet1!$A:$A,[1]Sheet1!$C:$C,\"Not found\",0)","v":"10135"},{"$f":"_xlfn.XLOOKUP(A29,[1]Sheet1!$A:$A,[1]Sheet1!$F:$F,\"Not found\",0)","v":"REC-0071"},{"$f":"_xlfn.XLOOKUP(A29,[1]Sheet1!$A:$A,[1]Sheet1!$H:$H,\"not found\",0)","v":"2017-07-11"},{"$f":"_xlfn.XLOOKUP(A29,[1]Sheet1!$A:$A,[1]Sheet1!$D:$D,\"not found\",0)","v":{"v":2061.76,"d":"R2,061.76"}},{"$f":"_xlfn.XLOOKUP(A29,[1]Sheet1!$A:$A,[1]Sheet1!$E:$E,\"not found\",0)","v":{"v":1,"d":"R1.00"}},{"$f":"_xlfn.XLOOKUP(A29,[1]Sheet1!$A:$A,[1]Sheet1!$I:$I,\"not found\",0)","v":"2026-03-31"},"No longer provide economic value to the organisation","Scrap","Asset no longer meets a business requirement"]
[16000000038,"Acer Monitor",{"$f":"_xlfn.XLOOKUP(A30,[1]Sheet1!$A:$A,[1]Sheet1!$C:$C,\"Not found\",0)","v":"10135"},{"$f":"_xlfn.XLOOKUP(A30,[1]Sheet1!$A:$A,[1]Sheet1!$F:$F,\"Not found\",0)","v":"REC-0071"},{"$f":"_xlfn.XLOOKUP(A30,[1]Sheet1!$A:$A,[1]Sheet1!$H:$H,\"not found\",0)","v":"2017-07-11"},{"$f":"_xlfn.XLOOKUP(A30,[1]Sheet1!$A:$A,[1]Sheet1!$D:$D,\"not found\",0)","v":{"v":2061.76,"d":"R2,061.76"}},{"$f":"_xlfn.XLOOKUP(A30,[1]Sheet1!$A:$A,[1]Sheet1!$E:$E,\"not found\",0)","v":{"v":1,"d":"R1.00"}},{"$f":"_xlfn.XLOOKUP(A30,[1]Sheet1!$A:$A,[1]Sheet1!$I:$I,\"not found\",0)","v":"2026-03-31"},"No longer provide economic value to the organisation","Scrap","Asset no longer meets a business requirement"]
[16000000039,"Acer Monitor",{"$f":"_xlfn.XLOOKUP(A31,[1]Sheet1!$A:$A,[1]Sheet1!$C:$C,\"Not found\",0)","v":"10135"},{"$f":"_xlfn.XLOOKUP(A31,[1]Sheet1!$A:$A,[1]Sheet1!$F:$F,\"Not found\",0)","v":"REC-0071"},{"$f":"_xlfn.XLOOKUP(A31,[1]Sheet1!$A:$A,[1]Sheet1!$H:$H,\"not found\",0)","v":"2017-07-11"},{"$f":"_xlfn.XLOOKUP(A31,[1]Sheet1!$A:$A,[1]Sheet1!$D:$D,\"not found\",0)","v":{"v":2061.76,"d":"R2,061.76"}},{"$f":"_xlfn.XLOOKUP(A31,[1]Sheet1!$A:$A,[1]Sheet1!$E:$E,\"not found\",0)","v":{"v":1,"d":"R1.00"}},{"$f":"_xlfn.XLOOKUP(A31,[1]Sheet1!$A:$A,[1]Sheet1!$I:$I,\"not found\",0)","v":"2026-03-31"},"No longer provide economic value to the organisation","Scrap","Asset no longer meets a business requirement"]
[16000000040,"Acer Monitor",{"$f":"_xlfn.XLOOKUP(A32,[1]Sheet1!$A:$A,[1]Sheet1!$C:$C,\"Not found\",0)","v":"10135"},{"$f":"_xlfn.XLOOKUP(A32,[1]Sheet1!$A:$A,[1]Sheet1!$F:$F,\"Not found\",0)","v":"REC-0071"},{"$f":"_xlfn.XLOOKUP(A32,[1]Sheet1!$A:$A,[1]Sheet1!$H:$H,\"not found\",0)","v":"2017-07-11"},{"$f":"_xlfn.XLOOKUP(A32,[1]Sheet1!$A:$A,[1]Sheet1!$D:$D,\"not found\",0)","v":{"v":2061.76,"d":"R2,061.76"}},{"$f":"_xlfn.XLOOKUP(A32,[1]Sheet1!$A:$A,[1]Sheet1!$E:$E,\"not found\",0)","v":{"v":1,"d":"R1.00"}},{"$f":"_xlfn.XLOOKUP(A32,[1]Sheet1!$A:$A,[1]Sheet1!$I:$I,\"not found\",0)","v":"2026-03-31"},"No longer provide economic value to the organisation","Scrap","Asset no longer meets a business requirement"]
[16000000041,"Acer Monitor",{"$f":"_xlfn.XLOOKUP(A33,[1]Sheet1!$A:$A,[1]Sheet1!$C:$C,\"Not found\",0)","v":"10135"},{"$f":"_xlfn.XLOOKUP(A33,[1]Sheet1!$A:$A,[1]Sheet1!$F:$F,\"Not found\",0)","v":"REC-0071"},{"$f":"_xlfn.XLOOKUP(A33,[1]Sheet1!$A:$A,[1]Sheet1!$H:$H,\"not found\",0)","v":"2017-07-11"},{"$f":"_xlfn.XLOOKUP(A33,[1]Sheet1!$A:$A,[1]Sheet1!$D:$D,\"not found\",0)","v":{"v":2061.76,"d":"R2,061.76"}},{"$f":"_xlfn.XLOOKUP(A33,[1]Sheet1!$A:$A,[1]Sheet1!$E:$E,\"not found\",0)","v":{"v":1,"d":"R1.00"}},{"$f":"_xlfn.XLOOKUP(A33,[1]Sheet1!$A:$A,[1]Sheet1!$I:$I,\"not found\",0)","v":"2026-03-31"},"No longer provide economic value to the organisation","Scrap","Asset no longer meets a business requirement"]
[16000000042,"Acer Monitor",{"$f":"_xlfn.XLOOKUP(A34,[1]Sheet1!$A:$A,[1]Sheet1!$C:$C,\"Not found\",0)","v":"10135"},{"$f":"_xlfn.XLOOKUP(A34,[1]Sheet1!$A:$A,[1]Sheet1!$F:$F,\"Not found\",0)","v":"REC-0071"},{"$f":"_xlfn.XLOOKUP(A34,[1]Sheet1!$A:$A,[1]Sheet1!$H:$H,\"not found\",0)","v":"2017-07-11"},{"$f":"_xlfn.XLOOKUP(A34,[1]Sheet1!$A:$A,[1]Sheet1!$D:$D,\"not found\",0)","v":{"v":2061.76,"d":"R2,061.76"}},{"$f":"_xlfn.XLOOKUP(A34,[1]Sheet1!$A:$A,[1]Sheet1!$E:$E,\"not found\",0)","v":{"v":1,"d":"R1.00"}},{"$f":"_xlfn.XLOOKUP(A34,[1]Sheet1!$A:$A,[1]Sheet1!$I:$I,\"not found\",0)","v":"2026-03-31"},"No longer provide economic value to the organisation","Scrap","Asset no longer meets a business requirement"]
[16000000043,"Acer Monitor",{"$f":"_xlfn.XLOOKUP(A35,[1]Sheet1!$A:$A,[1]Sheet1!$C:$C,\"Not found\",0)","v":"10135"},{"$f":"_xlfn.XLOOKUP(A35,[1]Sheet1!$A:$A,[1]Sheet1!$F:$F,\"Not found\",0)","v":"REC-0071"},{"$f":"_xlfn.XLOOKUP(A35,[1]Sheet1!$A:$A,[1]Sheet1!$H:$H,\"not found\",0)","v":"2017-07-11"},{"$f":"_xlfn.XLOOKUP(A35,[1]Sheet1!$A:$A,[1]Sheet1!$D:$D,\"not found\",0)","v":{"v":2061.76,"d":"R2,061.76"}},{"$f":"_xlfn.XLOOKUP(A35,[1]Sheet1!$A:$A,[1]Sheet1!$E:$E,\"not found\",0)","v":{"v":1,"d":"R1.00"}},{"$f":"_xlfn.XLOOKUP(A35,[1]Sheet1!$A:$A,[1]Sheet1!$I:$I,\"not found\",0)","v":"2026-03-31"},"No longer provide economic value to the organisation","Scrap","Asset no longer meets a business requirement"]
[16000000045,"Acer Monitor",{"$f":"_xlfn.XLOOKUP(A36,[1]Sheet1!$A:$A,[1]Sheet1!$C:$C,\"Not found\",0)","v":"10135"},{"$f":"_xlfn.XLOOKUP(A36,[1]Sheet1!$A:$A,[1]Sheet1!$F:$F,\"Not found\",0)","v":"REC-0071"},{"$f":"_xlfn.XLOOKUP(A36,[1]Sheet1!$A:$A,[1]Sheet1!$H:$H,\"not found\",0)","v":"2017-07-11"},{"$f":"_xlfn.XLOOKUP(A36,[1]Sheet1!$A:$A,[1]Sheet1!$D:$D,\"not found\",0)","v":{"v":2061.76,"d":"R2,061.76"}},{"$f":"_xlfn.XLOOKUP(A36,[1]Sheet1!$A:$A,[1]Sheet1!$E:$E,\"not found\",0)","v":{"v":1,"d":"R1.00"}},{"$f":"_xlfn.XLOOKUP(A36,[1]Sheet1!$A:$A,[1]Sheet1!$I:$I,\"not found\",0)","v":"2026-03-31"},"No longer provide economic value to the organisation","Scrap","Asset no longer meets a business requirement"]
[16000000046,"Acer Monitor",{"$f":"_xlfn.XLOOKUP(A37,[1]Sheet1!$A:$A,[1]Sheet1!$C:$C,\"Not found\",0)","v":"10135"},{"$f":"_xlfn.XLOOKUP(A37,[1]Sheet1!$A:$A,[1]Sheet1!$F:$F,\"Not found\",0)","v":"REC-0071"},{"$f":"_xlfn.XLOOKUP(A37,[1]Sheet1!$A:$A,[1]Sheet1!$H:$H,\"not found\",0)","v":"2017-07-11"},{"$f":"_xlfn.XLOOKUP(A37,[1]Sheet1!$A:$A,[1]Sheet1!$D:$D,\"not found\",0)","v":{"v":2061.76,"d":"R2,061.76"}},{"$f":"_xlfn.XLOOKUP(A37,[1]Sheet1!$A:$A,[1]Sheet1!$E:$E,\"not found\",0)","v":{"v":1,"d":"R1.00"}},{"$f":"_xlfn.XLOOKUP(A37,[1]Sheet1!$A:$A,[1]Sheet1!$I:$I,\"not found\",0)","v":"2026-03-31"},"No longer provide economic value to the organisation","Scrap","Asset no longer meets a business requirement"]
[16000000047,"Acer Monitor",{"$f":"_xlfn.XLOOKUP(A38,[1]Sheet1!$A:$A,[1]Sheet1!$C:$C,\"Not found\",0)","v":"10135"},{"$f":"_xlfn.XLOOKUP(A38,[1]Sheet1!$A:$A,[1]Sheet1!$F:$F,\"Not found\",0)","v":"REC-0071"},{"$f":"_xlfn.XLOOKUP(A38,[1]Sheet1!$A:$A,[1]Sheet1!$H:$H,\"not found\",0)","v":"2017-07-11"},{"$f":"_xlfn.XLOOKUP(A38,[1]Sheet1!$A:$A,[1]Sheet1!$D:$D,\"not found\",0)","v":{"v":2061.76,"d":"R2,061.76"}},{"$f":"_xlfn.XLOOKUP(A38,[1]Sheet1!$A:$A,[1]Sheet1!$E:$E,\"not found\",0)","v":{"v":1,"d":"R1.00"}},{"$f":"_xlfn.XLOOKUP(A38,[1]Sheet1!$A:$A,[1]Sheet1!$I:$I,\"not found\",0)","v":"2026-03-31"},"No longer provide economic value to the organisation","Scrap","Asset no longer meets a business requirement"]
[16000000048,"Acer Monitor",{"$f":"_xlfn.XLOOKUP(A39,[1]Sheet1!$A:$A,[1]Sheet1!$C:$C,\"Not found\",0)","v":"10135"},{"$f":"_xlfn.XLOOKUP(A39,[1]Sheet1!$A:$A,[1]Sheet1!$F:$F,\"Not found\",0)","v":"REC-0071"},{"$f":"_xlfn.XLOOKUP(A39,[1]Sheet1!$A:$A,[1]Sheet1!$H:$H,\"not found\",0)","v":"2017-07-11"},{"$f":"_xlfn.XLOOKUP(A39,[1]Sheet1!$A:$A,[1]Sheet1!$D:$D,\"not found\",0)","v":{"v":2061.76,"d":"R2,061.76"}},{"$f":"_xlfn.XLOOKUP(A39,[1]Sheet1!$A:$A,[1]Sheet1!$E:$E,\"not found\",0)","v":{"v":1,"d":"R1.00"}},{"$f":"_xlfn.XLOOKUP(A39,[1]Sheet1!$A:$A,[1]Sheet1!$I:$I,\"not found\",0)","v":"2026-03-31"},"No longer provide economic value to the organisation","Scrap","Asset no longer meets a business requirement"]
[16000000049,"Acer Monitor",{"$f":"_xlfn.XLOOKUP(A40,[1]Sheet1!$A:$A,[1]Sheet1!$C:$C,\"Not found\",0)","v":"10135"},{"$f":"_xlfn.XLOOKUP(A40,[1]Sheet1!$A:$A,[1]Sheet1!$F:$F,\"Not found\",0)","v":"REC-0071"},{"$f":"_xlfn.XLOOKUP(A40,[1]Sheet1!$A:$A,[1]Sheet1!$H:$H,\"not found\",0)","v":"2017-07-11"},{"$f":"_xlfn.XLOOKUP(A40,[1]Sheet1!$A:$A,[1]Sheet1!$D:$D,\"not found\",0)","v":{"v":2061.76,"d":"R2,061.76"}},{"$f":"_xlfn.XLOOKUP(A40,[1]Sheet1!$A:$A,[1]Sheet1!$E:$E,\"not found\",0)","v":{"v":1,"d":"R1.00"}},{"$f":"_xlfn.XLOOKUP(A40,[1]Sheet1!$A:$A,[1]Sheet1!$I:$I,\"not found\",0)","v":"2026-03-31"},"No longer provide economic value to the organisation","Scrap","Asset no longer meets a business requirement"]
[16000000050,"Acer Monitor",{"$f":"_xlfn.XLOOKUP(A41,[1]Sheet1!$A:$A,[1]Sheet1!$C:$C,\"Not found\",0)","v":"10135"},{"$f":"_xlfn.XLOOKUP(A41,[1]Sheet1!$A:$A,[1]Sheet1!$F:$F,\"Not found\",0)","v":"REC-0071"},{"$f":"_xlfn.XLOOKUP(A41,[1]Sheet1!$A:$A,[1]Sheet1!$H:$H,\"not found\",0)","v":"2017-07-11"},{"$f":"_xlfn.XLOOKUP(A41,[1]Sheet1!$A:$A,[1]Sheet1!$D:$D,\"not found\",0)","v":{"v":2061.76,"d":"R2,061.76"}},{"$f":"_xlfn.XLOOKUP(A41,[1]Sheet1!$A:$A,[1]Sheet1!$E:$E,\"not found\",0)","v":{"v":1,"d":"R1.00"}},{"$f":"_xlfn.XLOOKUP(A41,[1]Sheet1!$A:$A,[1]Sheet1!$I:$I,\"not found\",0)","v":"2026-03-31"},"No longer provide economic value to the organisation","Scrap","Asset no longer meets a business requirement"]
[16000000052,"Acer Monitor",{"$f":"_xlfn.XLOOKUP(A42,[1]Sheet1!$A:$A,[1]Sheet1!$C:$C,\"Not found\",0)","v":"10135"},{"$f":"_xlfn.XLOOKUP(A42,[1]Sheet1!$A:$A,[1]Sheet1!$F:$F,\"Not found\",0)","v":"REC-0071"},{"$f":"_xlfn.XLOOKUP(A42,[1]Sheet1!$A:$A,[1]Sheet1!$H:$H,\"not found\",0)","v":"2017-07-11"},{"$f":"_xlfn.XLOOKUP(A42,[1]Sheet1!$A:$A,[1]Sheet1!$D:$D,\"not found\",0)","v":{"v":2061.76,"d":"R2,061.76"}},{"$f":"_xlfn.XLOOKUP(A42,[1]Sheet1!$A:$A,[1]Sheet1!$E:$E,\"not found\",0)","v":{"v":1,"d":"R1.00"}},{"$f":"_xlfn.XLOOKUP(A42,[1]Sheet1!$A:$A,[1]Sheet1!$I:$I,\"not found\",0)","v":"2026-03-31"},"No longer provide economic value to the organisation","Scrap","Asset no longer meets a business requirement"]
[16000000053,"Acer Monitor",{"$f":"_xlfn.XLOOKUP(A43,[1]Sheet1!$A:$A,[1]Sheet1!$C:$C,\"Not found\",0)","v":"10135"},{"$f":"_xlfn.XLOOKUP(A43,[1]Sheet1!$A:$A,[1]Sheet1!$F:$F,\"Not found\",0)","v":"REC-0071"},{"$f":"_xlfn.XLOOKUP(A43,[1]Sheet1!$A:$A,[1]Sheet1!$H:$H,\"not found\",0)","v":"2017-07-11"},{"$f":"_xlfn.XLOOKUP(A43,[1]Sheet1!$A:$A,[1]Sheet1!$D:$D,\"not found\",0)","v":{"v":2061.76,"d":"R2,061.76"}},{"$f":"_xlfn.XLOOKUP(A43,[1]Sheet1!$A:$A,[1]Sheet1!$E:$E,\"not found\",0)","v":{"v":1,"d":"R1.00"}},{"$f":"_xlfn.XLOOKUP(A43,[1]Sheet1!$A:$A,[1]Sheet1!$I:$I,\"not found\",0)","v":"2026-03-31"},"No longer provide economic value to the organisation","Scrap","Asset no longer meets a business requirement"]
[16000000054,"Acer Monitor",{"$f":"_xlfn.XLOOKUP(A44,[1]Sheet1!$A:$A,[1]Sheet1!$C:$C,\"Not found\",0)","v":"10135"},{"$f":"_xlfn.XLOOKUP(A44,[1]Sheet1!$A:$A,[1]Sheet1!$F:$F,\"Not found\",0)","v":"REC-0071"},{"$f":"_xlfn.XLOOKUP(A44,[1]Sheet1!$A:$A,[1]Sheet1!$H:$H,\"not found\",0)","v":"2017-07-11"},{"$f":"_xlfn.XLOOKUP(A44,[1]Sheet1!$A:$A,[1]Sheet1!$D:$D,\"not found\",0)","v":{"v":2061.76,"d":"R2,061.76"}},{"$f":"_xlfn.XLOOKUP(A44,[1]Sheet1!$A:$A,[1]Sheet1!$E:$E,\"not found\",0)","v":{"v":1,"d":"R1.00"}},{"$f":"_xlfn.XLOOKUP(A44,[1]Sheet1!$A:$A,[1]Sheet1!$I:$I,\"not found\",0)","v":"2026-03-31"},"No longer provide economic value to the organisation","Scrap","Asset no longer meets a business requirement"]
[16000000055,"Acer Monitor",{"$f":"_xlfn.XLOOKUP(A45,[1]Sheet1!$A:$A,[1]Sheet1!$C:$C,\"Not found\",0)","v":"10135"},{"$f":"_xlfn.XLOOKUP(A45,[1]Sheet1!$A:$A,[1]Sheet1!$F:$F,\"Not found\",0)","v":"REC-0071"},{"$f":"_xlfn.XLOOKUP(A45,[1]Sheet1!$A:$A,[1]Sheet1!$H:$H,\"not found\",0)","v":"2017-07-11"},{"$f":"_xlfn.XLOOKUP(A45,[1]Sheet1!$A:$A,[1]Sheet1!$D:$D,\"not found\",0)","v":{"v":2061.76,"d":"R2,061.76"}},{"$f":"_xlfn.XLOOKUP(A45,[1]Sheet1!$A:$A,[1]Sheet1!$E:$E,\"not found\",0)","v":{"v":1,"d":"R1.00"}},{"$f":"_xlfn.XLOOKUP(A45,[1]Sheet1!$A:$A,[1]Sheet1!$I:$I,\"not found\",0)","v":"2026-03-31"},"No longer provide economic value to the organisation","Scrap","Asset no longer meets a business requirement"]
[16000000056,"Acer Monitor",{"$f":"_xlfn.XLOOKUP(A46,[1]Sheet1!$A:$A,[1]Sheet1!$C:$C,\"Not found\",0)","v":"10135"},{"$f":"_xlfn.XLOOKUP(A46,[1]Sheet1!$A:$A,[1]Sheet1!$F:$F,\"Not found\",0)","v":"REC-0071"},{"$f":"_xlfn.XLOOKUP(A46,[1]Sheet1!$A:$A,[1]Sheet1!$H:$H,\"not found\",0)","v":"2017-07-11"},{"$f":"_xlfn.XLOOKUP(A46,[1]Sheet1!$A:$A,[1]Sheet1!$D:$D,\"not found\",0)","v":{"v":2061.76,"d":"R2,061.76"}},{"$f":"_xlfn.XLOOKUP(A46,[1]Sheet1!$A:$A,[1]Sheet1!$E:$E,\"not found\",0)","v":{"v":1,"d":"R1.00"}},{"$f":"_xlfn.XLOOKUP(A46,[1]Sheet1!$A:$A,[1]Sheet1!$I:$I,\"not found\",0)","v":"2026-03-31"},"No longer provide economic value to the organisation","Scrap","Asset no longer meets a business requirement"]
[16000000057,"Acer Monitor",{"$f":"_xlfn.XLOOKUP(A47,[1]Sheet1!$A:$A,[1]Sheet1!$C:$C,\"Not found\",0)","v":"10135"},{"$f":"_xlfn.XLOOKUP(A47,[1]Sheet1!$A:$A,[1]Sheet1!$F:$F,\"Not found\",0)","v":"REC-0071"},{"$f":"_xlfn.XLOOKUP(A47,[1]Sheet1!$A:$A,[1]Sheet1!$H:$H,\"not found\",0)","v":"2017-07-11"},{"$f":"_xlfn.XLOOKUP(A47,[1]Sheet1!$A:$A,[1]Sheet1!$D:$D,\"not found\",0)","v":{"v":2061.76,"d":"R2,061.76"}},{"$f":"_xlfn.XLOOKUP(A47,[1]Sheet1!$A:$A,[1]Sheet1!$E:$E,\"not found\",0)","v":{"v":1,"d":"R1.00"}},{"$f":"_xlfn.XLOOKUP(A47,[1]Sheet1!$A:$A,[1]Sheet1!$I:$I,\"not found\",0)","v":"2026-03-31"},"No longer provide economic value to the organisation","Scrap","Asset no longer meets a business requirement"]
[16000000058,"Acer Monitor",{"$f":"_xlfn.XLOOKUP(A48,[1]Sheet1!$A:$A,[1]Sheet1!$C:$C,\"Not found\",0)","v":"10135"},{"$f":"_xlfn.XLOOKUP(A48,[1]Sheet1!$A:$A,[1]Sheet1!$F:$F,\"Not found\",0)","v":"REC-0071"},{"$f":"_xlfn.XLOOKUP(A48,[1]Sheet1!$A:$A,[1]Sheet1!$H:$H,\"not found\",0)","v":"2017-07-11"},{"$f":"_xlfn.XLOOKUP(A48,[1]Sheet1!$A:$A,[1]Sheet1!$D:$D,\"not found\",0)","v":{"v":2061.76,"d":"R2,061.76"}},{"$f":"_xlfn.XLOOKUP(A48,[1]Sheet1!$A:$A,[1]Sheet1!$E:$E,\"not found\",0)","v":{"v":1,"d":"R1.00"}},{"$f":"_xlfn.XLOOKUP(A48,[1]Sheet1!$A:$A,[1]Sheet1!$I:$I,\"not found\",0)","v":"2026-03-31"},"No longer provide economic value to the organisation","Scrap","Asset no longer meets a business requirement"]
[16000000059,"Acer Monitor",{"$f":"_xlfn.XLOOKUP(A49,[1]Sheet1!$A:$A,[1]Sheet1!$C:$C,\"Not found\",0)","v":"10135"},{"$f":"_xlfn.XLOOKUP(A49,[1]Sheet1!$A:$A,[1]Sheet1!$F:$F,\"Not found\",0)","v":"REC-0071"},{"$f":"_xlfn.XLOOKUP(A49,[1]Sheet1!$A:$A,[1]Sheet1!$H:$H,\"not found\",0)","v":"2017-07-11"},{"$f":"_xlfn.XLOOKUP(A49,[1]Sheet1!$A:$A,[1]Sheet1!$D:$D,\"not found\",0)","v":{"v":2061.76,"d":"R2,061.76"}},{"$f":"_xlfn.XLOOKUP(A49,[1]Sheet1!$A:$A,[1]Sheet1!$E:$E,\"not found\",0)","v":{"v":1,"d":"R1.00"}},{"$f":"_xlfn.XLOOKUP(A49,[1]Sheet1!$A:$A,[1]Sheet1!$I:$I,\"not found\",0)","v":"2026-03-31"},"No longer provide economic value to the organisation","Scrap","Asset no longer meets a business requirement"]
[16000000060,"Acer Monitor",{"$f":"_xlfn.XLOOKUP(A50,[1]Sheet1!$A:$A,[1]Sheet1!$C:$C,\"Not found\",0)","v":"10135"},{"$f":"_xlfn.XLOOKUP(A50,[1]Sheet1!$A:$A,[1]Sheet1!$F:$F,\"Not found\",0)","v":"REC-0071"},{"$f":"_xlfn.XLOOKUP(A50,[1]Sheet1!$A:$A,[1]Sheet1!$H:$H,\"not found\",0)","v":"2017-07-11"},{"$f":"_xlfn.XLOOKUP(A50,[1]Sheet1!$A:$A,[1]Sheet1!$D:$D,\"not found\",0)","v":{"v":2061.76,"d":"R2,061.76"}},{"$f":"_xlfn.XLOOKUP(A50,[1]Sheet1!$A:$A,[1]Sheet1!$E:$E,\"not found\",0)","v":{"v":1,"d":"R1.00"}},{"$f":"_xlfn.XLOOKUP(A50,[1]Sheet1!$A:$A,[1]Sheet1!$I:$I,\"not found\",0)","v":"2026-03-31"},"No longer provide economic value to the organisation","Scrap","Asset no longer meets a business requirement"]
[16000000061,"Acer Monitor",{"$f":"_xlfn.XLOOKUP(A51,[1]Sheet1!$A:$A,[1]Sheet1!$C:$C,\"Not found\",0)","v":"10135"},{"$f":"_xlfn.XLOOKUP(A51,[1]Sheet1!$A:$A,[1]Sheet1!$F:$F,\"Not found\",0)","v":"REC-0071"},{"$f":"_xlfn.XLOOKUP(A51,[1]Sheet1!$A:$A,[1]Sheet1!$H:$H,\"not found\",0)","v":"2017-07-11"},{"$f":"_xlfn.XLOOKUP(A51,[1]Sheet1!$A:$A,[1]Sheet1!$D:$D,\"not found\",0)","v":{"v":2061.76,"d":"R2,061.76"}},{"$f":"_xlfn.XLOOKUP(A51,[1]Sheet1!$A:$A,[1]Sheet1!$E:$E,\"not found\",0)","v":{"v":1,"d":"R1.00"}},{"$f":"_xlfn.XLOOKUP(A51,[1]Sheet1!$A:$A,[1]Sheet1!$I:$I,\"not found\",0)","v":"2026-03-31"},"No longer provide economic value to the organisation","Scrap","Asset no longer meets a business requirement"]
[16000000062,"Acer Monitor",{"$f":"_xlfn.XLOOKUP(A52,[1]Sheet1!$A:$A,[1]Sheet1!$C:$C,\"Not found\",0)","v":"10135"},{"$f":"_xlfn.XLOOKUP(A52,[1]Sheet1!$A:$A,[1]Sheet1!$F:$F,\"Not found\",0)","v":"REC-0071"},{"$f":"_xlfn.XLOOKUP(A52,[1]Sheet1!$A:$A,[1]Sheet1!$H:$H,\"not found\",0)","v":"2017-07-11"},{"$f":"_xlfn.XLOOKUP(A52,[1]Sheet1!$A:$A,[1]Sheet1!$D:$D,\"not found\",0)","v":{"v":2061.76,"d":"R2,061.76"}},{"$f":"_xlfn.XLOOKUP(A52,[1]Sheet1!$A:$A,[1]Sheet1!$E:$E,\"not found\",0)","v":{"v":1,"d":"R1.00"}},{"$f":"_xlfn.XLOOKUP(A52,[1]Sheet1!$A:$A,[1]Sheet1!$I:$I,\"not found\",0)","v":"2026-03-31"},"No longer provide economic value to the organisation","Scrap","Asset no longer meets a business requirement"]
[16000000063,"Acer Monitor",{"$f":"_xlfn.XLOOKUP(A53,[1]Sheet1!$A:$A,[1]Sheet1!$C:$C,\"Not found\",0)","v":"10135"},{"$f":"_xlfn.XLOOKUP(A53,[1]Sheet1!$A:$A,[1]Sheet1!$F:$F,\"Not found\",0)","v":"REC-0071"},{"$f":"_xlfn.XLOOKUP(A53,[1]Sheet1!$A:$A,[1]Sheet1!$H:$H,\"not found\",0)","v":"2017-07-11"},{"$f":"_xlfn.XLOOKUP(A53,[1]Sheet1!$A:$A,[1]Sheet1!$D:$D,\"not found\",0)","v":{"v":2061.76,"d":"R2,061.76"}},{"$f":"_xlfn.XLOOKUP(A53,[1]Sheet1!$A:$A,[1]Sheet1!$E:$E,\"not found\",0)","v":{"v":1,"d":"R1.00"}},{"$f":"_xlfn.XLOOKUP(A53,[1]Sheet1!$A:$A,[1]Sheet1!$I:$I,\"not found\",0)","v":"2026-03-31"},"No longer provide economic value to the organisation","Scrap","Asset no longer meets a business requirement"]
[14000000148,"Dell Monitor",{"$f":"_xlfn.XLOOKUP(A54,[1]Sheet1!$A:$A,[1]Sheet1!$C:$C,\"Not found\",0)","v":"10135"},{"$f":"_xlfn.XLOOKUP(A54,[1]Sheet1!$A:$A,[1]Sheet1!$F:$F,\"Not found\",0)","v":"REC-0071"},{"$f":"_xlfn.XLOOKUP(A54,[1]Sheet1!$A:$A,[1]Sheet1!$H:$H,\"not found\",0)","v":"2016-10-14"},{"$f":"_xlfn.XLOOKUP(A54,[1]Sheet1!$A:$A,[1]Sheet1!$D:$D,\"not found\",0)","v":{"v":2487,"d":"R2,487.00"}},{"$f":"_xlfn.XLOOKUP(A54,[1]Sheet1!$A:$A,[1]Sheet1!$E:$E,\"not found\",0)","v":{"v":1,"d":"R1.00"}},{"$f":"_xlfn.XLOOKUP(A54,[1]Sheet1!$A:$A,[1]Sheet1!$I:$I,\"not found\",0)","v":"2026-03-31"},"No longer provide economic value to the organisation","Scrap","Asset no longer meets a business requirement"]
[14000000150,"Dell Monitor",{"$f":"_xlfn.XLOOKUP(A55,[1]Sheet1!$A:$A,[1]Sheet1!$C:$C,\"Not found\",0)","v":"10135"},{"$f":"_xlfn.XLOOKUP(A55,[1]Sheet1!$A:$A,[1]Sheet1!$F:$F,\"Not found\",0)","v":"REC-0071"},{"$f":"_xlfn.XLOOKUP(A55,[1]Sheet1!$A:$A,[1]Sheet1!$H:$H,\"not found\",0)","v":"2016-10-14"},{"$f":"_xlfn.XLOOKUP(A55,[1]Sheet1!$A:$A,[1]Sheet1!$D:$D,\"not found\",0)","v":{"v":2487,"d":"R2,487.00"}},{"$f":"_xlfn.XLOOKUP(A55,[1]Sheet1!$A:$A,[1]Sheet1!$E:$E,\"not found\",0)","v":{"v":1,"d":"R1.00"}},{"$f":"_xlfn.XLOOKUP(A55,[1]Sheet1!$A:$A,[1]Sheet1!$I:$I,\"not found\",0)","v":"2026-03-31"},"No longer provide economic value to the organisation","Scrap","Asset no longer meets a business requirement"]
[14000000151,"Dell Monitor",{"$f":"_xlfn.XLOOKUP(A56,[1]Sheet1!$A:$A,[1]Sheet1!$C:$C,\"Not found\",0)","v":"F30015"},{"$f":"_xlfn.XLOOKUP(A56,[1]Sheet1!$A:$A,[1]Sheet1!$F:$F,\"Not found\",0)","v":"REC-0071"},{"$f":"_xlfn.XLOOKUP(A56,[1]Sheet1!$A:$A,[1]Sheet1!$H:$H,\"not found\",0)","v":"2016-10-14"},{"$f":"_xlfn.XLOOKUP(A56,[1]Sheet1!$A:$A,[1]Sheet1!$D:$D,\"not found\",0)","v":{"v":2487,"d":"R2,487.00"}},{"$f":"_xlfn.XLOOKUP(A56,[1]Sheet1!$A:$A,[1]Sheet1!$E:$E,\"not found\",0)","v":{"v":1,"d":"R1.00"}},{"$f":"_xlfn.XLOOKUP(A56,[1]Sheet1!$A:$A,[1]Sheet1!$I:$I,\"not found\",0)","v":"2026-03-31"},"No longer provide economic value to the organisation","Scrap","Asset no longer meets a business requirement"]
[11000017390,"HP Desktop",{"$f":"_xlfn.XLOOKUP(A57,[1]Sheet1!$A:$A,[1]Sheet1!$C:$C,\"Not found\",0)","v":"10135"},{"$f":"_xlfn.XLOOKUP(A57,[1]Sheet1!$A:$A,[1]Sheet1!$F:$F,\"Not found\",0)","v":"REC-0071"},{"$f":"_xlfn.XLOOKUP(A57,[1]Sheet1!$A:$A,[1]Sheet1!$H:$H,\"not found\",0)","v":"2017-03-29"},{"$f":"_xlfn.XLOOKUP(A57,[1]Sheet1!$A:$A,[1]Sheet1!$D:$D,\"not found\",0)","v":{"v":12068.42,"d":"R12,068.42"}},{"$f":"_xlfn.XLOOKUP(A57,[1]Sheet1!$A:$A,[1]Sheet1!$E:$E,\"not found\",0)","v":{"v":1,"d":"R1.00"}},{"$f":"_xlfn.XLOOKUP(A57,[1]Sheet1!$A:$A,[1]Sheet1!$I:$I,\"not found\",0)","v":"2026-03-31"},"No longer provide economic value to the organisation","Scrap","Asset no longer meets a business requirement"]
[11000017391,"HP Desktop",{"$f":"_xlfn.XLOOKUP(A58,[1]Sheet1!$A:$A,[1]Sheet1!$C:$C,\"Not found\",0)","v":"10135"},{"$f":"_xlfn.XLOOKUP(A58,[1]Sheet1!$A:$A,[1]Sheet1!$F:$F,\"Not found\",0)","v":"REC-0071"},{"$f":"_xlfn.XLOOKUP(A58,[1]Sheet1!$A:$A,[1]Sheet1!$H:$H,\"not found\",0)","v":"2017-03-29"},{"$f":"_xlfn.XLOOKUP(A58,[1]Sheet1!$A:$A,[1]Sheet1!$D:$D,\"not found\",0)","v":{"v":12068.42,"d":"R12,068.42"}},{"$f":"_xlfn.XLOOKUP(A58,[1]Sheet1!$A:$A,[1]Sheet1!$E:$E,\"not found\",0)","v":{"v":1,"d":"R1.00"}},{"$f":"_xlfn.XLOOKUP(A58,[1]Sheet1!$A:$A,[1]Sheet1!$I:$I,\"not found\",0)","v":"2026-03-31"},"No longer provide economic value to the organisation","Scrap","Asset no longer meets a business requirement"]
[11000017392,"HP Desktop",{"$f":"_xlfn.XLOOKUP(A59,[1]Sheet1!$A:$A,[1]Sheet1!$C:$C,\"Not found\",0)","v":"10135"},{"$f":"_xlfn.XLOOKUP(A59,[1]Sheet1!$A:$A,[1]Sheet1!$F:$F,\"Not found\",0)","v":"REC-0071"},{"$f":"_xlfn.XLOOKUP(A59,[1]Sheet1!$A:$A,[1]Sheet1!$H:$H,\"not found\",0)","v":"2017-03-29"},{"$f":"_xlfn.XLOOKUP(A59,[1]Sheet1!$A:$A,[1]Sheet1!$D:$D,\"not found\",0)","v":{"v":12068.42,"d":"R12,068.42"}},{"$f":"_xlfn.XLOOKUP(A59,[1]Sheet1!$A:$A,[1]Sheet1!$E:$E,\"not found\",0)","v":{"v":1,"d":"R1.00"}},{"$f":"_xlfn.XLOOKUP(A59,[1]Sheet1!$A:$A,[1]Sheet1!$I:$I,\"not found\",0)","v":"2026-03-31"},"No longer provide economic value to the organisation","Scrap","Asset no longer meets a business requirement"]
[11000017393,"HP Desktop",{"$f":"_xlfn.XLOOKUP(A60,[1]Sheet1!$A:$A,[1]Sheet1!$C:$C,\"Not found\",0)","v":"10135"},{"$f":"_xlfn.XLOOKUP(A60,[1]Sheet1!$A:$A,[1]Sheet1!$F:$F,\"Not found\",0)","v":"REC-0071"},{"$f":"_xlfn.XLOOKUP(A60,[1]Sheet1!$A:$A,[1]Sheet1!$H:$H,\"not found\",0)","v":"2017-03-29"},{"$f":"_xlfn.XLOOKUP(A60,[1]Sheet1!$A:$A,[1]Sheet1!$D:$D,\"not found\",0)","v":{"v":12068.41,"d":"R12,068.41"}},{"$f":"_xlfn.XLOOKUP(A60,[1]Sheet1!$A:$A,[1]Sheet1!$E:$E,\"not found\",0)","v":{"v":1,"d":"R1.00"}},{"$f":"_xlfn.XLOOKUP(A60,[1]Sheet1!$A:$A,[1]Sheet1!$I:$I,\"not found\",0)","v":"2026-03-31"},"No longer provide economic value to the organisation","Scrap","Asset no longer meets a business requirement"]
[11000017394,"HP Desktop",{"$f":"_xlfn.XLOOKUP(A61,[1]Sheet1!$A:$A,[1]Sheet1!$C:$C,\"Not found\",0)","v":"10135"},{"$f":"_xlfn.XLOOKUP(A61,[1]Sheet1!$A:$A,[1]Sheet1!$F:$F,\"Not found\",0)","v":"REC-0071"},{"$f":"_xlfn.XLOOKUP(A61,[1]Sheet1!$A:$A,[1]Sheet1!$H:$H,\"not found\",0)","v":"2017-03-29"},{"$f":"_xlfn.XLOOKUP(A61,[1]Sheet1!$A:$A,[1]Sheet1!$D:$D,\"not found\",0)","v":{"v":12068.41,"d":"R12,068.41"}},{"$f":"_xlfn.XLOOKUP(A61,[1]Sheet1!$A:$A,[1]Sheet1!$E:$E,\"not found\",0)","v":{"v":1,"d":"R1.00"}},{"$f":"_xlfn.XLOOKUP(A61,[1]Sheet1!$A:$A,[1]Sheet1!$I:$I,\"not found\",0)","v":"2026-03-31"},"No longer provide economic value to the organisation","Scrap","Asset no longer meets a business requirement"]
[11000015238,"Acer Monitor",{"$f":"_xlfn.XLOOKUP(A62,[1]Sheet1!$A:$A,[1]Sheet1!$C:$C,\"Not found\",0)","v":"10135"},{"$f":"_xlfn.XLOOKUP(A62,[1]Sheet1!$A:$A,[1]Sheet1!$F:$F,\"Not found\",0)","v":"REC-0071"},{"$f":"_xlfn.XLOOKUP(A62,[1]Sheet1!$A:$A,[1]Sheet1!$H:$H,\"not found\",0)","v":"2014-03-31"},{"$f":"_xlfn.XLOOKUP(A62,[1]Sheet1!$A:$A,[1]Sheet1!$D:$D,\"not found\",0)","v":{"v":2184.91,"d":"R2,184.91"}},{"$f":"_xlfn.XLOOKUP(A62,[1]Sheet1!$A:$A,[1]Sheet1!$E:$E,\"not found\",0)","v":{"v":1,"d":"R1.00"}},{"$f":"_xlfn.XLOOKUP(A62,[1]Sheet1!$A:$A,[1]Sheet1!$I:$I,\"not found\",0)","v":"2026-03-31"},"No longer provide economic value to the organisation","Scrap","Asset no longer meets a business requirement"]
[11000001219,"HP Monitor",{"$f":"_xlfn.XLOOKUP(A63,[1]Sheet1!$A:$A,[1]Sheet1!$C:$C,\"Not found\",0)","v":"10135"},{"$f":"_xlfn.XLOOKUP(A63,[1]Sheet1!$A:$A,[1]Sheet1!$F:$F,\"Not found\",0)","v":"REC-0071"},{"$f":"_xlfn.XLOOKUP(A63,[1]Sheet1!$A:$A,[1]Sheet1!$H:$H,\"not found\",0)","v":"2002-07-19"},{"$f":"_xlfn.XLOOKUP(A63,[1]Sheet1!$A:$A,[1]Sheet1!$D:$D,\"not found\",0)","v":{"v":2029.2,"d":"R2,029.20"}},{"$f":"_xlfn.XLOOKUP(A63,[1]Sheet1!$A:$A,[1]Sheet1!$E:$E,\"not found\",0)","v":{"v":1,"d":"R1.00"}},{"$f":"_xlfn.XLOOKUP(A63,[1]Sheet1!$A:$A,[1]Sheet1!$I:$I,\"not found\",0)","v":"2026-03-31"},"No longer provide economic value to the organisation","Scrap","Asset no longer meets a business requirement"]
[11000007663,"Acer Monitor",{"$f":"_xlfn.XLOOKUP(A64,[1]Sheet1!$A:$A,[1]Sheet1!$C:$C,\"Not found\",0)","v":"10135"},{"$f":"_xlfn.XLOOKUP(A64,[1]Sheet1!$A:$A,[1]Sheet1!$F:$F,\"Not found\",0)","v":"HGP-0001"},{"$f":"_xlfn.XLOOKUP(A64,[1]Sheet1!$A:$A,[1]Sheet1!$H:$H,\"not found\",0)","v":"2009-02-27"},{"$f":"_xlfn.XLOOKUP(A64,[1]Sheet1!$A:$A,[1]Sheet1!$D:$D,\"not found\",0)","v":{"v":9327.03,"d":"R9,327.03"}},{"$f":"_xlfn.XLOOKUP(A64,[1]Sheet1!$A:$A,[1]Sheet1!$E:$E,\"not found\",0)","v":{"v":1,"d":"R1.00"}},{"$f":"_xlfn.XLOOKUP(A64,[1]Sheet1!$A:$A,[1]Sheet1!$I:$I,\"not found\",0)","v":"2026-03-31"},"No longer provide economic value to the organisation","Scrap","Asset no longer meets a business requirement"]
[11000009232,"Acer Monitor",{"$f":"_xlfn.XLOOKUP(A65,[1]Sheet1!$A:$A,[1]Sheet1!$C:$C,\"Not found\",0)","v":"10135"},{"$f":"_xlfn.XLOOKUP(A65,[1]Sheet1!$A:$A,[1]Sheet1!$F:$F,\"Not found\",0)","v":"RWC-0074"},{"$f":"_xlfn.XLOOKUP(A65,[1]Sheet1!$A:$A,[1]Sheet1!$H:$H,\"not found\",0)","v":"2009-12-18"},{"$f":"_xlfn.XLOOKUP(A65,[1]Sheet1!$A:$A,[1]Sheet1!$D:$D,\"not found\",0)","v":{"v":1143.06,"d":"R1,143.06"}},{"$f":"_xlfn.XLOOKUP(A65,[1]Sheet1!$A:$A,[1]Sheet1!$E:$E,\"not found\",0)","v":{"v":1,"d":"R1.00"}},{"$f":"_xlfn.XLOOKUP(A65,[1]Sheet1!$A:$A,[1]Sheet1!$I:$I,\"not found\",0)","v":"2026-03-31"},"No longer provide economic value to the organisation","Scrap","Asset no longer meets a business requirement"]
[11000009271,"Acer Monitor",{"$f":"_xlfn.XLOOKUP(A66,[1]Sheet1!$A:$A,[1]Sheet1!$C:$C,\"Not found\",0)","v":"10135"},{"$f":"_xlfn.XLOOKUP(A66,[1]Sheet1!$A:$A,[1]Sheet1!$F:$F,\"Not found\",0)","v":"REC-0071"},{"$f":"_xlfn.XLOOKUP(A66,[1]Sheet1!$A:$A,[1]Sheet1!$H:$H,\"not found\",0)","v":"2009-12-18"},{"$f":"_xlfn.XLOOKUP(A66,[1]Sheet1!$A:$A,[1]Sheet1!$D:$D,\"not found\",0)","v":{"v":1257.36,"d":"R1,257.36"}},{"$f":"_xlfn.XLOOKUP(A66,[1]Sheet1!$A:$A,[1]Sheet1!$E:$E,\"not found\",0)","v":{"v":1,"d":"R1.00"}},{"$f":"_xlfn.XLOOKUP(A66,[1]Sheet1!$A:$A,[1]Sheet1!$I:$I,\"not found\",0)","v":"2026-03-31"},"No longer provide economic value to the organisation","Scrap","Asset no longer meets a business requirement"]
[11000010411,"Acer Monitor",{"$f":"_xlfn.XLOOKUP(A67,[1]Sheet1!$A:$A,[1]Sheet1!$C:$C,\"Not found\",0)","v":"10135"},{"$f":"_xlfn.XLOOKUP(A67,[1]Sheet1!$A:$A,[1]Sheet1!$F:$F,\"Not found\",0)","v":"REC-0071"},{"$f":"_xlfn.XLOOKUP(A67,[1]Sheet1!$A:$A,[1]Sheet1!$H:$H,\"not found\",0)","v":"2009-12-18"},{"$f":"_xlfn.XLOOKUP(A67,[1]Sheet1!$A:$A,[1]Sheet1!$D:$D,\"not found\",0)","v":{"v":1247.08,"d":"R1,247.08"}},{"$f":"_xlfn.XLOOKUP(A67,[1]Sheet1!$A:$A,[1]Sheet1!$E:$E,\"not found\",0)","v":{"v":1,"d":"R1.00"}},{"$f":"_xlfn.XLOOKUP(A67,[1]Sheet1!$A:$A,[1]Sheet1!$I:$I,\"not found\",0)","v":"2026-03-31"},"No longer provide economic value to the organisation","Scrap","Asset no longer meets a business requirement"]
[11000011376,"Acer  Monitor",{"$f":"_xlfn.XLOOKUP(A68,[1]Sheet1!$A:$A,[1]Sheet1!$C:$C,\"Not found\",0)","v":"10135"},{"$f":"_xlfn.XLOOKUP(A68,[1]Sheet1!$A:$A,[1]Sheet1!$F:$F,\"Not found\",0)","v":"REC-0071"},{"$f":"_xlfn.XLOOKUP(A68,[1]Sheet1!$A:$A,[1]Sheet1!$H:$H,\"not found\",0)","v":"2009-12-18"},{"$f":"_xlfn.XLOOKUP(A68,[1]Sheet1!$A:$A,[1]Sheet1!$D:$D,\"not found\",0)","v":{"v":1247.08,"d":"R1,247.08"}},{"$f":"_xlfn.XLOOKUP(A68,[1]Sheet1!$A:$A,[1]Sheet1!$E:$E,\"not found\",0)","v":{"v":1,"d":"R1.00"}},{"$f":"_xlfn.XLOOKUP(A68,[1]Sheet1!$A:$A,[1]Sheet1!$I:$I,\"not found\",0)","v":"2026-03-31"},"No longer provide economic value to the organisation","Scrap","Asset no longer meets a business requirement"]
[11000011428,"Acer Monitor",{"$f":"_xlfn.XLOOKUP(A69,[1]Sheet1!$A:$A,[1]Sheet1!$C:$C,\"Not found\",0)","v":"10135"},{"$f":"_xlfn.XLOOKUP(A69,[1]Sheet1!$A:$A,[1]Sheet1!$F:$F,\"Not found\",0)","v":"REC-0071"},{"$f":"_xlfn.XLOOKUP(A69,[1]Sheet1!$A:$A,[1]Sheet1!$H:$H,\"not found\",0)","v":"2009-12-18"},{"$f":"_xlfn.XLOOKUP(A69,[1]Sheet1!$A:$A,[1]Sheet1!$D:$D,\"not found\",0)","v":{"v":1247.08,"d":"R1,247.08"}},{"$f":"_xlfn.XLOOKUP(A69,[1]Sheet1!$A:$A,[1]Sheet1!$E:$E,\"not found\",0)","v":{"v":1,"d":"R1.00"}},{"$f":"_xlfn.XLOOKUP(A69,[1]Sheet1!$A:$A,[1]Sheet1!$I:$I,\"not found\",0)","v":"2026-03-31"},"No longer provide economic value to the organisation","Scrap","Asset no longer meets a business requirement"]
[11000011434,"Acer Monitor",{"$f":"_xlfn.XLOOKUP(A70,[1]Sheet1!$A:$A,[1]Sheet1!$C:$C,\"Not found\",0)","v":"10135"},{"$f":"_xlfn.XLOOKUP(A70,[1]Sheet1!$A:$A,[1]Sheet1!$F:$F,\"Not found\",0)","v":"RWC-0074"},{"$f":"_xlfn.XLOOKUP(A70,[1]Sheet1!$A:$A,[1]Sheet1!$H:$H,\"not found\",0)","v":"2009-12-18"},{"$f":"_xlfn.XLOOKUP(A70,[1]Sheet1!$A:$A,[1]Sheet1!$D:$D,\"not found\",0)","v":{"v":1247.08,"d":"R1,247.08"}},{"$f":"_xlfn.XLOOKUP(A70,[1]Sheet1!$A:$A,[1]Sheet1!$E:$E,\"not found\",0)","v":{"v":1,"d":"R1.00"}},{"$f":"_xlfn.XLOOKUP(A70,[1]Sheet1!$A:$A,[1]Sheet1!$I:$I,\"not found\",0)","v":"2026-03-31"},"No longer provide economic value to the organisation","Scrap","Asset no longer meets a business requirement"]
[11000011449,"Acer Monitor",{"$f":"_xlfn.XLOOKUP(A71,[1]Sheet1!$A:$A,[1]Sheet1!$C:$C,\"Not found\",0)","v":"10135"},{"$f":"_xlfn.XLOOKUP(A71,[1]Sheet1!$A:$A,[1]Sheet1!$F:$F,\"Not found\",0)","v":"RWC-0074"},{"$f":"_xlfn.XLOOKUP(A71,[1]Sheet1!$A:$A,[1]Sheet1!$H:$H,\"not found\",0)","v":"2009-12-18"},{"$f":"_xlfn.XLOOKUP(A71,[1]Sheet1!$A:$A,[1]Sheet1!$D:$D,\"not found\",0)","v":{"v":1247.08,"d":"R1,247.08"}},{"$f":"_xlfn.XLOOKUP(A71,[1]Sheet1!$A:$A,[1]Sheet1!$E:$E,\"not found\",0)","v":{"v":1,"d":"R1.00"}},{"$f":"_xlfn.XLOOKUP(A71,[1]Sheet1!$A:$A,[1]Sheet1!$I:$I,\"not found\",0)","v":"2026-03-31"},"No longer provide economic value to the organisation","Scrap","Asset no longer meets a business requirement"]
[11000011735,"Acer Monitor",{"$f":"_xlfn.XLOOKUP(A72,[1]Sheet1!$A:$A,[1]Sheet1!$C:$C,\"Not found\",0)","v":"10135"},{"$f":"_xlfn.XLOOKUP(A72,[1]Sheet1!$A:$A,[1]Sheet1!$F:$F,\"Not found\",0)","v":"RWC-0074"},{"$f":"_xlfn.XLOOKUP(A72,[1]Sheet1!$A:$A,[1]Sheet1!$H:$H,\"not found\",0)","v":"2010-02-03"},{"$f":"_xlfn.XLOOKUP(A72,[1]Sheet1!$A:$A,[1]Sheet1!$D:$D,\"not found\",0)","v":{"v":1470.96,"d":"R1,470.96"}},{"$f":"_xlfn.XLOOKUP(A72,[1]Sheet1!$A:$A,[1]Sheet1!$E:$E,\"not found\",0)","v":{"v":1,"d":"R1.00"}},{"$f":"_xlfn.XLOOKUP(A72,[1]Sheet1!$A:$A,[1]Sheet1!$I:$I,\"not found\",0)","v":"2026-03-31"},"No longer provide economic value to the organisation","Scrap","Asset no longer meets a business requirement"]
[11000011745,"Acer Monitor",{"$f":"_xlfn.XLOOKUP(A73,[1]Sheet1!$A:$A,[1]Sheet1!$C:$C,\"Not found\",0)","v":"10135"},{"$f":"_xlfn.XLOOKUP(A73,[1]Sheet1!$A:$A,[1]Sheet1!$F:$F,\"Not found\",0)","v":"REC-0071"},{"$f":"_xlfn.XLOOKUP(A73,[1]Sheet1!$A:$A,[1]Sheet1!$H:$H,\"not found\",0)","v":"2010-02-03"},{"$f":"_xlfn.XLOOKUP(A73,[1]Sheet1!$A:$A,[1]Sheet1!$D:$D,\"not found\",0)","v":{"v":1470.96,"d":"R1,470.96"}},{"$f":"_xlfn.XLOOKUP(A73,[1]Sheet1!$A:$A,[1]Sheet1!$E:$E,\"not found\",0)","v":{"v":1,"d":"R1.00"}},{"$f":"_xlfn.XLOOKUP(A73,[1]Sheet1!$A:$A,[1]Sheet1!$I:$I,\"not found\",0)","v":"2026-03-31"},"No longer provide economic value to the organisation","Scrap","Asset no longer meets a business requirement"]
[11000014972,"Acer Monitor",{"$f":"_xlfn.XLOOKUP(A74,[1]Sheet1!$A:$A,[1]Sheet1!$C:$C,\"Not found\",0)","v":"F10071"},{"$f":"_xlfn.XLOOKUP(A74,[1]Sheet1!$A:$A,[1]Sheet1!$F:$F,\"Not found\",0)","v":"REC-0071"},{"$f":"_xlfn.XLOOKUP(A74,[1]Sheet1!$A:$A,[1]Sheet1!$H:$H,\"not found\",0)","v":"2014-03-27"},{"$f":"_xlfn.XLOOKUP(A74,[1]Sheet1!$A:$A,[1]Sheet1!$D:$D,\"not found\",0)","v":{"v":1254.37,"d":"R1,254.37"}},{"$f":"_xlfn.XLOOKUP(A74,[1]Sheet1!$A:$A,[1]Sheet1!$E:$E,\"not found\",0)","v":{"v":1,"d":"R1.00"}},{"$f":"_xlfn.XLOOKUP(A74,[1]Sheet1!$A:$A,[1]Sheet1!$I:$I,\"not found\",0)","v":"2026-03-31"},"No longer provide economic value to the organisation","Scrap","Asset no longer meets a business requirement"]
[11000015120,"Acer Monitor",{"$f":"_xlfn.XLOOKUP(A75,[1]Sheet1!$A:$A,[1]Sheet1!$C:$C,\"Not found\",0)","v":"10135"},{"$f":"_xlfn.XLOOKUP(A75,[1]Sheet1!$A:$A,[1]Sheet1!$F:$F,\"Not found\",0)","v":"REC-0071"},{"$f":"_xlfn.XLOOKUP(A75,[1]Sheet1!$A:$A,[1]Sheet1!$H:$H,\"not found\",0)","v":"2014-04-11"},{"$f":"_xlfn.XLOOKUP(A75,[1]Sheet1!$A:$A,[1]Sheet1!$D:$D,\"not found\",0)","v":{"v":1422.16,"d":"R1,422.16"}},{"$f":"_xlfn.XLOOKUP(A75,[1]Sheet1!$A:$A,[1]Sheet1!$E:$E,\"not found\",0)","v":{"v":1,"d":"R1.00"}},{"$f":"_xlfn.XLOOKUP(A75,[1]Sheet1!$A:$A,[1]Sheet1!$I:$I,\"not found\",0)","v":"2026-03-31"},"No longer provide economic value to the organisation","Scrap","Asset no longer meets a business requirement"]
[11000015121,"Acer Monitor",{"$f":"_xlfn.XLOOKUP(A76,[1]Sheet1!$A:$A,[1]Sheet1!$C:$C,\"Not found\",0)","v":"10135"},{"$f":"_xlfn.XLOOKUP(A76,[1]Sheet1!$A:$A,[1]Sheet1!$F:$F,\"Not found\",0)","v":"REC-0071"},{"$f":"_xlfn.XLOOKUP(A76,[1]Sheet1!$A:$A,[1]Sheet1!$H:$H,\"not found\",0)","v":"2014-04-11"},{"$f":"_xlfn.XLOOKUP(A76,[1]Sheet1!$A:$A,[1]Sheet1!$D:$D,\"not found\",0)","v":{"v":1422.16,"d":"R1,422.16"}},{"$f":"_xlfn.XLOOKUP(A76,[1]Sheet1!$A:$A,[1]Sheet1!$E:$E,\"not found\",0)","v":{"v":1,"d":"R1.00"}},{"$f":"_xlfn.XLOOKUP(A76,[1]Sheet1!$A:$A,[1]Sheet1!$I:$I,\"not found\",0)","v":"2026-03-31"},"No longer provide economic value to the organisation","Scrap","Asset no longer meets a business requirement"]
[11000015122,"Acer Monitor",{"$f":"_xlfn.XLOOKUP(A77,[1]Sheet1!$A:$A,[1]Sheet1!$C:$C,\"Not found\",0)","v":"10135"},{"$f":"_xlfn.XLOOKUP(A77,[1]Sheet1!$A:$A,[1]Sheet1!$F:$F,\"Not found\",0)","v":"REC-0071"},{"$f":"_xlfn.XLOOKUP(A77,[1]Sheet1!$A:$A,[1]Sheet1!$H:$H,\"not found\",0)","v":"2014-04-11"},{"$f":"_xlfn.XLOOKUP(A77,[1]Sheet1!$A:$A,[1]Sheet1!$D:$D,\"not found\",0)","v":{"v":1422.16,"d":"R1,422.16"}},{"$f":"_xlfn.XLOOKUP(A77,[1]Sheet1!$A:$A,[1]Sheet1!$E:$E,\"not found\",0)","v":{"v":1,"d":"R1.00"}},{"$f":"_xlfn.XLOOKUP(A77,[1]Sheet1!$A:$A,[1]Sheet1!$I:$I,\"not found\",0)","v":"2026-03-31"},"No longer provide economic value to the organisation","Scrap","Asset no longer meets a business requirement"]
[11000015123,"Acer Monitor",{"$f":"_xlfn.XLOOKUP(A78,[1]Sheet1!$A:$A,[1]Sheet1!$C:$C,\"Not found\",0)","v":"10135"},{"$f":"_xlfn.XLOOKUP(A78,[1]Sheet1!$A:$A,[1]Sheet1!$F:$F,\"Not found\",0)","v":"REC-0071"},{"$f":"_xlfn.XLOOKUP(A78,[1]Sheet1!$A:$A,[1]Sheet1!$H:$H,\"not found\",0)","v":"2014-04-11"},{"$f":"_xlfn.XLOOKUP(A78,[1]Sheet1!$A:$A,[1]Sheet1!$D:$D,\"not found\",0)","v":{"v":1422.16,"d":"R1,422.16"}},{"$f":"_xlfn.XLOOKUP(A78,[1]Sheet1!$A:$A,[1]Sheet1!$E:$E,\"not found\",0)","v":{"v":1,"d":"R1.00"}},{"$f":"_xlfn.XLOOKUP(A78,[1]Sheet1!$A:$A,[1]Sheet1!$I:$I,\"not found\",0)","v":"2026-03-31"},"No longer provide economic value to the organisation","Scrap","Asset no longer meets a business requirement"]
[11000015124,"Acer Monitor",{"$f":"_xlfn.XLOOKUP(A79,[1]Sheet1!$A:$A,[1]Sheet1!$C:$C,\"Not found\",0)","v":"10135"},{"$f":"_xlfn.XLOOKUP(A79,[1]Sheet1!$A:$A,[1]Sheet1!$F:$F,\"Not found\",0)","v":"REC-0071"},{"$f":"_xlfn.XLOOKUP(A79,[1]Sheet1!$A:$A,[1]Sheet1!$H:$H,\"not found\",0)","v":"2014-04-11"},{"$f":"_xlfn.XLOOKUP(A79,[1]Sheet1!$A:$A,[1]Sheet1!$D:$D,\"not found\",0)","v":{"v":1422.16,"d":"R1,422.16"}},{"$f":"_xlfn.XLOOKUP(A79,[1]Sheet1!$A:$A,[1]Sheet1!$E:$E,\"not found\",0)","v":{"v":1,"d":"R1.00"}},{"$f":"_xlfn.XLOOKUP(A79,[1]Sheet1!$A:$A,[1]Sheet1!$I:$I,\"not found\",0)","v":"2026-03-31"},"No longer provide economic value to the organisation","Scrap","Asset no longer meets a business requirement"]
[11000015127,"Acer Monitor",{"$f":"_xlfn.XLOOKUP(A80,[1]Sheet1!$A:$A,[1]Sheet1!$C:$C,\"Not found\",0)","v":"10135"},{"$f":"_xlfn.XLOOKUP(A80,[1]Sheet1!$A:$A,[1]Sheet1!$F:$F,\"Not found\",0)","v":"REC-0071"},{"$f":"_xlfn.XLOOKUP(A80,[1]Sheet1!$A:$A,[1]Sheet1!$H:$H,\"not found\",0)","v":"2014-04-11"},{"$f":"_xlfn.XLOOKUP(A80,[1]Sheet1!$A:$A,[1]Sheet1!$D:$D,\"not found\",0)","v":{"v":1422.16,"d":"R1,422.16"}},{"$f":"_xlfn.XLOOKUP(A80,[1]Sheet1!$A:$A,[1]Sheet1!$E:$E,\"not found\",0)","v":{"v":1,"d":"R1.00"}},{"$f":"_xlfn.XLOOKUP(A80,[1]Sheet1!$A:$A,[1]Sheet1!$I:$I,\"not found\",0)","v":"2026-03-31"},"No longer provide economic value to the organisation","Scrap","Asset no longer meets a business requirement"]
[11000015128,"Acer Monitor",{"$f":"_xlfn.XLOOKUP(A81,[1]Sheet1!$A:$A,[1]Sheet1!$C:$C,\"Not found\",0)","v":"10135"},{"$f":"_xlfn.XLOOKUP(A81,[1]Sheet1!$A:$A,[1]Sheet1!$F:$F,\"Not found\",0)","v":"REC-0071"},{"$f":"_xlfn.XLOOKUP(A81,[1]Sheet1!$A:$A,[1]Sheet1!$H:$H,\"not found\",0)","v":"2014-04-11"},{"$f":"_xlfn.XLOOKUP(A81,[1]Sheet1!$A:$A,[1]Sheet1!$D:$D,\"not found\",0)","v":{"v":1422.16,"d":"R1,422.16"}},{"$f":"_xlfn.XLOOKUP(A81,[1]Sheet1!$A:$A,[1]Sheet1!$E:$E,\"not found\",0)","v":{"v":1,"d":"R1.00"}},{"$f":"_xlfn.XLOOKUP(A81,[1]Sheet1!$A:$A,[1]Sheet1!$I:$I,\"not found\",0)","v":"2026-03-31"},"No longer provide economic value to the organisation","Scrap","Asset no longer meets a business requirement"]
[11000015129,"Acer Monitor",{"$f":"_xlfn.XLOOKUP(A82,[1]Sheet1!$A:$A,[1]Sheet1!$C:$C,\"Not found\",0)","v":"10135"},{"$f":"_xlfn.XLOOKUP(A82,[1]Sheet1!$A:$A,[1]Sheet1!$F:$F,\"Not found\",0)","v":"REC-0071"},{"$f":"_xlfn.XLOOKUP(A82,[1]Sheet1!$A:$A,[1]Sheet1!$H:$H,\"not found\",0)","v":"2014-04-11"},{"$f":"_xlfn.XLOOKUP(A82,[1]Sheet1!$A:$A,[1]Sheet1!$D:$D,\"not found\",0)","v":{"v":1422.16,"d":"R1,422.16"}},{"$f":"_xlfn.XLOOKUP(A82,[1]Sheet1!$A:$A,[1]Sheet1!$E:$E,\"not found\",0)","v":{"v":1,"d":"R1.00"}},{"$f":"_xlfn.XLOOKUP(A82,[1]Sheet1!$A:$A,[1]Sheet1!$I:$I,\"not found\",0)","v":"2026-03-31"},"No longer provide economic value to the organisation","Scrap","Asset no longer meets a business requirement"]
[11000015132,"Acer Monitor",{"$f":"_xlfn.XLOOKUP(A83,[1]Sheet1!$A:$A,[1]Sheet1!$C:$C,\"Not found\",0)","v":"10135"},{"$f":"_xlfn.XLOOKUP(A83,[1]Sheet1!$A:$A,[1]Sheet1!$F:$F,\"Not found\",0)","v":"REC-0071"},{"$f":"_xlfn.XLOOKUP(A83,[1]Sheet1!$A:$A,[1]Sheet1!$H:$H,\"not found\",0)","v":"2014-04-11"},{"$f":"_xlfn.XLOOKUP(A83,[1]Sheet1!$A:$A,[1]Sheet1!$D:$D,\"not found\",0)","v":{"v":1422.16,"d":"R1,422.16"}},{"$f":"_xlfn.XLOOKUP(A83,[1]Sheet1!$A:$A,[1]Sheet1!$E:$E,\"not found\",0)","v":{"v":1,"d":"R1.00"}},{"$f":"_xlfn.XLOOKUP(A83,[1]Sheet1!$A:$A,[1]Sheet1!$I:$I,\"not found\",0)","v":"2026-03-31"},"No longer provide economic value to the organisation","Scrap","Asset no longer meets a business requirement"]
[11000015133,"Acer Monitor",{"$f":"_xlfn.XLOOKUP(A84,[1]Sheet1!$A:$A,[1]Sheet1!$C:$C,\"Not found\",0)","v":"10135"},{"$f":"_xlfn.XLOOKUP(A84,[1]Sheet1!$A:$A,[1]Sheet1!$F:$F,\"Not found\",0)","v":"REC-0071"},{"$f":"_xlfn.XLOOKUP(A84,[1]Sheet1!$A:$A,[1]Sheet1!$H:$H,\"not found\",0)","v":"2014-04-11"},{"$f":"_xlfn.XLOOKUP(A84,[1]Sheet1!$A:$A,[1]Sheet1!$D:$D,\"not found\",0)","v":{"v":1422.16,"d":"R1,422.16"}},{"$f":"_xlfn.XLOOKUP(A84,[1]Sheet1!$A:$A,[1]Sheet1!$E:$E,\"not found\",0)","v":{"v":1,"d":"R1.00"}},{"$f":"_xlfn.XLOOKUP(A84,[1]Sheet1!$A:$A,[1]Sheet1!$I:$I,\"not found\",0)","v":"2026-03-31"},"No longer provide economic value to the organisation","Scrap","Asset no longer meets a business requirement"]
[11000015135,"Acer Monitor",{"$f":"_xlfn.XLOOKUP(A85,[1]Sheet1!$A:$A,[1]Sheet1!$C:$C,\"Not found\",0)","v":"10135"},{"$f":"_xlfn.XLOOKUP(A85,[1]Sheet1!$A:$A,[1]Sheet1!$F:$F,\"Not found\",0)","v":"REC-0071"},{"$f":"_xlfn.XLOOKUP(A85,[1]Sheet1!$A:$A,[1]Sheet1!$H:$H,\"not found\",0)","v":"2014-04-11"},{"$f":"_xlfn.XLOOKUP(A85,[1]Sheet1!$A:$A,[1]Sheet1!$D:$D,\"not found\",0)","v":{"v":1422.16,"d":"R1,422.16"}},{"$f":"_xlfn.XLOOKUP(A85,[1]Sheet1!$A:$A,[1]Sheet1!$E:$E,\"not found\",0)","v":{"v":1,"d":"R1.00"}},{"$f":"_xlfn.XLOOKUP(A85,[1]Sheet1!$A:$A,[1]Sheet1!$I:$I,\"not found\",0)","v":"2026-03-31"},"No longer provide economic value to the organisation","Scrap","Asset no longer meets a business requirement"]
[11000015136,"Acer Monitor",{"$f":"_xlfn.XLOOKUP(A86,[1]Sheet1!$A:$A,[1]Sheet1!$C:$C,\"Not found\",0)","v":"10135"},{"$f":"_xlfn.XLOOKUP(A86,[1]Sheet1!$A:$A,[1]Sheet1!$F:$F,\"Not found\",0)","v":"REC-0071"},{"$f":"_xlfn.XLOOKUP(A86,[1]Sheet1!$A:$A,[1]Sheet1!$H:$H,\"not found\",0)","v":"2014-04-11"},{"$f":"_xlfn.XLOOKUP(A86,[1]Sheet1!$A:$A,[1]Sheet1!$D:$D,\"not found\",0)","v":{"v":1422.16,"d":"R1,422.16"}},{"$f":"_xlfn.XLOOKUP(A86,[1]Sheet1!$A:$A,[1]Sheet1!$E:$E,\"not found\",0)","v":{"v":1,"d":"R1.00"}},{"$f":"_xlfn.XLOOKUP(A86,[1]Sheet1!$A:$A,[1]Sheet1!$I:$I,\"not found\",0)","v":"2026-03-31"},"No longer provide economic value to the organisation","Scrap","Asset no longer meets a business requirement"]
[11000015138,"Acer Monitor",{"$f":"_xlfn.XLOOKUP(A87,[1]Sheet1!$A:$A,[1]Sheet1!$C:$C,\"Not found\",0)","v":"10135"},{"$f":"_xlfn.XLOOKUP(A87,[1]Sheet1!$A:$A,[1]Sheet1!$F:$F,\"Not found\",0)","v":"REC-0071"},{"$f":"_xlfn.XLOOKUP(A87,[1]Sheet1!$A:$A,[1]Sheet1!$H:$H,\"not found\",0)","v":"2014-04-11"},{"$f":"_xlfn.XLOOKUP(A87,[1]Sheet1!$A:$A,[1]Sheet1!$D:$D,\"not found\",0)","v":{"v":1422.16,"d":"R1,422.16"}},{"$f":"_xlfn.XLOOKUP(A87,[1]Sheet1!$A:$A,[1]Sheet1!$E:$E,\"not found\",0)","v":{"v":1,"d":"R1.00"}},{"$f":"_xlfn.XLOOKUP(A87,[1]Sheet1!$A:$A,[1]Sheet1!$I:$I,\"not found\",0)","v":"2026-03-31"},"No longer provide economic value to the organisation","Scrap","Asset no longer meets a business requirement"]
[11000015139,"Acer Monitor",{"$f":"_xlfn.XLOOKUP(A88,[1]Sheet1!$A:$A,[1]Sheet1!$C:$C,\"Not found\",0)","v":"10135"},{"$f":"_xlfn.XLOOKUP(A88,[1]Sheet1!$A:$A,[1]Sheet1!$F:$F,\"Not found\",0)","v":"REC-0071"},{"$f":"_xlfn.XLOOKUP(A88,[1]Sheet1!$A:$A,[1]Sheet1!$H:$H,\"not found\",0)","v":"2014-04-11"},{"$f":"_xlfn.XLOOKUP(A88,[1]Sheet1!$A:$A,[1]Sheet1!$D:$D,\"not found\",0)","v":{"v":1422.16,"d":"R1,422.16"}},{"$f":"_xlfn.XLOOKUP(A88,[1]Sheet1!$A:$A,[1]Sheet1!$E:$E,\"not found\",0)","v":{"v":1,"d":"R1.00"}},{"$f":"_xlfn.XLOOKUP(A88,[1]Sheet1!$A:$A,[1]Sheet1!$I:$I,\"not found\",0)","v":"2026-03-31"},"No longer provide economic value to the organisation","Scrap","Asset no longer meets a business requirement"]
[11000015140,"Acer Monitor",{"$f":"_xlfn.XLOOKUP(A89,[1]Sheet1!$A:$A,[1]Sheet1!$C:$C,\"Not found\",0)","v":"10135"},{"$f":"_xlfn.XLOOKUP(A89,[1]Sheet1!$A:$A,[1]Sheet1!$F:$F,\"Not found\",0)","v":"REC-0071"},{"$f":"_xlfn.XLOOKUP(A89,[1]Sheet1!$A:$A,[1]Sheet1!$H:$H,\"not found\",0)","v":"2014-04-11"},{"$f":"_xlfn.XLOOKUP(A89,[1]Sheet1!$A:$A,[1]Sheet1!$D:$D,\"not found\",0)","v":{"v":1422.16,"d":"R1,422.16"}},{"$f":"_xlfn.XLOOKUP(A89,[1]Sheet1!$A:$A,[1]Sheet1!$E:$E,\"not found\",0)","v":{"v":1,"d":"R1.00"}},{"$f":"_xlfn.XLOOKUP(A89,[1]Sheet1!$A:$A,[1]Sheet1!$I:$I,\"not found\",0)","v":"2026-03-31"},"No longer provide economic value to the organisation","Scrap","Asset no longer meets a business requirement"]
[11000015141,"Acer Monitor",{"$f":"_xlfn.XLOOKUP(A90,[1]Sheet1!$A:$A,[1]Sheet1!$C:$C,\"Not found\",0)","v":"10135"},{"$f":"_xlfn.XLOOKUP(A90,[1]Sheet1!$A:$A,[1]Sheet1!$F:$F,\"Not found\",0)","v":"REC-0071"},{"$f":"_xlfn.XLOOKUP(A90,[1]Sheet1!$A:$A,[1]Sheet1!$H:$H,\"not found\",0)","v":"2014-04-11"},{"$f":"_xlfn.XLOOKUP(A90,[1]Sheet1!$A:$A,[1]Sheet1!$D:$D,\"not found\",0)","v":{"v":1422.16,"d":"R1,422.16"}},{"$f":"_xlfn.XLOOKUP(A90,[1]Sheet1!$A:$A,[1]Sheet1!$E:$E,\"not found\",0)","v":{"v":1,"d":"R1.00"}},{"$f":"_xlfn.XLOOKUP(A90,[1]Sheet1!$A:$A,[1]Sheet1!$I:$I,\"not found\",0)","v":"2026-03-31"},"No longer provide economic value to the organisation","Scrap","Asset no longer meets a business requirement"]
[11000015144,"Acer Monitor",{"$f":"_xlfn.XLOOKUP(A91,[1]Sheet1!$A:$A,[1]Sheet1!$C:$C,\"Not found\",0)","v":"10135"},{"$f":"_xlfn.XLOOKUP(A91,[1]Sheet1!$A:$A,[1]Sheet1!$F:$F,\"Not found\",0)","v":"REC-0071"},{"$f":"_xlfn.XLOOKUP(A91,[1]Sheet1!$A:$A,[1]Sheet1!$H:$H,\"not found\",0)","v":"2014-04-11"},{"$f":"_xlfn.XLOOKUP(A91,[1]Sheet1!$A:$A,[1]Sheet1!$D:$D,\"not found\",0)","v":{"v":1422.16,"d":"R1,422.16"}},{"$f":"_xlfn.XLOOKUP(A91,[1]Sheet1!$A:$A,[1]Sheet1!$E:$E,\"not found\",0)","v":{"v":1,"d":"R1.00"}},{"$f":"_xlfn.XLOOKUP(A91,[1]Sheet1!$A:$A,[1]Sheet1!$I:$I,\"not found\",0)","v":"2026-03-31"},"No longer provide economic value to the organisation","Scrap","Asset no longer meets a business requirement"]
[11000015145,"Acer Monitor",{"$f":"_xlfn.XLOOKUP(A92,[1]Sheet1!$A:$A,[1]Sheet1!$C:$C,\"Not found\",0)","v":"10135"},{"$f":"_xlfn.XLOOKUP(A92,[1]Sheet1!$A:$A,[1]Sheet1!$F:$F,\"Not found\",0)","v":"REC-0071"},{"$f":"_xlfn.XLOOKUP(A92,[1]Sheet1!$A:$A,[1]Sheet1!$H:$H,\"not found\",0)","v":"2014-04-11"},{"$f":"_xlfn.XLOOKUP(A92,[1]Sheet1!$A:$A,[1]Sheet1!$D:$D,\"not found\",0)","v":{"v":1422.16,"d":"R1,422.16"}},{"$f":"_xlfn.XLOOKUP(A92,[1]Sheet1!$A:$A,[1]Sheet1!$E:$E,\"not found\",0)","v":{"v":1,"d":"R1.00"}},{"$f":"_xlfn.XLOOKUP(A92,[1]Sheet1!$A:$A,[1]Sheet1!$I:$I,\"not found\",0)","v":"2026-03-31"},"No longer provide economic value to the organisation","Scrap","Asset no longer meets a business requirement"]
[11000015146,"Acer Monitor",{"$f":"_xlfn.XLOOKUP(A93,[1]Sheet1!$A:$A,[1]Sheet1!$C:$C,\"Not found\",0)","v":"10135"},{"$f":"_xlfn.XLOOKUP(A93,[1]Sheet1!$A:$A,[1]Sheet1!$F:$F,\"Not found\",0)","v":"REC-0071"},{"$f":"_xlfn.XLOOKUP(A93,[1]Sheet1!$A:$A,[1]Sheet1!$H:$H,\"not found\",0)","v":"2014-04-11"},{"$f":"_xlfn.XLOOKUP(A93,[1]Sheet1!$A:$A,[1]Sheet1!$D:$D,\"not found\",0)","v":{"v":1422.16,"d":"R1,422.16"}},{"$f":"_xlfn.XLOOKUP(A93,[1]Sheet1!$A:$A,[1]Sheet1!$E:$E,\"not found\",0)","v":{"v":1,"d":"R1.00"}},{"$f":"_xlfn.XLOOKUP(A93,[1]Sheet1!$A:$A,[1]Sheet1!$I:$I,\"not found\",0)","v":"2026-03-31"},"No longer provide economic value to the organisation","Scrap","Asset no longer meets a business requirement"]
[11000015199,"Acer Monitor",{"$f":"_xlfn.XLOOKUP(A94,[1]Sheet1!$A:$A,[1]Sheet1!$C:$C,\"Not found\",0)","v":"10135"},{"$f":"_xlfn.XLOOKUP(A94,[1]Sheet1!$A:$A,[1]Sheet1!$F:$F,\"Not found\",0)","v":"REC-0071"},{"$f":"_xlfn.XLOOKUP(A94,[1]Sheet1!$A:$A,[1]Sheet1!$H:$H,\"not found\",0)","v":"2014-03-31"},{"$f":"_xlfn.XLOOKUP(A94,[1]Sheet1!$A:$A,[1]Sheet1!$D:$D,\"not found\",0)","v":{"v":2184.91,"d":"R2,184.91"}},{"$f":"_xlfn.XLOOKUP(A94,[1]Sheet1!$A:$A,[1]Sheet1!$E:$E,\"not found\",0)","v":{"v":1,"d":"R1.00"}},{"$f":"_xlfn.XLOOKUP(A94,[1]Sheet1!$A:$A,[1]Sheet1!$I:$I,\"not found\",0)","v":"2026-03-31"},"No longer provide economic value to the organisation","Scrap","Asset no longer meets a business requirement"]
[11000015200,"Acer Monitor",{"$f":"_xlfn.XLOOKUP(A95,[1]Sheet1!$A:$A,[1]Sheet1!$C:$C,\"Not found\",0)","v":"10135"},{"$f":"_xlfn.XLOOKUP(A95,[1]Sheet1!$A:$A,[1]Sheet1!$F:$F,\"Not found\",0)","v":"REC-0071"},{"$f":"_xlfn.XLOOKUP(A95,[1]Sheet1!$A:$A,[1]Sheet1!$H:$H,\"not found\",0)","v":"2014-03-31"},{"$f":"_xlfn.XLOOKUP(A95,[1]Sheet1!$A:$A,[1]Sheet1!$D:$D,\"not found\",0)","v":{"v":2184.91,"d":"R2,184.91"}},{"$f":"_xlfn.XLOOKUP(A95,[1]Sheet1!$A:$A,[1]Sheet1!$E:$E,\"not found\",0)","v":{"v":1,"d":"R1.00"}},{"$f":"_xlfn.XLOOKUP(A95,[1]Sheet1!$A:$A,[1]Sheet1!$I:$I,\"not found\",0)","v":"2026-03-31"},"No longer provide economic value to the organisation","Scrap","Asset no longer meets a business requirement"]
[11000015201,"Acer Monitor",{"$f":"_xlfn.XLOOKUP(A96,[1]Sheet1!$A:$A,[1]Sheet1!$C:$C,\"Not found\",0)","v":"10135"},{"$f":"_xlfn.XLOOKUP(A96,[1]Sheet1!$A:$A,[1]Sheet1!$F:$F,\"Not found\",0)","v":"REC-0071"},{"$f":"_xlfn.XLOOKUP(A96,[1]Sheet1!$A:$A,[1]Sheet1!$H:$H,\"not found\",0)","v":"2014-03-31"},{"$f":"_xlfn.XLOOKUP(A96,[1]Sheet1!$A:$A,[1]Sheet1!$D:$D,\"not found\",0)","v":{"v":2184.91,"d":"R2,184.91"}},{"$f":"_xlfn.XLOOKUP(A96,[1]Sheet1!$A:$A,[1]Sheet1!$E:$E,\"not found\",0)","v":{"v":1,"d":"R1.00"}},{"$f":"_xlfn.XLOOKUP(A96,[1]Sheet1!$A:$A,[1]Sheet1!$I:$I,\"not found\",0)","v":"2026-03-31"},"No longer provide economic value to the organisation","Scrap","Asset no longer meets a business requirement"]
[11000015202,"Acer Monitor",{"$f":"_xlfn.XLOOKUP(A97,[1]Sheet1!$A:$A,[1]Sheet1!$C:$C,\"Not found\",0)","v":"10135"},{"$f":"_xlfn.XLOOKUP(A97,[1]Sheet1!$A:$A,[1]Sheet1!$F:$F,\"Not found\",0)","v":"REC-0071"},{"$f":"_xlfn.XLOOKUP(A97,[1]Sheet1!$A:$A,[1]Sheet1!$H:$H,\"not found\",0)","v":"2014-03-31"},{"$f":"_xlfn.XLOOKUP(A97,[1]Sheet1!$A:$A,[1]Sheet1!$D:$D,\"not found\",0)","v":{"v":2184.91,"d":"R2,184.91"}},{"$f":"_xlfn.XLOOKUP(A97,[1]Sheet1!$A:$A,[1]Sheet1!$E:$E,\"not found\",0)","v":{"v":1,"d":"R1.00"}},{"$f":"_xlfn.XLOOKUP(A97,[1]Sheet1!$A:$A,[1]Sheet1!$I:$I,\"not found\",0)","v":"2026-03-31"},"No longer provide economic value to the organisation","Scrap","Asset no longer meets a business requirement"]
[11000015203,"Acer Monitor",{"$f":"_xlfn.XLOOKUP(A98,[1]Sheet1!$A:$A,[1]Sheet1!$C:$C,\"Not found\",0)","v":"10135"},{"$f":"_xlfn.XLOOKUP(A98,[1]Sheet1!$A:$A,[1]Sheet1!$F:$F,\"Not found\",0)","v":"REC-0071"},{"$f":"_xlfn.XLOOKUP(A98,[1]Sheet1!$A:$A,[1]Sheet1!$H:$H,\"not found\",0)","v":"2014-03-31"},{"$f":"_xlfn.XLOOKUP(A98,[1]Sheet1!$A:$A,[1]Sheet1!$D:$D,\"not found\",0)","v":{"v":2184.91,"d":"R2,184.91"}},{"$f":"_xlfn.XLOOKUP(A98,[1]Sheet1!$A:$A,[1]Sheet1!$E:$E,\"not found\",0)","v":{"v":1,"d":"R1.00"}},{"$f":"_xlfn.XLOOKUP(A98,[1]Sheet1!$A:$A,[1]Sheet1!$I:$I,\"not found\",0)","v":"2026-03-31"},"No longer provide economic value to the organisation","Scrap","Asset no longer meets a business requirement"]
[11000015204,"Acer Monitor",{"$f":"_xlfn.XLOOKUP(A99,[1]Sheet1!$A:$A,[1]Sheet1!$C:$C,\"Not found\",0)","v":"10135"},{"$f":"_xlfn.XLOOKUP(A99,[1]Sheet1!$A:$A,[1]Sheet1!$F:$F,\"Not found\",0)","v":"REC-0071"},{"$f":"_xlfn.XLOOKUP(A99,[1]Sheet1!$A:$A,[1]Sheet1!$H:$H,\"not found\",0)","v":"2014-03-31"},{"$f":"_xlfn.XLOOKUP(A99,[1]Sheet1!$A:$A,[1]Sheet1!$D:$D,\"not found\",0)","v":{"v":2184.91,"d":"R2,184.91"}},{"$f":"_xlfn.XLOOKUP(A99,[1]Sheet1!$A:$A,[1]Sheet1!$E:$E,\"not found\",0)","v":{"v":1,"d":"R1.00"}},{"$f":"_xlfn.XLOOKUP(A99,[1]Sheet1!$A:$A,[1]Sheet1!$I:$I,\"not found\",0)","v":"2026-03-31"},"No longer provide economic value to the organisation","Scrap","Asset no longer meets a business requirement"]
[11000015205,"Acer Monitor",{"$f":"_xlfn.XLOOKUP(A100,[1]Sheet1!$A:$A,[1]Sheet1!$C:$C,\"Not found\",0)","v":"10135"},{"$f":"_xlfn.XLOOKUP(A100,[1]Sheet1!$A:$A,[1]Sheet1!$F:$F,\"Not found\",0)","v":"REC-0071"},{"$f":"_xlfn.XLOOKUP(A100,[1]Sheet1!$A:$A,[1]Sheet1!$H:$H,\"not found\",0)","v":"2014-03-31"},{"$f":"_xlfn.XLOOKUP(A100,[1]Sheet1!$A:$A,[1]Sheet1!$D:$D,\"not found\",0)","v":{"v":2184.91,"d":"R2,184.91"}},{"$f":"_xlfn.XLOOKUP(A100,[1]Sheet1!$A:$A,[1]Sheet1!$E:$E,\"not found\",0)","v":{"v":1,"d":"R1.00"}},{"$f":"_xlfn.XLOOKUP(A100,[1]Sheet1!$A:$A,[1]Sheet1!$I:$I,\"not found\",0)","v":"2026-03-31"},"No longer provide economic value to the organisation","Scrap","Asset no longer meets a business requirement"]
[11000015206,"Acer Monitor",{"$f":"_xlfn.XLOOKUP(A101,[1]Sheet1!$A:$A,[1]Sheet1!$C:$C,\"Not found\",0)","v":"10135"},{"$f":"_xlfn.XLOOKUP(A101,[1]Sheet1!$A:$A,[1]Sheet1!$F:$F,\"Not found\",0)","v":"REC-0071"},{"$f":"_xlfn.XLOOKUP(A101,[1]Sheet1!$A:$A,[1]Sheet1!$H:$H,\"not found\",0)","v":"2014-03-31"},{"$f":"_xlfn.XLOOKUP(A101,[1]Sheet1!$A:$A,[1]Sheet1!$D:$D,\"not found\",0)","v":{"v":2184.91,"d":"R2,184.91"}},{"$f":"_xlfn.XLOOKUP(A101,[1]Sheet1!$A:$A,[1]Sheet1!$E:$E,\"not found\",0)","v":{"v":1,"d":"R1.00"}},{"$f":"_xlfn.XLOOKUP(A101,[1]Sheet1!$A:$A,[1]Sheet1!$I:$I,\"not found\",0)","v":"2026-03-31"},"No longer provide economic value to the organisation","Scrap","Asset no longer meets a business requirement"]
[11000015207,"Acer Monitor",{"$f":"_xlfn.XLOOKUP(A102,[1]Sheet1!$A:$A,[1]Sheet1!$C:$C,\"Not found\",0)","v":"10135"},{"$f":"_xlfn.XLOOKUP(A102,[1]Sheet1!$A:$A,[1]Sheet1!$F:$F,\"Not found\",0)","v":"REC-0071"},{"$f":"_xlfn.XLOOKUP(A102,[1]Sheet1!$A:$A,[1]Sheet1!$H:$H,\"not found\",0)","v":"2014-03-31"},{"$f":"_xlfn.XLOOKUP(A102,[1]Sheet1!$A:$A,[1]Sheet1!$D:$D,\"not found\",0)","v":{"v":2184.91,"d":"R2,184.91"}},{"$f":"_xlfn.XLOOKUP(A102,[1]Sheet1!$A:$A,[1]Sheet1!$E:$E,\"not found\",0)","v":{"v":1,"d":"R1.00"}},{"$f":"_xlfn.XLOOKUP(A102,[1]Sheet1!$A:$A,[1]Sheet1!$I:$I,\"not found\",0)","v":"2026-03-31"},"No longer provide economic value to the organisation","Scrap","Asset no longer meets a business requirement"]
[11000015208,"Acer Monitor",{"$f":"_xlfn.XLOOKUP(A103,[1]Sheet1!$A:$A,[1]Sheet1!$C:$C,\"Not found\",0)","v":"10135"},{"$f":"_xlfn.XLOOKUP(A103,[1]Sheet1!$A:$A,[1]Sheet1!$F:$F,\"Not found\",0)","v":"REC-0071"},{"$f":"_xlfn.XLOOKUP(A103,[1]Sheet1!$A:$A,[1]Sheet1!$H:$H,\"not found\",0)","v":"2014-03-31"},{"$f":"_xlfn.XLOOKUP(A103,[1]Sheet1!$A:$A,[1]Sheet1!$D:$D,\"not found\",0)","v":{"v":2184.91,"d":"R2,184.91"}},{"$f":"_xlfn.XLOOKUP(A103,[1]Sheet1!$A:$A,[1]Sheet1!$E:$E,\"not found\",0)","v":{"v":1,"d":"R1.00"}},{"$f":"_xlfn.XLOOKUP(A103,[1]Sheet1!$A:$A,[1]Sheet1!$I:$I,\"not found\",0)","v":"2026-03-31"},"No longer provide economic value to the organisation","Scrap","Asset no longer meets a business requirement"]
[11000015210,"Acer Monitor",{"$f":"_xlfn.XLOOKUP(A104,[1]Sheet1!$A:$A,[1]Sheet1!$C:$C,\"Not found\",0)","v":"10135"},{"$f":"_xlfn.XLOOKUP(A104,[1]Sheet1!$A:$A,[1]Sheet1!$F:$F,\"Not found\",0)","v":"REC-0071"},{"$f":"_xlfn.XLOOKUP(A104,[1]Sheet1!$A:$A,[1]Sheet1!$H:$H,\"not found\",0)","v":"2014-03-31"},{"$f":"_xlfn.XLOOKUP(A104,[1]Sheet1!$A:$A,[1]Sheet1!$D:$D,\"not found\",0)","v":{"v":2184.91,"d":"R2,184.91"}},{"$f":"_xlfn.XLOOKUP(A104,[1]Sheet1!$A:$A,[1]Sheet1!$E:$E,\"not found\",0)","v":{"v":1,"d":"R1.00"}},{"$f":"_xlfn.XLOOKUP(A104,[1]Sheet1!$A:$A,[1]Sheet1!$I:$I,\"not found\",0)","v":"2026-03-31"},"No longer provide economic value to the organisation","Scrap","Asset no longer meets a business requirement"]
[11000015212,"Acer Monitor",{"$f":"_xlfn.XLOOKUP(A105,[1]Sheet1!$A:$A,[1]Sheet1!$C:$C,\"Not found\",0)","v":"10135"},{"$f":"_xlfn.XLOOKUP(A105,[1]Sheet1!$A:$A,[1]Sheet1!$F:$F,\"Not found\",0)","v":"REC-0071"},{"$f":"_xlfn.XLOOKUP(A105,[1]Sheet1!$A:$A,[1]Sheet1!$H:$H,\"not found\",0)","v":"2014-03-31"},{"$f":"_xlfn.XLOOKUP(A105,[1]Sheet1!$A:$A,[1]Sheet1!$D:$D,\"not found\",0)","v":{"v":2184.91,"d":"R2,184.91"}},{"$f":"_xlfn.XLOOKUP(A105,[1]Sheet1!$A:$A,[1]Sheet1!$E:$E,\"not found\",0)","v":{"v":1,"d":"R1.00"}},{"$f":"_xlfn.XLOOKUP(A105,[1]Sheet1!$A:$A,[1]Sheet1!$I:$I,\"not found\",0)","v":"2026-03-31"},"No longer provide economic value to the organisation","Scrap","Asset no longer meets a business requirement"]
[11000015213,"Acer Monitor",{"$f":"_xlfn.XLOOKUP(A106,[1]Sheet1!$A:$A,[1]Sheet1!$C:$C,\"Not found\",0)","v":"10135"},{"$f":"_xlfn.XLOOKUP(A106,[1]Sheet1!$A:$A,[1]Sheet1!$F:$F,\"Not found\",0)","v":"REC-0071"},{"$f":"_xlfn.XLOOKUP(A106,[1]Sheet1!$A:$A,[1]Sheet1!$H:$H,\"not found\",0)","v":"2014-03-31"},{"$f":"_xlfn.XLOOKUP(A106,[1]Sheet1!$A:$A,[1]Sheet1!$D:$D,\"not found\",0)","v":{"v":2184.91,"d":"R2,184.91"}},{"$f":"_xlfn.XLOOKUP(A106,[1]Sheet1!$A:$A,[1]Sheet1!$E:$E,\"not found\",0)","v":{"v":1,"d":"R1.00"}},{"$f":"_xlfn.XLOOKUP(A106,[1]Sheet1!$A:$A,[1]Sheet1!$I:$I,\"not found\",0)","v":"2026-03-31"},"No longer provide economic value to the organisation","Scrap","Asset no longer meets a business requirement"]
[11000015214,"Acer Monitor",{"$f":"_xlfn.XLOOKUP(A107,[1]Sheet1!$A:$A,[1]Sheet1!$C:$C,\"Not found\",0)","v":"10135"},{"$f":"_xlfn.XLOOKUP(A107,[1]Sheet1!$A:$A,[1]Sheet1!$F:$F,\"Not found\",0)","v":"REC-0071"},{"$f":"_xlfn.XLOOKUP(A107,[1]Sheet1!$A:$A,[1]Sheet1!$H:$H,\"not found\",0)","v":"2014-03-31"},{"$f":"_xlfn.XLOOKUP(A107,[1]Sheet1!$A:$A,[1]Sheet1!$D:$D,\"not found\",0)","v":{"v":2184.91,"d":"R2,184.91"}},{"$f":"_xlfn.XLOOKUP(A107,[1]Sheet1!$A:$A,[1]Sheet1!$E:$E,\"not found\",0)","v":{"v":1,"d":"R1.00"}},{"$f":"_xlfn.XLOOKUP(A107,[1]Sheet1!$A:$A,[1]Sheet1!$I:$I,\"not found\",0)","v":"2026-03-31"},"No longer provide economic value to the organisation","Scrap","Asset no longer meets a business requirement"]
[11000015215,"Acer Monitor",{"$f":"_xlfn.XLOOKUP(A108,[1]Sheet1!$A:$A,[1]Sheet1!$C:$C,\"Not found\",0)","v":"10135"},{"$f":"_xlfn.XLOOKUP(A108,[1]Sheet1!$A:$A,[1]Sheet1!$F:$F,\"Not found\",0)","v":"REC-0071"},{"$f":"_xlfn.XLOOKUP(A108,[1]Sheet1!$A:$A,[1]Sheet1!$H:$H,\"not found\",0)","v":"2014-03-31"},{"$f":"_xlfn.XLOOKUP(A108,[1]Sheet1!$A:$A,[1]Sheet1!$D:$D,\"not found\",0)","v":{"v":2184.91,"d":"R2,184.91"}},{"$f":"_xlfn.XLOOKUP(A108,[1]Sheet1!$A:$A,[1]Sheet1!$E:$E,\"not found\",0)","v":{"v":1,"d":"R1.00"}},{"$f":"_xlfn.XLOOKUP(A108,[1]Sheet1!$A:$A,[1]Sheet1!$I:$I,\"not found\",0)","v":"2026-03-31"},"No longer provide economic value to the organisation","Scrap","Asset no longer meets a business requirement"]
[11000015216,"Acer Monitor",{"$f":"_xlfn.XLOOKUP(A109,[1]Sheet1!$A:$A,[1]Sheet1!$C:$C,\"Not found\",0)","v":"10135"},{"$f":"_xlfn.XLOOKUP(A109,[1]Sheet1!$A:$A,[1]Sheet1!$F:$F,\"Not found\",0)","v":"REC-0071"},{"$f":"_xlfn.XLOOKUP(A109,[1]Sheet1!$A:$A,[1]Sheet1!$H:$H,\"not found\",0)","v":"2014-03-31"},{"$f":"_xlfn.XLOOKUP(A109,[1]Sheet1!$A:$A,[1]Sheet1!$D:$D,\"not found\",0)","v":{"v":2184.91,"d":"R2,184.91"}},{"$f":"_xlfn.XLOOKUP(A109,[1]Sheet1!$A:$A,[1]Sheet1!$E:$E,\"not found\",0)","v":{"v":1,"d":"R1.00"}},{"$f":"_xlfn.XLOOKUP(A109,[1]Sheet1!$A:$A,[1]Sheet1!$I:$I,\"not found\",0)","v":"2026-03-31"},"No longer provide economic value to the organisation","Scrap","Asset no longer meets a business requirement"]
[11000015217,"Acer Monitor",{"$f":"_xlfn.XLOOKUP(A110,[1]Sheet1!$A:$A,[1]Sheet1!$C:$C,\"Not found\",0)","v":"10135"},{"$f":"_xlfn.XLOOKUP(A110,[1]Sheet1!$A:$A,[1]Sheet1!$F:$F,\"Not found\",0)","v":"REC-0071"},{"$f":"_xlfn.XLOOKUP(A110,[1]Sheet1!$A:$A,[1]Sheet1!$H:$H,\"not found\",0)","v":"2014-03-31"},{"$f":"_xlfn.XLOOKUP(A110,[1]Sheet1!$A:$A,[1]Sheet1!$D:$D,\"not found\",0)","v":{"v":2184.91,"d":"R2,184.91"}},{"$f":"_xlfn.XLOOKUP(A110,[1]Sheet1!$A:$A,[1]Sheet1!$E:$E,\"not found\",0)","v":{"v":1,"d":"R1.00"}},{"$f":"_xlfn.XLOOKUP(A110,[1]Sheet1!$A:$A,[1]Sheet1!$I:$I,\"not found\",0)","v":"2026-03-31"},"No longer provide economic value to the organisation","Scrap","Asset no longer meets a business requirement"]
[11000015219,"Acer Monitor",{"$f":"_xlfn.XLOOKUP(A111,[1]Sheet1!$A:$A,[1]Sheet1!$C:$C,\"Not found\",0)","v":"10135"},{"$f":"_xlfn.XLOOKUP(A111,[1]Sheet1!$A:$A,[1]Sheet1!$F:$F,\"Not found\",0)","v":"REC-0071"},{"$f":"_xlfn.XLOOKUP(A111,[1]Sheet1!$A:$A,[1]Sheet1!$H:$H,\"not found\",0)","v":"2014-03-31"},{"$f":"_xlfn.XLOOKUP(A111,[1]Sheet1!$A:$A,[1]Sheet1!$D:$D,\"not found\",0)","v":{"v":2184.91,"d":"R2,184.91"}},{"$f":"_xlfn.XLOOKUP(A111,[1]Sheet1!$A:$A,[1]Sheet1!$E:$E,\"not found\",0)","v":{"v":1,"d":"R1.00"}},{"$f":"_xlfn.XLOOKUP(A111,[1]Sheet1!$A:$A,[1]Sheet1!$I:$I,\"not found\",0)","v":"2026-03-31"},"No longer provide economic value to the organisation","Scrap","Asset no longer meets a business requirement"]
[11000015221,"Acer Monitor",{"$f":"_xlfn.XLOOKUP(A112,[1]Sheet1!$A:$A,[1]Sheet1!$C:$C,\"Not found\",0)","v":"10135"},{"$f":"_xlfn.XLOOKUP(A112,[1]Sheet1!$A:$A,[1]Sheet1!$F:$F,\"Not found\",0)","v":"REC-0071"},{"$f":"_xlfn.XLOOKUP(A112,[1]Sheet1!$A:$A,[1]Sheet1!$H:$H,\"not found\",0)","v":"2014-03-31"},{"$f":"_xlfn.XLOOKUP(A112,[1]Sheet1!$A:$A,[1]Sheet1!$D:$D,\"not found\",0)","v":{"v":2184.91,"d":"R2,184.91"}},{"$f":"_xlfn.XLOOKUP(A112,[1]Sheet1!$A:$A,[1]Sheet1!$E:$E,\"not found\",0)","v":{"v":1,"d":"R1.00"}},{"$f":"_xlfn.XLOOKUP(A112,[1]Sheet1!$A:$A,[1]Sheet1!$I:$I,\"not found\",0)","v":"2026-03-31"},"No longer provide economic value to the organisation","Scrap","Asset no longer meets a business requirement"]
[11000015222,"Acer Monitor",{"$f":"_xlfn.XLOOKUP(A113,[1]Sheet1!$A:$A,[1]Sheet1!$C:$C,\"Not found\",0)","v":"10135"},{"$f":"_xlfn.XLOOKUP(A113,[1]Sheet1!$A:$A,[1]Sheet1!$F:$F,\"Not found\",0)","v":"REC-0071"},{"$f":"_xlfn.XLOOKUP(A113,[1]Sheet1!$A:$A,[1]Sheet1!$H:$H,\"not found\",0)","v":"2014-03-31"},{"$f":"_xlfn.XLOOKUP(A113,[1]Sheet1!$A:$A,[1]Sheet1!$D:$D,\"not found\",0)","v":{"v":2184.91,"d":"R2,184.91"}},{"$f":"_xlfn.XLOOKUP(A113,[1]Sheet1!$A:$A,[1]Sheet1!$E:$E,\"not found\",0)","v":{"v":1,"d":"R1.00"}},{"$f":"_xlfn.XLOOKUP(A113,[1]Sheet1!$A:$A,[1]Sheet1!$I:$I,\"not found\",0)","v":"2026-03-31"},"No longer provide economic value to the organisation","Scrap","Asset no longer meets a business requirement"]
[11000015223,"Acer Monitor",{"$f":"_xlfn.XLOOKUP(A114,[1]Sheet1!$A:$A,[1]Sheet1!$C:$C,\"Not found\",0)","v":"10135"},{"$f":"_xlfn.XLOOKUP(A114,[1]Sheet1!$A:$A,[1]Sheet1!$F:$F,\"Not found\",0)","v":"REC-0071"},{"$f":"_xlfn.XLOOKUP(A114,[1]Sheet1!$A:$A,[1]Sheet1!$H:$H,\"not found\",0)","v":"2014-03-31"},{"$f":"_xlfn.XLOOKUP(A114,[1]Sheet1!$A:$A,[1]Sheet1!$D:$D,\"not found\",0)","v":{"v":2184.91,"d":"R2,184.91"}},{"$f":"_xlfn.XLOOKUP(A114,[1]Sheet1!$A:$A,[1]Sheet1!$E:$E,\"not found\",0)","v":{"v":1,"d":"R1.00"}},{"$f":"_xlfn.XLOOKUP(A114,[1]Sheet1!$A:$A,[1]Sheet1!$I:$I,\"not found\",0)","v":"2026-03-31"},"No longer provide economic value to the organisation","Scrap","Asset no longer meets a business requirement"]
[11000015224,"Acer Monitor",{"$f":"_xlfn.XLOOKUP(A115,[1]Sheet1!$A:$A,[1]Sheet1!$C:$C,\"Not found\",0)","v":"10135"},{"$f":"_xlfn.XLOOKUP(A115,[1]Sheet1!$A:$A,[1]Sheet1!$F:$F,\"Not found\",0)","v":"REC-0071"},{"$f":"_xlfn.XLOOKUP(A115,[1]Sheet1!$A:$A,[1]Sheet1!$H:$H,\"not found\",0)","v":"2014-03-31"},{"$f":"_xlfn.XLOOKUP(A115,[1]Sheet1!$A:$A,[1]Sheet1!$D:$D,\"not found\",0)","v":{"v":2184.91,"d":"R2,184.91"}},{"$f":"_xlfn.XLOOKUP(A115,[1]Sheet1!$A:$A,[1]Sheet1!$E:$E,\"not found\",0)","v":{"v":1,"d":"R1.00"}},{"$f":"_xlfn.XLOOKUP(A115,[1]Sheet1!$A:$A,[1]Sheet1!$I:$I,\"not found\",0)","v":"2026-03-31"},"No longer provide economic value to the organisation","Scrap","Asset no longer meets a business requirement"]
[11000015226,"Acer Monitor",{"$f":"_xlfn.XLOOKUP(A116,[1]Sheet1!$A:$A,[1]Sheet1!$C:$C,\"Not found\",0)","v":"10135"},{"$f":"_xlfn.XLOOKUP(A116,[1]Sheet1!$A:$A,[1]Sheet1!$F:$F,\"Not found\",0)","v":"REC-0071"},{"$f":"_xlfn.XLOOKUP(A116,[1]Sheet1!$A:$A,[1]Sheet1!$H:$H,\"not found\",0)","v":"2014-03-31"},{"$f":"_xlfn.XLOOKUP(A116,[1]Sheet1!$A:$A,[1]Sheet1!$D:$D,\"not found\",0)","v":{"v":2184.91,"d":"R2,184.91"}},{"$f":"_xlfn.XLOOKUP(A116,[1]Sheet1!$A:$A,[1]Sheet1!$E:$E,\"not found\",0)","v":{"v":1,"d":"R1.00"}},{"$f":"_xlfn.XLOOKUP(A116,[1]Sheet1!$A:$A,[1]Sheet1!$I:$I,\"not found\",0)","v":"2026-03-31"},"No longer provide economic value to the organisation","Scrap","Asset no longer meets a business requirement"]
[11000015227,"Acer  Monitor",{"$f":"_xlfn.XLOOKUP(A117,[1]Sheet1!$A:$A,[1]Sheet1!$C:$C,\"Not found\",0)","v":"10135"},{"$f":"_xlfn.XLOOKUP(A117,[1]Sheet1!$A:$A,[1]Sheet1!$F:$F,\"Not found\",0)","v":"REC-0071"},{"$f":"_xlfn.XLOOKUP(A117,[1]Sheet1!$A:$A,[1]Sheet1!$H:$H,\"not found\",0)","v":"2014-03-31"},{"$f":"_xlfn.XLOOKUP(A117,[1]Sheet1!$A:$A,[1]Sheet1!$D:$D,\"not found\",0)","v":{"v":2184.91,"d":"R2,184.91"}},{"$f":"_xlfn.XLOOKUP(A117,[1]Sheet1!$A:$A,[1]Sheet1!$E:$E,\"not found\",0)","v":{"v":1,"d":"R1.00"}},{"$f":"_xlfn.XLOOKUP(A117,[1]Sheet1!$A:$A,[1]Sheet1!$I:$I,\"not found\",0)","v":"2026-03-31"},"No longer provide economic value to the organisation","Scrap","Asset no longer meets a business requirement"]
[11000015228,"Acer Monitor",{"$f":"_xlfn.XLOOKUP(A118,[1]Sheet1!$A:$A,[1]Sheet1!$C:$C,\"Not found\",0)","v":"10135"},{"$f":"_xlfn.XLOOKUP(A118,[1]Sheet1!$A:$A,[1]Sheet1!$F:$F,\"Not found\",0)","v":"REC-0071"},{"$f":"_xlfn.XLOOKUP(A118,[1]Sheet1!$A:$A,[1]Sheet1!$H:$H,\"not found\",0)","v":"2014-03-31"},{"$f":"_xlfn.XLOOKUP(A118,[1]Sheet1!$A:$A,[1]Sheet1!$D:$D,\"not found\",0)","v":{"v":2184.91,"d":"R2,184.91"}},{"$f":"_xlfn.XLOOKUP(A118,[1]Sheet1!$A:$A,[1]Sheet1!$E:$E,\"not found\",0)","v":{"v":1,"d":"R1.00"}},{"$f":"_xlfn.XLOOKUP(A118,[1]Sheet1!$A:$A,[1]Sheet1!$I:$I,\"not found\",0)","v":"2026-03-31"},"No longer provide economic value to the organisation","Scrap","Asset no longer meets a business requirement"]
[11000015230,"Acer Monitor",{"$f":"_xlfn.XLOOKUP(A119,[1]Sheet1!$A:$A,[1]Sheet1!$C:$C,\"Not found\",0)","v":"10135"},{"$f":"_xlfn.XLOOKUP(A119,[1]Sheet1!$A:$A,[1]Sheet1!$F:$F,\"Not found\",0)","v":"REC-0071"},{"$f":"_xlfn.XLOOKUP(A119,[1]Sheet1!$A:$A,[1]Sheet1!$H:$H,\"not found\",0)","v":"2014-03-31"},{"$f":"_xlfn.XLOOKUP(A119,[1]Sheet1!$A:$A,[1]Sheet1!$D:$D,\"not found\",0)","v":{"v":2184.91,"d":"R2,184.91"}},{"$f":"_xlfn.XLOOKUP(A119,[1]Sheet1!$A:$A,[1]Sheet1!$E:$E,\"not found\",0)","v":{"v":1,"d":"R1.00"}},{"$f":"_xlfn.XLOOKUP(A119,[1]Sheet1!$A:$A,[1]Sheet1!$I:$I,\"not found\",0)","v":"2026-03-31"},"No longer provide economic value to the organisation","Scrap","Asset no longer meets a business requirement"]
[11000015232,"Acer Monitor",{"$f":"_xlfn.XLOOKUP(A120,[1]Sheet1!$A:$A,[1]Sheet1!$C:$C,\"Not found\",0)","v":"10135"},{"$f":"_xlfn.XLOOKUP(A120,[1]Sheet1!$A:$A,[1]Sheet1!$F:$F,\"Not found\",0)","v":"REC-0071"},{"$f":"_xlfn.XLOOKUP(A120,[1]Sheet1!$A:$A,[1]Sheet1!$H:$H,\"not found\",0)","v":"2014-03-31"},{"$f":"_xlfn.XLOOKUP(A120,[1]Sheet1!$A:$A,[1]Sheet1!$D:$D,\"not found\",0)","v":{"v":2184.91,"d":"R2,184.91"}},{"$f":"_xlfn.XLOOKUP(A120,[1]Sheet1!$A:$A,[1]Sheet1!$E:$E,\"not found\",0)","v":{"v":1,"d":"R1.00"}},{"$f":"_xlfn.XLOOKUP(A120,[1]Sheet1!$A:$A,[1]Sheet1!$I:$I,\"not found\",0)","v":"2026-03-31"},"No longer provide economic value to the organisation","Scrap","Asset no longer meets a business requirement"]
[11000015233,"Acer Monitor",{"$f":"_xlfn.XLOOKUP(A121,[1]Sheet1!$A:$A,[1]Sheet1!$C:$C,\"Not found\",0)","v":"10135"},{"$f":"_xlfn.XLOOKUP(A121,[1]Sheet1!$A:$A,[1]Sheet1!$F:$F,\"Not found\",0)","v":"REC-0071"},{"$f":"_xlfn.XLOOKUP(A121,[1]Sheet1!$A:$A,[1]Sheet1!$H:$H,\"not found\",0)","v":"2014-03-31"},{"$f":"_xlfn.XLOOKUP(A121,[1]Sheet1!$A:$A,[1]Sheet1!$D:$D,\"not found\",0)","v":{"v":2184.91,"d":"R2,184.91"}},{"$f":"_xlfn.XLOOKUP(A121,[1]Sheet1!$A:$A,[1]Sheet1!$E:$E,\"not found\",0)","v":{"v":1,"d":"R1.00"}},{"$f":"_xlfn.XLOOKUP(A121,[1]Sheet1!$A:$A,[1]Sheet1!$I:$I,\"not found\",0)","v":"2026-03-31"},"No longer provide economic value to the organisation","Scrap","Asset no longer meets a business requirement"]
[11000015235,"Acer Monitor",{"$f":"_xlfn.XLOOKUP(A122,[1]Sheet1!$A:$A,[1]Sheet1!$C:$C,\"Not found\",0)","v":"10135"},{"$f":"_xlfn.XLOOKUP(A122,[1]Sheet1!$A:$A,[1]Sheet1!$F:$F,\"Not found\",0)","v":"REC-0071"},{"$f":"_xlfn.XLOOKUP(A122,[1]Sheet1!$A:$A,[1]Sheet1!$H:$H,\"not found\",0)","v":"2014-03-31"},{"$f":"_xlfn.XLOOKUP(A122,[1]Sheet1!$A:$A,[1]Sheet1!$D:$D,\"not found\",0)","v":{"v":2184.91,"d":"R2,184.91"}},{"$f":"_xlfn.XLOOKUP(A122,[1]Sheet1!$A:$A,[1]Sheet1!$E:$E,\"not found\",0)","v":{"v":1,"d":"R1.00"}},{"$f":"_xlfn.XLOOKUP(A122,[1]Sheet1!$A:$A,[1]Sheet1!$I:$I,\"not found\",0)","v":"2026-03-31"},"No longer provide economic value to the organisation","Scrap","Asset no longer meets a business requirement"]
[11000015237,"Acer Monitor",{"$f":"_xlfn.XLOOKUP(A123,[1]Sheet1!$A:$A,[1]Sheet1!$C:$C,\"Not found\",0)","v":"10135"},{"$f":"_xlfn.XLOOKUP(A123,[1]Sheet1!$A:$A,[1]Sheet1!$F:$F,\"Not found\",0)","v":"REC-0071"},{"$f":"_xlfn.XLOOKUP(A123,[1]Sheet1!$A:$A,[1]Sheet1!$H:$H,\"not found\",0)","v":"2014-03-31"},{"$f":"_xlfn.XLOOKUP(A123,[1]Sheet1!$A:$A,[1]Sheet1!$D:$D,\"not found\",0)","v":{"v":2184.91,"d":"R2,184.91"}},{"$f":"_xlfn.XLOOKUP(A123,[1]Sheet1!$A:$A,[1]Sheet1!$E:$E,\"not found\",0)","v":{"v":1,"d":"R1.00"}},{"$f":"_xlfn.XLOOKUP(A123,[1]Sheet1!$A:$A,[1]Sheet1!$I:$I,\"not found\",0)","v":"2026-03-31"},"No longer provide economic value to the organisation","Scrap","Asset no longer meets a business requirement"]
[11000015395,"Acer Monitor",{"$f":"_xlfn.XLOOKUP(A124,[1]Sheet1!$A:$A,[1]Sheet1!$C:$C,\"Not found\",0)","v":"10135"},{"$f":"_xlfn.XLOOKUP(A124,[1]Sheet1!$A:$A,[1]Sheet1!$F:$F,\"Not found\",0)","v":"REC-0071"},{"$f":"_xlfn.XLOOKUP(A124,[1]Sheet1!$A:$A,[1]Sheet1!$H:$H,\"not found\",0)","v":"2014-06-17"},{"$f":"_xlfn.XLOOKUP(A124,[1]Sheet1!$A:$A,[1]Sheet1!$D:$D,\"not found\",0)","v":{"v":2092.04,"d":"R2,092.04"}},{"$f":"_xlfn.XLOOKUP(A124,[1]Sheet1!$A:$A,[1]Sheet1!$E:$E,\"not found\",0)","v":{"v":1,"d":"R1.00"}},{"$f":"_xlfn.XLOOKUP(A124,[1]Sheet1!$A:$A,[1]Sheet1!$I:$I,\"not found\",0)","v":"2026-03-31"},"No longer provide economic value to the organisation","Scrap","Asset no longer meets a business requirement"]
[11000015714,"Acer Monitor",{"$f":"_xlfn.XLOOKUP(A125,[1]Sheet1!$A:$A,[1]Sheet1!$C:$C,\"Not found\",0)","v":"10135"},{"$f":"_xlfn.XLOOKUP(A125,[1]Sheet1!$A:$A,[1]Sheet1!$F:$F,\"Not found\",0)","v":"REC-0071"},{"$f":"_xlfn.XLOOKUP(A125,[1]Sheet1!$A:$A,[1]Sheet1!$H:$H,\"not found\",0)","v":"2014-10-24"},{"$f":"_xlfn.XLOOKUP(A125,[1]Sheet1!$A:$A,[1]Sheet1!$D:$D,\"not found\",0)","v":{"v":1175.97,"d":"R1,175.97"}},{"$f":"_xlfn.XLOOKUP(A125,[1]Sheet1!$A:$A,[1]Sheet1!$E:$E,\"not found\",0)","v":{"v":1,"d":"R1.00"}},{"$f":"_xlfn.XLOOKUP(A125,[1]Sheet1!$A:$A,[1]Sheet1!$I:$I,\"not found\",0)","v":"2026-03-31"},"No longer provide economic value to the organisation","Scrap","Asset no longer meets a business requirement"]
[11000015715,"Acer Monitor",{"$f":"_xlfn.XLOOKUP(A126,[1]Sheet1!$A:$A,[1]Sheet1!$C:$C,\"Not found\",0)","v":"10135"},{"$f":"_xlfn.XLOOKUP(A126,[1]Sheet1!$A:$A,[1]Sheet1!$F:$F,\"Not found\",0)","v":"REC-0071"},{"$f":"_xlfn.XLOOKUP(A126,[1]Sheet1!$A:$A,[1]Sheet1!$H:$H,\"not found\",0)","v":"2014-10-24"},{"$f":"_xlfn.XLOOKUP(A126,[1]Sheet1!$A:$A,[1]Sheet1!$D:$D,\"not found\",0)","v":{"v":1175.97,"d":"R1,175.97"}},{"$f":"_xlfn.XLOOKUP(A126,[1]Sheet1!$A:$A,[1]Sheet1!$E:$E,\"not found\",0)","v":{"v":1,"d":"R1.00"}},{"$f":"_xlfn.XLOOKUP(A126,[1]Sheet1!$A:$A,[1]Sheet1!$I:$I,\"not found\",0)","v":"2026-03-31"},"No longer provide economic value to the organisation","Scrap","Asset no longer meets a business requirement"]
[11000015716,"Acer Monitor",{"$f":"_xlfn.XLOOKUP(A127,[1]Sheet1!$A:$A,[1]Sheet1!$C:$C,\"Not found\",0)","v":"10135"},{"$f":"_xlfn.XLOOKUP(A127,[1]Sheet1!$A:$A,[1]Sheet1!$F:$F,\"Not found\",0)","v":"REC-0071"},{"$f":"_xlfn.XLOOKUP(A127,[1]Sheet1!$A:$A,[1]Sheet1!$H:$H,\"not found\",0)","v":"2014-10-24"},{"$f":"_xlfn.XLOOKUP(A127,[1]Sheet1!$A:$A,[1]Sheet1!$D:$D,\"not found\",0)","v":{"v":1175.97,"d":"R1,175.97"}},{"$f":"_xlfn.XLOOKUP(A127,[1]Sheet1!$A:$A,[1]Sheet1!$E:$E,\"not found\",0)","v":{"v":1,"d":"R1.00"}},{"$f":"_xlfn.XLOOKUP(A127,[1]Sheet1!$A:$A,[1]Sheet1!$I:$I,\"not found\",0)","v":"2026-03-31"},"No longer provide economic value to the organisation","Scrap","Asset no longer meets a business requirement"]
[11000015717,"Acer Monitor",{"$f":"_xlfn.XLOOKUP(A128,[1]Sheet1!$A:$A,[1]Sheet1!$C:$C,\"Not found\",0)","v":"10135"},{"$f":"_xlfn.XLOOKUP(A128,[1]Sheet1!$A:$A,[1]Sheet1!$F:$F,\"Not found\",0)","v":"REC-0071"},{"$f":"_xlfn.XLOOKUP(A128,[1]Sheet1!$A:$A,[1]Sheet1!$H:$H,\"not found\",0)","v":"2014-10-24"},{"$f":"_xlfn.XLOOKUP(A128,[1]Sheet1!$A:$A,[1]Sheet1!$D:$D,\"not found\",0)","v":{"v":1175.97,"d":"R1,175.97"}},{"$f":"_xlfn.XLOOKUP(A128,[1]Sheet1!$A:$A,[1]Sheet1!$E:$E,\"not found\",0)","v":{"v":1,"d":"R1.00"}},{"$f":"_xlfn.XLOOKUP(A128,[1]Sheet1!$A:$A,[1]Sheet1!$I:$I,\"not found\",0)","v":"2026-03-31"},"No longer provide economic value to the organisation","Scrap","Asset no longer meets a business requirement"]
[11000015719,"Acer Monitor",{"$f":"_xlfn.XLOOKUP(A129,[1]Sheet1!$A:$A,[1]Sheet1!$C:$C,\"Not found\",0)","v":"10135"},{"$f":"_xlfn.XLOOKUP(A129,[1]Sheet1!$A:$A,[1]Sheet1!$F:$F,\"Not found\",0)","v":"REC-0071"},{"$f":"_xlfn.XLOOKUP(A129,[1]Sheet1!$A:$A,[1]Sheet1!$H:$H,\"not found\",0)","v":"2014-10-24"},{"$f":"_xlfn.XLOOKUP(A129,[1]Sheet1!$A:$A,[1]Sheet1!$D:$D,\"not found\",0)","v":{"v":1175.97,"d":"R1,175.97"}},{"$f":"_xlfn.XLOOKUP(A129,[1]Sheet1!$A:$A,[1]Sheet1!$E:$E,\"not found\",0)","v":{"v":1,"d":"R1.00"}},{"$f":"_xlfn.XLOOKUP(A129,[1]Sheet1!$A:$A,[1]Sheet1!$I:$I,\"not found\",0)","v":"2026-03-31"},"No longer provide economic value to the organisation","Scrap","Asset no longer meets a business requirement"]
[11000015721,"Acer Monitor",{"$f":"_xlfn.XLOOKUP(A130,[1]Sheet1!$A:$A,[1]Sheet1!$C:$C,\"Not found\",0)","v":"10135"},{"$f":"_xlfn.XLOOKUP(A130,[1]Sheet1!$A:$A,[1]Sheet1!$F:$F,\"Not found\",0)","v":"REC-0071"},{"$f":"_xlfn.XLOOKUP(A130,[1]Sheet1!$A:$A,[1]Sheet1!$H:$H,\"not found\",0)","v":"2014-10-24"},{"$f":"_xlfn.XLOOKUP(A130,[1]Sheet1!$A:$A,[1]Sheet1!$D:$D,\"not found\",0)","v":{"v":1175.97,"d":"R1,175.97"}},{"$f":"_xlfn.XLOOKUP(A130,[1]Sheet1!$A:$A,[1]Sheet1!$E:$E,\"not found\",0)","v":{"v":1,"d":"R1.00"}},{"$f":"_xlfn.XLOOKUP(A130,[1]Sheet1!$A:$A,[1]Sheet1!$I:$I,\"not found\",0)","v":"2026-03-31"},"No longer provide economic value to the organisation","Scrap","Asset no longer meets a business requirement"]
[11000015722,"Acer Monitor",{"$f":"_xlfn.XLOOKUP(A131,[1]Sheet1!$A:$A,[1]Sheet1!$C:$C,\"Not found\",0)","v":"10135"},{"$f":"_xlfn.XLOOKUP(A131,[1]Sheet1!$A:$A,[1]Sheet1!$F:$F,\"Not found\",0)","v":"REC-0071"},{"$f":"_xlfn.XLOOKUP(A131,[1]Sheet1!$A:$A,[1]Sheet1!$H:$H,\"not found\",0)","v":"2014-10-24"},{"$f":"_xlfn.XLOOKUP(A131,[1]Sheet1!$A:$A,[1]Sheet1!$D:$D,\"not found\",0)","v":{"v":1175.97,"d":"R1,175.97"}},{"$f":"_xlfn.XLOOKUP(A131,[1]Sheet1!$A:$A,[1]Sheet1!$E:$E,\"not found\",0)","v":{"v":1,"d":"R1.00"}},{"$f":"_xlfn.XLOOKUP(A131,[1]Sheet1!$A:$A,[1]Sheet1!$I:$I,\"not found\",0)","v":"2026-03-31"},"No longer provide economic value to the organisation","Scrap","Asset no longer meets a business requirement"]
[11000015723,"Acer Monitor",{"$f":"_xlfn.XLOOKUP(A132,[1]Sheet1!$A:$A,[1]Sheet1!$C:$C,\"Not found\",0)","v":"10135"},{"$f":"_xlfn.XLOOKUP(A132,[1]Sheet1!$A:$A,[1]Sheet1!$F:$F,\"Not found\",0)","v":"REC-0071"},{"$f":"_xlfn.XLOOKUP(A132,[1]Sheet1!$A:$A,[1]Sheet1!$H:$H,\"not found\",0)","v":"2014-10-24"},{"$f":"_xlfn.XLOOKUP(A132,[1]Sheet1!$A:$A,[1]Sheet1!$D:$D,\"not found\",0)","v":{"v":1175.97,"d":"R1,175.97"}},{"$f":"_xlfn.XLOOKUP(A132,[1]Sheet1!$A:$A,[1]Sheet1!$E:$E,\"not found\",0)","v":{"v":1,"d":"R1.00"}},{"$f":"_xlfn.XLOOKUP(A132,[1]Sheet1!$A:$A,[1]Sheet1!$I:$I,\"not found\",0)","v":"2026-03-31"},"No longer provide economic value to the organisation","Scrap","Asset no longer meets a business requirement"]
[11000015724,"Acer Monitor",{"$f":"_xlfn.XLOOKUP(A133,[1]Sheet1!$A:$A,[1]Sheet1!$C:$C,\"Not found\",0)","v":"10135"},{"$f":"_xlfn.XLOOKUP(A133,[1]Sheet1!$A:$A,[1]Sheet1!$F:$F,\"Not found\",0)","v":"REC-0071"},{"$f":"_xlfn.XLOOKUP(A133,[1]Sheet1!$A:$A,[1]Sheet1!$H:$H,\"not found\",0)","v":"2014-10-24"},{"$f":"_xlfn.XLOOKUP(A133,[1]Sheet1!$A:$A,[1]Sheet1!$D:$D,\"not found\",0)","v":{"v":1175.97,"d":"R1,175.97"}},{"$f":"_xlfn.XLOOKUP(A133,[1]Sheet1!$A:$A,[1]Sheet1!$E:$E,\"not found\",0)","v":{"v":1,"d":"R1.00"}},{"$f":"_xlfn.XLOOKUP(A133,[1]Sheet1!$A:$A,[1]Sheet1!$I:$I,\"not found\",0)","v":"2026-03-31"},"No longer provide economic value to the organisation","Scrap","Asset no longer meets a business requirement"]
[11000015725,"Acer Monitor",{"$f":"_xlfn.XLOOKUP(A134,[1]Sheet1!$A:$A,[1]Sheet1!$C:$C,\"Not found\",0)","v":"10135"},{"$f":"_xlfn.XLOOKUP(A134,[1]Sheet1!$A:$A,[1]Sheet1!$F:$F,\"Not found\",0)","v":"REC-0071"},{"$f":"_xlfn.XLOOKUP(A134,[1]Sheet1!$A:$A,[1]Sheet1!$H:$H,\"not found\",0)","v":"2014-10-24"},{"$f":"_xlfn.XLOOKUP(A134,[1]Sheet1!$A:$A,[1]Sheet1!$D:$D,\"not found\",0)","v":{"v":1175.97,"d":"R1,175.97"}},{"$f":"_xlfn.XLOOKUP(A134,[1]Sheet1!$A:$A,[1]Sheet1!$E:$E,\"not found\",0)","v":{"v":1,"d":"R1.00"}},{"$f":"_xlfn.XLOOKUP(A134,[1]Sheet1!$A:$A,[1]Sheet1!$I:$I,\"not found\",0)","v":"2026-03-31"},"No longer provide economic value to the organisation","Scrap","Asset no longer meets a business requirement"]
[11000015726,"Acer Monitor",{"$f":"_xlfn.XLOOKUP(A135,[1]Sheet1!$A:$A,[1]Sheet1!$C:$C,\"Not found\",0)","v":"10135"},{"$f":"_xlfn.XLOOKUP(A135,[1]Sheet1!$A:$A,[1]Sheet1!$F:$F,\"Not found\",0)","v":"REC-0071"},{"$f":"_xlfn.XLOOKUP(A135,[1]Sheet1!$A:$A,[1]Sheet1!$H:$H,\"not found\",0)","v":"2014-10-24"},{"$f":"_xlfn.XLOOKUP(A135,[1]Sheet1!$A:$A,[1]Sheet1!$D:$D,\"not found\",0)","v":{"v":1175.97,"d":"R1,175.97"}},{"$f":"_xlfn.XLOOKUP(A135,[1]Sheet1!$A:$A,[1]Sheet1!$E:$E,\"not found\",0)","v":{"v":1,"d":"R1.00"}},{"$f":"_xlfn.XLOOKUP(A135,[1]Sheet1!$A:$A,[1]Sheet1!$I:$I,\"not found\",0)","v":"2026-03-31"},"No longer provide economic value to the organisation","Scrap","Asset no longer meets a business requirement"]
[11000015728,"Acer Monitor",{"$f":"_xlfn.XLOOKUP(A136,[1]Sheet1!$A:$A,[1]Sheet1!$C:$C,\"Not found\",0)","v":"10135"},{"$f":"_xlfn.XLOOKUP(A136,[1]Sheet1!$A:$A,[1]Sheet1!$F:$F,\"Not found\",0)","v":"REC-0071"},{"$f":"_xlfn.XLOOKUP(A136,[1]Sheet1!$A:$A,[1]Sheet1!$H:$H,\"not found\",0)","v":"2014-10-24"},{"$f":"_xlfn.XLOOKUP(A136,[1]Sheet1!$A:$A,[1]Sheet1!$D:$D,\"not found\",0)","v":{"v":1175.97,"d":"R1,175.97"}},{"$f":"_xlfn.XLOOKUP(A136,[1]Sheet1!$A:$A,[1]Sheet1!$E:$E,\"not found\",0)","v":{"v":1,"d":"R1.00"}},{"$f":"_xlfn.XLOOKUP(A136,[1]Sheet1!$A:$A,[1]Sheet1!$I:$I,\"not found\",0)","v":"2026-03-31"},"No longer provide economic value to the organisation","Scrap","Asset no longer meets a business requirement"]
[11000015729,"Acer Monitor",{"$f":"_xlfn.XLOOKUP(A137,[1]Sheet1!$A:$A,[1]Sheet1!$C:$C,\"Not found\",0)","v":"10135"},{"$f":"_xlfn.XLOOKUP(A137,[1]Sheet1!$A:$A,[1]Sheet1!$F:$F,\"Not found\",0)","v":"REC-0071"},{"$f":"_xlfn.XLOOKUP(A137,[1]Sheet1!$A:$A,[1]Sheet1!$H:$H,\"not found\",0)","v":"2014-10-24"},{"$f":"_xlfn.XLOOKUP(A137,[1]Sheet1!$A:$A,[1]Sheet1!$D:$D,\"not found\",0)","v":{"v":1175.97,"d":"R1,175.97"}},{"$f":"_xlfn.XLOOKUP(A137,[1]Sheet1!$A:$A,[1]Sheet1!$E:$E,\"not found\",0)","v":{"v":1,"d":"R1.00"}},{"$f":"_xlfn.XLOOKUP(A137,[1]Sheet1!$A:$A,[1]Sheet1!$I:$I,\"not found\",0)","v":"2026-03-31"},"No longer provide economic value to the organisation","Scrap","Asset no longer meets a business requirement"]
[11000015730,"Acer Monitor",{"$f":"_xlfn.XLOOKUP(A138,[1]Sheet1!$A:$A,[1]Sheet1!$C:$C,\"Not found\",0)","v":"10135"},{"$f":"_xlfn.XLOOKUP(A138,[1]Sheet1!$A:$A,[1]Sheet1!$F:$F,\"Not found\",0)","v":"REC-0071"},{"$f":"_xlfn.XLOOKUP(A138,[1]Sheet1!$A:$A,[1]Sheet1!$H:$H,\"not found\",0)","v":"2014-10-24"},{"$f":"_xlfn.XLOOKUP(A138,[1]Sheet1!$A:$A,[1]Sheet1!$D:$D,\"not found\",0)","v":{"v":1175.97,"d":"R1,175.97"}},{"$f":"_xlfn.XLOOKUP(A138,[1]Sheet1!$A:$A,[1]Sheet1!$E:$E,\"not found\",0)","v":{"v":1,"d":"R1.00"}},{"$f":"_xlfn.XLOOKUP(A138,[1]Sheet1!$A:$A,[1]Sheet1!$I:$I,\"not found\",0)","v":"2026-03-31"},"No longer provide economic value to the organisation","Scrap","Asset no longer meets a business requirement"]
[11000015731,"Acer Monitor",{"$f":"_xlfn.XLOOKUP(A139,[1]Sheet1!$A:$A,[1]Sheet1!$C:$C,\"Not found\",0)","v":"10135"},{"$f":"_xlfn.XLOOKUP(A139,[1]Sheet1!$A:$A,[1]Sheet1!$F:$F,\"Not found\",0)","v":"REC-0071"},{"$f":"_xlfn.XLOOKUP(A139,[1]Sheet1!$A:$A,[1]Sheet1!$H:$H,\"not found\",0)","v":"2014-10-24"},{"$f":"_xlfn.XLOOKUP(A139,[1]Sheet1!$A:$A,[1]Sheet1!$D:$D,\"not found\",0)","v":{"v":1175.97,"d":"R1,175.97"}},{"$f":"_xlfn.XLOOKUP(A139,[1]Sheet1!$A:$A,[1]Sheet1!$E:$E,\"not found\",0)","v":{"v":1,"d":"R1.00"}},{"$f":"_xlfn.XLOOKUP(A139,[1]Sheet1!$A:$A,[1]Sheet1!$I:$I,\"not found\",0)","v":"2026-03-31"},"No longer provide economic value to the organisation","Scrap","Asset no longer meets a business requirement"]
[11000015733,"Acer  Monitor",{"$f":"_xlfn.XLOOKUP(A140,[1]Sheet1!$A:$A,[1]Sheet1!$C:$C,\"Not found\",0)","v":"10135"},{"$f":"_xlfn.XLOOKUP(A140,[1]Sheet1!$A:$A,[1]Sheet1!$F:$F,\"Not found\",0)","v":"REC-0071"},{"$f":"_xlfn.XLOOKUP(A140,[1]Sheet1!$A:$A,[1]Sheet1!$H:$H,\"not found\",0)","v":"2014-10-24"},{"$f":"_xlfn.XLOOKUP(A140,[1]Sheet1!$A:$A,[1]Sheet1!$D:$D,\"not found\",0)","v":{"v":1175.97,"d":"R1,175.97"}},{"$f":"_xlfn.XLOOKUP(A140,[1]Sheet1!$A:$A,[1]Sheet1!$E:$E,\"not found\",0)","v":{"v":1,"d":"R1.00"}},{"$f":"_xlfn.XLOOKUP(A140,[1]Sheet1!$A:$A,[1]Sheet1!$I:$I,\"not found\",0)","v":"2026-03-31"},"No longer provide economic value to the organisation","Scrap","Asset no longer meets a business requirement"]
[11000015735,"Acer Monitor",{"$f":"_xlfn.XLOOKUP(A141,[1]Sheet1!$A:$A,[1]Sheet1!$C:$C,\"Not found\",0)","v":"10135"},{"$f":"_xlfn.XLOOKUP(A141,[1]Sheet1!$A:$A,[1]Sheet1!$F:$F,\"Not found\",0)","v":"REC-0071"},{"$f":"_xlfn.XLOOKUP(A141,[1]Sheet1!$A:$A,[1]Sheet1!$H:$H,\"not found\",0)","v":"2014-10-24"},{"$f":"_xlfn.XLOOKUP(A141,[1]Sheet1!$A:$A,[1]Sheet1!$D:$D,\"not found\",0)","v":{"v":1175.97,"d":"R1,175.97"}},{"$f":"_xlfn.XLOOKUP(A141,[1]Sheet1!$A:$A,[1]Sheet1!$E:$E,\"not found\",0)","v":{"v":1,"d":"R1.00"}},{"$f":"_xlfn.XLOOKUP(A141,[1]Sheet1!$A:$A,[1]Sheet1!$I:$I,\"not found\",0)","v":"2026-03-31"},"No longer provide economic value to the organisation","Scrap","Asset no longer meets a business requirement"]
[11000015737,"Acer Monitor",{"$f":"_xlfn.XLOOKUP(A142,[1]Sheet1!$A:$A,[1]Sheet1!$C:$C,\"Not found\",0)","v":"10135"},{"$f":"_xlfn.XLOOKUP(A142,[1]Sheet1!$A:$A,[1]Sheet1!$F:$F,\"Not found\",0)","v":"REC-0071"},{"$f":"_xlfn.XLOOKUP(A142,[1]Sheet1!$A:$A,[1]Sheet1!$H:$H,\"not found\",0)","v":"2014-10-24"},{"$f":"_xlfn.XLOOKUP(A142,[1]Sheet1!$A:$A,[1]Sheet1!$D:$D,\"not found\",0)","v":{"v":1175.97,"d":"R1,175.97"}},{"$f":"_xlfn.XLOOKUP(A142,[1]Sheet1!$A:$A,[1]Sheet1!$E:$E,\"not found\",0)","v":{"v":1,"d":"R1.00"}},{"$f":"_xlfn.XLOOKUP(A142,[1]Sheet1!$A:$A,[1]Sheet1!$I:$I,\"not found\",0)","v":"2026-03-31"},"No longer provide economic value to the organisation","Scrap","Asset no longer meets a business requirement"]
[11000015739,"Acer Monitor",{"$f":"_xlfn.XLOOKUP(A143,[1]Sheet1!$A:$A,[1]Sheet1!$C:$C,\"Not found\",0)","v":"10135"},{"$f":"_xlfn.XLOOKUP(A143,[1]Sheet1!$A:$A,[1]Sheet1!$F:$F,\"Not found\",0)","v":"REC-0071"},{"$f":"_xlfn.XLOOKUP(A143,[1]Sheet1!$A:$A,[1]Sheet1!$H:$H,\"not found\",0)","v":"2014-10-24"},{"$f":"_xlfn.XLOOKUP(A143,[1]Sheet1!$A:$A,[1]Sheet1!$D:$D,\"not found\",0)","v":{"v":1175.97,"d":"R1,175.97"}},{"$f":"_xlfn.XLOOKUP(A143,[1]Sheet1!$A:$A,[1]Sheet1!$E:$E,\"not found\",0)","v":{"v":1,"d":"R1.00"}},{"$f":"_xlfn.XLOOKUP(A143,[1]Sheet1!$A:$A,[1]Sheet1!$I:$I,\"not found\",0)","v":"2026-03-31"},"No longer provide economic value to the organisation","Scrap","Asset no longer meets a business requirement"]
[11000015740,"Acer Monitor",{"$f":"_xlfn.XLOOKUP(A144,[1]Sheet1!$A:$A,[1]Sheet1!$C:$C,\"Not found\",0)","v":"10135"},{"$f":"_xlfn.XLOOKUP(A144,[1]Sheet1!$A:$A,[1]Sheet1!$F:$F,\"Not found\",0)","v":"REC-0071"},{"$f":"_xlfn.XLOOKUP(A144,[1]Sheet1!$A:$A,[1]Sheet1!$H:$H,\"not found\",0)","v":"2014-10-24"},{"$f":"_xlfn.XLOOKUP(A144,[1]Sheet1!$A:$A,[1]Sheet1!$D:$D,\"not found\",0)","v":{"v":1175.97,"d":"R1,175.97"}},{"$f":"_xlfn.XLOOKUP(A144,[1]Sheet1!$A:$A,[1]Sheet1!$E:$E,\"not found\",0)","v":{"v":1,"d":"R1.00"}},{"$f":"_xlfn.XLOOKUP(A144,[1]Sheet1!$A:$A,[1]Sheet1!$I:$I,\"not found\",0)","v":"2026-03-31"},"No longer provide economic value to the organisation","Scrap","Asset no longer meets a business requirement"]
[11000015741,"Acer Monitor",{"$f":"_xlfn.XLOOKUP(A145,[1]Sheet1!$A:$A,[1]Sheet1!$C:$C,\"Not found\",0)","v":"10135"},{"$f":"_xlfn.XLOOKUP(A145,[1]Sheet1!$A:$A,[1]Sheet1!$F:$F,\"Not found\",0)","v":"REC-0071"},{"$f":"_xlfn.XLOOKUP(A145,[1]Sheet1!$A:$A,[1]Sheet1!$H:$H,\"not found\",0)","v":"2014-10-24"},{"$f":"_xlfn.XLOOKUP(A145,[1]Sheet1!$A:$A,[1]Sheet1!$D:$D,\"not found\",0)","v":{"v":1175.97,"d":"R1,175.97"}},{"$f":"_xlfn.XLOOKUP(A145,[1]Sheet1!$A:$A,[1]Sheet1!$E:$E,\"not found\",0)","v":{"v":1,"d":"R1.00"}},{"$f":"_xlfn.XLOOKUP(A145,[1]Sheet1!$A:$A,[1]Sheet1!$I:$I,\"not found\",0)","v":"2026-03-31"},"No longer provide economic value to the organisation","Scrap","Asset no longer meets a business requirement"]
[11000015742,"Acer Monitor",{"$f":"_xlfn.XLOOKUP(A146,[1]Sheet1!$A:$A,[1]Sheet1!$C:$C,\"Not found\",0)","v":"10135"},{"$f":"_xlfn.XLOOKUP(A146,[1]Sheet1!$A:$A,[1]Sheet1!$F:$F,\"Not found\",0)","v":"HGP-0001"},{"$f":"_xlfn.XLOOKUP(A146,[1]Sheet1!$A:$A,[1]Sheet1!$H:$H,\"not found\",0)","v":"2014-10-24"},{"$f":"_xlfn.XLOOKUP(A146,[1]Sheet1!$A:$A,[1]Sheet1!$D:$D,\"not found\",0)","v":{"v":1286.23,"d":"R1,286.23"}},{"$f":"_xlfn.XLOOKUP(A146,[1]Sheet1!$A:$A,[1]Sheet1!$E:$E,\"not found\",0)","v":{"v":1,"d":"R1.00"}},{"$f":"_xlfn.XLOOKUP(A146,[1]Sheet1!$A:$A,[1]Sheet1!$I:$I,\"not found\",0)","v":"2026-03-31"},"No longer provide economic value to the organisation","Scrap","Asset no longer meets a business requirement"]
[11000015743,"Acer Monitor",{"$f":"_xlfn.XLOOKUP(A147,[1]Sheet1!$A:$A,[1]Sheet1!$C:$C,\"Not found\",0)","v":"10135"},{"$f":"_xlfn.XLOOKUP(A147,[1]Sheet1!$A:$A,[1]Sheet1!$F:$F,\"Not found\",0)","v":"REC-0071"},{"$f":"_xlfn.XLOOKUP(A147,[1]Sheet1!$A:$A,[1]Sheet1!$H:$H,\"not found\",0)","v":"2014-10-24"},{"$f":"_xlfn.XLOOKUP(A147,[1]Sheet1!$A:$A,[1]Sheet1!$D:$D,\"not found\",0)","v":{"v":1543.71,"d":"R1,543.71"}},{"$f":"_xlfn.XLOOKUP(A147,[1]Sheet1!$A:$A,[1]Sheet1!$E:$E,\"not found\",0)","v":{"v":1,"d":"R1.00"}},{"$f":"_xlfn.XLOOKUP(A147,[1]Sheet1!$A:$A,[1]Sheet1!$I:$I,\"not found\",0)","v":"2026-03-31"},"No longer provide economic value to the organisation","Scrap","Asset no longer meets a business requirement"]
[11000015809,"Acer Monitor",{"$f":"_xlfn.XLOOKUP(A148,[1]Sheet1!$A:$A,[1]Sheet1!$C:$C,\"Not found\",0)","v":"10135"},{"$f":"_xlfn.XLOOKUP(A148,[1]Sheet1!$A:$A,[1]Sheet1!$F:$F,\"Not found\",0)","v":"REC-0071"},{"$f":"_xlfn.XLOOKUP(A148,[1]Sheet1!$A:$A,[1]Sheet1!$H:$H,\"not found\",0)","v":"2014-11-04"},{"$f":"_xlfn.XLOOKUP(A148,[1]Sheet1!$A:$A,[1]Sheet1!$D:$D,\"not found\",0)","v":{"v":1740.02,"d":"R1,740.02"}},{"$f":"_xlfn.XLOOKUP(A148,[1]Sheet1!$A:$A,[1]Sheet1!$E:$E,\"not found\",0)","v":{"v":1,"d":"R1.00"}},{"$f":"_xlfn.XLOOKUP(A148,[1]Sheet1!$A:$A,[1]Sheet1!$I:$I,\"not found\",0)","v":"2026-03-31"},"No longer provide economic value to the organisation","Scrap","Asset no longer meets a business requirement"]
[11000015810,"Acer Monitor",{"$f":"_xlfn.XLOOKUP(A149,[1]Sheet1!$A:$A,[1]Sheet1!$C:$C,\"Not found\",0)","v":"10135"},{"$f":"_xlfn.XLOOKUP(A149,[1]Sheet1!$A:$A,[1]Sheet1!$F:$F,\"Not found\",0)","v":"REC-0071"},{"$f":"_xlfn.XLOOKUP(A149,[1]Sheet1!$A:$A,[1]Sheet1!$H:$H,\"not found\",0)","v":"2014-11-04"},{"$f":"_xlfn.XLOOKUP(A149,[1]Sheet1!$A:$A,[1]Sheet1!$D:$D,\"not found\",0)","v":{"v":1740.02,"d":"R1,740.02"}},{"$f":"_xlfn.XLOOKUP(A149,[1]Sheet1!$A:$A,[1]Sheet1!$E:$E,\"not found\",0)","v":{"v":1,"d":"R1.00"}},{"$f":"_xlfn.XLOOKUP(A149,[1]Sheet1!$A:$A,[1]Sheet1!$I:$I,\"not found\",0)","v":"2026-03-31"},"No longer provide economic value to the organisation","Scrap","Asset no longer meets a business requirement"]
[11000015811,"Acer Monitor",{"$f":"_xlfn.XLOOKUP(A150,[1]Sheet1!$A:$A,[1]Sheet1!$C:$C,\"Not found\",0)","v":"10135"},{"$f":"_xlfn.XLOOKUP(A150,[1]Sheet1!$A:$A,[1]Sheet1!$F:$F,\"Not found\",0)","v":"REC-0071"},{"$f":"_xlfn.XLOOKUP(A150,[1]Sheet1!$A:$A,[1]Sheet1!$H:$H,\"not found\",0)","v":"2014-11-04"},{"$f":"_xlfn.XLOOKUP(A150,[1]Sheet1!$A:$A,[1]Sheet1!$D:$D,\"not found\",0)","v":{"v":1740.02,"d":"R1,740.02"}},{"$f":"_xlfn.XLOOKUP(A150,[1]Sheet1!$A:$A,[1]Sheet1!$E:$E,\"not found\",0)","v":{"v":1,"d":"R1.00"}},{"$f":"_xlfn.XLOOKUP(A150,[1]Sheet1!$A:$A,[1]Sheet1!$I:$I,\"not found\",0)","v":"2026-03-31"},"No longer provide economic value to the organisation","Scrap","Asset no longer meets a business requirement"]
[11000015812,"Acer Monitor",{"$f":"_xlfn.XLOOKUP(A151,[1]Sheet1!$A:$A,[1]Sheet1!$C:$C,\"Not found\",0)","v":"10135"},{"$f":"_xlfn.XLOOKUP(A151,[1]Sheet1!$A:$A,[1]Sheet1!$F:$F,\"Not found\",0)","v":"REC-0071"},{"$f":"_xlfn.XLOOKUP(A151,[1]Sheet1!$A:$A,[1]Sheet1!$H:$H,\"not found\",0)","v":"2014-11-04"},{"$f":"_xlfn.XLOOKUP(A151,[1]Sheet1!$A:$A,[1]Sheet1!$D:$D,\"not found\",0)","v":{"v":1740.02,"d":"R1,740.02"}},{"$f":"_xlfn.XLOOKUP(A151,[1]Sheet1!$A:$A,[1]Sheet1!$E:$E,\"not found\",0)","v":{"v":1,"d":"R1.00"}},{"$f":"_xlfn.XLOOKUP(A151,[1]Sheet1!$A:$A,[1]Sheet1!$I:$I,\"not found\",0)","v":"2026-03-31"},"No longer provide economic value to the organisation","Scrap","Asset no longer meets a business requirement"]
[11000015813,"Acer Monitor",{"$f":"_xlfn.XLOOKUP(A152,[1]Sheet1!$A:$A,[1]Sheet1!$C:$C,\"Not found\",0)","v":"10135"},{"$f":"_xlfn.XLOOKUP(A152,[1]Sheet1!$A:$A,[1]Sheet1!$F:$F,\"Not found\",0)","v":"REC-0071"},{"$f":"_xlfn.XLOOKUP(A152,[1]Sheet1!$A:$A,[1]Sheet1!$H:$H,\"not found\",0)","v":"2014-11-04"},{"$f":"_xlfn.XLOOKUP(A152,[1]Sheet1!$A:$A,[1]Sheet1!$D:$D,\"not found\",0)","v":{"v":1755.91,"d":"R1,755.91"}},{"$f":"_xlfn.XLOOKUP(A152,[1]Sheet1!$A:$A,[1]Sheet1!$E:$E,\"not found\",0)","v":{"v":1,"d":"R1.00"}},{"$f":"_xlfn.XLOOKUP(A152,[1]Sheet1!$A:$A,[1]Sheet1!$I:$I,\"not found\",0)","v":"2026-03-31"},"No longer provide economic value to the organisation","Scrap","Asset no longer meets a business requirement"]
[11000015814,"Acer Monitor",{"$f":"_xlfn.XLOOKUP(A153,[1]Sheet1!$A:$A,[1]Sheet1!$C:$C,\"Not found\",0)","v":"10135"},{"$f":"_xlfn.XLOOKUP(A153,[1]Sheet1!$A:$A,[1]Sheet1!$F:$F,\"Not found\",0)","v":"REC-0071"},{"$f":"_xlfn.XLOOKUP(A153,[1]Sheet1!$A:$A,[1]Sheet1!$H:$H,\"not found\",0)","v":"2014-11-04"},{"$f":"_xlfn.XLOOKUP(A153,[1]Sheet1!$A:$A,[1]Sheet1!$D:$D,\"not found\",0)","v":{"v":1755.87,"d":"R1,755.87"}},{"$f":"_xlfn.XLOOKUP(A153,[1]Sheet1!$A:$A,[1]Sheet1!$E:$E,\"not found\",0)","v":{"v":1,"d":"R1.00"}},{"$f":"_xlfn.XLOOKUP(A153,[1]Sheet1!$A:$A,[1]Sheet1!$I:$I,\"not found\",0)","v":"2026-03-31"},"No longer provide economic value to the organisation","Scrap","Asset no longer meets a business requirement"]
[11000016558,"Acer Monitor",{"$f":"_xlfn.XLOOKUP(A154,[1]Sheet1!$A:$A,[1]Sheet1!$C:$C,\"Not found\",0)","v":"10135"},{"$f":"_xlfn.XLOOKUP(A154,[1]Sheet1!$A:$A,[1]Sheet1!$F:$F,\"Not found\",0)","v":"REC-0071"},{"$f":"_xlfn.XLOOKUP(A154,[1]Sheet1!$A:$A,[1]Sheet1!$H:$H,\"not found\",0)","v":"2015-06-17"},{"$f":"_xlfn.XLOOKUP(A154,[1]Sheet1!$A:$A,[1]Sheet1!$D:$D,\"not found\",0)","v":{"v":2298.88,"d":"R2,298.88"}},{"$f":"_xlfn.XLOOKUP(A154,[1]Sheet1!$A:$A,[1]Sheet1!$E:$E,\"not found\",0)","v":{"v":1,"d":"R1.00"}},{"$f":"_xlfn.XLOOKUP(A154,[1]Sheet1!$A:$A,[1]Sheet1!$I:$I,\"not found\",0)","v":"2026-03-31"},"No longer provide economic value to the organisation","Scrap","Asset no longer meets a business requirement"]
[11000016559,"Acer Monitor",{"$f":"_xlfn.XLOOKUP(A155,[1]Sheet1!$A:$A,[1]Sheet1!$C:$C,\"Not found\",0)","v":"10135"},{"$f":"_xlfn.XLOOKUP(A155,[1]Sheet1!$A:$A,[1]Sheet1!$F:$F,\"Not found\",0)","v":"REC-0071"},{"$f":"_xlfn.XLOOKUP(A155,[1]Sheet1!$A:$A,[1]Sheet1!$H:$H,\"not found\",0)","v":"2015-06-17"},{"$f":"_xlfn.XLOOKUP(A155,[1]Sheet1!$A:$A,[1]Sheet1!$D:$D,\"not found\",0)","v":{"v":2298.88,"d":"R2,298.88"}},{"$f":"_xlfn.XLOOKUP(A155,[1]Sheet1!$A:$A,[1]Sheet1!$E:$E,\"not found\",0)","v":{"v":1,"d":"R1.00"}},{"$f":"_xlfn.XLOOKUP(A155,[1]Sheet1!$A:$A,[1]Sheet1!$I:$I,\"not found\",0)","v":"2026-03-31"},"No longer provide economic value to the organisation","Scrap","Asset no longer meets a business requirement"]
[11000016560,"Acer Monitor",{"$f":"_xlfn.XLOOKUP(A156,[1]Sheet1!$A:$A,[1]Sheet1!$C:$C,\"Not found\",0)","v":"10135"},{"$f":"_xlfn.XLOOKUP(A156,[1]Sheet1!$A:$A,[1]Sheet1!$F:$F,\"Not found\",0)","v":"REC-0071"},{"$f":"_xlfn.XLOOKUP(A156,[1]Sheet1!$A:$A,[1]Sheet1!$H:$H,\"not found\",0)","v":"2015-06-17"},{"$f":"_xlfn.XLOOKUP(A156,[1]Sheet1!$A:$A,[1]Sheet1!$D:$D,\"not found\",0)","v":{"v":2298.88,"d":"R2,298.88"}},{"$f":"_xlfn.XLOOKUP(A156,[1]Sheet1!$A:$A,[1]Sheet1!$E:$E,\"not found\",0)","v":{"v":1,"d":"R1.00"}},{"$f":"_xlfn.XLOOKUP(A156,[1]Sheet1!$A:$A,[1]Sheet1!$I:$I,\"not found\",0)","v":"2026-03-31"},"No longer provide economic value to the organisation","Scrap","Asset no longer meets a business requirement"]
[11000016561,"Acer Monitor",{"$f":"_xlfn.XLOOKUP(A157,[1]Sheet1!$A:$A,[1]Sheet1!$C:$C,\"Not found\",0)","v":"10135"},{"$f":"_xlfn.XLOOKUP(A157,[1]Sheet1!$A:$A,[1]Sheet1!$F:$F,\"Not found\",0)","v":"REC-0071"},{"$f":"_xlfn.XLOOKUP(A157,[1]Sheet1!$A:$A,[1]Sheet1!$H:$H,\"not found\",0)","v":"2015-06-17"},{"$f":"_xlfn.XLOOKUP(A157,[1]Sheet1!$A:$A,[1]Sheet1!$D:$D,\"not found\",0)","v":{"v":2298.88,"d":"R2,298.88"}},{"$f":"_xlfn.XLOOKUP(A157,[1]Sheet1!$A:$A,[1]Sheet1!$E:$E,\"not found\",0)","v":{"v":1,"d":"R1.00"}},{"$f":"_xlfn.XLOOKUP(A157,[1]Sheet1!$A:$A,[1]Sheet1!$I:$I,\"not found\",0)","v":"2026-03-31"},"No longer provide economic value to the organisation","Scrap","Asset no longer meets a business requirement"]
[11000016562,"Acer Monitor",{"$f":"_xlfn.XLOOKUP(A158,[1]Sheet1!$A:$A,[1]Sheet1!$C:$C,\"Not found\",0)","v":"10135"},{"$f":"_xlfn.XLOOKUP(A158,[1]Sheet1!$A:$A,[1]Sheet1!$F:$F,\"Not found\",0)","v":"REC-0071"},{"$f":"_xlfn.XLOOKUP(A158,[1]Sheet1!$A:$A,[1]Sheet1!$H:$H,\"not found\",0)","v":"2015-06-17"},{"$f":"_xlfn.XLOOKUP(A158,[1]Sheet1!$A:$A,[1]Sheet1!$D:$D,\"not found\",0)","v":{"v":2298.88,"d":"R2,298.88"}},{"$f":"_xlfn.XLOOKUP(A158,[1]Sheet1!$A:$A,[1]Sheet1!$E:$E,\"not found\",0)","v":{"v":1,"d":"R1.00"}},{"$f":"_xlfn.XLOOKUP(A158,[1]Sheet1!$A:$A,[1]Sheet1!$I:$I,\"not found\",0)","v":"2026-03-31"},"No longer provide economic value to the organisation","Scrap","Asset no longer meets a business requirement"]
[11000016564,"Acer Monitor",{"$f":"_xlfn.XLOOKUP(A159,[1]Sheet1!$A:$A,[1]Sheet1!$C:$C,\"Not found\",0)","v":"10135"},{"$f":"_xlfn.XLOOKUP(A159,[1]Sheet1!$A:$A,[1]Sheet1!$F:$F,\"Not found\",0)","v":"REC-0071"},{"$f":"_xlfn.XLOOKUP(A159,[1]Sheet1!$A:$A,[1]Sheet1!$H:$H,\"not found\",0)","v":"2015-06-17"},{"$f":"_xlfn.XLOOKUP(A159,[1]Sheet1!$A:$A,[1]Sheet1!$D:$D,\"not found\",0)","v":{"v":2298.88,"d":"R2,298.88"}},{"$f":"_xlfn.XLOOKUP(A159,[1]Sheet1!$A:$A,[1]Sheet1!$E:$E,\"not found\",0)","v":{"v":1,"d":"R1.00"}},{"$f":"_xlfn.XLOOKUP(A159,[1]Sheet1!$A:$A,[1]Sheet1!$I:$I,\"not found\",0)","v":"2026-03-31"},"No longer provide economic value to the organisation","Scrap","Asset no longer meets a business requirement"]
[11000016565,"Acer Monitor",{"$f":"_xlfn.XLOOKUP(A160,[1]Sheet1!$A:$A,[1]Sheet1!$C:$C,\"Not found\",0)","v":"10135"},{"$f":"_xlfn.XLOOKUP(A160,[1]Sheet1!$A:$A,[1]Sheet1!$F:$F,\"Not found\",0)","v":"REC-0071"},{"$f":"_xlfn.XLOOKUP(A160,[1]Sheet1!$A:$A,[1]Sheet1!$H:$H,\"not found\",0)","v":"2015-06-17"},{"$f":"_xlfn.XLOOKUP(A160,[1]Sheet1!$A:$A,[1]Sheet1!$D:$D,\"not found\",0)","v":{"v":2298.88,"d":"R2,298.88"}},{"$f":"_xlfn.XLOOKUP(A160,[1]Sheet1!$A:$A,[1]Sheet1!$E:$E,\"not found\",0)","v":{"v":1,"d":"R1.00"}},{"$f":"_xlfn.XLOOKUP(A160,[1]Sheet1!$A:$A,[1]Sheet1!$I:$I,\"not found\",0)","v":"2026-03-31"},"No longer provide economic value to the organisation","Scrap","Asset no longer meets a business requirement"]
[11000016566,"Acer Monitor",{"$f":"_xlfn.XLOOKUP(A161,[1]Sheet1!$A:$A,[1]Sheet1!$C:$C,\"Not found\",0)","v":"10135"},{"$f":"_xlfn.XLOOKUP(A161,[1]Sheet1!$A:$A,[1]Sheet1!$F:$F,\"Not found\",0)","v":"REC-0071"},{"$f":"_xlfn.XLOOKUP(A161,[1]Sheet1!$A:$A,[1]Sheet1!$H:$H,\"not found\",0)","v":"2015-06-17"},{"$f":"_xlfn.XLOOKUP(A161,[1]Sheet1!$A:$A,[1]Sheet1!$D:$D,\"not found\",0)","v":{"v":2298.88,"d":"R2,298.88"}},{"$f":"_xlfn.XLOOKUP(A161,[1]Sheet1!$A:$A,[1]Sheet1!$E:$E,\"not found\",0)","v":{"v":1,"d":"R1.00"}},{"$f":"_xlfn.XLOOKUP(A161,[1]Sheet1!$A:$A,[1]Sheet1!$I:$I,\"not found\",0)","v":"2026-03-31"},"No longer provide economic value to the organisation","Scrap","Asset no longer meets a business requirement"]
[11000016567,"Acer Monitor",{"$f":"_xlfn.XLOOKUP(A162,[1]Sheet1!$A:$A,[1]Sheet1!$C:$C,\"Not found\",0)","v":"10135"},{"$f":"_xlfn.XLOOKUP(A162,[1]Sheet1!$A:$A,[1]Sheet1!$F:$F,\"Not found\",0)","v":"REC-0071"},{"$f":"_xlfn.XLOOKUP(A162,[1]Sheet1!$A:$A,[1]Sheet1!$H:$H,\"not found\",0)","v":"2015-06-17"},{"$f":"_xlfn.XLOOKUP(A162,[1]Sheet1!$A:$A,[1]Sheet1!$D:$D,\"not found\",0)","v":{"v":2298.88,"d":"R2,298.88"}},{"$f":"_xlfn.XLOOKUP(A162,[1]Sheet1!$A:$A,[1]Sheet1!$E:$E,\"not found\",0)","v":{"v":1,"d":"R1.00"}},{"$f":"_xlfn.XLOOKUP(A162,[1]Sheet1!$A:$A,[1]Sheet1!$I:$I,\"not found\",0)","v":"2026-03-31"},"No longer provide economic value to the organisation","Scrap","Asset no longer meets a business requirement"]
[11000016568,"Acer Monitor",{"$f":"_xlfn.XLOOKUP(A163,[1]Sheet1!$A:$A,[1]Sheet1!$C:$C,\"Not found\",0)","v":"10135"},{"$f":"_xlfn.XLOOKUP(A163,[1]Sheet1!$A:$A,[1]Sheet1!$F:$F,\"Not found\",0)","v":"REC-0071"},{"$f":"_xlfn.XLOOKUP(A163,[1]Sheet1!$A:$A,[1]Sheet1!$H:$H,\"not found\",0)","v":"2015-06-17"},{"$f":"_xlfn.XLOOKUP(A163,[1]Sheet1!$A:$A,[1]Sheet1!$D:$D,\"not found\",0)","v":{"v":2298.88,"d":"R2,298.88"}},{"$f":"_xlfn.XLOOKUP(A163,[1]Sheet1!$A:$A,[1]Sheet1!$E:$E,\"not found\",0)","v":{"v":1,"d":"R1.00"}},{"$f":"_xlfn.XLOOKUP(A163,[1]Sheet1!$A:$A,[1]Sheet1!$I:$I,\"not found\",0)","v":"2026-03-31"},"No longer provide economic value to the organisation","Scrap","Asset no longer meets a business requirement"]
[11000016569,"Acer Monitor",{"$f":"_xlfn.XLOOKUP(A164,[1]Sheet1!$A:$A,[1]Sheet1!$C:$C,\"Not found\",0)","v":"10135"},{"$f":"_xlfn.XLOOKUP(A164,[1]Sheet1!$A:$A,[1]Sheet1!$F:$F,\"Not found\",0)","v":"REC-0071"},{"$f":"_xlfn.XLOOKUP(A164,[1]Sheet1!$A:$A,[1]Sheet1!$H:$H,\"not found\",0)","v":"2015-06-17"},{"$f":"_xlfn.XLOOKUP(A164,[1]Sheet1!$A:$A,[1]Sheet1!$D:$D,\"not found\",0)","v":{"v":2298.88,"d":"R2,298.88"}},{"$f":"_xlfn.XLOOKUP(A164,[1]Sheet1!$A:$A,[1]Sheet1!$E:$E,\"not found\",0)","v":{"v":1,"d":"R1.00"}},{"$f":"_xlfn.XLOOKUP(A164,[1]Sheet1!$A:$A,[1]Sheet1!$I:$I,\"not found\",0)","v":"2026-03-31"},"No longer provide economic value to the organisation","Scrap","Asset no longer meets a business requirement"]
[11000016570,"Acer Monitor",{"$f":"_xlfn.XLOOKUP(A165,[1]Sheet1!$A:$A,[1]Sheet1!$C:$C,\"Not found\",0)","v":"F10071"},{"$f":"_xlfn.XLOOKUP(A165,[1]Sheet1!$A:$A,[1]Sheet1!$F:$F,\"Not found\",0)","v":"REC-0071"},{"$f":"_xlfn.XLOOKUP(A165,[1]Sheet1!$A:$A,[1]Sheet1!$H:$H,\"not found\",0)","v":"2015-06-17"},{"$f":"_xlfn.XLOOKUP(A165,[1]Sheet1!$A:$A,[1]Sheet1!$D:$D,\"not found\",0)","v":{"v":2298.88,"d":"R2,298.88"}},{"$f":"_xlfn.XLOOKUP(A165,[1]Sheet1!$A:$A,[1]Sheet1!$E:$E,\"not found\",0)","v":{"v":1,"d":"R1.00"}},{"$f":"_xlfn.XLOOKUP(A165,[1]Sheet1!$A:$A,[1]Sheet1!$I:$I,\"not found\",0)","v":"2026-03-31"},"No longer provide economic value to the organisation","Scrap","Asset no longer meets a business requirement"]
[11000016571,"Acer Monitor",{"$f":"_xlfn.XLOOKUP(A166,[1]Sheet1!$A:$A,[1]Sheet1!$C:$C,\"Not found\",0)","v":"10135"},{"$f":"_xlfn.XLOOKUP(A166,[1]Sheet1!$A:$A,[1]Sheet1!$F:$F,\"Not found\",0)","v":"REC-0071"},{"$f":"_xlfn.XLOOKUP(A166,[1]Sheet1!$A:$A,[1]Sheet1!$H:$H,\"not found\",0)","v":"2015-06-17"},{"$f":"_xlfn.XLOOKUP(A166,[1]Sheet1!$A:$A,[1]Sheet1!$D:$D,\"not found\",0)","v":{"v":2298.88,"d":"R2,298.88"}},{"$f":"_xlfn.XLOOKUP(A166,[1]Sheet1!$A:$A,[1]Sheet1!$E:$E,\"not found\",0)","v":{"v":1,"d":"R1.00"}},{"$f":"_xlfn.XLOOKUP(A166,[1]Sheet1!$A:$A,[1]Sheet1!$I:$I,\"not found\",0)","v":"2026-03-31"},"No longer provide economic value to the organisation","Scrap","Asset no longer meets a business requirement"]
[11000016572,"Acer Monitor",{"$f":"_xlfn.XLOOKUP(A167,[1]Sheet1!$A:$A,[1]Sheet1!$C:$C,\"Not found\",0)","v":"F10071"},{"$f":"_xlfn.XLOOKUP(A167,[1]Sheet1!$A:$A,[1]Sheet1!$F:$F,\"Not found\",0)","v":"REC-0071"},{"$f":"_xlfn.XLOOKUP(A167,[1]Sheet1!$A:$A,[1]Sheet1!$H:$H,\"not found\",0)","v":"2015-06-17"},{"$f":"_xlfn.XLOOKUP(A167,[1]Sheet1!$A:$A,[1]Sheet1!$D:$D,\"not found\",0)","v":{"v":2298.88,"d":"R2,298.88"}},{"$f":"_xlfn.XLOOKUP(A167,[1]Sheet1!$A:$A,[1]Sheet1!$E:$E,\"not found\",0)","v":{"v":1,"d":"R1.00"}},{"$f":"_xlfn.XLOOKUP(A167,[1]Sheet1!$A:$A,[1]Sheet1!$I:$I,\"not found\",0)","v":"2026-03-31"},"No longer provide economic value to the organisation","Scrap","Asset no longer meets a business requirement"]
[11000016573,"Acer Monitor",{"$f":"_xlfn.XLOOKUP(A168,[1]Sheet1!$A:$A,[1]Sheet1!$C:$C,\"Not found\",0)","v":"10135"},{"$f":"_xlfn.XLOOKUP(A168,[1]Sheet1!$A:$A,[1]Sheet1!$F:$F,\"Not found\",0)","v":"REC-0071"},{"$f":"_xlfn.XLOOKUP(A168,[1]Sheet1!$A:$A,[1]Sheet1!$H:$H,\"not found\",0)","v":"2015-06-17"},{"$f":"_xlfn.XLOOKUP(A168,[1]Sheet1!$A:$A,[1]Sheet1!$D:$D,\"not found\",0)","v":{"v":2298.88,"d":"R2,298.88"}},{"$f":"_xlfn.XLOOKUP(A168,[1]Sheet1!$A:$A,[1]Sheet1!$E:$E,\"not found\",0)","v":{"v":1,"d":"R1.00"}},{"$f":"_xlfn.XLOOKUP(A168,[1]Sheet1!$A:$A,[1]Sheet1!$I:$I,\"not found\",0)","v":"2026-03-31"},"No longer provide economic value to the organisation","Scrap","Asset no longer meets a business requirement"]
[11000016574,"Acer Monitor",{"$f":"_xlfn.XLOOKUP(A169,[1]Sheet1!$A:$A,[1]Sheet1!$C:$C,\"Not found\",0)","v":"10135"},{"$f":"_xlfn.XLOOKUP(A169,[1]Sheet1!$A:$A,[1]Sheet1!$F:$F,\"Not found\",0)","v":"REC-0071"},{"$f":"_xlfn.XLOOKUP(A169,[1]Sheet1!$A:$A,[1]Sheet1!$H:$H,\"not found\",0)","v":"2015-06-17"},{"$f":"_xlfn.XLOOKUP(A169,[1]Sheet1!$A:$A,[1]Sheet1!$D:$D,\"not found\",0)","v":{"v":2298.88,"d":"R2,298.88"}},{"$f":"_xlfn.XLOOKUP(A169,[1]Sheet1!$A:$A,[1]Sheet1!$E:$E,\"not found\",0)","v":{"v":1,"d":"R1.00"}},{"$f":"_xlfn.XLOOKUP(A169,[1]Sheet1!$A:$A,[1]Sheet1!$I:$I,\"not found\",0)","v":"2026-03-31"},"No longer provide economic value to the organisation","Scrap","Asset no longer meets a business requirement"]
[11000016575,"Acer Monitor",{"$f":"_xlfn.XLOOKUP(A170,[1]Sheet1!$A:$A,[1]Sheet1!$C:$C,\"Not found\",0)","v":"10135"},{"$f":"_xlfn.XLOOKUP(A170,[1]Sheet1!$A:$A,[1]Sheet1!$F:$F,\"Not found\",0)","v":"REC-0071"},{"$f":"_xlfn.XLOOKUP(A170,[1]Sheet1!$A:$A,[1]Sheet1!$H:$H,\"not found\",0)","v":"2015-06-17"},{"$f":"_xlfn.XLOOKUP(A170,[1]Sheet1!$A:$A,[1]Sheet1!$D:$D,\"not found\",0)","v":{"v":2298.88,"d":"R2,298.88"}},{"$f":"_xlfn.XLOOKUP(A170,[1]Sheet1!$A:$A,[1]Sheet1!$E:$E,\"not found\",0)","v":{"v":1,"d":"R1.00"}},{"$f":"_xlfn.XLOOKUP(A170,[1]Sheet1!$A:$A,[1]Sheet1!$I:$I,\"not found\",0)","v":"2026-03-31"},"No longer provide economic value to the organisation","Scrap","Asset no longer meets a business requirement"]
[11000016576,"Acer Monitor",{"$f":"_xlfn.XLOOKUP(A171,[1]Sheet1!$A:$A,[1]Sheet1!$C:$C,\"Not found\",0)","v":"10135"},{"$f":"_xlfn.XLOOKUP(A171,[1]Sheet1!$A:$A,[1]Sheet1!$F:$F,\"Not found\",0)","v":"REC-0071"},{"$f":"_xlfn.XLOOKUP(A171,[1]Sheet1!$A:$A,[1]Sheet1!$H:$H,\"not found\",0)","v":"2015-06-17"},{"$f":"_xlfn.XLOOKUP(A171,[1]Sheet1!$A:$A,[1]Sheet1!$D:$D,\"not found\",0)","v":{"v":2298.88,"d":"R2,298.88"}},{"$f":"_xlfn.XLOOKUP(A171,[1]Sheet1!$A:$A,[1]Sheet1!$E:$E,\"not found\",0)","v":{"v":1,"d":"R1.00"}},{"$f":"_xlfn.XLOOKUP(A171,[1]Sheet1!$A:$A,[1]Sheet1!$I:$I,\"not found\",0)","v":"2026-03-31"},"No longer provide economic value to the organisation","Scrap","Asset no longer meets a business requirement"]
[11000016577,"Acer Monitor",{"$f":"_xlfn.XLOOKUP(A172,[1]Sheet1!$A:$A,[1]Sheet1!$C:$C,\"Not found\",0)","v":"10135"},{"$f":"_xlfn.XLOOKUP(A172,[1]Sheet1!$A:$A,[1]Sheet1!$F:$F,\"Not found\",0)","v":"REC-0071"},{"$f":"_xlfn.XLOOKUP(A172,[1]Sheet1!$A:$A,[1]Sheet1!$H:$H,\"not found\",0)","v":"2015-06-17"},{"$f":"_xlfn.XLOOKUP(A172,[1]Sheet1!$A:$A,[1]Sheet1!$D:$D,\"not found\",0)","v":{"v":2298.88,"d":"R2,298.88"}},{"$f":"_xlfn.XLOOKUP(A172,[1]Sheet1!$A:$A,[1]Sheet1!$E:$E,\"not found\",0)","v":{"v":1,"d":"R1.00"}},{"$f":"_xlfn.XLOOKUP(A172,[1]Sheet1!$A:$A,[1]Sheet1!$I:$I,\"not found\",0)","v":"2026-03-31"},"No longer provide economic value to the organisation","Scrap","Asset no longer meets a business requirement"]
[11000014348,"HP Laptop",{"$f":"_xlfn.XLOOKUP(A173,[1]Sheet1!$A:$A,[1]Sheet1!$C:$C,\"Not found\",0)","v":"10135"},{"$f":"_xlfn.XLOOKUP(A173,[1]Sheet1!$A:$A,[1]Sheet1!$F:$F,\"Not found\",0)","v":"REC-0071"},{"$f":"_xlfn.XLOOKUP(A173,[1]Sheet1!$A:$A,[1]Sheet1!$H:$H,\"not found\",0)","v":"2013-11-07"},{"$f":"_xlfn.XLOOKUP(A173,[1]Sheet1!$A:$A,[1]Sheet1!$D:$D,\"not found\",0)","v":{"v":22657.11,"d":"R22,657.11"}},{"$f":"_xlfn.XLOOKUP(A173,[1]Sheet1!$A:$A,[1]Sheet1!$E:$E,\"not found\",0)","v":{"v":1,"d":"R1.00"}},{"$f":"_xlfn.XLOOKUP(A173,[1]Sheet1!$A:$A,[1]Sheet1!$I:$I,\"not found\",0)","v":"2026-03-31"},"No longer provide economic value to the organisation","Scrap","Asset no longer meets a business requirement"]
[11000014838,"HP Laptop",{"$f":"_xlfn.XLOOKUP(A174,[1]Sheet1!$A:$A,[1]Sheet1!$C:$C,\"Not found\",0)","v":"10135"},{"$f":"_xlfn.XLOOKUP(A174,[1]Sheet1!$A:$A,[1]Sheet1!$F:$F,\"Not found\",0)","v":"REC-0071"},{"$f":"_xlfn.XLOOKUP(A174,[1]Sheet1!$A:$A,[1]Sheet1!$H:$H,\"not found\",0)","v":"2014-03-04"},{"$f":"_xlfn.XLOOKUP(A174,[1]Sheet1!$A:$A,[1]Sheet1!$D:$D,\"not found\",0)","v":{"v":20628.07,"d":"R20,628.07"}},{"$f":"_xlfn.XLOOKUP(A174,[1]Sheet1!$A:$A,[1]Sheet1!$E:$E,\"not found\",0)","v":{"v":1,"d":"R1.00"}},{"$f":"_xlfn.XLOOKUP(A174,[1]Sheet1!$A:$A,[1]Sheet1!$I:$I,\"not found\",0)","v":"2026-03-31"},"No longer provide economic value to the organisation","Scrap","Asset no longer meets a business requirement"]
[11000015013,"HP Laptop",{"$f":"_xlfn.XLOOKUP(A175,[1]Sheet1!$A:$A,[1]Sheet1!$C:$C,\"Not found\",0)","v":"10135"},{"$f":"_xlfn.XLOOKUP(A175,[1]Sheet1!$A:$A,[1]Sheet1!$F:$F,\"Not found\",0)","v":"REC-0071"},{"$f":"_xlfn.XLOOKUP(A175,[1]Sheet1!$A:$A,[1]Sheet1!$H:$H,\"not found\",0)","v":"2014-03-31"},{"$f":"_xlfn.XLOOKUP(A175,[1]Sheet1!$A:$A,[1]Sheet1!$D:$D,\"not found\",0)","v":{"v":17318.11,"d":"R17,318.11"}},{"$f":"_xlfn.XLOOKUP(A175,[1]Sheet1!$A:$A,[1]Sheet1!$E:$E,\"not found\",0)","v":{"v":1,"d":"R1.00"}},{"$f":"_xlfn.XLOOKUP(A175,[1]Sheet1!$A:$A,[1]Sheet1!$I:$I,\"not found\",0)","v":"2026-03-31"},"No longer provide economic value to the organisation","Scrap","Asset no longer meets a business requirement"]
[11000015680,"HP Laptop",{"$f":"_xlfn.XLOOKUP(A176,[1]Sheet1!$A:$A,[1]Sheet1!$C:$C,\"Not found\",0)","v":"10135"},{"$f":"_xlfn.XLOOKUP(A176,[1]Sheet1!$A:$A,[1]Sheet1!$F:$F,\"Not found\",0)","v":"REC-0071"},{"$f":"_xlfn.XLOOKUP(A176,[1]Sheet1!$A:$A,[1]Sheet1!$H:$H,\"not found\",0)","v":"2014-10-24"},{"$f":"_xlfn.XLOOKUP(A176,[1]Sheet1!$A:$A,[1]Sheet1!$D:$D,\"not found\",0)","v":{"v":12127.34,"d":"R12,127.34"}},{"$f":"_xlfn.XLOOKUP(A176,[1]Sheet1!$A:$A,[1]Sheet1!$E:$E,\"not found\",0)","v":{"v":1,"d":"R1.00"}},{"$f":"_xlfn.XLOOKUP(A176,[1]Sheet1!$A:$A,[1]Sheet1!$I:$I,\"not found\",0)","v":"2026-03-31"},"No longer provide economic value to the organisation","Scrap","Asset no longer meets a business requirement"]
[11000015683,"HP Laptop",{"$f":"_xlfn.XLOOKUP(A177,[1]Sheet1!$A:$A,[1]Sheet1!$C:$C,\"Not found\",0)","v":"10135"},{"$f":"_xlfn.XLOOKUP(A177,[1]Sheet1!$A:$A,[1]Sheet1!$F:$F,\"Not found\",0)","v":"REC-0071"},{"$f":"_xlfn.XLOOKUP(A177,[1]Sheet1!$A:$A,[1]Sheet1!$H:$H,\"not found\",0)","v":"2014-10-24"},{"$f":"_xlfn.XLOOKUP(A177,[1]Sheet1!$A:$A,[1]Sheet1!$D:$D,\"not found\",0)","v":{"v":12127.34,"d":"R12,127.34"}},{"$f":"_xlfn.XLOOKUP(A177,[1]Sheet1!$A:$A,[1]Sheet1!$E:$E,\"not found\",0)","v":{"v":1,"d":"R1.00"}},{"$f":"_xlfn.XLOOKUP(A177,[1]Sheet1!$A:$A,[1]Sheet1!$I:$I,\"not found\",0)","v":"2026-03-31"},"No longer provide economic value to the organisation","Scrap","Asset no longer meets a business requirement"]
[11000016310,"HP Laptop",{"$f":"_xlfn.XLOOKUP(A178,[1]Sheet1!$A:$A,[1]Sheet1!$C:$C,\"Not found\",0)","v":"10135"},{"$f":"_xlfn.XLOOKUP(A178,[1]Sheet1!$A:$A,[1]Sheet1!$F:$F,\"Not found\",0)","v":"REC-0071"},{"$f":"_xlfn.XLOOKUP(A178,[1]Sheet1!$A:$A,[1]Sheet1!$H:$H,\"not found\",0)","v":"2015-04-24"},{"$f":"_xlfn.XLOOKUP(A178,[1]Sheet1!$A:$A,[1]Sheet1!$D:$D,\"not found\",0)","v":{"v":12537.21,"d":"R12,537.21"}},{"$f":"_xlfn.XLOOKUP(A178,[1]Sheet1!$A:$A,[1]Sheet1!$E:$E,\"not found\",0)","v":{"v":1,"d":"R1.00"}},{"$f":"_xlfn.XLOOKUP(A178,[1]Sheet1!$A:$A,[1]Sheet1!$I:$I,\"not found\",0)","v":"2026-03-31"},"No longer provide economic value to the organisation","Scrap","Asset no longer meets a business requirement"]
[11000016427,"HP Laptop",{"$f":"_xlfn.XLOOKUP(A179,[1]Sheet1!$A:$A,[1]Sheet1!$C:$C,\"Not found\",0)","v":"10135"},{"$f":"_xlfn.XLOOKUP(A179,[1]Sheet1!$A:$A,[1]Sheet1!$F:$F,\"Not found\",0)","v":"REC-0071"},{"$f":"_xlfn.XLOOKUP(A179,[1]Sheet1!$A:$A,[1]Sheet1!$H:$H,\"not found\",0)","v":"2015-06-26"},{"$f":"_xlfn.XLOOKUP(A179,[1]Sheet1!$A:$A,[1]Sheet1!$D:$D,\"not found\",0)","v":{"v":12589.14,"d":"R12,589.14"}},{"$f":"_xlfn.XLOOKUP(A179,[1]Sheet1!$A:$A,[1]Sheet1!$E:$E,\"not found\",0)","v":{"v":1,"d":"R1.00"}},{"$f":"_xlfn.XLOOKUP(A179,[1]Sheet1!$A:$A,[1]Sheet1!$I:$I,\"not found\",0)","v":"2026-03-31"},"No longer provide economic value to the organisation","Scrap","Asset no longer meets a business requirement"]
[11000017386,"Dell Laptop",{"$f":"_xlfn.XLOOKUP(A180,[1]Sheet1!$A:$A,[1]Sheet1!$C:$C,\"Not found\",0)","v":"10135"},{"$f":"_xlfn.XLOOKUP(A180,[1]Sheet1!$A:$A,[1]Sheet1!$F:$F,\"Not found\",0)","v":"REC-0071"},{"$f":"_xlfn.XLOOKUP(A180,[1]Sheet1!$A:$A,[1]Sheet1!$H:$H,\"not found\",0)","v":"2017-03-16"},{"$f":"_xlfn.XLOOKUP(A180,[1]Sheet1!$A:$A,[1]Sheet1!$D:$D,\"not found\",0)","v":{"v":20062.86,"d":"R20,062.86"}},{"$f":"_xlfn.XLOOKUP(A180,[1]Sheet1!$A:$A,[1]Sheet1!$E:$E,\"not found\",0)","v":{"v":1,"d":"R1.00"}},{"$f":"_xlfn.XLOOKUP(A180,[1]Sheet1!$A:$A,[1]Sheet1!$I:$I,\"not found\",0)","v":"2026-03-31"},"Broken and uneconomical to repair","Scrap","The asset has been damaged beyond economical repair and is no longer meets the business requirement"]
[6000000006,"Projector Screen",{"$f":"_xlfn.XLOOKUP(A181,[1]Sheet1!$A:$A,[1]Sheet1!$C:$C,\"Not found\",0)","v":"10135"},{"$f":"_xlfn.XLOOKUP(A181,[1]Sheet1!$A:$A,[1]Sheet1!$F:$F,\"Not found\",0)","v":"REC-0071"},{"$f":"_xlfn.XLOOKUP(A181,[1]Sheet1!$A:$A,[1]Sheet1!$H:$H,\"not found\",0)","v":"2003-07-17"},{"$f":"_xlfn.XLOOKUP(A181,[1]Sheet1!$A:$A,[1]Sheet1!$D:$D,\"not found\",0)","v":{"v":430,"d":"R430.00"}},{"$f":"_xlfn.XLOOKUP(A181,[1]Sheet1!$A:$A,[1]Sheet1!$E:$E,\"not found\",0)","v":{"v":1,"d":"R1.00"}},{"$f":"_xlfn.XLOOKUP(A181,[1]Sheet1!$A:$A,[1]Sheet1!$I:$I,\"not found\",0)","v":"2026-03-31"},"Broken and uneconomical to repair","Scrap","The asset has been damaged beyond economical repair and is no longer meets the business requirement"]
[6000000563,"Polycom Camera",{"$f":"_xlfn.XLOOKUP(A182,[1]Sheet1!$A:$A,[1]Sheet1!$C:$C,\"Not found\",0)","v":"10135"},{"$f":"_xlfn.XLOOKUP(A182,[1]Sheet1!$A:$A,[1]Sheet1!$F:$F,\"Not found\",0)","v":"REC-0071"},{"$f":"_xlfn.XLOOKUP(A182,[1]Sheet1!$A:$A,[1]Sheet1!$H:$H,\"not found\",0)","v":"2007-06-30"},{"$f":"_xlfn.XLOOKUP(A182,[1]Sheet1!$A:$A,[1]Sheet1!$D:$D,\"not found\",0)","v":{"v":152464.4,"d":"R152,464.40"}},{"$f":"_xlfn.XLOOKUP(A182,[1]Sheet1!$A:$A,[1]Sheet1!$E:$E,\"not found\",0)","v":{"v":1,"d":"R1.00"}},{"$f":"_xlfn.XLOOKUP(A182,[1]Sheet1!$A:$A,[1]Sheet1!$I:$I,\"not found\",0)","v":"2026-03-31"},"Broken and uneconomical to repair","Scrap","The asset has been damaged beyond economical repair and is no longer meets the business requirement"]
[6000000552,"Sympodium Screen",{"$f":"_xlfn.XLOOKUP(A183,[1]Sheet1!$A:$A,[1]Sheet1!$C:$C,\"Not found\",0)","v":"10135"},{"$f":"_xlfn.XLOOKUP(A183,[1]Sheet1!$A:$A,[1]Sheet1!$F:$F,\"Not found\",0)","v":"REC-0071"},{"$f":"_xlfn.XLOOKUP(A183,[1]Sheet1!$A:$A,[1]Sheet1!$H:$H,\"not found\",0)","v":"2007-06-30"},{"$f":"_xlfn.XLOOKUP(A183,[1]Sheet1!$A:$A,[1]Sheet1!$D:$D,\"not found\",0)","v":{"v":38980.23,"d":"R38,980.23"}},{"$f":"_xlfn.XLOOKUP(A183,[1]Sheet1!$A:$A,[1]Sheet1!$E:$E,\"not found\",0)","v":{"v":1,"d":"R1.00"}},{"$f":"_xlfn.XLOOKUP(A183,[1]Sheet1!$A:$A,[1]Sheet1!$I:$I,\"not found\",0)","v":"2026-03-31"},"Broken and uneconomical to repair","Scrap","The asset has been damaged beyond economical repair and is no longer meets the business requirement"]
[6000000517,"Yamaha Amplifier",{"$f":"_xlfn.XLOOKUP(A184,[1]Sheet1!$A:$A,[1]Sheet1!$C:$C,\"Not found\",0)","v":"10135"},{"$f":"_xlfn.XLOOKUP(A184,[1]Sheet1!$A:$A,[1]Sheet1!$F:$F,\"Not found\",0)","v":"REC-0071"},{"$f":"_xlfn.XLOOKUP(A184,[1]Sheet1!$A:$A,[1]Sheet1!$H:$H,\"not found\",0)","v":"2007-06-30"},{"$f":"_xlfn.XLOOKUP(A184,[1]Sheet1!$A:$A,[1]Sheet1!$D:$D,\"not found\",0)","v":{"v":4230.2,"d":"R4,230.20"}},{"$f":"_xlfn.XLOOKUP(A184,[1]Sheet1!$A:$A,[1]Sheet1!$E:$E,\"not found\",0)","v":{"v":1,"d":"R1.00"}},{"$f":"_xlfn.XLOOKUP(A184,[1]Sheet1!$A:$A,[1]Sheet1!$I:$I,\"not found\",0)","v":"2026-03-31"},"Broken and uneconomical to repair","Scrap","The asset has been damaged beyond economical repair and is no longer meets the business requirement"]
[6000000556,"Shure Microphone Mixer",{"$f":"_xlfn.XLOOKUP(A185,[1]Sheet1!$A:$A,[1]Sheet1!$C:$C,\"Not found\",0)","v":"10135"},{"$f":"_xlfn.XLOOKUP(A185,[1]Sheet1!$A:$A,[1]Sheet1!$F:$F,\"Not found\",0)","v":"REC-0071"},{"$f":"_xlfn.XLOOKUP(A185,[1]Sheet1!$A:$A,[1]Sheet1!$H:$H,\"not found\",0)","v":"2007-06-30"},{"$f":"_xlfn.XLOOKUP(A185,[1]Sheet1!$A:$A,[1]Sheet1!$D:$D,\"not found\",0)","v":{"v":99659.46,"d":"R99,659.46"}},{"$f":"_xlfn.XLOOKUP(A185,[1]Sheet1!$A:$A,[1]Sheet1!$E:$E,\"not found\",0)","v":{"v":1,"d":"R1.00"}},{"$f":"_xlfn.XLOOKUP(A185,[1]Sheet1!$A:$A,[1]Sheet1!$I:$I,\"not found\",0)","v":"2026-03-31"},"Broken and uneconomical to repair","Scrap","The asset has been damaged beyond economical repair and is no longer meets the business requirement"]
[10000000609,"Zebra Printer",{"$f":"_xlfn.XLOOKUP(A186,[1]Sheet1!$A:$A,[1]Sheet1!$C:$C,\"Not found\",0)","v":"F30070"},{"$f":"_xlfn.XLOOKUP(A186,[1]Sheet1!$A:$A,[1]Sheet1!$F:$F,\"Not found\",0)","v":"REC-0071"},{"$f":"_xlfn.XLOOKUP(A186,[1]Sheet1!$A:$A,[1]Sheet1!$H:$H,\"not found\",0)","v":"2008-08-18"},{"$f":"_xlfn.XLOOKUP(A186,[1]Sheet1!$A:$A,[1]Sheet1!$D:$D,\"not found\",0)","v":{"v":10264.5,"d":"R10,264.50"}},{"$f":"_xlfn.XLOOKUP(A186,[1]Sheet1!$A:$A,[1]Sheet1!$E:$E,\"not found\",0)","v":{"v":1,"d":"R1.00"}},{"$f":"_xlfn.XLOOKUP(A186,[1]Sheet1!$A:$A,[1]Sheet1!$I:$I,\"not found\",0)","v":"2026-03-31"},"No longer provide economic value to the organisation","Scrap","Asset no longer meets a business requirement"]
[11000016373,"Zebra Printer",{"$f":"_xlfn.XLOOKUP(A187,[1]Sheet1!$A:$A,[1]Sheet1!$C:$C,\"Not found\",0)","v":"F30070"},{"$f":"_xlfn.XLOOKUP(A187,[1]Sheet1!$A:$A,[1]Sheet1!$F:$F,\"Not found\",0)","v":"REC-0071"},{"$f":"_xlfn.XLOOKUP(A187,[1]Sheet1!$A:$A,[1]Sheet1!$H:$H,\"not found\",0)","v":"2005-03-31"},{"$f":"_xlfn.XLOOKUP(A187,[1]Sheet1!$A:$A,[1]Sheet1!$D:$D,\"not found\",0)","v":{"v":14960.79,"d":"R14,960.79"}},{"$f":"_xlfn.XLOOKUP(A187,[1]Sheet1!$A:$A,[1]Sheet1!$E:$E,\"not found\",0)","v":{"v":1,"d":"R1.00"}},{"$f":"_xlfn.XLOOKUP(A187,[1]Sheet1!$A:$A,[1]Sheet1!$I:$I,\"not found\",0)","v":"2026-03-31"},"No longer provide economic value to the organisation","Scrap","Asset no longer meets a business requirement"]
[11000011895,"Motorola Scanner",{"$f":"_xlfn.XLOOKUP(A188,[1]Sheet1!$A:$A,[1]Sheet1!$C:$C,\"Not found\",0)","v":"F30070"},{"$f":"_xlfn.XLOOKUP(A188,[1]Sheet1!$A:$A,[1]Sheet1!$F:$F,\"Not found\",0)","v":"REC-0071"},{"$f":"_xlfn.XLOOKUP(A188,[1]Sheet1!$A:$A,[1]Sheet1!$H:$H,\"not found\",0)","v":"2010-03-29"},{"$f":"_xlfn.XLOOKUP(A188,[1]Sheet1!$A:$A,[1]Sheet1!$D:$D,\"not found\",0)","v":{"v":7948.04,"d":"R7,948.04"}},{"$f":"_xlfn.XLOOKUP(A188,[1]Sheet1!$A:$A,[1]Sheet1!$E:$E,\"not found\",0)","v":{"v":1,"d":"R1.00"}},{"$f":"_xlfn.XLOOKUP(A188,[1]Sheet1!$A:$A,[1]Sheet1!$I:$I,\"not found\",0)","v":"2026-03-31"},"No longer provide economic value to the organisation","Scrap","Asset no longer meets a business requirement"]
[11000011894,"Motorola Scanner",{"$f":"_xlfn.XLOOKUP(A189,[1]Sheet1!$A:$A,[1]Sheet1!$C:$C,\"Not found\",0)","v":"F30070"},{"$f":"_xlfn.XLOOKUP(A189,[1]Sheet1!$A:$A,[1]Sheet1!$F:$F,\"Not found\",0)","v":"REC-0071"},{"$f":"_xlfn.XLOOKUP(A189,[1]Sheet1!$A:$A,[1]Sheet1!$H:$H,\"not found\",0)","v":"2010-03-29"},{"$f":"_xlfn.XLOOKUP(A189,[1]Sheet1!$A:$A,[1]Sheet1!$D:$D,\"not found\",0)","v":{"v":7948.04,"d":"R7,948.04"}},{"$f":"_xlfn.XLOOKUP(A189,[1]Sheet1!$A:$A,[1]Sheet1!$E:$E,\"not found\",0)","v":{"v":1,"d":"R1.00"}},{"$f":"_xlfn.XLOOKUP(A189,[1]Sheet1!$A:$A,[1]Sheet1!$I:$I,\"not found\",0)","v":"2026-03-31"},"No longer provide economic value to the organisation","Scrap","Asset no longer meets a business requirement"]
[6000000529,"Projector Screen",{"$f":"_xlfn.XLOOKUP(A190,[1]Sheet1!$A:$A,[1]Sheet1!$C:$C,\"Not found\",0)","v":"10135"},{"$f":"_xlfn.XLOOKUP(A190,[1]Sheet1!$A:$A,[1]Sheet1!$F:$F,\"Not found\",0)","v":"REC-0071"},{"$f":"_xlfn.XLOOKUP(A190,[1]Sheet1!$A:$A,[1]Sheet1!$H:$H,\"not found\",0)","v":"2007-06-30"},{"$f":"_xlfn.XLOOKUP(A190,[1]Sheet1!$A:$A,[1]Sheet1!$D:$D,\"not found\",0)","v":{"v":7009.1,"d":"R7,009.10"}},{"$f":"_xlfn.XLOOKUP(A190,[1]Sheet1!$A:$A,[1]Sheet1!$E:$E,\"not found\",0)","v":{"v":1,"d":"R1.00"}},{"$f":"_xlfn.XLOOKUP(A190,[1]Sheet1!$A:$A,[1]Sheet1!$I:$I,\"not found\",0)","v":"2026-03-31"},"No longer provide economic value to the organisation","Scrap","Asset no longer meets a business requirement"]
[8000000008,"PABX System",{"$f":"_xlfn.XLOOKUP(A191,[1]Sheet1!$A:$A,[1]Sheet1!$C:$C,\"Not found\",0)","v":"10135"},{"$f":"_xlfn.XLOOKUP(A191,[1]Sheet1!$A:$A,[1]Sheet1!$F:$F,\"Not found\",0)","v":"REC-0071"},{"$f":"_xlfn.XLOOKUP(A191,[1]Sheet1!$A:$A,[1]Sheet1!$H:$H,\"not found\",0)","v":"2002-04-30"},{"$f":"_xlfn.XLOOKUP(A191,[1]Sheet1!$A:$A,[1]Sheet1!$D:$D,\"not found\",0)","v":{"v":167154.47,"d":"R167,154.47"}},{"$f":"_xlfn.XLOOKUP(A191,[1]Sheet1!$A:$A,[1]Sheet1!$E:$E,\"not found\",0)","v":{"v":1,"d":"R1.00"}},{"$f":"_xlfn.XLOOKUP(A191,[1]Sheet1!$A:$A,[1]Sheet1!$I:$I,\"not found\",0)","v":"2026-03-31"},"No longer provide economic value to the organisation","Scrap","Asset no longer meets a business requirement"]
[8000000011,"PABX System",{"$f":"_xlfn.XLOOKUP(A192,[1]Sheet1!$A:$A,[1]Sheet1!$C:$C,\"Not found\",0)","v":"10135"},{"$f":"_xlfn.XLOOKUP(A192,[1]Sheet1!$A:$A,[1]Sheet1!$F:$F,\"Not found\",0)","v":"REC-0071"},{"$f":"_xlfn.XLOOKUP(A192,[1]Sheet1!$A:$A,[1]Sheet1!$H:$H,\"not found\",0)","v":"1998-02-13"},{"$f":"_xlfn.XLOOKUP(A192,[1]Sheet1!$A:$A,[1]Sheet1!$D:$D,\"not found\",0)","v":{"v":227371.86,"d":"R227,371.86"}},{"$f":"_xlfn.XLOOKUP(A192,[1]Sheet1!$A:$A,[1]Sheet1!$E:$E,\"not found\",0)","v":{"v":1,"d":"R1.00"}},{"$f":"_xlfn.XLOOKUP(A192,[1]Sheet1!$A:$A,[1]Sheet1!$I:$I,\"not found\",0)","v":"2026-03-31"},"No longer provide economic value to the organisation","Scrap","Asset no longer meets a business requirement"]
[11000014145,"Huwaei Router",{"$f":"_xlfn.XLOOKUP(A193,[1]Sheet1!$A:$A,[1]Sheet1!$C:$C,\"Not found\",0)","v":"10135"},{"$f":"_xlfn.XLOOKUP(A193,[1]Sheet1!$A:$A,[1]Sheet1!$F:$F,\"Not found\",0)","v":"REC-0071"},{"$f":"_xlfn.XLOOKUP(A193,[1]Sheet1!$A:$A,[1]Sheet1!$H:$H,\"not found\",0)","v":"2013-06-28"},{"$f":"_xlfn.XLOOKUP(A193,[1]Sheet1!$A:$A,[1]Sheet1!$D:$D,\"not found\",0)","v":{"v":1723.96,"d":"R1,723.96"}},{"$f":"_xlfn.XLOOKUP(A193,[1]Sheet1!$A:$A,[1]Sheet1!$E:$E,\"not found\",0)","v":{"v":1,"d":"R1.00"}},{"$f":"_xlfn.XLOOKUP(A193,[1]Sheet1!$A:$A,[1]Sheet1!$I:$I,\"not found\",0)","v":"2026-03-31"},"No longer provide economic value to the organisation","Scrap","Asset no longer meets a business requirement"]
[11000014140,"Huwaei Router",{"$f":"_xlfn.XLOOKUP(A194,[1]Sheet1!$A:$A,[1]Sheet1!$C:$C,\"Not found\",0)","v":"10135"},{"$f":"_xlfn.XLOOKUP(A194,[1]Sheet1!$A:$A,[1]Sheet1!$F:$F,\"Not found\",0)","v":"REC-0071"},{"$f":"_xlfn.XLOOKUP(A194,[1]Sheet1!$A:$A,[1]Sheet1!$H:$H,\"not found\",0)","v":"2013-06-28"},{"$f":"_xlfn.XLOOKUP(A194,[1]Sheet1!$A:$A,[1]Sheet1!$D:$D,\"not found\",0)","v":{"v":1723.96,"d":"R1,723.96"}},{"$f":"_xlfn.XLOOKUP(A194,[1]Sheet1!$A:$A,[1]Sheet1!$E:$E,\"not found\",0)","v":{"v":1,"d":"R1.00"}},{"$f":"_xlfn.XLOOKUP(A194,[1]Sheet1!$A:$A,[1]Sheet1!$I:$I,\"not found\",0)","v":"2026-03-31"},"No longer provide economic value to the organisation","Scrap","Asset no longer meets a business requirement"]
[11000014143,"Huwaei Router",{"$f":"_xlfn.XLOOKUP(A195,[1]Sheet1!$A:$A,[1]Sheet1!$C:$C,\"Not found\",0)","v":"10135"},{"$f":"_xlfn.XLOOKUP(A195,[1]Sheet1!$A:$A,[1]Sheet1!$F:$F,\"Not found\",0)","v":"REC-0071"},{"$f":"_xlfn.XLOOKUP(A195,[1]Sheet1!$A:$A,[1]Sheet1!$H:$H,\"not found\",0)","v":"2013-06-28"},{"$f":"_xlfn.XLOOKUP(A195,[1]Sheet1!$A:$A,[1]Sheet1!$D:$D,\"not found\",0)","v":{"v":1723.96,"d":"R1,723.96"}},{"$f":"_xlfn.XLOOKUP(A195,[1]Sheet1!$A:$A,[1]Sheet1!$E:$E,\"not found\",0)","v":{"v":1,"d":"R1.00"}},{"$f":"_xlfn.XLOOKUP(A195,[1]Sheet1!$A:$A,[1]Sheet1!$I:$I,\"not found\",0)","v":"2026-03-31"},"No longer provide economic value to the organisation","Scrap","Asset no longer meets a business requirement"]
[11000014136,"Huwaei Router",{"$f":"_xlfn.XLOOKUP(A196,[1]Sheet1!$A:$A,[1]Sheet1!$C:$C,\"Not found\",0)","v":"10135"},{"$f":"_xlfn.XLOOKUP(A196,[1]Sheet1!$A:$A,[1]Sheet1!$F:$F,\"Not found\",0)","v":"REC-0071"},{"$f":"_xlfn.XLOOKUP(A196,[1]Sheet1!$A:$A,[1]Sheet1!$H:$H,\"not found\",0)","v":"2013-06-28"},{"$f":"_xlfn.XLOOKUP(A196,[1]Sheet1!$A:$A,[1]Sheet1!$D:$D,\"not found\",0)","v":{"v":1717.81,"d":"R1,717.81"}},{"$f":"_xlfn.XLOOKUP(A196,[1]Sheet1!$A:$A,[1]Sheet1!$E:$E,\"not found\",0)","v":{"v":1,"d":"R1.00"}},{"$f":"_xlfn.XLOOKUP(A196,[1]Sheet1!$A:$A,[1]Sheet1!$I:$I,\"not found\",0)","v":"2026-03-31"},"No longer provide economic value to the organisation","Scrap","Asset no longer meets a business requirement"]
[11000014138,"Huwaei Router",{"$f":"_xlfn.XLOOKUP(A197,[1]Sheet1!$A:$A,[1]Sheet1!$C:$C,\"Not found\",0)","v":"10135"},{"$f":"_xlfn.XLOOKUP(A197,[1]Sheet1!$A:$A,[1]Sheet1!$F:$F,\"Not found\",0)","v":"REC-0071"},{"$f":"_xlfn.XLOOKUP(A197,[1]Sheet1!$A:$A,[1]Sheet1!$H:$H,\"not found\",0)","v":"2013-06-28"},{"$f":"_xlfn.XLOOKUP(A197,[1]Sheet1!$A:$A,[1]Sheet1!$D:$D,\"not found\",0)","v":{"v":1717.81,"d":"R1,717.81"}},{"$f":"_xlfn.XLOOKUP(A197,[1]Sheet1!$A:$A,[1]Sheet1!$E:$E,\"not found\",0)","v":{"v":1,"d":"R1.00"}},{"$f":"_xlfn.XLOOKUP(A197,[1]Sheet1!$A:$A,[1]Sheet1!$I:$I,\"not found\",0)","v":"2026-03-31"},"No longer provide economic value to the organisation","Scrap","Asset no longer meets a business requirement"]
[11000014141,"Huwaei Router",{"$f":"_xlfn.XLOOKUP(A198,[1]Sheet1!$A:$A,[1]Sheet1!$C:$C,\"Not found\",0)","v":"10135"},{"$f":"_xlfn.XLOOKUP(A198,[1]Sheet1!$A:$A,[1]Sheet1!$F:$F,\"Not found\",0)","v":"REC-0071"},{"$f":"_xlfn.XLOOKUP(A198,[1]Sheet1!$A:$A,[1]Sheet1!$H:$H,\"not found\",0)","v":"2013-06-28"},{"$f":"_xlfn.XLOOKUP(A198,[1]Sheet1!$A:$A,[1]Sheet1!$D:$D,\"not found\",0)","v":{"v":1723.96,"d":"R1,723.96"}},{"$f":"_xlfn.XLOOKUP(A198,[1]Sheet1!$A:$A,[1]Sheet1!$E:$E,\"not found\",0)","v":{"v":1,"d":"R1.00"}},{"$f":"_xlfn.XLOOKUP(A198,[1]Sheet1!$A:$A,[1]Sheet1!$I:$I,\"not found\",0)","v":"2026-03-31"},"No longer provide economic value to the organisation","Scrap","Asset no longer meets a business requirement"]
[11000004716,"HP Server",{"$f":"_xlfn.XLOOKUP(A199,[1]Sheet1!$A:$A,[1]Sheet1!$C:$C,\"Not found\",0)","v":"10135"},{"$f":"_xlfn.XLOOKUP(A199,[1]Sheet1!$A:$A,[1]Sheet1!$F:$F,\"Not found\",0)","v":"REC-0071"},{"$f":"_xlfn.XLOOKUP(A199,[1]Sheet1!$A:$A,[1]Sheet1!$H:$H,\"not found\",0)","v":"2006-02-10"},{"$f":"_xlfn.XLOOKUP(A199,[1]Sheet1!$A:$A,[1]Sheet1!$D:$D,\"not found\",0)","v":{"v":52427.46,"d":"R52,427.46"}},{"$f":"_xlfn.XLOOKUP(A199,[1]Sheet1!$A:$A,[1]Sheet1!$E:$E,\"not found\",0)","v":{"v":1,"d":"R1.00"}},{"$f":"_xlfn.XLOOKUP(A199,[1]Sheet1!$A:$A,[1]Sheet1!$I:$I,\"not found\",0)","v":"2026-03-31"},"No longer provide economic value to the organisation","Scrap","Asset no longer meets a business requirement"]
[11000004910,"Compaq Server",{"$f":"_xlfn.XLOOKUP(A200,[1]Sheet1!$A:$A,[1]Sheet1!$C:$C,\"Not found\",0)","v":"10135"},{"$f":"_xlfn.XLOOKUP(A200,[1]Sheet1!$A:$A,[1]Sheet1!$F:$F,\"Not found\",0)","v":"REC-0071"},{"$f":"_xlfn.XLOOKUP(A200,[1]Sheet1!$A:$A,[1]Sheet1!$H:$H,\"not found\",0)","v":"2002-07-19"},{"$f":"_xlfn.XLOOKUP(A200,[1]Sheet1!$A:$A,[1]Sheet1!$D:$D,\"not found\",0)","v":{"v":83778.47,"d":"R83,778.47"}},{"$f":"_xlfn.XLOOKUP(A200,[1]Sheet1!$A:$A,[1]Sheet1!$E:$E,\"not found\",0)","v":{"v":1,"d":"R1.00"}},{"$f":"_xlfn.XLOOKUP(A200,[1]Sheet1!$A:$A,[1]Sheet1!$I:$I,\"not found\",0)","v":"2026-03-31"},"No longer provide economic value to the organisation","Scrap","Asset no longer meets a business requirement"]
[11000004911,"Compaq Server",{"$f":"_xlfn.XLOOKUP(A201,[1]Sheet1!$A:$A,[1]Sheet1!$C:$C,\"Not found\",0)","v":"10135"},{"$f":"_xlfn.XLOOKUP(A201,[1]Sheet1!$A:$A,[1]Sheet1!$F:$F,\"Not found\",0)","v":"REC-0071"},{"$f":"_xlfn.XLOOKUP(A201,[1]Sheet1!$A:$A,[1]Sheet1!$H:$H,\"not found\",0)","v":"2002-07-19"},{"$f":"_xlfn.XLOOKUP(A201,[1]Sheet1!$A:$A,[1]Sheet1!$D:$D,\"not found\",0)","v":{"v":83778.47,"d":"R83,778.47"}},{"$f":"_xlfn.XLOOKUP(A201,[1]Sheet1!$A:$A,[1]Sheet1!$E:$E,\"not found\",0)","v":{"v":1,"d":"R1.00"}},{"$f":"_xlfn.XLOOKUP(A201,[1]Sheet1!$A:$A,[1]Sheet1!$I:$I,\"not found\",0)","v":"2026-03-31"},"No longer provide economic value to the organisation","Scrap","Asset no longer meets a business requirement"]
[11000001823,"Compaq Server",{"$f":"_xlfn.XLOOKUP(A202,[1]Sheet1!$A:$A,[1]Sheet1!$C:$C,\"Not found\",0)","v":"10135"},{"$f":"_xlfn.XLOOKUP(A202,[1]Sheet1!$A:$A,[1]Sheet1!$F:$F,\"Not found\",0)","v":"REC-0071"},{"$f":"_xlfn.XLOOKUP(A202,[1]Sheet1!$A:$A,[1]Sheet1!$H:$H,\"not found\",0)","v":"2002-08-31"},{"$f":"_xlfn.XLOOKUP(A202,[1]Sheet1!$A:$A,[1]Sheet1!$D:$D,\"not found\",0)","v":{"v":112146.2,"d":"R112,146.20"}},{"$f":"_xlfn.XLOOKUP(A202,[1]Sheet1!$A:$A,[1]Sheet1!$E:$E,\"not found\",0)","v":{"v":1,"d":"R1.00"}},{"$f":"_xlfn.XLOOKUP(A202,[1]Sheet1!$A:$A,[1]Sheet1!$I:$I,\"not found\",0)","v":"2026-03-31"},"No longer provide economic value to the organisation","Scrap","Asset no longer meets a business requirement"]
[11000001822,"Compaq Server",{"$f":"_xlfn.XLOOKUP(A203,[1]Sheet1!$A:$A,[1]Sheet1!$C:$C,\"Not found\",0)","v":"10135"},{"$f":"_xlfn.XLOOKUP(A203,[1]Sheet1!$A:$A,[1]Sheet1!$F:$F,\"Not found\",0)","v":"REC-0071"},{"$f":"_xlfn.XLOOKUP(A203,[1]Sheet1!$A:$A,[1]Sheet1!$H:$H,\"not found\",0)","v":"2002-08-31"},{"$f":"_xlfn.XLOOKUP(A203,[1]Sheet1!$A:$A,[1]Sheet1!$D:$D,\"not found\",0)","v":{"v":126889.77,"d":"R126,889.77"}},{"$f":"_xlfn.XLOOKUP(A203,[1]Sheet1!$A:$A,[1]Sheet1!$E:$E,\"not found\",0)","v":{"v":1,"d":"R1.00"}},{"$f":"_xlfn.XLOOKUP(A203,[1]Sheet1!$A:$A,[1]Sheet1!$I:$I,\"not found\",0)","v":"2026-03-31"},"No longer provide economic value to the organisation","Scrap","Asset no longer meets a business requirement"]
[11000004909,"Compaq Server",{"$f":"_xlfn.XLOOKUP(A204,[1]Sheet1!$A:$A,[1]Sheet1!$C:$C,\"Not found\",0)","v":"10135"},{"$f":"_xlfn.XLOOKUP(A204,[1]Sheet1!$A:$A,[1]Sheet1!$F:$F,\"Not found\",0)","v":"REC-0071"},{"$f":"_xlfn.XLOOKUP(A204,[1]Sheet1!$A:$A,[1]Sheet1!$H:$H,\"not found\",0)","v":"2002-07-19"},{"$f":"_xlfn.XLOOKUP(A204,[1]Sheet1!$A:$A,[1]Sheet1!$D:$D,\"not found\",0)","v":{"v":83778.47,"d":"R83,778.47"}},{"$f":"_xlfn.XLOOKUP(A204,[1]Sheet1!$A:$A,[1]Sheet1!$E:$E,\"not found\",0)","v":{"v":1,"d":"R1.00"}},{"$f":"_xlfn.XLOOKUP(A204,[1]Sheet1!$A:$A,[1]Sheet1!$I:$I,\"not found\",0)","v":"2026-03-31"},"No longer provide economic value to the organisation","Scrap","Asset no longer meets a business requirement"]
[11000004907,"Compaq Server",{"$f":"_xlfn.XLOOKUP(A205,[1]Sheet1!$A:$A,[1]Sheet1!$C:$C,\"Not found\",0)","v":"10135"},{"$f":"_xlfn.XLOOKUP(A205,[1]Sheet1!$A:$A,[1]Sheet1!$F:$F,\"Not found\",0)","v":"REC-0071"},{"$f":"_xlfn.XLOOKUP(A205,[1]Sheet1!$A:$A,[1]Sheet1!$H:$H,\"not found\",0)","v":"2002-07-19"},{"$f":"_xlfn.XLOOKUP(A205,[1]Sheet1!$A:$A,[1]Sheet1!$D:$D,\"not found\",0)","v":{"v":83778.47,"d":"R83,778.47"}},{"$f":"_xlfn.XLOOKUP(A205,[1]Sheet1!$A:$A,[1]Sheet1!$E:$E,\"not found\",0)","v":{"v":1,"d":"R1.00"}},{"$f":"_xlfn.XLOOKUP(A205,[1]Sheet1!$A:$A,[1]Sheet1!$I:$I,\"not found\",0)","v":"2026-03-31"},"No longer provide economic value to the organisation","Scrap","Asset no longer meets a business requirement"]
[11000004908,"Compaq Server",{"$f":"_xlfn.XLOOKUP(A206,[1]Sheet1!$A:$A,[1]Sheet1!$C:$C,\"Not found\",0)","v":"10135"},{"$f":"_xlfn.XLOOKUP(A206,[1]Sheet1!$A:$A,[1]Sheet1!$F:$F,\"Not found\",0)","v":"REC-0071"},{"$f":"_xlfn.XLOOKUP(A206,[1]Sheet1!$A:$A,[1]Sheet1!$H:$H,\"not found\",0)","v":"2002-07-19"},{"$f":"_xlfn.XLOOKUP(A206,[1]Sheet1!$A:$A,[1]Sheet1!$D:$D,\"not found\",0)","v":{"v":83778.47,"d":"R83,778.47"}},{"$f":"_xlfn.XLOOKUP(A206,[1]Sheet1!$A:$A,[1]Sheet1!$E:$E,\"not found\",0)","v":{"v":1,"d":"R1.00"}},{"$f":"_xlfn.XLOOKUP(A206,[1]Sheet1!$A:$A,[1]Sheet1!$I:$I,\"not found\",0)","v":"2026-03-31"},"No longer provide economic value to the organisation","Scrap","Asset no longer meets a business requirement"]
[11000004906,"Compaq Server",{"$f":"_xlfn.XLOOKUP(A207,[1]Sheet1!$A:$A,[1]Sheet1!$C:$C,\"Not found\",0)","v":"10135"},{"$f":"_xlfn.XLOOKUP(A207,[1]Sheet1!$A:$A,[1]Sheet1!$F:$F,\"Not found\",0)","v":"REC-0071"},{"$f":"_xlfn.XLOOKUP(A207,[1]Sheet1!$A:$A,[1]Sheet1!$H:$H,\"not found\",0)","v":"2002-07-19"},{"$f":"_xlfn.XLOOKUP(A207,[1]Sheet1!$A:$A,[1]Sheet1!$D:$D,\"not found\",0)","v":{"v":83778.45,"d":"R83,778.45"}},{"$f":"_xlfn.XLOOKUP(A207,[1]Sheet1!$A:$A,[1]Sheet1!$E:$E,\"not found\",0)","v":{"v":1,"d":"R1.00"}},{"$f":"_xlfn.XLOOKUP(A207,[1]Sheet1!$A:$A,[1]Sheet1!$I:$I,\"not found\",0)","v":"2026-03-31"},"No longer provide economic value to the organisation","Scrap","Asset no longer meets a business requirement"]
[11000000727,"HP Printer",10135,"REC-0071","2002-07-22",{"v":1785.24,"d":"R1,785.24"},{"v":1,"d":"R1.00"},"2023-03-31","Broken and uneconomical to repair","Scrap","Deactivated on 01.04.2011"]
[11000016374,"Zebra printer",10135,"REC-0071","2005-03-31",{"v":14960.79,"d":"R14,960.79"},{"v":1,"d":"R1.00"},"2023-10-31","No longer provide economic value to the organisation","Scrap","Deactivated on 31.03.2017"]
[11000015209,"Acer Monitor",10135,"REC-0071","2014-03-31",{"v":2184.91,"d":"R2,184.91"},{"v":619,"d":"R619.00"},"2023-10-31","No longer provide economic value to the organisation","Scrap","Deactivated on 28.02.2020"]
[6000000467,"Epson Projector",10135,"REC-0071","2003-05-29",{"v":23330.1,"d":"R23,330.10"},{"v":1,"d":"R1.00"},"2023-10-31","No longer provide economic value to the organisation","Scrap","Deactivated on 10.09.2013"]
["Total = 210"]
[]
["Description","No. of Items","Sum of Cost","Sum of Book Value"]
["Desktop",{"v":10,"d":"10.00"},{"v":96537.98,"d":"R96,537.98"},{"v":10,"d":"R10.00"}]
["Laptop",{"v":8,"d":"8.00"},{"v":130047.18,"d":"R130,047.18"},{"v":8,"d":"R8.00"}]
["Monitor",{"v":162,"d":"162.00"},{"v":307890.59,"d":"R307,890.59"},{"v":780,"d":"R780.00"}]
["Network switch",{"v":6,"d":"6.00"},{"v":10331.46,"d":"R10,331.46"},{"v":6,"d":"R6.00"}]
["Printer",{"v":4,"d":"4.00"},{"v":41971.32,"d":"R41,971.32"},{"v":4,"d":"R4.00"}]
["Projector",{"v":1,"d":"1.00"},{"v":23330.1,"d":"R23,330.10"},{"v":1,"d":"R1.00"}]
["Scanner",{"v":2,"d":"2.00"},{"v":15896,"d":"R15,896.00"},{"v":2,"d":"R2.00"}]
["Pen Display",{"v":1,"d":"1.00"},{"v":38980.23,"d":"R38,980.23"},{"v":1,"d":"R1.00"}]
["Amplifier",{"v":1,"d":"1.00"},{"v":4230.2,"d":"R4,230.20"},{"v":1,"d":"R1.00"}]
["Projector Screen",{"v":2,"d":"2.00"},{"v":7439.1,"d":"R7,439.10"},{"v":2,"d":"R2.00"}]
["PABX System",{"v":2,"d":"2.00"},{"v":394526.33,"d":"R394,526.33"},{"v":2,"d":"R2.00"}]
["Video conference",{"v":2,"d":"2.00"},{"v":252123.86,"d":"R252,123.86"},{"v":2,"d":"R2.00"}]
["Server",{"v":9,"d":"9.00"},{"v":794134.23,"d":"R794,134.23"},{"v":9,"d":"R9.00"}]
["Total",{"$f":"SUM(B215:B227)","v":{"v":210,"d":"210.00"}},{"$f":"SUM(C215:C227)","v":{"v":2117438.5799999996,"d":"R2,117,438.58"}},{"$f":"SUM(D215:D227)","v":{"v":828,"d":"R828.00"}}]

{"sheet":"Sheet2","index":1,"n_rows":0,"n_cols":0,"rows_kept":0}