Workbook

Sheet SUMMARY SHEET
A1: DETAILED PRICING SCHEDULE
A5: PRICING SCHEDULE
A6: TRANSNET ENGINEERING - HYGIENE SERVICES FOR CAPE CORRIDOR DEPOTS SERVICED BY THE BLOEMFONTEIN MAIN CENTRE
A7: This tender will be evaluated and awarded per grouping as per the below based on the relevant evalaution critieria. It is possible that one supplier might be awarded all the depots, based on the same criteria mentioned. This will be based on the overall cost, criteria established per grouping for the full compliment of Hygiene Services(SHE Bins , Hand Dryers , Toilet Roll Holders , etc) Group 1 : Postmasburg , Upington , De Aar , Lime Acres Group 2 : Kimberley (Wagons and Locos) Group 3 : Bloemfontein(Wagons and Locos)
A8: Site Name | B8: Service Cover | C8: Total Cost (Year 1) - Excl VAT | D8: Escalation (%) | E8: Total Cost (Year 2) - Excl VAT | F8: Escalation (%) | G8: Cost (Year 3) - Excl VAT | H8: Total Cost (36 Months - Excl VAT)
A9: Group 1 (PMG , De Aar , Lime Acres , Upington)
A10: Provision of Health and Safety File | B10: OHS ACT 85 of 1993 Compliance | C10: 0 | D10: 0 | E10: =(C10)+D10*C10 -> 0 | F10: 0 | G10: =E10+F10*(E10) -> 0 | H10: =SUM(C10,E10,G10) -> 0
A11: Supply and Installation of She Bins | B11: SHE BINS | C11: ='SHE BINS '!A46 -> 0 | H11: =SUM(C11,E11,G11) -> 0
A12: Servicing of She Bins | B12: SHE BINS | C12: ='SHE BINS '!B46 -> 0 | D12: 0 | E12: =(C12)+D12*C12 -> 0 | F12: 0 | G12: =E12+F12*(E12) -> 0 | H12: =SUM(C12,E12,G12) -> 0
A13: Supply and Installation of Hand Dryers | B13: HAND DRYERS | C13: ='HAND DRYERS'!A33 -> 0 | H13: =SUM(C13,E13,G13) -> 0
A14: Maintenance of Hand Dryers as Per OEM | B14: HAND DRYERS | C14: ='HAND DRYERS'!B33 -> 0 | D14: 0 | E14: =(C14)+D14*C14 -> 0 | F14: 0 | G14: =E14+F14*(E14) -> 0 | H14: =SUM(C14,E14,G14) -> 0
A15: Supply and Installation of Wall Bins | B15: WALL BIN | C15: ='WALL BINS'!A36 -> 0 | H15: =SUM(C15,E15,G15) -> 0
A16: Supply of Wall Bin Liners | B16: WALL BIN | C16: ='WALL BINS'!B36 -> 0 | D16: 0 | E16: =(C16)+D16*C16 -> 0 | F16: 0 | G16: =E16+F16*(E16) -> 0 | H16: =SUM(C16,E16,G16) -> 0
A17: Supply and Installation of Toilet Rolls Holders | B17: TOILET ROLL HOLDERS | C17: ='TOILET ROLL HOLDERS'!F16 -> 0 | H17: =SUM(C17,E17,G17) -> 0
A18: Supply and Installation of Soap Dispensers | B18: SOAP DISPENSERS | C18: ='SOAP DISPENSERS'!A30 -> 0 | H18: =SUM(C18,E18,G18) -> 0
A19: Supply of Soap Refills | B19: =B18 -> SOAP DISPENSERS | C19: ='SOAP DISPENSERS'!B30 -> 0 | D19: 0 | E19: =(C19)+D19*C19 -> 0 | F19: 0 | G19: =E19+F19*(E19) -> 0 | H19: =SUM(C19,E19,G19) -> 0
A20: Supply and Installation of Room Enhancers | B20: ROOM ENHANCERS | C20: ='ROOM ENHANCERS'!A35 -> 0 | H20: =SUM(C20,E20,G20) -> 0
A21: Supply of Enhancer Refills | B21: =B20 -> ROOM ENHANCERS | C21: ='ROOM ENHANCERS'!B35 -> 0 | D21: 0 | E21: =(C21)+D21*C21 -> 0 | F21: 0 | G21: =E21+F21*(E21) -> 0 | H21: =SUM(C21,E21,G21) -> 0
A22: Supply and Installation of Seat Wipe Dispensers | B22: SEAT WIPES | C22: ='SEAT WIPES AND DISPENSERS'!A37 -> 0 | H22: =SUM(C22,E22,G22) -> 0
A23: Supply of Seat Wipes | B23: =B22 -> SEAT WIPES | C23: ='SEAT WIPES AND DISPENSERS'!B37 -> 0 | D23: 0 | E23: =(C23)+D23*C23 -> 0 | F23: 0 | G23: =E23+F23*(E23) -> 0 | H23: =SUM(C23,E23,G23) -> 0
A24: Miscalaneous Costs | B24: MISCALLANEOUS | C24: =MISCALLANEOUS!H17 -> 0 | D24: 0 | E24: =(C24)+D24*C24 -> 0 | F24: 0 | G24: =E24+F24*(E24) -> 0 | H24: =SUM(C24,E24,G24) -> 0
B25: Total (Excl VAT) | C25: =SUM(C10:C24) -> 0 | E25: =SUM(E10:E24) -> 0 | G25: =SUM(G10:G24) -> 0 | H25: =SUM(C25,E25,G25) -> 0
B27: VAT @ 15% | C27: =0.15*C25 -> 0 | E27: =0.15*E25 -> 0 | G27: =0.15*G25 -> 0 | H27: =SUM(C27,E27,G27) -> 0
H28: =SUM(C28,E28,G28) -> 0
B29: Total(Incl VAT) | C29: =SUM(C25:C28) -> 0 | E29: =SUM(E25:E28) -> 0 | G29: =SUM(G25:G28) -> 0 | H29: =SUM(C29,E29,G29) -> 0
H30: =SUM(C30,E30,G30) -> 0
A32: Group 2 (Kimberley)
A33: Provision of Health and Safety File | B33: OHS ACT 85 of 1993 Compliance | C33: 0 | D33: 0 | E33: =(C33)+D33*C33 -> 0 | F33: 0 | G33: =E33+F33*(E33) -> 0 | H33: =SUM(C33,E33,G33) -> 0
A34: Supply and Installation of She Bins | B34: SHE BINS | C34: ='SHE BINS '!A51 -> 0 | H34: =SUM(C34,E34,G34) -> 0
A35: Servicing of She Bins | B35: SHE BINS | C35: ='SHE BINS '!B51 -> 0 | D35: 0 | E35: =(C35)+D35*C35 -> 0 | F35: 0 | G35: =E35+F35*(E35) -> 0 | H35: =SUM(C35,E35,G35) -> 0
A36: Supply and Installation of Hand Dryers | B36: HAND DRYERS | C36: ='HAND DRYERS'!A38 -> 0 | H36: =SUM(C36,E36,G36) -> 0
A37: Maintenance of Hand Dryers as Per OEM | B37: HAND DRYERS | C37: ='HAND DRYERS'!B38 -> 0 | D37: 0 | E37: =(C37)+D37*C37 -> 0 | F37: 0 | G37: =E37+F37*(E37) -> 0 | H37: =SUM(C37,E37,G37) -> 0
A38: Supply and Installation of Wall Bins | B38: WALL BIN | C38: ='WALL BINS'!A41 -> 0 | H38: =SUM(C38,E38,G38) -> 0
A39: Supply of Wall Bin Liners | B39: WALL BIN | C39: ='WALL BINS'!B41 -> 0 | D39: 0 | E39: =(C39)+D39*C39 -> 0 | F39: 0 | G39: =E39+F39*(E39) -> 0 | H39: =SUM(C39,E39,G39) -> 0
A40: Supply and Installation of Toilet Rolls Holders | B40: TOILET ROLL HOLDERS | C40: ='TOILET ROLL HOLDERS'!F9 -> 0 | H40: =SUM(C40,E40,G40) -> 0
A41: Supply and Installation of Soap Dispensers | B41: SOAP DISPENSERS | C41: ='SOAP DISPENSERS'!A36 -> 0 | H41: =SUM(C41,E41,G41) -> 0
A42: Supply of Soap Refills | B42: =B41 -> SOAP DISPENSERS | C42: ='SOAP DISPENSERS'!B36 -> 0 | D42: 0 | E42: =(C42)+D42*C42 -> 0 | F42: 0 | G42: =E42+F42*(E42) -> 0 | H42: =SUM(C42,E42,G42) -> 0
A43: Supply and Installation of Room Enhancers | B43: ROOM ENHANCERS | C43: ='ROOM ENHANCERS'!A41 -> 0 | H43: =SUM(C43,E43,G43) -> 0
A44: Supply of Enhancer Refills | B44: =B43 -> ROOM ENHANCERS | C44: ='ROOM ENHANCERS'!B41 -> 0 | D44: 0 | E44: =(C44)+D44*C44 -> 0 | F44: 0 | G44: =E44+F44*(E44) -> 0 | H44: =SUM(C44,E44,G44) -> 0
A45: Supply and Installation of Seat Wipe Dispensers | B45: SEAT WIPES | C45: ='SEAT WIPES AND DISPENSERS'!A43 -> 0 | H45: =SUM(C45,E45,G45) -> 0
...

Sheet SHE BINS 
A4: PRICING SCHEDULE
A5: TRANSNET ENGINEERING - HYGIENE SERVICES FOR CAPE CORRIDOR DEPOTS SERVICED BY THE BLOEMFONTEIN MAIN CENTRE
A6: Site Name | B6: Service Cover | C6: Quantity | E6: Unit price | F6: Total Price
A7: Kimberley (Both Locos and Wagons) | B7: Supply and installation of SHE Bins (Once off) 19 litre hard plastic and stain resistance pedal design with a central opening for optimum capacity. White Color | C7: 30 | E7: 0 | F7: =C7*E7 -> 0
E8: Total Excl. VAT | F8: =F7 -> 0
A9: Bloemfontein (Locos and Wagons) | B9: Supply and installation of SHE Bins (Once off) 19 litre hard plastic and stain resistance pedal design with a central opening for optimum capacity. White Color | C9: 10 | E9: 0 | F9: =C9*E9 -> 0
E10: Total Excl. VAT | F10: =F9 -> 0
A11: Postmasburg(Both Locos and Wagons) | B11: Supply and installation of SHE Bins (Once off) 19 litre hard plastic and stain resistance pedal design with a central opening for optimum capacity. White Color | C11: 3 | E11: 0 | F11: =C11*E11 -> 0
A12: Upington | B12: Supply and installation of SHE Bins (Once off) 19 litre hard plastic and stain resistance pedal design with a central opening for optimum capacity. White Color | C12: 1 | E12: 0 | F12: =C12*E12 -> 0
A13: Lime Acres | B13: Supply and installation of SHE Bins (Once off) 19 litre hard plastic and stain resistance pedal design with a central opening for optimum capacity. White Color | C13: 1 | E13: 0 | F13: =C13*E13 -> 0
A14: De Aar | B14: Supply and installation of SHE Bins (Once off) 19 litre hard plastic and stain resistance pedal design with a central opening for optimum capacity. White Color | C14: 1 | E14: 0 | F14: =C14*E14 -> 0
E15: Total Excl. VAT | F15: =SUM(F11:F14) -> 0
A17: Site Name | B17: Service Cover | C17: Quantity | D17: Calls p.a. | E17: Per Month Cost Per Unit | F17: Monthly (Year 1)
A18: Kimberley(Both Locos and Wagons) | B18: She Bin Liners (each) | C18: 30 | D18: 52 | E18: 0 | F18: =C18*E18 -> 0
B19: Sanitize SHE White (Fortnightly) - Including Disposal | C19: 30 | D19: 24 | E19: 0 | F19: =C19*E19 -> 0
B20: Refill SHE Packet dispensers (6 x Pack of 30 Per Month) | C20: 4 | D20: 12 | E20: 0 | F20: =C20*E20 -> 0
A21: Total Monthly Cost (Excl VAT) | F21: =SUM(F18:F20) -> 0
A22: Bloemfontein (Locos and Wagons) | B22: She Bin Liners (each) | C22: 10 | D22: 52 | E22: 0 | F22: =C22*E22 -> 0
B23: Sanitize SHE Bin (Fortnightly) - Including Disposal | C23: 10 | D23: 24 | E23: 0 | F23: =C23*E23 -> 0
B24: Refill SHE Packet dispensers (4 x Packs of 30 Per Month) | C24: 3 | D24: 12 | E24: 0 | F24: =C24*E24 -> 0
A25: Total Monthly Cost (Excl VAT) | F25: =SUM(F22:F24) -> 0
A26: Postmasburg | B26: She Bin Liners (each) | C26: 3 | D26: 52 | E26: 0 | F26: =C26*E26 -> 0
B27: Sanitize SHE Bin (Fortnightly) - Including Disposal | C27: 3 | D27: 24 | E27: 0 | F27: =C27*E27 -> 0
B28: Refill SHE Packet dispensers (1 x Pack of 50 Per Month) | C28: 1 | D28: 12 | E28: 0 | F28: =C28*E28 -> 0
A29: Upington | B29: She Bin Liners (each) | C29: 1 | D29: 52 | E29: 0 | F29: =C29*E29 -> 0
B30: Sanitize SHE Bin (Fortnightly) - Including Disposal | C30: 1 | D30: 24 | E30: 0 | F30: =C30*E30 -> 0
B31: Refill SHE Packet dispensers (1 x Pack of 50 Per Month) | C31: 1 | D31: 12 | E31: 0 | F31: =C31*E31 -> 0
A32: Lime Acres | B32: She Bin Liners (each) | C32: 1 | D32: 52 | E32: 0 | F32: =C32*E32 -> 0
B33: Sanitize SHE Bin White (Fortnightly) - Including Disposal | C33: 1 | D33: 24 | E33: 0 | F33: =C33*E33 -> 0
B34: Refill SHE Packet dispensers (1 x Pack of 50 Per Month) | C34: 1 | D34: 12 | E34: 0 | F34: =C34*E34 -> 0
A35: De Aar | B35: She Bin Liners (each) | C35: 1 | D35: 52 | E35: 0 | F35: =C35*E35 -> 0
B36: Sanitize SHE Bin (Fortnightly) - Including Disposal | C36: 1 | D36: 24 | E36: 0 | F36: =C36*E36 -> 0
B37: Refill SHE Packet dispensers (1 x Pack of 50 Per Month) | C37: 1 | D37: 12 | E37: 0 | F37: =C37*E37 -> 0
A38: Total Monthly Cost (Excl VAT) | F38: =SUM(F26:F37) -> 0
A39: Entity Acknowledgement below:
A40: Entity Name:
A41: Signature by Authorised Personnel
A42: Date
A43: YEAR 1 PRICE - GROUP 1
A44: SHE BINS
...

Sheet HAND DRYERS
B1: DETAILED PRICING SCHEDULE
A5: PRICING SCHEDULE
A6: TRANSNET ENGINEERING - HYGIENE SERVICES FOR CAPE CORRIDOR DEPOTS SERVICED BY THE BLOEMFONTEIN MAIN CENTRE
A7: Site Name | B7: Service Cover | C7: Quantity | E7: Unit price | F7: Total Price(Year 1) - Excl VAT
A8: Kimberley (Both Locos and Wagons) | B8: Supply and Installation of Wall Mounted Automatic Hand Dryer , 2.3kW minimum , Stainless Steel(Grade 304 minimum) , Sensor to have range of 100mm | C8: 15 | E8: 0 | F8: =C8*E8 -> 0
E9: Total Excl. VAT | F9: =F8 -> 0
A10: Bloemfontein (Locos and Wagons) | B10: Supply and Installation of Wall Mounted Automatic Hand Dryer , 2.3kW minimum , Stainless Steel(Grade 304 minimum) , Sensor to have range of 100mm | C10: 8 | E10: 0 | F10: =C10*E10 -> 0
E11: Total Excl. VAT | F11: =F10 -> 0
A12: Postmasburg | B12: Supply and Installation of Wall Mounted Automatic Hand Dryer , 2.3kW minimum , Stainless Steel(Grade 304 minimum) , Sensor to have range of 100mm | C12: 5 | F12: =C12*E12 -> 0
A13: Upington | B13: Supply and Installation of Wall Mounted Automatic Hand Dryer , 2.3kW minimum , Stainless Steel(Grade 304 minimum) , Sensor to have range of 100mm | C13: 2 | E13: 0 | F13: =C13*E13 -> 0
A14: Lime Acres | B14: Supply and Installation of Wall Mounted Automatic Hand Dryer , 2.3kW minimum , Stainless Steel(Grade 304 minimum) , Sensor to have range of 100mm | C14: 1 | E14: 0 | F14: =C14*E14 -> 0
A15: De Aar | B15: Supply and Installation of Wall Mounted Automatic Hand Dryer , 2.3kW minimum , Stainless Steel(Grade 304 minimum) , Sensor to have range of 100mm | C15: 4 | E15: 0 | F15: =C15*E15 -> 0
E16: Total Excl. VAT | F16: =SUM(F12:F15) -> 0
A18: Site Name | B18: Service Cover | C18: Quantity | D18: Calls p.a. | E18: Monthly Rate - Year 1 (Excl VAT) | F18: Yearl Rate - Year 1 (Excl VAT)
A19: Kimberley(Both Locos and Wagons) | B19: Maintenance as required as per OEM (Maintenance Manual to be attached) | C19: 15 | D19: As required by OEM | E19: 0 | F19: =E19*12 -> 0
A20: Bloemfontein (Locos and Wagons) | B20: Maintenance as required as per OEM (Maintenance Manual to be attached) | C20: 8 | D20: As required by OEM | E20: 0 | F20: =E20*12 -> 0
A21: Postmasburg | B21: Maintenance as required as per OEM (Maintenance Manual to be attached) | C21: 5 | D21: As required by OEM | E21: 0 | F21: =E21*12 -> 0
A22: Upington | B22: Maintenance as required as per OEM (Maintenance Manual to be attached) | C22: 2 | D22: As required by OEM | E22: 0 | F22: =E22*12 -> 0
A23: Lime Acres | B23: Maintenance as required as per OEM (Maintenance Manual to be attached) | C23: 1 | D23: As required by OEM | E23: 0 | F23: =E23*12 -> 0
A24: De Aar | B24: Maintenance as required as per OEM (Maintenance Manual to be attached) | C24: 4 | D24: As required by OEM | E24: 0 | F24: =E24*12 -> 0
A25: Entity Acknowledgement below:
A26: Entity Name:
A27: Signature by Authorised Personnel
A28: Date
A30: YEAR 1 GROUP 1
A31: HAND DRYERS
A32: Total Equipment Cost (Year 1) - Excl VAT | B32: Total Maintenenance Cost Year 1 | C32: Total Cost (Equipment _+ Maintenance) - Year 1 Excl VAT | D32: VAT @ 15% | E32: Total (Incl VAT)
A33: =F16 -> 0 | B33: =SUM(F21:F24)*12 -> 0 | C33: =SUM(A33:B33) -> 0 | D33: =0.15*C33 -> 0 | E33: =SUM(C33:D33) -> 0
A35: YEAR 1 GROUP 2
A36: HAND DRYERS
A37: Total Equipment Cost (Year 1) - Excl VAT | B37: Total Maintenenance Cost Year 1 | C37: Total Cost (Equipment _+ Maintenance) - Year 1 Excl VAT | D37: VAT @ 15% | E37: Total (Incl VAT)
A38: =F9 -> 0 | B38: =F19 -> 0 | C38: =SUM(A38:B38) -> 0 | D38: =0.15*C38 -> 0 | E38: =SUM(C38:D38) -> 0
A40: YEAR 1 GROUP 3
A41: HAND DRYERS
A42: Total Equipment Cost (Year 1) - Excl VAT | B42: Total Maintenenance Cost Year 1 | C42: Total Cost (Equipment _+ Maintenance) - Year 1 Excl VAT | D42: VAT @ 15% | E42: Total (Incl VAT)
A43: =F11 -> 0 | B43: =F20 -> 0 | C43: =SUM(A43:B43) -> 0 | D43: =0.15*C43 -> 0 | E43: =SUM(C43:D43) -> 0
A46: NB | B46: Bidders may only populate figures/values on the portion highlighted in green. Formulas are already pre-populated

Sheet WALL BINS
A1: DETAILED PRICING SCHEDULE
A5: PRICING SCHEDULE
A6: TRANSNET ENGINEERING - HYGIENE SERVICES FOR CAPE CORRIDOR DEPOTS SERVICED BY THE BLOEMFONTEIN MAIN CENTRE
A7: Site Name | B7: Service Cover | C7: Quantity | E7: Unit price - Excl VAT | F7: Total Price(Excl VAT)
A8: Kimberley (Both Locos and Wagons) | B8: Supply and Install wall mounted bins manufcatured from polypropylene or similar polymer based material - Size= 18 Liter , White Finish | C8: 34 | E8: 0 | F8: =C8*E8 -> 0
E9: Total Excl. VAT | F9: =F8 -> 0
A10: Bloemfontein (Locos and Wagons) | B10: Supply and Install wall mounted bins manufcatured from polypropylene or similar polymer based material - Size= 18 Liter , White Finish | C10: 15 | E10: 0 | F10: =C10*E10 -> 0
E11: Total Excl. VAT | F11: =F10 -> 0
A12: Postmasburg | B12: Supply and Install wall mounted bins manufcatured from polypropylene or similar polymer based material - Size= 18 Liter , White Finish | C12: 13 | E12: 0 | F12: =C12*E12 -> 0
A13: Upington | B13: Supply and Install wall mounted bins manufcatured from polypropylene or similar polymer based material - Size= 18 Liter , White Finish | C13: 2 | E13: 0 | F13: =C13*E13 -> 0
A14: Lime Acres | B14: Supply and Install wall mounted bins manufcatured from polypropylene or similar polymer based material - Size= 18 Liter , White Finish | C14: 2 | E14: 0 | F14: =C14*E14 -> 0
A15: De Aar | B15: Supply and Install wall mounted bins manufcatured from polypropylene or similar polymer based material - Size= 18 Liter , White Finish | C15: 2 | E15: 0 | F15: =C15*E15 -> 0
E16: Total Excl. VAT | F16: =SUM(F12:F15) -> 0
A18: Site Name | B18: Service Cover - Liners should be compatible with supplied wall bin | C18: Supplied Once Off PA(No of Packs of 100) | D18: Calls p.a. | E18: Unit price - Excl VAT | F18: Total Year 1(Excl VAT)
A19: Kimberley(Both Locos and Wagons) | B19: Supply Only of Wall Bin Liners (Pack of 100) | C19: 21 | D19: 1 | E19: 0 | F19: =(C19*E19) -> 0
E20: Total Excl. VAT | F20: =F19 -> 0
A21: Bloemfontein (Locos and Wagons) | B21: Supply Only of Wall Bin Liners (Pack of 100) | C21: 8 | D21: 1 | E21: 0 | F21: =(C21*E21)*2 -> 0
E22: Total Excl. VAT | F22: =F21 -> 0
A23: Postmasburg | B23: Supply Only of Wall Bin Liners (Pack of 100) | C23: 6 | D23: 1 | E23: 0 | F23: =(C23*E23)*2 -> 0
A24: Upington | B24: Supply Only of Wall Bin Liners (Pack of 100) | C24: 1 | D24: 1 | E24: 0 | F24: =(C24*E24)*2 -> 0
A25: Lime Acres | B25: Supply Only of Wall Bin Liners (Pack of 100) | C25: 1 | D25: 1 | E25: 0 | F25: =(C25*E25)*2 -> 0
A26: De Aar | B26: Supply Only of Wall Bin Liners (Pack of 100) | C26: 1 | D26: 1 | E26: 0 | F26: =(C26*E26)*2 -> 0
E27: Total Excl. VAT | F27: =SUM(F23:F26) -> 0
A28: Entity Acknowledgement below:
A29: Entity Name:
A30: Signature by Authorised Personnel
A31: Date
A33: YEAR 1 PRICE - GROUP 1
A34: WALL BINS
A35: Total Equipment Cost (Year 1) - Excl VAT | B35: Total Wall Bin Liner Costs (Year 1) - Excl VAT | C35: Total Cost (Equipment _+ Liners) - Year 1 Excl VAT | D35: VAT @ 15% | E35: Total (Incl VAT)
A36: =F16 -> 0 | B36: =F27 -> 0 | C36: =SUM(A36:B36) -> 0 | D36: =0.15*C36 -> 0 | E36: =SUM(C36:D36) -> 0
A38: YEAR 1 PRICE - GROUP 2
A39: WALL BINS
A40: Total Equipment Cost (Year 1) - Excl VAT | B40: Total Wall Bin Liner Costs (Year 1) - Excl VAT | C40: Total Cost (Equipment _+ Liners) - Year 1 Excl VAT | D40: VAT @ 15% | E40: Total (Incl VAT)
A41: =F9 -> 0 | B41: =F20 -> 0 | C41: =SUM(A41:B41) -> 0 | D41: =0.15*C41 -> 0 | E41: =SUM(C41:D41) -> 0
A43: YEAR 1 PRICE - GROUP 3
A44: WALL BINS
A45: Total Equipment Cost (Year 1) - Excl VAT | B45: Total Wall Bin Liner Costs (Year 1) - Excl VAT | C45: Total Cost (Equipment _+ Liners) - Year 1 Excl VAT | D45: VAT @ 15% | E45: Total (Incl VAT)
A46: =F11 -> 0 | B46: =F22 -> 0 | C46: =SUM(A46:B46) -> 0 | D46: =0.15*C46 -> 0 | E46: =SUM(C46:D46) -> 0
A49: NB | B49: Bidders may only populate figures/values on the portion highlighted in green. Formulas are already pre-populated

Sheet TOILET ROLL HOLDERS
B1: DETAILED PRICING SCHEDULE
A5: PRICING SCHEDULE
A6: TRANSNET ENGINEERING - HYGIENE SERVICES FOR CAPE CORRIDOR DEPOTS SERVICED BY THE BLOEMFONTEIN MAIN CENTRE
A7: Site Name | B7: Service Cover | C7: Quantity | E7: Unit price | F7: Total Price
A8: Kimberley (Both Locos and Wagons) | B8: Supply and installation of Toilet Roll Holder (3- Roll Stainless Steel - with lock mechanism - Key and Lock Mechanism included) - WxHxD: 130 x 390 x 140mm | C8: 110 | F8: =C8*E8 -> 0
E9: Total Excl. VAT | F9: =F8 -> 0
A10: Bloemfontein (Locos and Wagons) | B10: Supply and installation of Toilet Roll Holder (3- Roll Stainless Steel - with lock mechanism - Key and Lock Mechanism included) - WxHxD: 130 x 390 x 140mm | C10: 20 | E10: 0 | F10: =C10*E10 -> 0
E11: Total Excl. VAT | F11: =F10 -> 0
A12: Postmasburg | B12: Supply and installation of Toilet Roll Holder (3- Roll Stainless Steel - with lock mechanism - Key and Lock Mechanism included) - WxHxD: 130 x 390 x 140mm | C12: 15 | E12: 0 | F12: =C12*E12 -> 0
A13: Upington | B13: Supply and installation of Toilet Roll Holder (3- Roll Stainless Steel - with lock mechanism - Key and Lock Mechanism included) - WxHxD: 130 x 390 x 140mm | C13: 2 | E13: 0 | F13: =C13*E13 -> 0
A14: Lime Acres | B14: Supply and installation of Toilet Roll Holder (3- Roll Stainless Steel - with lock mechanism - Key and Lock Mechanism included) - WxHxD: 130 x 390 x 140mm | C14: 2 | E14: 0 | F14: =C14*E14 -> 0
A15: De Aar | B15: Supply and installation of Toilet Roll Holder (3- Roll Stainless Steel - with lock mechanism - Key and Lock Mechanism included) - WxHxD: 130 x 390 x 140mm | C15: 2 | E15: 0 | F15: =C15*E15 -> 0
E16: Total Excl. VAT | F16: =SUM(F12:F15) -> 0
A19: NB | B19: Bidders may only populate figures/values on the portion highlighted in green. Formulas are already pre-populated

Sheet SOAP DISPENSERS
A1: PRICING SCHEDULE
A5: TRANSNET ENGINEERING - HYGIENE SERVICES FOR CAPE CORRIDOR DEPOTS SERVICED BY THE BLOEMFONTEIN MAIN CENTRE
A6: Site Name | B6: Service Cover | C6: Quantity | E6: Unit price - Excl VAT) | F6: Total Price(Excl VAT)
A7: Kimberley (Both Locos and Wagons) | B7: Supply and installation of Wall Mounted Soap Dispensers ( 1 Liter - Manufactured from ABS Plastic) -Refillable | C7: 55 | E7: 0 | F7: =C7*E7 -> 0
E8: Total Excl. VAT | F8: =F7 -> 0
A9: Bloemfontein (Locos and Wagons) | B9: Supply and installation of Wall Mounted Soap Dispensers ( 1 Liter - Manufactured from ABS Plastic) -Refillable | C9: 18 | E9: 0 | F9: =C9*E9 -> 0
E10: Total Excl. VAT | F10: =F9 -> 0
A11: Postmasburg | B11: Supply and installation of Wall Mounted Soap Dispensers ( 1 Liter - Manufactured from ABS Plastic) -Refillable | C11: 9 | E11: 0 | F11: =C11*E11 -> 0
A12: Upington | B12: Supply and installation of Wall Mounted Soap Dispensers ( 1 Liter - Manufactured from ABS Plastic) -Refillable | C12: 2 | E12: 0 | F12: =C12*E12 -> 0
A13: Lime Acres | B13: Supply and installation of Wall Mounted Soap Dispensers ( 1 Liter - Manufactured from ABS Plastic) -Refillable | C13: 2 | E13: 0 | F13: =C13*E13 -> 0
A14: De Aar | B14: Supply and installation of Wall Mounted Soap Dispensers ( 1 Liter - Manufactured from ABS Plastic) -Refillable | C14: 2 | E14: 0 | F14: =C14*E14 -> 0
E15: Total Excl. VAT | F15: =SUM(F11:F14) -> 0
A17: Site Name | B17: Service Cover | C17: Quantity (In Liters) - Litres Per Annum | E17: Liters (Per Delivery) | F17: Unit price Per delivery to the Depot - Excl VAT | G17: Calls P.A | H17: Liters (Per Delivery) | I17: Total Price - Year 1 (Excl VAT)
A18: Kimberley (Both Locos and Wagons) | B18: Supply of Soap Refills compatible with supplied soap dispenser Delivered quarterly to the depot | C18: 1432 | E18: 358 | F18: 0 | G18: 4 | H18: =C18/G18 -> 358 | I18: =F18*G18 -> 0
H19: Total Excl. VAT | I19: =I18 -> 0
A20: Bloemfontein (Locos and Wagons) | B20: Supply of Soap Refills compatible with supplied soap dispenser - Delivered Quarterly to the Depot | C20: =C9*(52/2) -> 468 | E20: 117 | F20: 0 | G20: 4 | H20: =C20/G20 -> 117 | I20: =F20*G20 -> 0
H21: Total Excl. VAT | I21: =I20 -> 0
A22: Postmasburg | B22: Supply of Soap Refills compatible with supplied soap dispenser - Delivered Bi Annually to the Depot | C22: =C11*(52/2) -> 234 | E22: 117 | F22: 0 | G22: 2 | H22: =C22/G22 -> 117 | I22: =F22*G22 -> 0
A23: Upington | B23: Supply of Soap Refills compatible with supplied soap dispenser - Delivered Bi Annually to the Depot | C23: =C12*(52/2) -> 52 | E23: 26 | F23: 0 | G23: 2 | H23: =C23/G23 -> 26 | I23: =F23*G23 -> 0
A24: Lime Acres | B24: Supply of Soap Refills compatible with supplied soap dispenser - Delivered Bi Annually to the Depot | C24: =C13*(52/2) -> 52 | E24: 26 | F24: 0 | G24: 2 | H24: =C24/G24 -> 26 | I24: =F24*G24 -> 0
A25: De Aar | B25: Supply of Soap Refills compatible with supplied soap dispenser - Delivered Bi Annually to the Depot | C25: =C14*(52/2) -> 52 | E25: 26 | F25: 0 | G25: 2 | H25: =C25/G25 -> 26 | I25: =F25*G25 -> 0
H26: Total Excl. VAT | I26: =SUM(I22:I25) -> 0
A27: YEAR 1 PRICE - GROUP 1
A28: SOAP DISPENSERS
A29: Total Equipment Cost (Year 1) - Excl VAT | B29: Total Soap Refill Supply(Year 1) - Excl VAT | C29: Total Cost (Equipment _+ Refill) - Year 1 Excl VAT | D29: VAT @ 15% | F29: Total (Incl VAT)
A30: =F15 -> 0 | B30: =I26 -> 0 | C30: =SUM(A30:B30) -> 0 | D30: =0.15*C30 -> 0 | F30: =SUM(C30:D30) -> 0
A33: YEAR 1 PRICE - GROUP 2
A34: SOAP DISPENSERS
A35: Total Equipment Cost (Year 1) - Excl VAT | B35: Total Soap Refill Supply(Year 1) - Excl VAT | C35: Total Cost (Equipment _+ Refill) - Year 1 Excl VAT | D35: VAT @ 15% | F35: Total (Incl VAT)
A36: =F8 -> 0 | B36: =I19 -> 0 | C36: =SUM(A36:B36) -> 0 | D36: =0.15*C36 -> 0 | F36: =SUM(C36:D36) -> 0
A38: YEAR 1 PRICE - GROUP 3
A39: SOAP DISPENSERS
A40: Total Equipment Cost (Year 1) - Excl VAT | B40: Total Soap Refill Supply(Year 1) - Excl VAT | C40: Total Cost (Equipment _+ Refill) - Year 1 Excl VAT | D40: VAT @ 15% | F40: Total (Incl VAT)
A41: =F10 -> 0 | B41: =I21 -> 0 | C41: =SUM(A41:B41) -> 0 | D41: =0.15*C41 -> 0 | F41: =SUM(C41:D41) -> 0
A43: NB Bidders may only populate figures/values on the portion highlighted in green. Formulas are already pre-populated

Sheet ROOM ENHANCERS
A4: PRICING SCHEDULE
A5: TRANSNET ENGINEERING - HYGIENE SERVICES FOR CAPE CORRIDOR DEPOTS SERVICED BY THE BLOEMFONTEIN MAIN CENTRE
A6: Site Name | B6: Service Cover | C6: Quantity | F6: Unit price | G6: Total Price
A7: Kimberley (Both Locos and Wagons) | B7: Supply and installation Air Freshener Dispenser (Auto) - Sized on a 30 Day Cycle - 3000 Sprays per refill, white finish , ABS or similar polymer based material | C7: 40 | F7: 0 | G7: =C7*F7 -> 0
F8: Total Excl. VAT | G8: =G7 -> 0
A9: Bloemfontein (Locos and Wagons) | B9: Supply and installation Air Freshener Dispenser (Auto) - Sized on a 30 Day Cycle - 3000 Sprays per refill, white finish , ABS or similar polymer based material | C9: 11 | F9: 0 | G9: =C9*F9 -> 0
F10: Total Excl. VAT | G10: =G9 -> 0
A11: Postmasburg | B11: Supply and installation Air Freshener Dispenser (Auto) - Sized on a 30 Day Cycle - 3000 Sprays per refill, white finish , ABS or similar polymer based material | C11: 6 | F11: 0 | G11: =C11*F11 -> 0
A12: Upington | B12: Supply and installation Air Freshener Dispenser (Auto) - Sized on a 30 Day Cycle - 3000 Sprays per refill, white finish , ABS or similar polymer based material | C12: 2 | F12: 0 | G12: =C12*F12 -> 0
A13: Lime Acres | B13: Supply and installation Air Freshener Dispenser (Auto) - Sized on a 30 Day Cycle - 3000 Sprays per refill, white finish , ABS or similar polymer based material | C13: 2 | F13: 0 | G13: =C13*F13 -> 0
A14: De Aar | B14: Supply and installation Air Freshener Dispenser (Auto) - Sized on a 30 Day Cycle - 3000 Sprays per refill, white finish , ABS or similar polymer based material | C14: 2 | F14: 0 | G14: =C14*F14 -> 0
F15: Total Excl. VAT | G15: =SUM(G11:G14) -> 0
A17: Site Name | B17: Service Cover - Note supplied refills must be compatible with the dispenser unit provided. | C17: QTY(Yearly) -Liters | D17: Litres Per Delivery | E17: Calls p.a. | F17: Unit price Per delivery to the Depot - Excl VAT | G17: Yearly Cost (Excl VAT)
A18: Kimberley(Both Locos and Wagons) | B18: Supply Only - Room Enhancers Refills ) - Supplied Quarterly | C18: =C7*12 -> 480 | D18: =C18/4 -> 120 | E18: 4 | F18: 0 | G18: =F18*E18 -> 0
F19: Total Excl. VAT | G19: =G18 -> 0
A20: Bloemfontein (Locos and Wagons) | B20: Supply Only - Room Enhancers Refills - Supplied Bi-Anually | C20: =C9*12 -> 132 | D20: =C20/E20 -> 66 | E20: 2 | F20: 0 | G20: =F20*E20 -> 0
F21: Total Excl. VAT | G21: =G20 -> 0
A22: Postmasburg | B22: Supply Only - Room Enhancers Refills Supplied Once Per Annum | C22: =C11*12 -> 72 | D22: =C22/E22 -> 72 | E22: 1 | F22: 0 | G22: =F22*E22 -> 0
A23: Upington | B23: Supply Only - Room Enhancers Refills Supplied Once Per Annum | C23: =C12*12 -> 24 | D23: =C23/E23 -> 24 | E23: 1 | F23: 0 | G23: =F23*E23 -> 0
A24: Lime Acres | B24: Supply Only - Room Enhancers Refills Supplied Once Per Annum | C24: =C13*12 -> 24 | D24: =C24/E24 -> 24 | E24: 1 | F24: 0 | G24: =F24*E24 -> 0
A25: De Aar | B25: Supply Only - Room Enhancers Refills Supplied Once Per Annum | C25: =C14*12 -> 24 | D25: =C25/E25 -> 24 | E25: 1 | F25: 0 | G25: =F25*E25 -> 0
F26: Total Excl. VAT | G26: =SUM(G22:G25) -> 0
A27: Entity Acknowledgement below:
A28: Entity Name:
A29: Signature by Authorised Personnel
A30: Date
A32: YEAR 1 PRICE - GROUP 1
A33: ROOM ENHANCERS
A34: Total Equipment Cost (Year 1) - Excl VAT | B34: Total Enhancers Refill Supply(Year 1) - Excl VAT | C34: Total Cost (Equipment _+ Refill) - Year 1 Excl VAT | E34: VAT @ 15% | F34: Total (Incl VAT)
A35: =G15 -> 0 | B35: =G26 -> 0 | C35: =SUM(A35:B35) -> 0 | E35: =0.15*C35 -> 0 | F35: =SUM(C35:E35) -> 0
A38: YEAR 1 PRICE - GROUP 2
A39: ROOM ENHANCERS
A40: Total Equipment Cost (Year 1) - Excl VAT | B40: Total Enhancers Refill Supply(Year 1) - Excl VAT | C40: Total Cost (Equipment _+ Refill) - Year 1 Excl VAT | E40: VAT @ 15% | F40: Total (Incl VAT)
A41: =G8 -> 0 | B41: =G19 -> 0 | C41: =SUM(A41:B41) -> 0 | E41: =0.15*C41 -> 0 | F41: =SUM(C41:E41) -> 0
A43: YEAR 1 PRICE - GROUP 3
A44: ROOM ENHANCERS
A45: Total Equipment Cost (Year 1) - Excl VAT | B45: Total Enhancers Refill Supply(Year 1) - Excl VAT | C45: Total Cost (Equipment _+ Refill) - Year 1 Excl VAT | E45: VAT @ 15% | F45: Total (Incl VAT)
A46: =G21 -> 0 | B46: =G21 -> 0 | C46: =SUM(A46:B46) -> 0 | E46: =0.15*C46 -> 0 | F46: =SUM(C46:E46) -> 0
A49: NB | B49: Bidders may only populate figures/values on the portion highlighted in green. Formulas are already pre-populated

Sheet SEAT WIPES AND DISPENSERS
B1: DETAILED PRICING SCHEDULE
A5: PRICING SCHEDULE
A6: TRANSNET ENGINEERING - HYGIENE SERVICES FOR CAPE CORRIDOR DEPOTS SERVICED BY THE BLOEMFONTEIN MAIN CENTRE
A7: Site Name | B7: Service Cover | C7: Quantity | E7: Unit price | F7: Total Price
A8: Kimberley (Both Locos and Wagons) | B8: Supply and installation of Seat Wipess Dispenser (ABS or Similar Polymer Based Material- to hold 30 Wipess at a time) | C8: 40 | E8: 0 | F8: =C8*E8 -> 0
E9: Total Excl. VAT | F9: =F8 -> 0
A10: Bloemfontein (Locos and Wagons) | B10: Supply and installation of Seat Wipes Dispenser (ABS or Similar Polymer Based Material- to hold 30 Wipess at a time) | C10: 10 | E10: 0 | F10: =C10*E10 -> 0
E11: Total Excl. VAT | F11: =F10 -> 0
A12: Postmasburg | B12: Supply and installation of Seat Wipes Dispenser (ABS or Similar Polymer Based Material- to hold 30 Wipess at a time) | C12: 9 | E12: 0 | F12: =C12*E12 -> 0
A13: Upington | B13: Supply and installation of Seat Wipes Dispenser (ABS or Similar Polymer Based Material- to hold 30 Wipess at a time) | C13: 2 | E13: 0 | F13: =C13*E13 -> 0
A14: Lime Acres | B14: Supply and installation of Seat Wipes Dispenser (ABS or Similar Polymer Based Material- to hold 30 Wipess at a time) | C14: 2 | E14: 0 | F14: =C14*E14 -> 0
A15: De Aar | B15: Supply and installation of Seat Wipes Dispenser (ABS or Similar Polymer Based Material- to hold 30 Wipess at a time) | C15: 2 | E15: 0 | F15: =C15*E15 -> 0
E16: Total Excl. VAT | F16: =SUM(F12:F15) -> 0
A18: Site Name | B18: Service Cover | C18: QTY (Yearly) -No of Packs of 200 | D18: Calls p.a. | E18: Unit price(Excl VAT) - Per Delivery to Depot | F18: Yearly Cost (Excl VAT)
A19: Kimberley(Both Locos and Wagons) | B19: Supply Only - Seat Wipes (Pack of 200) - Delivered by Bi-Annually | C19: 365 | D19: 2 | E19: 0 | F19: =E19*D19 -> 0
E20: Total Excl. VAT | F20: =F19 -> 0
A21: Bloemfontein (Locos and Wagons) | B21: Supply Only - Seat Wipes (Pack of 200) - Delivered by Bi-Annually | C21: 92 | D21: 2 | E21: 0 | F21: =D21*E21 -> 0
E22: Total Excl. VAT | F22: =F21 -> 0
A23: Postmasburg | B23: Supply Only - Seat Wipes (Pack of 200) - Delivered by Bi-Annually | C23: 40 | D23: 2 | E23: 0 | F23: =D23*E23 -> 0
A24: Upington | B24: Supply Only - Seat Wipes (Pack of 200) - Delivered by Bi-Annually | C24: 19 | D24: 2 | E24: 0 | F24: =D24*E24 -> 0
A25: Lime Acres | B25: Supply Only - Seat Wipes (Pack of 200) - Delivered by Bi-Annually | C25: 19 | D25: 2 | E25: 0 | F25: =D25*E25 -> 0
A26: De Aar | B26: Supply Only - Seat Wipes (Pack of 200) - Delivered by Bi-Annually | C26: 19 | D26: 2 | E26: 0 | F26: =D26*E26 -> 0
E27: Total Excl. VAT | F27: =SUM(F23:F26) -> 0
A28: Entity Acknowledgement below:
A29: Entity Name:
A30: Signature by Authorised Personnel
A31: Date
A34: YEAR 1 PRICE - GROUP 1
A35: SEAT WipesS
A36: Total Equipment Cost (Year 1) - Excl VAT | B36: Total Seat Wipess Provision(Year 1) - Excl VAT | C36: Total Cost (Equipment _+ Wipess) - Year 1 Excl VAT | D36: VAT @ 15% | E36: Total (Incl VAT)
A37: =F16 -> 0 | B37: =F27 -> 0 | C37: =SUM(A37:B37) -> 0 | D37: =0.15*C37 -> 0 | E37: =SUM(C37:D37) -> 0
A40: YEAR 1 PRICE - GROUP 2
A41: SEAT WipesS
A42: Total Equipment Cost (Year 1) - Excl VAT | B42: Total Seat Wipess Provision(Year 1) - Excl VAT | C42: Total Cost (Equipment _+ Wipess) - Year 1 Excl VAT | D42: VAT @ 15% | E42: Total (Incl VAT)
A43: =F9 -> 0 | B43: =F20 -> 0 | C43: =SUM(A43:B43) -> 0 | D43: =0.15*C43 -> 0 | E43: =SUM(C43:D43) -> 0
A45: YEAR 1 PRICE - GROUP 3
A46: SEAT WipesS
A47: Total Equipment Cost (Year 1) - Excl VAT | B47: Total Seat Wipess Provision(Year 1) - Excl VAT | C47: Total Cost (Equipment _+ Wipess) - Year 1 Excl VAT | D47: VAT @ 15% | E47: Total (Incl VAT)
A48: =F11 -> 0 | B48: =F22 -> 0 | C48: =SUM(A48:B48) -> 0 | D48: =0.15*C48 -> 0 | E48: =SUM(C48:D48) -> 0
A51: NB | B51: Bidders may only populate figures/values on the portion highlighted in green. Formulas are already pre-populated

Sheet MISCALLANEOUS
A4: PRICING SCHEDULE
A5: TRANSNET ENGINEERING - HYGIENE SERVICES FOR CAPE CORRIDOR DEPOTS SERVICED BY THE BLOEMFONTEIN MAIN CENTRE
A6: Site Name | B6: Service Cover | C6: Quantity (Per Month) | D6: Calls p.a. | E6: Quantity (Per Year) | F6: Per Month Unit price (Excl VAT) | G6: Monthly Cost (Excl VAT) | H6: Yearly Cost (Excl VAT)
A7: Kimberley(Both Locos and Wagons) | B7: Duo Blocks - kg | C7: 4 | D7: 12 | E7: =C7*D7 -> 48 | F7: 0 | G7: =C7*F7 -> 0 | H7: =12*G7 -> 0
B8: P-Mats - Each | C8: 10 | D8: 12 | E8: =C8*D8 -> 120 | F8: 0 | G8: =C8*F8 -> 0 | H8: =12*G8 -> 0
B9: IC Bowl Deep Chemical Clean Liters | C9: 4 | D9: 12 | E9: =C9*D9 -> 48 | F9: 0 | G9: =C9*F9 -> 0 | H9: =12*G9 -> 0
F10: Total Excl. VAT | G10: =SUM(G7:G9) -> 0 | H10: =SUM(H7:H9) -> 0
A11: Bloemfontein (Locos and Wagons) | B11: Duo Blocks - kg | C11: 3 | D11: 12 | E11: =C11*D11 -> 36 | F11: 0 | G11: =C11*F11 -> 0 | H11: =12*G11 -> 0
B12: P-Mats - Each | C12: 10 | D12: 12 | E12: =C12*D12 -> 120 | F12: 0 | G12: =C12*F12 -> 0 | H12: =12*G12 -> 0
B13: IC Bowl Deep Chemical Clean Liters | C13: 3 | D13: 12 | E13: =C13*D13 -> 36 | F13: 0 | G13: =C13*F13 -> 0 | H13: =12*G13 -> 0
F14: Total Excl. VAT | G14: =SUM(G11:G13) -> 0 | H14: =SUM(H11:H13) -> 0
A15: Postmasburg | B15: Duo Blocks - kg | C15: 1 | D15: 12 | E15: =C15*D15 -> 12 | F15: 0 | G15: =C15*F15 -> 0 | H15: =12*G15 -> 0
B16: IC Bowl Deep Chemical Clean Liters | C16: 1 | D16: 12 | E16: =C16*D16 -> 12 | F16: 0 | G16: =C16*F16 -> 0 | H16: =12*G16 -> 0
F17: Total Excl. VAT | G17: =SUM(G15:G16) -> 0 | H17: =SUM(H15:H16) -> 0
A18: Entity Acknowledgement below:
A19: Entity Name:
A20: Signature by Authorised Personnel
A21: Date
A25: NB | B25: Bidders may only populate figures/values on the portion highlighted in green. Formulas are already pre-populated
