Workbook
Name _tc2363920320: 'Technical Schedules'!$B$320
Name _tc7511340086: 'Technical Schedules'!$B$18
Name _tc7511420189: 'Technical Schedules'!$B$133
Name _tc7511430197: 'Technical Schedules'!$B$139
Name _tc7511430200: Controls!$A$5
Name _tc7511430201: Controls!$A$6
Name _tc7511440202: Controls!$A$7
Name _tc7511440203: Controls!#REF!
Name _tc7511440204: Controls!#REF!
Name _tc7511440205: Controls!#REF!
Name _tc7511440206: Controls!#REF!
Name _tc7511440207: Controls!#REF!
Name _tc7511440208: Controls!#REF!
Name _tc7511440209: Controls!#REF!
Name _tc7511440210: Controls!#REF!
Name _tc7511440211: Controls!$A$8
Name _tc7511440212: Controls!$A$9
Name _tc7511450213: Controls!#REF!
Name _tc7511450214: Controls!$A$10
Name _tc7511450215: Controls!#REF!
Name _tc7511450218: 'Technical Schedules'!$B$139
Name _tc7511470233: Controls!$F$5
Name _tc7511470234: Controls!$F$6
Name _tc7511470235: Controls!$F$7
Name _tc7511470236: Controls!#REF!
Name _tc7511470237: Controls!#REF!
Name _tc7511500267: 'Technical Schedules'!#REF!
Name _tc7511510269: 'Local Indications'!$A$2
Name _tc7511510270: 'Local Indications'!$A$3
Name _tc7511510271: 'Local Indications'!$A$4
Name _tc7511510272: 'Local Indications'!$A$5
Name _tc7511510273: 'Local Indications'!$A$6
Name _tc7511510274: 'Local Indications'!$A$7
Name _tc7511510275: 'Local Indications'!$A$8
Name _tc7511510276: 'Local Indications'!$A$9
Name _tc7511520277: 'Local Indications'!$A$10
Name _tc7511520278: 'Local Indications'!$A$11
Name _tc7511520279: 'Local Indications'!$A$12
Name _tc7511520280: 'Local Indications'!$A$13
Name _tc7511520283: 'Local Warnings_Alarms'!$A$2
Name _tc7511520284: 'Local Warnings_Alarms'!$A$3
Name _tc7511520285: 'Local Warnings_Alarms'!$A$4
Name _tc7511520286: 'Local Warnings_Alarms'!$A$5
Name _tc7511530287: 'Local Warnings_Alarms'!#REF!
Name _tc7511530288: 'Local Warnings_Alarms'!$A$6
Name _tc7511530289: 'Local Warnings_Alarms'!$A$7
Name _tc7511530290: 'Local Warnings_Alarms'!$A$8
Name _tc7511530291: 'Local Warnings_Alarms'!$A$9
Name _tc7511530292: 'Local Warnings_Alarms'!#REF!
Name _tc7511530293: 'Local Warnings_Alarms'!#REF!
Name _tc7511530294: 'Local Warnings_Alarms'!#REF!
Name _tc7511540295: 'Local Warnings_Alarms'!$A$10
Name _tc7511540296: 'Local Warnings_Alarms'!$A$11
Name _tc7511540297: 'Local Warnings_Alarms'!#REF!
Name _tc7511540298: 'Local Warnings_Alarms'!#REF!
Name _tc7511540299: 'Local Warnings_Alarms'!#REF!
Name _tc7511540300: 'Local Warnings_Alarms'!#REF!
Name _tc7511540301: 'Local Warnings_Alarms'!#REF!
Name _tc7511540302: 'Local Warnings_Alarms'!#REF!
Name _tc7511540303: 'Local Warnings_Alarms'!#REF!

Sheet Technical Schedules
A2: Specification: 240-62772907, SPECIFICATION FOR STATIONARY DIESEL GENERATORS
A5: ITEM | B5: DESCRIPTION | C5: SCHEDULE A | D5: Unit | E5: Mobile Diesel Generator
E6: SCHEDULE B | F6: Reference
A7: AB.0.1 | B7: Local Agent Representation required | C7: Yes / No | D7: Yes (Provide Details)
A8: AB.0.2 | B8: Number of Years local representative exists in South Africa | C8: Years | D8: XXX
A9: AB.0.3 | B9: Supply Reference list with installations | C9: Yes / No | D9: Yes
A10: AB.0.4 | B10: Compliance with SANS (ISO) 9001:2008 required | C10: Yes/No | D10: Yes
A11: 3 | B11: REQUIREMENTS
A12: 3.1 | B12: General
A13: a) | B13: Comply with requirements of SANS 8528 | C13: SANS 8528
A14: b) | B14: Order of precedence for deviations | C14: As specified
A15: c) | B15: Vibrations and noise | C15: SANS 60034 and BS 5514-5
A16: d) | B16: Compliance to OHSAct | C16: Yes - as specified
A18: 3.2 | B18: Application and operating philosophy
A19: a) | B19: Application - sites | C19: Transmission Substations
A20: b) | B20: Installation configuration | C20: Fixed
A21: c) | B21: Primary application | C21: Extended backup
A22: d) | B22: Synchronised generator | C22: No
A23: e) | B23: AC Generating sets | C23: Yes - as specified
A24: 3.3 | B24: Site Conditions
A25: a) | B25: Site location | C25: Land Use Inland
A26: b) | B26: Information | C26: As specified
A27: c) | B27: Location of generator | C27: Outside Installation with Protection
A28: d) | B28: Information | C28: As specified
A29: e) | B29: 1) Minimum ambient temperature | C29: -10 | D29: °C
B30: 2) Maximum ambient temperature | C30: 50
B31: 3) Altitude | C31: 2000 | D31: m
B32: 4) Humidity | C32: 30 - 80 | D32: %
B33: 5) Air quality (dust or sand) | C33: Dust
B34: 6) Marine environment | C34: No
B35: 7) Shock and imposed vibration | C35: No
B36: 8) Chemical pollution | C36: No
B37: 9) Radiation | C37: No
B38: 10) Cooling water/liquid | C38: N/A
A40: 3.4 | B40: Reliability
A41: a) | B41: Expected operating life | C41: 35 | D41: yrs
A42: b) | B42: Expected operating life (Engine running hours at rated loading) | C42: 15000 | D42: hrs
A43: c) | B43: Information | C43: Yes - as specified
A45: 3.5 | B45: Maintainability
A46: a) | B46: Low maintenance | C46: Yes
A47: b) | B47: Ergonomics | C47: Yes - as specified
A48: c) | B48: Modular assemblies | C48: Yes - as specified
A49: d) | B49: Built-in test facilities | C49: Yes - as specified | D49: °C
A50: e) | B50: Component condition monitoring and alarming | C50: Yes - as specified
A51: f) | B51: Spares and parts availability | C51: Yes - as specified
A52: g) | B52: Warranty | C52: 2 | D52: yrs
A54: 3.6 | B54: System definition
A55: 3.6.1 | B55: Diesel Engine
A56: 3.6.1.1 | B56: General
A57: a) | B57: Diesel Engine Type | C57: Diesel fuelled
C58: Cold start
C59: Water cooled
A60: b,c | B60: Specific Fuel / Oil consumption - ISO 3046-1 | C60: Yes - as specified
A62: 3.6.1.2 | B62: Rating
A63: a) | B63: Performance Class | C63: Class G3
A64: b) | B64: Duty type | C64: S1
A65: c) | B65: Sizing input criteria:
B66: System voltage | C66: 400 | D66: V
B67: Highest single phase load current (by measurement or design) | C67: 60 | D67: A
B68: Power factor (by measurement or design) | C68: 0.8 | D68: Cosθ/pF
B69: THD current distortion | C69: 10
A70: d) | B70: Calculated minimum required output power/alternator | C70: ='Sizing calculator'!E40 -> 58 | D70: kVA
A71: d) | B71: Calculated minimum required output power/alternator | C71: ='Sizing calculator'!E41 -> 46.4 | D71: kW
A72: e)-f) | B72: Engine rating | C72: Specify (Rated for calculated alternator size and load requirements) | D72: kW
A73: g) | B73: Start-up time | C73: Specify | D73: s
A74: h) | B74: Ability to deliver full load | C74: As specified
A75: i) | B75: De-rating in accordance with ISO 3046-1 | C75: As specified
A76: j) | B76: Supply altitude related de-rating graphs | C76: Yes - as specified
A77: k) | B77: Engine performance classification - SANS 8528-1 | C77: Emergency Standby Power (ESP)
A78: l) | B78: Mounting type | C78: Fully Resilient
A79: m) | B79: Diesel Generator (DG) operating under varying pf's (0.8 - 1) | C79: Yes - as specified
A80: n) | B80: DG single step load handling ability (≥ 50% ) | C80: Yes - as specified
A81: 0) | B81: DG single step load handling ability (110% ) | C81: N/A
A82: p) | B82: Transient responses | C82: Yes - as specified
A83: q) | B83: Voltage and frequency deviation observed for m) - n) | C83: Specify
A85: 3.6.1.3 | B85: Governor
A86: a) | B86: Mechanical/Electronic governor | C86: Mechanical/Electronic
A87: b) | B87: PI or PID | C87: Specify
A89: 3.6.1.4 | B89: Speed - 1500 rpm preferred | C89: Specify | D89: rpm
A91: 3.6.1.5 | B91: Emissions
B92: Noise at 1 m | C92: 85 | D92: dbA
A94: 3.6.2 | B94: Alternator
A95: 3.6.2.1 | B95: Type
A96: a) | B96: Brushless type | C96: As specified
C97: SANS 60034-1,8,9 + SANS 8528-3
A98: b) | B98: Duty Type | C98: S1
A99: 3.6.2.2 | B99: Excitation
A100: a-b) | B100: Permanent magnet /AVR | C100: Both
A101: 3.6.2.3 | B101: Heaters
A102: a=b) | C102: Yes - as specified
A103: c) | B103: Heater Power requirements | C103: Specify
A104: 3.6.2.4 | B104: Power output
A105: a) | B105: Required output power | C105: =C70 -> 58 | D105: kVA
B106: Power factor | C106: 0.8
A107: b) | B107: Short circuit rating | C107: Specify | D107: kA
A108: c) | B108: Alternator efficiencies | C108: Yes - as specified
A109: d) | B109: Continuous current capabilities and the regulation percentages | C109: Specify
A111: 3.6.2.5 | B111: Loading
A112: a) | B112: Starting sequence and load schedules | C112: Not available
A113: b) | B113: Load types | C113: As specified
...

Sheet Sizing calculator
D1: Generator Sizing and Capability | M1: Pythagoras calculation
M2: a²+b²=C²
M3: c=√a²+b²
M4: a=√c²-b²
M5: b=√c²-a²
M6: Sinθ=b/c | N6: c=b x sinθ
H7: S=√Q²+P² | M7: Cosθ=a/c
H8: c/S | I8: Cosθ
K9: P=Power (kW) | V9: S2
G10: S=Apparent Power (kVA) | K10: P=√3xIlxVlxCosθ | M10: V(v)=I(a)xZ(ohm) | O10: V | T10: S1
J11: b/P | K11: also | M11: S(va)=V(v)xI(a) | O11: VA or kVA | Y11: Power (P) remains the same
K12: P=√S²-Q² | M12: P=√3xIlxVlXCosθ | O12: W or kW | Q12: Il=P(kW)/√3xVl | S12: 0.8 | Y12: for new pF, thus Apparent Power (S) must be larger
G13: Cosθ | M13: Q(var)=V(v)xI(a)xsinθ | O13: Var or kVAr | Q13: Il=P/(√3xVlXCosθ)
M14: PF=Cosθ | O14: pF
G15: Sinθ | M15: PF=Q(var)/S(kVA) | O15: pF
H16: a/Q
E17: input info | S17: 0.65
E18: result calculated
E19: Constant/known | H19: Q=Reactive Power (kVAr)
H20: Q=VxIxSinθ
C21: √3 | D21: 1.732 | E21: root 3 | H21: Q=√S²-P²
D22: SITE POWER REQUIREMENTS | M22: NEW ALTERNATOR CAPABILITY CHECK | T22: Performance | U22: Factor
C23: Available | D23: V line | E23: ='Technical Schedules'!C66 -> 400 | F23: V | G23: line voltage | M23: Available | N23: S (kVA) | O23: =E32 -> 41.568 | P23: Apparent Power | T23: Class G1 | U23: 1
D24: I line | E24: ='Technical Schedules'!C67 -> 60 | F24: A | G24: highest line load demand | N24: V line | O24: =E23 -> 400 | P24: line voltage | T24: Class G2 | U24: 1.05
D25: CosΦ | E25: 0.8 | F25: pF | G25: power factor | N25: CosΦ | O25: =E31 -> 0.8 | P25: power factor | T25: Class G3 | U25: 1.1
T26: Class G4 | U26: 1.2
C27: Calculate | D27: S1= | E27: =(E24*3)*E23/D21/1000 -> 41.570439 | F27: kVA | G27: Apparent power | M27: Calculate | N27: I line (VA) | O27: =((O23*1000)/O24)/D21 -> 60 | P27: A | Q27: current per phase available
D28: P= | E28: =(D21*E23*E24*E25)/1000 -> 33.2544 | F28: kW | G28: True Power | N28: P= | O28: =D21*O27*O24*O25/1000 -> 33.2544 | P28: kW | Q28: true power capability | T28: THD | U28: Factor
D29: Q1= | E29: =SQRT((E27*E27)-(E28*E28)) -> 24.944864 | F29: kVAr | G29: Reactive component | N29: Q= | O29: =SQRT((O23*O23)-(O28*O28)) -> 24.9408 | P29: kVAr | Q29: reactive capability | T29: <5 | U29: 1 | V29: unity pF
T30: 10 | U30: 1.025 | V30: Switchmode rectifiers
D31: Site actual/design pF: | E31: ='Technical Schedules'!C68 -> 0.8 | F31: pF | T31: 20 | U31: 1.05 | V31: 12 pulse rectifiers
D32: Required kVA power to produce (S2) | E32: =E28/E31 -> 41.568 | F32: kVA | I32: Correction 1 is for different pF | T32: 30 | U32: 1.2 | V32: 6 pulse rectifiers
D33: P= | E33: =E32*0.8 -> 33.2544 | F33: kW | T33: 40 | U33: 2.3 | V33: 3 pulse rectifiers
D34: Q2= | E34: =SQRT((E32*E32)-(E30*E30)) -> 41.568 | F34: kVAr
D35: Safe operation margin | E35: 1.25 | G35: Additional 25% | I35: Correction 2 is for safe design margin
D36: Performance class | E36: ='Technical Schedules'!C63 -> Class G3 | G36: Performance impact
D37: Factor | E37: =VLOOKUP(E36,T23:U26,2,FALSE) -> 1.1 | I37: Correction 3 is for performance class
D38: THD value | E38: ='Technical Schedules'!C69 -> 10 | F38: %THD | G38: Current distortion factor | P38: This data will normally be hidden to simplify calculation information
D39: Factor | E39: =VLOOKUP(E38,T29:V33,2,FALSE) -> 1.025 | I39: Correction factor 4 is due to impact of THD on rotor
D40: Final alternator sizing | E40: =ROUNDUP(E32*((E35+E37+E39)-2),0) -> 58 | F40: kVA
E41: =E40*0.8 -> 46.4 | F41: kW

Sheet Options
A1: Performance Class:
A2: Class G1 | B2: This applies to generating set applications where the connected loads are such that only basic parameters of voltage and frequency need to be specified. EXAMPLE General-purpose applications (lighting and other simple electrical loads).
A3: Class G2 | B3: This applies to generating set applications where its voltage characteristics are very similar to those for the commercial public utility electrical power system with which it operates. When load changes occur, there may be temporary but acceptable deviations of voltage and frequency. EXAMPLE Lighting systems, pumps, fans and hoists.
A4: Class G3 | B4: This applies to applications where the connected equipment makes severe demands on the stability and level of the frequency, voltage and waveform characteristics of the electrical power supplied by the generating set. EXAMPLE Telecommunications and thyristor-controlled loads. It should be remembered that both rectifier and thyristor-controlled loads may need special consideration with respect to their effect on generator-voltage waveform.
A5: Class G4 | B5: This applies to applications where the demands made on the stability and level of the frequency, voltage and waveform characteristics of the electrical power supplied by the generating set are exceptionally severe. EXAMPLE Data-processing equipment or computer systems.
A7: Power Rating Categories:
A8: Continuous Power (COP) | B8: Continuous power is defined as being the maximum power which the generating set is capable of delivering continuously whilst supplying a constant electrical load when operated for an unlimited number of hours per year under the agreed operating conditions with the maintenance intervals and procedures being carried out as prescribed by the manufacturer.
A9: Prime Power (PRP) | B9: Prime power is defined as being the maximum power which a generating set is capable of delivering continuously whilst supplying a variable electrical load when operated for an unlimited number of hours per year under the agreed operating conditions with the maintenance intervals and procedures being carried out as prescribed by the manufacturer. The permissible average power output (Ppp) over 24 h of operation shall not exceed 70 % of the PRP unless otherwise agreed by the RIC engine manufacturer. NOTE For applications requiring a permissible Ppp higher than stated, a continuous power COP rating should be used.
A10: Limited-Time running Power (LTP) | B10: Limited-time running power is defined as the maximum power available, under the agreed operating conditions, for which the generating set is capable of delivering for up to 500 h of operation per year with the maintenance intervals and procedures being carried out as prescribed by the manufacturers.
A11: Emergency Standby Power (ESP) | B11: Emergency standby power is defined as the maximum power available during a variable electrical power sequence, under the stated operating conditions, for which a generating set is capable of delivering in the event of a utility power outage or under test conditions for up to 200 h of operation per year with the maintenance intervals and procedures being carried out as prescribed by the manufacturers. The permissible average power output (Ppp)over 24 h of operation shall not exceed 70 % of the ESP unless otherwise agreed by the RIC engine manufacturer. The actual average power output (Ppa) shall be below or equal to the permissible average power output (Ppp) defined for ESP.
A13: Mounting Types:
A14: Rigid | B14: In this type of installation, the generating set is installed on inflexible mounts. If foundations for mounting the generating set are installed on substrates of low elasticity (e.g. cork tiles) with no resilient layers inserted, the method of mounting is considered to be rigid.
A15: Fully Resilient | B15: In this type of installation, the generating set is mounted on a baseframe or a foundation fitted with mountings that provide insulation against vibration to a high level as agreed between the manufacturer and the customer.
A16: Semi-resilient | B16: In this type of installation, the RIC engine is mounted resiliently and the electrical generator is mounted rigidly on a baseframe or foundation.
A17: Resilient Foundation | B17: In this type of installation, the generating set is mounted on a resilient foundation (damping mass) which is isolated from the load-bearing foundation by, for example, anti-vibration mounts.
A19: Site location:
A20: Marine
A21: Land Use Coastal
A22: Land Use Inland
A23: Land Use (Coastal and Inland)
A25: Set Configuration:
A26: A: without base frame
A27: B: with base frame
A28: C: with base frame, integrally mounted control gear,day tank, and auxiliaries
A29: D: configuration as given in C with enclosure
A30: E: configuration as given in C having an integral set of wheels or mounted on a trailer
A32: Installation Configuration:
... A42: Governor type
A43: Class G1 | B43: Mechanical or Electronic
A44: Class G2 | B44: Mechanical or Electronic
A45: Class G3 | B45: Electronic
A46: Class G4 | B46: Electronic

Sheet Controls
A1: Note: Check these requirements against what is offered as standard
A3: Controls
A4: Description | B4: HMI | C4: Local | D4: Remote
A5: Start | B5: X | C5: X
A6: Stop | B6: X | C6: X
A7: Emergency Stop | B7: N/A | C7: X
A8: Alarm Accept/Test/Reset | B8: X | C8: X
A9: Lamp Test | B9: X | C9: X
A10: Mains Circuit-breaker operation | B10: X | C10: X
A12: Adjustable Parameters and Data Lists
A13: Description | B13: HMI | C13: Local | D13: Remote
A14: Speed [rpm] | B14: X | C14: X
A15: Voltage [V] | B15: X | C15: X
A16: Time delays [s] or [min] | B16: X | C16: X
A17: Fault history (Date-time-stamped) | B17: X | C17: X
A19: Notes: How will you be able to display the meter value and indicate if it is within or outside the normal / recommended range.

Sheet Local Indications
A1: Local Indications | B1: Y/N/N/A
A2: Control system in remote mode | B2: N/A
A3: Control system in local | B3: N/A
A4: DG control system healthy | B4: Yes
A5: Diesel engine ready to accept load | B5: Yes | C5: The closing of the load (DG) breaker will be done manually.
A6: Main DC supply healthy | B6: Yes
A7: Backup DC supply healthy (if required) | B7: No
A8: Generating kVAr (kilovolts-ampere reactive), kW (kilowatt), Volts, Frequency, Amps and power factor are displayed on digital instruments | B8: Yes
A9: Starter battery charger voltage and current | B9: Yes
A10: Engine running hours | B10: Yes
A11: Fuel level (100%, 75%, 50%, 25%) | B11: Yes
A12: Engine temperature [˚C] | B12: Yes
A13: Oil pressure | B13: Yes
A14: No. of starts | B14: Yes
A15: Fault present | B15: Yes
A16: Warning | B16: Yes

Sheet Local Warnings_Alarms
A1: Local Alarms | B1: Y/N | C1: Alarm | D1: Warning | E1: Shutdown
A2: Diesel engine start failure | B2: Yes | C2: X
A3: Low engine oil pressure | B3: Yes | C3: X | E3: X
A4: Low radiator water level | B4: Yes | D4: X
A5: Engine over speed | B5: Yes | C5: X | E5: X
A6: Emergency stop activated | B6: Yes | D6: X
A7: Generator field breaker tripped | B7: Yes | C7: X
A8: Fuel tank < 5% | B8: Yes | D8: X
A9: Fuel tank < 20%, unless otherwise stated | B9: Yes | D9: X
A10: Protection trip | B10: Yes | D10: X | E10: X
A11: High engine temperature | B11: Yes | C11: X | E11: X
A12: Under frequency | B12: Yes | D12: X
A13: Abnormal voltage | B13: Yes | D13: X

Sheet Fuel_Oil Consumption
A1: Fuel Consumption - Standby Output | E1: Oil Consumption - Standby Output
A2: Loading | B2: Consumption | E2: Loading | F2: Consumption
A3: [%] | B3: [l/kWh] | C3: [l] | E3: [%] | F3: [l/kWh] | G3: [l]
A4: 100 | E4: 100
A5: 75 | E5: 75
A6: 50 | E6: 50
A7: 25 | E7: 25
A9: Fuel Consumption - Prime Output | E9: Oil Consumption - Prime Output
A10: Loading | B10: Consumption | E10: Loading | F10: Consumption
A11: [%] | B11: [l/kWh] | C11: [l] | E11: [%] | F11: [l/kWh] | G11: [l]
A12: 100 | E12: 100
A13: 75 | E13: 75
A14: 50 | E14: 50
A15: 25 | E15: 25
