Workbook

Sheet CIDB Painting
C3: BILLS OF QUANTITIES
C4: PAINTING OF EXTERIOR WALLS AND STAIRCASES
A7: Contract Description: | B7: REQUEST FOR PROPOSAL FOR THE APPOINTMENT OF A SERVICE PROVIDER TO REPAIR AND PAINT EXTERNAL WALLS, EXTERNAL BULKHEADS, EXTERNAL STEEL STAIRCASES AND BULUSTRADE AND INTERNAL FIRE STAIRCASES WITH FIRE PARTITIONS AT THE CIDB HEAD OFFICE IN CERTURION
A11: ITEM NO | B11: DESCRIPTION | C11: UNIT | D11: QUANTITY | E11: RATE | F11: AMOUNT
B14: SECTION 1
B16: PRELIMINARIES
B18: BILL NO. 1
B20: PRELIMINARIES AND GENERAL
B22: BUILDING AGREEMENT AND PRELIMINARIES
B24: The JBCC Principal Building Agreement (Edition 6.2 – May 2018) prepared by the Joint Building Contracts Committee shall be the applicable building agreement, amended as hereinafter described
B26: The JBCC Principal Building Agreement contract data form an integral part of this agreement
B28: The JBCC General Preliminaries (May 2018) published by the Joint Building Contracts Committee for use with the JBCC Principal Building Agreement (Edition 6.2 – May 2018) shall be deemed to be incorporated in this project specific preliminaries, amended as hereinafter described
B30: The contractor is deemed to have referred to the abovementioned documents for the full intent and meaning of each clause
B32: The relevant clauses in the abovementioned documents are hereinafter referred to by clause number and heading only
B34: Where standard clauses or alternatives are not entirely applicable to this agreement such amendments, modifications, corrections or supplements as will apply are given under each relevant clause heading and such amendments, modifications, corrections or supplements shall take precedence notwithstanding anything to the contrary contained in the abovementioned documents
B37: PREAMBLES FOR TRADES
... B102: However, should the full intent and meaning of any description not be clear, the contractor shall, before submission of his tender, call for a written directive from the principal agent and/or , failing which it shall be assumed that the contractor has allowed in his pricing for materials and workmanship in terms of international best practice
A103: 1 | B103: F:............................. V:............................ T:............................ | C103: Item | D103: 1 | F103: =D103*E103 -> 0
B105: Clause 2.0 - Law, regulations and notices
A107: 2 | B107: F:............................. V:............................ T:............................ | C107: Item | D107: 1 | F107: =D107*E107 -> 0
B109: Clause 3.0 - Offer and acceptance
A111: 3 | B111: F:............................. V:............................ T:............................ | C111: Item | D111: 1 | F111: =D111*E111 -> 0
B113: Clause 4.0 - Cession and assignment
A115: 4 | B115: F:............................. V:............................ T:............................ | C115: Item | D115: 1 | F115: =D115*E115 -> 0
B117: Clause 5.0 - Documents
A119: 5 | B119: F:............................. V:............................ T:............................ | C119: Item | D119: 1 | F119: =D119*E119 -> 0
B121: Clause 6.0 - Employer's agents
B123: Delegated authority The authority of the principal agent to issue contract instructions [17.1] and perform duties for specific aspects of the works is delegated to agents. This does not preclude the principal agent from issuing such contract instructions:
A125: 6 | B125: F:............................. V:............................ T:............................ | C125: Item | D125: 1 | F125: =D125*E125 -> 0
B127: Clause 7.0 - Design responsibility
B129: The responsibility for the design of systems and equipment to comply with all applicable laws, ordinances and codes of practice of relevant authorities, lies with the principal agent systems and equipment, and lies with the contractor where the contractor has designed and specified such systems and equipment
A131: 7 | B131: F:............................. V:............................ T:............................ | C131: Item | D131: 1 | F131: =D131*E131 -> 0
B134: INSURANCES AND SECURITIES
B136: Clause 8.0 - Works risk
A138: 8 | B138: F:............................. V:............................ T:............................ | C138: Item | D138: 1 | F138: =D138*E138 -> 0
B140: Clause 9.0 – Indemnities
A142: 9 | B142: F:............................. V:............................ T:............................ | C142: Item | D142: 1 | F142: =D142*E142 -> 0
B144: Clause 10.0 – Insurances
A146: 10 | B146: F:............................. V:............................ T:............................ | C146: Item | D146: 1 | F146: =D146*E146 -> 0
B148: Clause 11.0 – Securities
...

Sheet Summary
C3: BILLS OF QUANTITIES
C4: PAINTING OF EXTERIOR WALLS AND STAIRCASES
C5: SUMMARY
A7: Contract Description: | B7: REQUEST FOR PROPOSAL FOR THE APPOINTMENT OF A SERVICE PROVIDER TO REPAIR AND PAINT EXTERNAL WALLS, EXTERNAL BULKHEADS, EXTERNAL STEEL STAIRCASES AND BULUSTRADE AND INTERNAL FIRE STAIRCASES WITH FIRE PARTITIONS AT THE CIDB HEAD OFFICE IN CERTURION
A10: ITEM NO | B10: DESCRIPTION | C10: AMOUNT
B12: SUMMARY
A15: Bill no. 1 | B15: Preliminaries and general | C15: ='CIDB Painting'!F425 -> 0
A17: Bill no. 2 | B17: Alterations | C17: ='CIDB Painting'!F463 -> 0
A19: Bill no. 3 | B19: Waterproofing | C19: ='CIDB Painting'!F493 -> 0
A21: Bill no, 4 | B21: Ceilings and Partitions | C21: ='CIDB Painting'!F520 -> 0
A23: Bill no. 5 | B23: Paintwork | C23: ='CIDB Painting'!F621 -> 0
A25: Bill no. 6 | B25: Plastering | C25: ='CIDB Painting'!F638 -> 0
A27: Bill no. 7 | B27: Tiling | C27: ='CIDB Painting'!F660 -> 0
A29: Bill no. 8 | B29: External works | C29: ='CIDB Painting'!F678 -> 0
A31: Bill no. 9 | B31: Provisional Amounts | C31: ='CIDB Painting'!F742 -> 850000
B34: SUB TOTAL | C34: =SUM(C13:C32) -> 850000
B36: Contingency
B38: Provide the sum of R 450 000.00 (Four Hundred and Fifty Thousand Rands) for contingencies to be used as directed and deducted in whole or in part if not required | C38: 450000
B42: SUB TOTAL | C42: =C38+C34 -> 1300000
B44: Add VAT
B46: Allow 15per cent (15%) of the above sub-total for Value Added Tax | C46: =C42*15% -> 195000
B55: TOTAL CARRIED TO TENDER DOCUMENT | C55: =C42+C46 -> 1495000
