Workbook
Name \a: #N/A
Name \d: #N/A
Name ______CXX1: '[1]1'!$F$175:$F$182
Name ______CXX2: '[1]2'!$F$175:$F$182
Name ______CXX3: '[1]3'!$F$175:$F$182
Name ______CXX4: '[1]4'!$F$175:$F$182
Name ______CXX5: '[1]5'!$F$175:$F$182
Name ______CXX6: '[1]6'!$F$175:$F$182
Name ______CXX7: '[1]7'!$F$175:$F$182
Name ______CXX8: '[1]8'!$F$175:$F$182
Name ______CXX9: '[1]9'!$F$175:$F$182
Name ______EXX1: '[1]1'!$F$129:$F$168
Name ______EXX2: '[1]2'!$F$129:$F$168
Name ______EXX3: '[1]3'!$F$129:$F$168
Name ______EXX4: '[1]4'!$F$129:$F$168
Name ______EXX5: '[1]5'!$F$129:$F$168
Name ______EXX6: '[1]6'!$F$129:$F$168
Name ______EXX7: '[1]7'!$F$129:$F$168
Name ______EXX8: '[1]8'!$F$129:$F$168
Name ______EXX9: '[1]9'!$F$129:$F$168
Name ______MXX1: '[1]1'!$F$13:$F$64
Name ______MXX2: '[1]2'!$F$13:$F$64
Name ______MXX3: '[1]3'!$F$13:$F$64
Name ______MXX4: '[1]4'!$F$13:$F$64
Name ______MXX5: '[1]5'!$F$13:$F$64
Name ______MXX6: '[1]6'!$F$13:$F$64
Name ______MXX7: '[1]7'!$F$13:$F$64
Name ______MXX8: '[1]8'!$F$13:$F$64
Name ______MXX9: '[1]9'!$F$13:$F$64
Name ______SXX1: '[1]1'!$F$71:$F$122
Name ______SXX2: '[1]2'!$F$71:$F$122
Name ______SXX3: '[1]3'!$F$71:$F$122
Name ______SXX4: '[1]4'!$F$71:$F$122
Name ______SXX5: '[1]5'!$F$71:$F$122
Name ______SXX6: '[1]6'!$F$71:$F$122
Name ______SXX7: '[1]7'!$F$71:$F$122
Name ______SXX8: '[1]8'!$F$71:$F$122
Name ______SXX9: '[1]9'!$F$71:$F$122
Name _____CXX1: '[1]1'!$F$175:$F$182
Name _____CXX2: '[1]2'!$F$175:$F$182
Name _____CXX3: '[1]3'!$F$175:$F$182
Name _____CXX4: '[1]4'!$F$175:$F$182
Name _____CXX5: '[1]5'!$F$175:$F$182
Name _____CXX6: '[1]6'!$F$175:$F$182
Name _____CXX7: '[1]7'!$F$175:$F$182
Name _____CXX8: '[1]8'!$F$175:$F$182
Name _____CXX9: '[1]9'!$F$175:$F$182
Name _____EXX1: '[1]1'!$F$129:$F$168
Name _____EXX2: '[1]2'!$F$129:$F$168
Name _____EXX3: '[1]3'!$F$129:$F$168
Name _____EXX4: '[1]4'!$F$129:$F$168
Name _____EXX5: '[1]5'!$F$129:$F$168
Name _____EXX6: '[1]6'!$F$129:$F$168
Name _____EXX7: '[1]7'!$F$129:$F$168
Name _____EXX8: '[1]8'!$F$129:$F$168
Name _____EXX9: '[1]9'!$F$129:$F$168
Name _____MXX1: '[1]1'!$F$13:$F$64
Name _____MXX2: '[1]2'!$F$13:$F$64
Name _____MXX3: '[1]3'!$F$13:$F$64
Name _____MXX4: '[1]4'!$F$13:$F$64

Sheet COVER SHEET
D8: NORTHERN PORTFOLIO PLC REFURBISHMENT
D10: ACORNHOEK, FOSKOR, LESEDING, MARATHON, MERENSKY, PELLY, SENAKANGWEDI, SIMPLON, SPENCER, WARMBAD, AND WITKOP SUBSTATIONS
D12: PRICING INFORMATION
D15: ENQUIRY No.
D17: TENDERER’S NAME:
D20: THE PRICE: IN ZAR | E20: =SUMMARY!H39 -> 0
D21: (excluding VAT)
D22: RAND VALUE IN WORDS
D27: DATE :

Sheet 1. ACORNHOEK
D4: NORTHERN PORTFOLIO PLC REFURBISHMENT - ACORNHOEK SUBSTATION
C6: ITEM | D6: DESCRIPTION | E6: UNIT | F6: QUANTITY | G6: RATE | H6: AMOUNT
D8: BILL NO. 1 - PRELIMINARY AND GENERAL
D10: (Applicable to the whole of the Works)
D12: Notes to Tenderers:
D14: The following bills in this section, are according to the "SABS 1200 System for Measuring Civil Works" as published by the SABS.
D16: The Contractor shall price Bill No. 1 - Preliminary and General in respect of all payment required for any work, risk, contingency or obligation whatsoever, that is not described in the Bill of Quantities and which is his responsibility under the Contract
D18: PRELIMINARY AND GENERAL
C21: 1 | D21: Contractual requirements. | E21: Sum | F21: 1 | H21: =F21*G21 -> 0
C23: =C21+1 -> 2 | D23: Establishment of the contractor's's facilities on site (as per specifications provided by Employer). | E23: Sum | F23: 1 | H23: =F23*G23 -> 0
C25: =C23+1 -> 3 | D25: Complying with NTCSA's SHEQ requirements as outlined in the Works Information and all statutory requirements. | E25: Sum | F25: 1 | H25: =F25*G25 -> 0
C27: =C25+1 -> 4 | D27: Living accommodation. | E27: Sum | F27: 1 | H27: =F27*G27 -> 0
C29: =C27+1 -> 5 | D29: Removal of site establishment on completion of the works | E29: Sum | F29: 1 | H29: =F29*G29 -> 0
D34: BILL NO. 2 STRINGING & CABLING
D36: REMOVAL OF EQUIPMENT
D38: Note to tenderer: Eskom has the responsibility to dispose all yard Equipment.
C40: 1 | D40: Line matching Equipment HP Filter. | E40: No. | F40: 6 | H40: =F40*G40 -> 0
C42: =C40+1 -> 2 | D42: Decommision and remove old and existing PLC cabinets with associated cables | E42: No. | F42: 3 | H42: =F42*G42 -> 0
C44: =C42+1 -> 3 | D44: Decommision and remove old and existing NSD70 TPE units incuding associated cables | E44: No. | F44: 2 | H44: =F44*G44 -> 0
D46: ERECTION OF EQUIPMENT
D48: Note to tenderer: unless otherwise stated below, the equipment will be supplied by Eskom including the storage for these items
C50: =C44+1 -> 4 | D50: Line Matching Equipment HP Filter. | E50: No. | F50: 6 | H50: =F50*G50 -> 0
C52: =C50+1 -> 5 | D52: Carrier Cabinet and wiring for 1 PLC. | E52: No. | F52: 3 | H52: =F52*G52 -> 0
C54: =C52+1 -> 6 | D54: Power Line Carrier protection with 3 channel , 50 W 2 kHz | E54: No. | F54: 3 | H54: =F54*G54 -> 0
C56: =C54+1 -> 7 | D56: PLC Carrier Combiner for phase to phase coupling | E56: No. | F56: 1 | H56: =F56*G56 -> 0
C58: =C56+1 -> 8 | D58: NSD570 TPE unit | E58: No. | F58: 2 | H58: =F58*G58 -> 0
C60: =C58+1 -> 9 | D60: Supply and install 5mm Thick checker plate 600mm wide and 1600mm long including cutting to accommodate the panel. | E60: No. | F60: 3 | H60: =F60*G60 -> 0
C62: =C60+1 -> 10 | D62: Panel labels (Refer to specification). | E62: No. | F62: 3 | H62: =F62*G62 -> 0
D64: CABLING, GLANDS AND TERMINATION
D66: Note to tenderer: cables to be supplied by Eskom, the contractor to supply the glanding.
D68: Eskom has the responsibility to dispose all the cable that is removed.
C70: =C62+1 -> 11 | D70: BVX 2 ECV (Disconnect and remove existing cable) | E70: m | F70: 200 | H70: =F70*G70 -> 0
C71: =C70+1 -> 12 | D71: BVX 2 ECV (Installing and testing new cable) | E71: m | F71: 200 | H71: =F71*G71 -> 0
C72: =C71+1 -> 13 | D72: BVX 2 ECV (Gland supply) | E72: No. | F72: 18 | H72: =F72*G72 -> 0
C73: =C72+1 -> 14 | D73: BVX 2 ECV (Terminations) | E73: No. | F73: 18 | H73: =F73*G73 -> 0
C75: =C73+1 -> 15 | D75: X21 (Disconnect and remove existing cable) | E75: m | F75: 50 | H75: =F75*G75 -> 0
C76: =C75+1 -> 16 | D76: X21 (Installing and testing new cable) | E76: m | F76: 50 | H76: =F76*G76 -> 0
C77: =C76+1 -> 17 | D77: X21 (Gland supply) | E77: No. | F77: 4 | H77: =F77*G77 -> 0
C78: =C77+1 -> 18 | D78: X21 (Terminations) | E78: No. | F78: 4 | H78: =F78*G78 -> 0
C80: =C78+1 -> 19 | D80: TPH 10 AX (Disconnect and remove existing cable). | E80: m | F80: 80 | H80: =F80*G80 -> 0
...

Sheet 2. FOSKOR
D4: NORTHERN PORTFOLIO PLC REFURBISHMENT - FOSKOR SUBSTATION
C6: ITEM | D6: DESCRIPTION | E6: UNIT | F6: QUANTITY | G6: RATE | H6: AMOUNT
D8: BILL NO. 1 - PRELIMINARY AND GENERAL
D10: (Applicable to the whole of the Works)
D12: Notes to Tenderers:
D14: The following bills in this section, are according to the "SABS 1200 System for Measuring Civil Works" as published by the SABS.
D16: The Contractor shall price Bill No. 1 - Preliminary and General in respect of all payment required for any work, risk, contingency or obligation whatsoever, that is not described in the Bill of Quantities and which is his responsibility under the Contract
D18: PRELIMINARY AND GENERAL
C21: 1 | D21: Contractual requirements. | E21: Sum | F21: 1 | H21: =F21*G21 -> 0
C23: =C21+1 -> 2 | D23: Establishment of the contractor's's facilities on site (as per specifications provided by Employer). | E23: Sum | F23: 1 | H23: =F23*G23 -> 0
C25: =C23+1 -> 3 | D25: Complying with NTCSA's SHEQ requirements as outlined in the Works Information and all statutory requirements. | E25: Sum | F25: 1 | H25: =F25*G25 -> 0
C27: =C25+1 -> 4 | D27: Living accommodation. | E27: Sum | F27: 1 | H27: =F27*G27 -> 0
C29: =C27+1 -> 5 | D29: Removal of site establishment on completion of the works | E29: Sum | F29: 1 | H29: =F29*G29 -> 0
D35: BILL NO. 2 STRINGING & CABLING
D37: REMOVAL OF EQUIPMENT
D39: Note to tenderer: Eskom has the responsibility to dispose all yard Equipment.
C41: 1 | D41: Line matching Equipment HP Filter. | E41: No. | F41: 4 | H41: =F41*G41 -> 0
C43: =C41+1 -> 2 | D43: Decommision and remove old and existing PLC cabinets with associated cables | E43: No. | F43: 2 | H43: =F43*G43 -> 0
C45: =C43+1 -> 3 | D45: Decommision and remove old and existing NSD70 TPE units incuding associated cables | E45: No. | F45: 1 | H45: =F45*G45 -> 0
D47: ERECTION OF EQUIPMENT
D49: Note to tenderer: unless otherwise stated below, the equipment will be supplied by Eskom including the storage for these items
C51: =C43+1 -> 3 | D51: Line matching Equipment HP Filter. | E51: No. | F51: 4 | H51: =F51*G51 -> 0
C53: =C51+1 -> 4 | D53: Carrier Cabinet and wiring for 1 PLC. | E53: No. | F53: 2 | H53: =F53*G53 -> 0
C55: =C53+1 -> 5 | D55: Power Line Carrier protection with 3 channel , 50 W 2 kHz | E55: No. | F55: 2 | H55: =F55*G55 -> 0
C57: =C55+1 -> 6 | D57: NSD570 TPE unit | E57: No | F57: 1 | H57: =F57*G57 -> 0
C59: =C57+1 -> 7 | D59: Supply and install 5mm Thick checker plate 600mm wide and 1600mm long including cutting to accommodate the panel. | E59: No. | F59: 2 | H59: =F59*G59 -> 0
C61: =C59+1 -> 8 | D61: Panel labels (Refer to specification). | E61: No. | F61: 2 | H61: =F61*G61 -> 0
D63: CABLING, GLANDS AND TERMINATION
D65: Note to tenderer: cables to be supplied by Eskom, the contractor to supply the glanding.
D67: Eskom has the responsibility to dispose all the cable that is removed.
C69: =C61+1 -> 9 | D69: BVX 2 ECV (Disconnect and remove existing cable) | E69: m | F69: 300 | H69: =F69*G69 -> 0
C70: =C69+1 -> 10 | D70: BVX 2 ECV (Installing and testing new cable) | E70: m | F70: 300 | H70: =F70*G70 -> 0
C71: =C70+1 -> 11 | D71: BVX 2 ECV (Gland supply) | E71: No. | F71: 12 | H71: =F71*G71 -> 0
C72: =C71+1 -> 12 | D72: BVX 2 ECV (Terminations) | E72: No. | F72: 12 | H72: =F72*G72 -> 0
C74: =C72+1 -> 13 | D74: X21 (Disconnect and remove existing cable) | E74: m | F74: 20 | H74: =F74*G74 -> 0
C75: =C74+1 -> 14 | D75: X21 (Installing and testing new cable) | E75: m | F75: 20 | H75: =F75*G75 -> 0
C76: =C75+1 -> 15 | D76: X21 (Gland supply) | E76: No. | F76: 2 | H76: =F76*G76 -> 0
C77: =C76+1 -> 16 | D77: X21 (Terminations) | E77: No. | F77: 2 | H77: =F77*G77 -> 0
C79: =C77+1 -> 17 | D79: TPH 10 AX (Disconnect and remove existing cable). | E79: m | F79: 70 | H79: =F79*G79 -> 0
C80: =C79+1 -> 18 | D80: TPH 10 AX (Installing and testing new cable). | E80: m | F80: 70 | H80: =F80*G80 -> 0
...

Sheet 3. LESEDING 
D4: NORTHERN PORTFOLIO PLC REFURBISHMENT - LESEDING SUBSTATION
C6: ITEM | D6: DESCRIPTION | E6: UNIT | F6: QUANTITY | G6: RATE | H6: AMOUNT
D8: BILL NO. 1 - PRELIMINARY AND GENERAL
D10: (Applicable to the whole of the Works)
D12: Notes to Tenderers:
D14: The following bills in this section, are according to the "SABS 1200 System for Measuring Civil Works" as published by the SABS.
D16: The Contractor shall price Bill No. 1 - Preliminary and General in respect of all payment required for any work, risk, contingency or obligation whatsoever, that is not described in the Bill of Quantities and which is his responsibility under the Contract
D18: PRELIMINARY AND GENERAL
C21: 1 | D21: Contractual requirements. | E21: Sum | F21: 1 | H21: =F21*G21 -> 0
C23: =C21+1 -> 2 | D23: Establishment of the contractor's's facilities on site (as per specifications provided by Employer). | E23: Sum | F23: 1 | H23: =F23*G23 -> 0
C25: =C23+1 -> 3 | D25: Complying with NTCSA's SHEQ requirements as outlined in the Works Information and all statutory requirements. | E25: Sum | F25: 1 | H25: =F25*G25 -> 0
C27: =C25+1 -> 4 | D27: Living accommodation. | E27: Sum | F27: 1 | H27: =F27*G27 -> 0
C29: =C27+1 -> 5 | D29: Removal of site establishment on completion of the works | E29: Sum | F29: 1 | H29: =F29*G29 -> 0
D34: BILL NO. 2 STRINGING & CABLING
D36: REMOVAL OF EQUIPMENT
D38: Note to tenderer: Eskom has the responsibility to dispose all yard Equipment.
C40: 1 | D40: Line matching Equipment HP Filter. | E40: No. | F40: 4 | H40: =F40*G40 -> 0
C42: =C40+1 -> 2 | D42: Decommision and remove old and existing PLC cabinets with associated cables | E42: No. | F42: 2 | H42: =F42*G42 -> 0
C44: =C42+1 -> 3 | D44: Decommision and remove old and existing NSD70 TPE units incuding associated cables | E44: No. | F44: 2 | H44: =F44*G44 -> 0
D46: ERECTION OF EQUIPMENT
D48: Note to tenderer: unless otherwise stated below, the equipment will be supplied by Eskom including the storage for these items
C50: =C44+1 -> 4 | D50: Line matching Equipment HP Filter. | E50: No. | F50: 4 | H50: =F50*G50 -> 0
C52: =C50+1 -> 5 | D52: Carrier Cabinet and wiring for 1 PLC. | E52: No. | F52: 2 | H52: =F52*G52 -> 0
C54: =C52+1 -> 6 | D54: Power Line Carrier protection with 3 channel , 50 W 2 kHz | E54: No. | F54: 1 | H54: =F54*G54 -> 0
C56: =C54+1 -> 7 | D56: Power Line Carrier protection with 3 channel , 100 W 2 kHz | E56: No. | F56: 1 | H56: =F56*G56 -> 0
C58: =C56+1 -> 8 | D58: NSD570 TPE unit | E58: No. | F58: 2 | H58: =F58*G58 -> 0
C60: =C58+1 -> 9 | D60: Supply and install 5mm Thick checker plate 600mm wide and 1600mm long including cutting to accommodate the panel. | E60: No. | F60: 2 | H60: =F60*G60 -> 0
C62: =C60+1 -> 10 | D62: Panel labels (Refer to specification). | E62: No. | F62: 2 | H62: =F62*G62 -> 0
D64: CABLING, GLANDS AND TERMINATION
D66: Note to tenderer: cables to be supplied by Eskom, the contractor to supply the glanding.
D68: Eskom has the responsibility to dispose all the cable that is removed.
C70: =C62+1 -> 11 | D70: BVX 2 ECV (Disconnect and remove existing cable) | E70: m | F70: 270 | H70: =F70*G70 -> 0
C71: =C70+1 -> 12 | D71: BVX 2 ECV (Installing and testing new cable) | E71: m | F71: 270 | H71: =F71*G71 -> 0
C72: =C71+1 -> 13 | D72: BVX 2 ECV (Gland supply) | E72: No. | F72: 12 | H72: =F72*G72 -> 0
C73: =C72+1 -> 14 | D73: BVX 2 ECV (Terminations) | E73: No. | F73: 12 | H73: =F73*G73 -> 0
C75: =C73+1 -> 15 | D75: X21 (Disconnect and remove existing cable) | E75: m | F75: 25 | H75: =F75*G75 -> 0
C76: =C75+1 -> 16 | D76: X21 (Installing and testing new cable) | E76: m | F76: 25 | H76: =F76*G76 -> 0
C77: =C76+1 -> 17 | D77: X21 (Gland supply) | E77: No. | F77: 4 | H77: =F77*G77 -> 0
C78: =C77+1 -> 18 | D78: X21 (Terminations) | E78: No. | F78: 4 | H78: =F78*G78 -> 0
C80: =C78+1 -> 19 | D80: TPH 10 AX (Disconnect and remove existing cable). | E80: m | F80: 75 | H80: =F80*G80 -> 0
...

Sheet 4. MARATHON
D4: NORTHERN PORTFOLIO PLC REFURBISHMENT - MARATHON SUBSTATION
C6: ITEM | D6: DESCRIPTION | E6: UNIT | F6: QUANTITY | G6: RATE | H6: AMOUNT
D9: BILL NO. 1 - PRELIMINARY AND GENERAL
D11: (Applicable to the whole of the Works)
D13: Notes to Tenderers:
D15: The following bills in this section, are according to the "SABS 1200 System for Measuring Civil Works" as published by the SABS.
D17: The Contractor shall price Bill No. 1 - Preliminary and General in respect of all payment required for any work, risk, contingency or obligation whatsoever, that is not described in the Bill of Quantities and which is his responsibility under the Contract
D19: PRELIMINARY AND GENERAL
C22: 1 | D22: Contractual requirements. | E22: Sum | F22: 1 | H22: =F22*G22 -> 0
C24: =C22+1 -> 2 | D24: Establishment of the contractor's's facilities on site (as per specifications provided by Employer). | E24: Sum | F24: 1 | H24: =F24*G24 -> 0
C26: =C24+1 -> 3 | D26: Complying with NTCSA's SHEQ requirements as outlined in the Works Information and all statutory requirements. | E26: Sum | F26: 1 | H26: =F26*G26 -> 0
C28: =C26+1 -> 4 | D28: Living accommodation. | E28: Sum | F28: 1 | H28: =F28*G28 -> 0
C30: =C28+1 -> 5 | D30: Removal of site establishment on completion of the works | E30: Sum | F30: 1 | H30: =F30*G30 -> 0
D35: BILL NO. 2 STRINGING & CABLING
D37: REMOVAL OF EQUIPMENT
D39: Note to tenderer: Eskom has the responsibility to dispose all yard Equipment.
C41: 1 | D41: Line matching Equipment HP Filter. | E41: No. | F41: 4 | H41: =F41*G41 -> 0
C43: =C41+1 -> 2 | D43: Decommision and remove old and existing PLC cabinets with associated cables | E43: No. | F43: 1 | H43: =F43*G43 -> 0
D45: ERECTION OF EQUIPMENT
D47: Note to tenderer: unless otherwise stated below, the equipment will be supplied by Eskom including the storage for these items
C49: =C43+1 -> 3 | D49: Line Matching Equipment (LME) HP Filter. | E49: No. | F49: 4 | H49: =F49*G49 -> 0
C51: =C49+1 -> 4 | D51: Carrier Cabinet and wiring for 1 PLC. | E51: No. | F51: 1 | H51: =F51*G51 -> 0
C53: =C51+1 -> 5 | D53: Power Line Carrier protection with 3 tripping channels (New frequencies Tx=254kHz,Rx= 252kHz) | E53: No. | F53: 1 | H53: =F53*G53 -> 0
C55: =C53+1 -> 6 | D55: NSD570 TPE unit | E55: No. | F55: 1 | H55: =F55*G55 -> 0
C57: =C55+1 -> 7 | D57: Supply and install 5mm Thick checker plate 600mm wide and 1600mm long including cutting to accommodate the panel. | E57: No. | F57: 1 | H57: =F57*G57 -> 0
C59: =C57+1 -> 8 | D59: Panel labels (Refer to specification). | E59: No. | F59: 1 | H59: =F59*G59 -> 0
D61: CABLING, GLANDS AND TERMINATION
D63: Note to tenderer: cables to be supplied by Eskom, the contractor to supply the glanding.
D65: Eskom has the responsibility to dispose all the cable that is removed.
C67: =C59+1 -> 9 | D67: BVX 2 ECV (Disconnect and remove existing cable) | E67: m | F67: =12*3+10*3 -> 66 | H67: =F67*G67 -> 0
C68: =C67+1 -> 10 | D68: BVX 2 ECV (Installing and testing new cable) | E68: m | F68: =12*3+10*3 -> 66 | H68: =F68*G68 -> 0
C69: =C68+1 -> 11 | D69: BVX 2 ECV (Gland supply) | E69: No. | F69: =2*3 -> 6 | H69: =F69*G69 -> 0
C70: =C69+1 -> 12 | D70: BVX 2 ECV (Terminations) | E70: No. | F70: =2*3 -> 6 | H70: =F70*G70 -> 0
C72: =C70+1 -> 13 | D72: X21 (Disconnect and remove existing cable) | E72: m | F72: 25 | H72: =F72*G72 -> 0
C73: =C72+1 -> 14 | D73: X21 (Installing and testing new cable) | E73: m | F73: 25 | H73: =F73*G73 -> 0
C74: =C73+1 -> 15 | D74: X21 (Gland supply) | E74: No. | F74: 4 | H74: =F74*G74 -> 0
C75: =C74+1 -> 16 | D75: X21 (Terminations) | E75: No. | F75: 4 | H75: =F75*G75 -> 0
C77: =C75+1 -> 17 | D77: TPH 10 AX (Disconnect and remove existing cable). | E77: m | F77: =10*3+10*3 -> 60 | H77: =F77*G77 -> 0
C78: =C77+1 -> 18 | D78: TPH 10 AX (Installing and testing new cable). | E78: m | F78: =10*3+10*3 -> 60 | H78: =F78*G78 -> 0
C79: =C78+1 -> 19 | D79: TPH 10 AX (Gland supply). | E79: No. | F79: 6 | H79: =F79*G79 -> 0
...

Sheet 5. MERENSKY
D4: NORTHERN PORTFOLIO PLC REFURBISHMENT - MERENSKY SUBSTATION
C6: ITEM | D6: DESCRIPTION | E6: UNIT | F6: QUANTITY | G6: RATE | H6: AMOUNT
D9: BILL NO. 1 - PRELIMINARY AND GENERAL
D11: (Applicable to the whole of the Works)
D13: Notes to Tenderers:
D15: The following bills in this section, are according to the "SABS 1200 System for Measuring Civil Works" as published by the SABS.
D17: The Contractor shall price Bill No. 1 - Preliminary and General in respect of all payment required for any work, risk, contingency or obligation whatsoever, that is not described in the Bill of Quantities and which is his responsibility under the Contract
D19: PRELIMINARY AND GENERAL
C22: 1 | D22: Contractual requirements. | E22: Sum | F22: 1 | H22: =F22*G22 -> 0
C24: =C22+1 -> 2 | D24: Establishment of the contractor's's facilities on site (as per specifications provided by Employer). | E24: Sum | F24: 1 | H24: =F24*G24 -> 0
C26: =C24+1 -> 3 | D26: Complying with NTCSA's SHEQ requirements as outlined in the Works Information and all statutory requirements. | E26: Sum | F26: 1 | H26: =F26*G26 -> 0
C28: =C26+1 -> 4 | D28: Living accommodation. | E28: Sum | F28: 1 | H28: =F28*G28 -> 0
C30: =C28+1 -> 5 | D30: Removal of site establishment on completion of the works | E30: Sum | F30: 1 | H30: =F30*G30 -> 0
D35: BILL NO. 2 STRINGING & CABLING
D37: REMOVAL OF EQUIPMENT
D39: Note to tenderer: Eskom has the responsibility to dispose all yard Equipment.
C41: 1 | D41: Line matching Equipment HP Filter. | E41: No. | F41: 4 | H41: =F41*G41 -> 0
C43: =C41+1 -> 2 | D43: Decommision and remove old and existing PLC cabinets with associated cables | E43: No. | F43: 1 | H43: =F43*G43 -> 0
D45: ERECTION OF EQUIPMENT
D47: Note to tenderer: unless otherwise stated below, the equipment will be supplied by Eskom including the storage for these items
C49: 1 | D49: Line matching Equipment HP Filter. | E49: No. | F49: 6 | H49: =F49*G49 -> 0
C51: =C49+1 -> 2 | D51: Decommision and remove old and existing PLC cabinets with associated cables | E51: No. | F51: 3 | H51: =F51*G51 -> 0
C53: =C51+1 -> 3 | D53: Decommision and remove old and existing NSD70 TPE units with associated cables | E53: No. | F53: 3 | H53: =F53*G53 -> 0
D55: ERECTION OF EQUIPMENT
D57: Note to tenderer: unless otherwise stated below, the equipment will be supplied by Eskom including the storage for these items
C59: =C51+1 -> 3 | D59: Line matching Equipment HP Filter. | E59: No. | F59: 6 | H59: =F59*G59 -> 0
C61: =C59+1 -> 4 | D61: Carrier Cabinet and wiring for 1 PLC. | E61: No. | F61: 3 | H61: =F61*G61 -> 0
C63: =C61+1 -> 5 | D63: Power Line Carrier protection with 3 channel , 50 W 2 kHz | E63: No. | F63: 3 | H63: =F63*G63 -> 0
C65: =C63+1 -> 6 | D65: NSD570 TPE unit | E65: No. | F65: 2 | H65: =F65*G65 -> 0
C67: =C65+1 -> 7 | D67: Supply and install 5mm Thick checker plate 600mm wide and 1600mm long including cutting to accommodate the panel. | E67: No. | F67: 3 | H67: =F67*G67 -> 0
C69: =C67+1 -> 8 | D69: Panel labels (Refer to specification). | E69: No. | F69: 3 | H69: =F69*G69 -> 0
D71: CABLING, GLANDS AND TERMINATION
D73: Note to tenderer: cables to be supplied by Eskom, the contractor to supply the glanding.
D75: Eskom has the responsibility to dispose all the cable that is removed.
C77: =C69+1 -> 9 | D77: BVX 2 ECV (Disconnect and remove existing cable) | E77: m | F77: 470 | H77: =F77*G77 -> 0
C78: =C77+1 -> 10 | D78: BVX 2 ECV (Installing and testing new cable) | E78: m | F78: 470 | H78: =F78*G78 -> 0
C79: =C78+1 -> 11 | D79: BVX 2 ECV (Gland supply) | E79: No. | F79: 18 | H79: =F79*G79 -> 0
C80: =C79+1 -> 12 | D80: BVX 2 ECV (Terminations) | E80: No. | F80: 18 | H80: =F80*G80 -> 0
C82: =C80+1 -> 13 | D82: X21 (Disconnect and remove existing cable) | E82: m | F82: 125 | H82: =F82*G82 -> 0
C83: =C82+1 -> 14 | D83: X21 (Installing and testing new cable) | E83: m | F83: 125 | H83: =F83*G83 -> 0
...

Sheet 6. PELLY
D4: NORTHERN PORTFOLIO PLC REFURBISHMENT - PELLY SUBSTATION
C6: ITEM | D6: DESCRIPTION | E6: UNIT | F6: QUANTITY | G6: RATE | H6: AMOUNT
D9: BILL NO. 1 - PRELIMINARY AND GENERAL
D11: (Applicable to the whole of the Works)
D13: Notes to Tenderers:
D15: The following bills in this section, are according to the "SABS 1200 System for Measuring Civil Works" as published by the SABS.
D17: The Contractor shall price Bill No. 1 - Preliminary and General in respect of all payment required for any work, risk, contingency or obligation whatsoever, that is not described in the Bill of Quantities and which is his responsibility under the Contract
D19: PRELIMINARY AND GENERAL
C22: 1 | D22: Contractual requirements. | E22: Sum | F22: 1 | H22: =F22*G22 -> 0
C24: =C22+1 -> 2 | D24: Establishment of the contractor's's facilities on site (as per specifications provided by Employer). | E24: Sum | F24: 1 | H24: =F24*G24 -> 0
C26: =C24+1 -> 3 | D26: Complying with NTCSA's SHEQ requirements as outlined in the Works Information and all statutory requirements. | E26: Sum | F26: 1 | H26: =F26*G26 -> 0
C28: =C26+1 -> 4 | D28: Living accommodation. | E28: Sum | F28: 1 | H28: =F28*G28 -> 0
C30: =C28+1 -> 5 | D30: Removal of site establishment on completion of the works | E30: Sum | F30: 1 | H30: =F30*G30 -> 0
D35: BILL NO. 2 STRINGING & CABLING
D37: REMOVAL OF EQUIPMENT
D39: Note to tenderer: Eskom has the responsibility to dispose all yard Equipment.
C41: 1 | D41: Line matching Equipment HP Filter. | E41: No. | F41: 2 | H41: =F41*G41 -> 0
C43: =C41+1 -> 2 | D43: Decommision and remove old and existing PLC cabinets with associated cables | E43: No. | F43: 1 | H43: =F43*G43 -> 0
D46: ERECTION OF EQUIPMENT
D48: Note to tenderer: unless otherwise stated below, the equipment will be supplied by Eskom including the storage for these items
C50: =C43+1 -> 3 | D50: Line Matching Equipment (LME) HP Filter. | E50: No. | F50: 2 | H50: =F50*G50 -> 0
C52: =C50+1 -> 4 | D52: Carrier Cabinet and wiring for 1 PLC. | E52: No. | F52: 1 | H52: =F52*G52 -> 0
C54: =C52+1 -> 5 | D54: Power Line Carrier protection with 3 tripping channels (New frequencies Tx=320kHz&Rx= 322kHz) | E54: No. | F54: 1 | H54: =F54*G54 -> 0
C56: =C54+1 -> 6 | D56: NSD570 TPE unit | E56: No. | F56: 1 | H56: =F56*G56 -> 0
C58: =C56+1 -> 7 | D58: Supply and install 5mm Thick checker plate 600mm wide and 1600mm long including cutting to accommodate the panel. | E58: No. | F58: 1 | H58: =F58*G58 -> 0
C60: =C58+1 -> 8 | D60: Panel labels (Refer to specification). | E60: No. | F60: 1 | H60: =F60*G60 -> 0
D62: CABLING, GLANDS AND TERMINATION
D64: Note to tenderer: cables to be supplied by Eskom, the contractor to supply the glanding.
D66: Eskom has the responsibility to dispose all the cable that is removed.
C68: =C60+1 -> 9 | D68: BVX 2 ECV (Disconnect and remove existing cable) | E68: m | F68: 100 | H68: =F68*G68 -> 0
C69: =C68+1 -> 10 | D69: BVX 2 ECV (Installing and testing new cable) | E69: m | F69: 100 | H69: =F69*G69 -> 0
C70: =C69+1 -> 11 | D70: BVX 2 ECV (Gland supply) | E70: No. | F70: 4 | H70: =F70*G70 -> 0
C71: =C70+1 -> 12 | D71: BVX 2 ECV (Terminations) | E71: No. | F71: 4 | H71: =F71*G71 -> 0
C73: =C71+1 -> 13 | D73: X21 (Disconnect and remove existing cable) | E73: m | F73: 50 | H73: =F73*G73 -> 0
C74: =C73+1 -> 14 | D74: X21 (Installing and testing new cable) | E74: m | F74: 50 | H74: =F74*G74 -> 0
C75: =C74+1 -> 15 | D75: X21 (Gland supply) | E75: No. | F75: 2 | H75: =F75*G75 -> 0
C76: =C75+1 -> 16 | D76: X21 (Terminations) | E76: No. | F76: 2 | H76: =F76*G76 -> 0
C78: =C76+1 -> 17 | D78: TPH 10 AX (Disconnect and remove existing cable). | E78: m | F78: 150 | H78: =F78*G78 -> 0
C79: =C78+1 -> 18 | D79: TPH 10 AX (Installing and testing new cable). | E79: m | F79: 150 | H79: =F79*G79 -> 0
C80: =C79+1 -> 19 | D80: TPH 10 AX (Gland supply). | E80: No. | F80: 4 | H80: =F80*G80 -> 0
...

Sheet 7. SENAKANGWEDI
D4: NORTHERN PORTFOLIO PLC REFURBISHMENT - SENAKANGWEDI SUBSTATION
C6: ITEM | D6: DESCRIPTION | E6: UNIT | F6: QUANTITY | G6: RATE | H6: AMOUNT
D10: BILL NO. 1 - PRELIMINARY AND GENERAL
D12: (Applicable to the whole of the Works)
D14: Notes to Tenderers:
D16: The following bills in this section, are according to the "SABS 1200 System for Measuring Civil Works" as published by the SABS.
D18: The Contractor shall price Bill No. 1 - Preliminary and General in respect of all payment required for any work, risk, contingency or obligation whatsoever, that is not described in the Bill of Quantities and which is his responsibility under the Contract
D20: PRELIMINARY AND GENERAL
C23: 1 | D23: Contractual requirements. | E23: Sum | F23: 1 | H23: =F23*G23 -> 0
C25: =C23+1 -> 2 | D25: Establishment of the contractor's's facilities on site (as per specifications provided by Employer). | E25: Sum | F25: 1 | H25: =F25*G25 -> 0
C27: =C25+1 -> 3 | D27: Complying with NTCSA's SHEQ requirements as outlined in the Works Information and all statutory requirements. | E27: Sum | F27: 1 | H27: =F27*G27 -> 0
C29: =C27+1 -> 4 | D29: Living accommodation. | E29: Sum | F29: 1 | H29: =F29*G29 -> 0
C31: =C29+1 -> 5 | D31: Removal of site establishment on completion of the works | E31: Sum | F31: 1 | H31: =F31*G31 -> 0
D36: BILL NO. 2 STRINGING & CABLING
D38: REMOVAL OF EQUIPMENT
D40: Note to tenderer: Eskom has the responsibility to dispose all yard Equipment.
C42: 1 | D42: Line matching Equipment HP Filter. | E42: No. | F42: 4 | H42: =F42*G42 -> 0
C44: =C42+1 -> 2 | D44: Decommision and remove old and existing PLC cabinets with associated cables | E44: No. | F44: 2 | H44: =F44*G44 -> 0
D46: ERECTION OF EQUIPMENT
D48: Note to tenderer: unless otherwise stated below, the equipment will be supplied by Eskom including the storage for these items
C50: =C44+1 -> 3 | D50: Line matching Equipment HP Filter. | E50: No. | F50: 4 | H50: =F50*G50 -> 0
C52: =C50+1 -> 4 | D52: Carrier Cabinet and wiring for 2 PLC. | E52: No. | F52: 4 | H52: =F52*G52 -> 0
C54: =C52+1 -> 5 | D54: Power Line Carrier protection with 3 channel , 50 W 2 kHz | E54: No. | F54: 4 | H54: =F54*G54 -> 0
C56: =C54+1 -> 6 | D56: Supply and install 5mm Thick checker plate 600mm wide and 1600mm long including cutting to accommodate the panel. | E56: No. | F56: 2 | H56: =F56*G56 -> 0
C58: =C56+1 -> 7 | D58: Panel labels (Refer to specification). | E58: No. | F58: 2 | H58: =F58*G58 -> 0
D61: CABLING, GLANDS AND TERMINATION
D63: Note to tenderer: cables to be supplied by Eskom, the contractor to supply the glanding.
D65: Eskom has the responsibility to dispose all the cable that is removed.
C67: =C58+1 -> 8 | D67: BVX 2 ECV (Disconnect and remove existing cable) | E67: m | F67: 137 | H67: =F67*G67 -> 0
C68: =C67+1 -> 9 | D68: BVX 2 ECV (Installing and testing new cable) | E68: m | F68: 137 | H68: =F68*G68 -> 0
C69: =C68+1 -> 10 | D69: BVX 2 ECV (Gland supply) | E69: No. | F69: 12 | H69: =F69*G69 -> 0
C70: =C69+1 -> 11 | D70: BVX 2 ECV (Terminations) | E70: No. | F70: 12 | H70: =F70*G70 -> 0
C72: =C70+1 -> 12 | D72: X21 (Disconnect and remove existing cable) | E72: m | F72: 25 | H72: =F72*G72 -> 0
C73: =C72+1 -> 13 | D73: X21 (Installing and testing new cable) | E73: m | F73: 25 | H73: =F73*G73 -> 0
C74: =C73+1 -> 14 | D74: X21 (Gland supply) | E74: No. | F74: 6 | H74: =F74*G74 -> 0
C75: =C74+1 -> 15 | D75: X21 (Terminations) | E75: No. | F75: 6 | H75: =F75*G75 -> 0
C77: =C75+1 -> 16 | D77: TPH 10 AX (Disconnect and remove existing cable). | E77: m | F77: 50 | H77: =F77*G77 -> 0
C78: =C77+1 -> 17 | D78: TPH 10 AX (Installing and testing new cable). | E78: m | F78: 50 | H78: =F78*G78 -> 0
C79: =C78+1 -> 18 | D79: TPH 10 AX (Gland supply). | E79: No. | F79: 4 | H79: =F79*G79 -> 0
C80: =C79+1 -> 19 | D80: TPH 10 AX (Terminations). | E80: No. | F80: 4 | H80: =F80*G80 -> 0
...

Sheet 8. SIMPLON
D4: NORTHERN PORTFOLIO PLC REFURBISHMENT - SIMPLON SUBSTATION
C6: ITEM | D6: DESCRIPTION | E6: UNIT | F6: QUANTITY | G6: RATE | H6: AMOUNT
D10: BILL NO. 1 - PRELIMINARY AND GENERAL
D12: (Applicable to the whole of the Works)
D14: Notes to Tenderers:
D16: The following bills in this section, are according to the "SABS 1200 System for Measuring Civil Works" as published by the SABS.
D18: The Contractor shall price Bill No. 1 - Preliminary and General in respect of all payment required for any work, risk, contingency or obligation whatsoever, that is not described in the Bill of Quantities and which is his responsibility under the Contract
D20: PRELIMINARY AND GENERAL
C23: 1 | D23: Contractual requirements. | E23: Sum | F23: 1 | H23: =F23*G23 -> 0
C25: =C23+1 -> 2 | D25: Establishment of the contractor's's facilities on site (as per specifications provided by Employer). | E25: Sum | F25: 1 | H25: =F25*G25 -> 0
C27: =C25+1 -> 3 | D27: Complying with NTCSA's SHEQ requirements as outlined in the Works Information and all statutory requirements. | E27: Sum | F27: 1 | H27: =F27*G27 -> 0
C29: =C27+1 -> 4 | D29: Living accommodation. | E29: Sum | F29: 1 | H29: =F29*G29 -> 0
C31: =C29+1 -> 5 | D31: Removal of site establishment on completion of the works | E31: Sum | F31: 1 | H31: =F31*G31 -> 0
D36: BILL NO. 2 STRINGING & CABLING
D38: REMOVAL OF EQUIPMENT
D40: Note to tenderer: Eskom has the responsibility to dispose all yard Equipment.
C42: 1 | D42: Line matching Equipment HP Filter. | E42: No. | F42: 4 | H42: =F42*G42 -> 0
C44: =C42+1 -> 2 | D44: Decommision and remove old and existing PLC cabinets with associated cables | E44: No. | F44: 1 | H44: =F44*G44 -> 0
D46: ERECTION OF EQUIPMENT
D48: Note to tenderer: unless otherwise stated below, the equipment will be supplied by Eskom including the storage for these items
C50: =C44+1 -> 3 | D50: Line Matching Equipment (LME) HP Filter. | E50: No. | F50: 4 | H50: =F50*G50 -> 0
C52: =C50+1 -> 4 | D52: Carrier Cabinet and wiring for 2 PLC. | E52: No. | F52: 1 | H52: =F52*G52 -> 0
C54: =C52+1 -> 5 | D54: Power Line Carrier protection with 3 tripping channels | E54: No. | F54: 2 | H54: =F54*G54 -> 0
C56: =C54+1 -> 6 | D56: Supply and install 5mm Thick checker plate 600mm wide and 1600mm long including cutting to accommodate the panel. | E56: No. | F56: 1 | H56: =F56*G56 -> 0
C58: =C56+1 -> 7 | D58: Panel labels (Refer to specification). | E58: No. | F58: 1 | H58: =F58*G58 -> 0
D61: CABLING, GLANDS AND TERMINATION
D63: Note to tenderer: cables to be supplied by Eskom, the contractor to supply the glanding.
D65: Eskom has the responsibility to dispose all the cable that is removed.
C67: =C58+1 -> 8 | D67: BVX 2 ECV (Disconnect and remove existing cable) | E67: m | F67: =30+30+25+10*3 -> 115 | H67: =F67*G67 -> 0
C68: =C67+1 -> 9 | D68: BVX 2 ECV (Installing and testing new cable) | E68: m | F68: 115 | H68: =F68*G68 -> 0
C69: =C68+1 -> 10 | D69: BVX 2 ECV (Gland supply) | E69: No. | F69: 6 | H69: =F69*G69 -> 0
C70: =C69+1 -> 11 | D70: BVX 2 ECV (Terminations) | E70: No. | F70: 6 | H70: =F70*G70 -> 0
C72: =C70+1 -> 12 | D72: X21 (Disconnect and remove existing cable) | E72: m | F72: 30 | H72: =F72*G72 -> 0
C73: =C72+1 -> 13 | D73: X21 (Installing and testing new cable) | E73: m | F73: 30 | H73: =F73*G73 -> 0
C74: =C73+1 -> 14 | D74: X21 (Gland supply) | E74: No. | F74: 2 | H74: =F74*G74 -> 0
C75: =C74+1 -> 15 | D75: X21 (Terminations) | E75: No. | F75: 2 | H75: =F75*G75 -> 0
C77: =C75+1 -> 16 | D77: TPH 10 AX (Disconnect and remove existing cable). | E77: m | F77: 45 | H77: =F77*G77 -> 0
C78: =C77+1 -> 17 | D78: TPH 10 AX (Installing and testing new cable). | E78: m | F78: 45 | H78: =F78*G78 -> 0
C79: =C78+1 -> 18 | D79: TPH 10 AX (Gland supply). | E79: No. | F79: 2 | H79: =F79*G79 -> 0
C80: =C79+1 -> 19 | D80: TPH 10 AX (Terminations). | E80: No. | F80: 2 | H80: =F80*G80 -> 0
...

Sheet 9. SPENCER
D4: NORTHERN PORTFOLIO PLC REFURBISHMENT - SPENCER SUBSTATION
C6: ITEM | D6: DESCRIPTION | E6: UNIT | F6: QUANTITY | G6: RATE | H6: AMOUNT
D10: BILL NO. 1 - PRELIMINARY AND GENERAL
D12: (Applicable to the whole of the Works)
D14: Notes to Tenderers:
D16: The following bills in this section, are according to the "SABS 1200 System for Measuring Civil Works" as published by the SABS.
D18: The Contractor shall price Bill No. 1 - Preliminary and General in respect of all payment required for any work, risk, contingency or obligation whatsoever, that is not described in the Bill of Quantities and which is his responsibility under the Contract
D20: PRELIMINARY AND GENERAL
C23: 1 | D23: Contractual requirements. | E23: Sum | F23: 1 | H23: =F23*G23 -> 0
C25: =C23+1 -> 2 | D25: Establishment of the contractor's's facilities on site (as per specifications provided by Employer). | E25: Sum | F25: 1 | H25: =F25*G25 -> 0
C27: =C25+1 -> 3 | D27: Complying with NTCSA's SHEQ requirements as outlined in the Works Information and all statutory requirements. | E27: Sum | F27: 1 | H27: =F27*G27 -> 0
C29: =C27+1 -> 4 | D29: Living accommodation. | E29: Sum | F29: 1 | H29: =F29*G29 -> 0
C31: =C29+1 -> 5 | D31: Removal of site establishment on completion of the works | E31: Sum | F31: 1 | H31: =F31*G31 -> 0
D36: BILL NO. 2 STRINGING & CABLING
D38: REMOVAL OF EQUIPMENT
D40: Note to tenderer: Eskom has the responsibility to dispose all yard Equipment.
C42: 1 | D42: Line matching Equipment HP Filter. | E42: No. | F42: 2 | H42: =F42*G42 -> 0
C44: =C42+1 -> 2 | D44: Decommision and remove old and existing PLC cabinets with associated cables | E44: No. | F44: 1 | H44: =F44*G44 -> 0
D46: ERECTION OF EQUIPMENT
D48: Note to tenderer: unless otherwise stated below, the equipment will be supplied by Eskom including the storage for these items
C50: =C44+1 -> 3 | D50: Line Matching Equipment (LME) HP Filter. | E50: No. | F50: 2 | H50: =F50*G50 -> 0
C52: =C50+1 -> 4 | D52: Carrier Cabinet and wiring for 1 PLC. | E52: No. | F52: 1 | H52: =F52*G52 -> 0
C54: =C52+1 -> 5 | D54: Power Line Carrier protection with 3 channel , 50 W 2 kHz | E54: No. | F54: 1 | H54: =F54*G54 -> 0
C56: =C54+1 -> 6 | D56: PLC Carrier Combiner for phase to phase coupling | E56: No. | F56: 1 | H56: =F56*G56 -> 0
C58: =C56+1 -> 7 | D58: Supply and install 5mm Thick checker plate 600mm wide and 1600mm long including cutting to accommodate the panel. | E58: No. | F58: 1 | H58: =F58*G58 -> 0
C60: =C58+1 -> 8 | D60: Panel labels (Refer to specification). | E60: No. | F60: 1 | H60: =F60*G60 -> 0
D62: CABLING, GLANDS AND TERMINATION
D64: Note to tenderer: cables to be supplied by Eskom, the contractor to supply the glanding.
D66: Eskom has the responsibility to dispose all the cable that is removed.
C68: =C60+1 -> 9 | D68: BVX 2 ECV (Disconnect and remove existing cable) | E68: m | F68: 100 | H68: =F68*G68 -> 0
C69: =C68+1 -> 10 | D69: BVX 2 ECV (Installing and testing new cable) | E69: m | F69: 100 | H69: =F69*G69 -> 0
C70: =C69+1 -> 11 | D70: BVX 2 ECV (Gland supply) | E70: No. | F70: 6 | H70: =F70*G70 -> 0
C71: =C70+1 -> 12 | D71: BVX 2 ECV (Terminations) | E71: No. | F71: 6 | H71: =F71*G71 -> 0
C73: =C71+1 -> 13 | D73: X21 (Disconnect and remove existing cable) | E73: m | F73: 20 | H73: =F73*G73 -> 0
C74: =C73+1 -> 14 | D74: X21 (Installing and testing new cable) | E74: m | F74: 20 | H74: =F74*G74 -> 0
C75: =C74+1 -> 15 | D75: X21 (Gland supply) | E75: No. | F75: 2 | H75: =F75*G75 -> 0
C76: =C75+1 -> 16 | D76: X21 (Terminations) | E76: No. | F76: 2 | H76: =F76*G76 -> 0
C78: =C76+1 -> 17 | D78: TPH 10 AX (Disconnect and remove existing cable). | E78: m | F78: 45 | H78: =F78*G78 -> 0
C79: =C78+1 -> 18 | D79: TPH 10 AX (Installing and testing new cable). | E79: m | F79: 45 | H79: =F79*G79 -> 0
C80: =C79+1 -> 19 | D80: TPH 10 AX (Gland supply). | E80: No. | F80: 2 | H80: =F80*G80 -> 0
...

Sheet 10. WARMBAD
D4: NORTHERN PORTFOLIO PLC REFURBISHMENT - WARMBAD SUBSTATION
C6: ITEM | D6: DESCRIPTION | E6: UNIT | F6: QUANTITY | G6: RATE | H6: AMOUNT
D9: BILL NO. 1 - PRELIMINARY AND GENERAL
D11: (Applicable to the whole of the Works)
D13: Notes to Tenderers:
D15: The following bills in this section, are according to the "SABS 1200 System for Measuring Civil Works" as published by the SABS.
D17: The Contractor shall price Bill No. 1 - Preliminary and General in respect of all payment required for any work, risk, contingency or obligation whatsoever, that is not described in the Bill of Quantities and which is his responsibility under the Contract
D19: PRELIMINARY AND GENERAL
C22: 1 | D22: Contractual requirements. | E22: Sum | F22: 1 | H22: =F22*G22 -> 0
C24: =C22+1 -> 2 | D24: Establishment of the contractor's's facilities on site (as per specifications provided by Employer). | E24: Sum | F24: 1 | H24: =F24*G24 -> 0
C26: =C24+1 -> 3 | D26: Complying with NTCSA's SHEQ requirements as outlined in the Works Information and all statutory requirements. | E26: Sum | F26: 1 | H26: =F26*G26 -> 0
C28: =C26+1 -> 4 | D28: Living accommodation. | E28: Sum | F28: 1 | H28: =F28*G28 -> 0
C30: =C28+1 -> 5 | D30: Removal of site establishment on completion of the works | E30: Sum | F30: 1 | H30: =F30*G30 -> 0
D35: BILL NO. 2 STRINGING & CABLING
D37: REMOVAL OF EQUIPMENT
D39: Note to tenderer: Eskom has the responsibility to dispose all yard Equipment.
C41: 1 | D41: Line matching Equipment HP Filter. | E41: No. | F41: 4 | H41: =F41*G41 -> 0
C43: =C41+1 -> 2 | D43: Decommision and remove old and existing PLC cabinets with associated cables | E43: No. | F43: 2 | H43: =F43*G43 -> 0
C45: =C43+1 -> 3 | D45: Decommision and remove old and existing NSD70 TPE units | E45: No. | F45: 2 | H45: =F45*G45 -> 0
D47: ERECTION OF EQUIPMENT
D49: Note to tenderer: unless otherwise stated below, the equipment will be supplied by Eskom including the storage for these items
C51: =C45+1 -> 4 | D51: Line matching Equipment HP Filter. | E51: No. | F51: 4 | H51: =F51*G51 -> 0
C53: =C51+1 -> 5 | D53: Carrier Cabinet and wiring for 1 PLC. | E53: No. | F53: 2 | H53: =F53*G53 -> 0
C55: =C53+1 -> 6 | D55: Power Line Carrier protection with 3 channel , 50 W 2 kHz | E55: No. | F55: 2 | H55: =F55*G55 -> 0
C57: =C55+1 -> 7 | D57: NSD570 TPE unit | E57: No. | F57: 2 | H57: =F57*G57 -> 0
C59: =C57+1 -> 8 | D59: Supply and install 5mm Thick checker plate 600mm wide and 1600mm long including cutting to accommodate the panel. | E59: No. | F59: 2 | H59: =F59*G59 -> 0
C61: =C59+1 -> 9 | D61: Panel labels (Refer to specification). | E61: No. | F61: 2 | H61: =F61*G61 -> 0
D63: CABLING, GLANDS AND TERMINATION
D65: Note to tenderer: cables to be supplied by Eskom, the contractor to supply the glanding.
D67: Eskom has the responsibility to dispose all the cable that is removed.
C69: =C61+1 -> 10 | D69: BVX 2 ECV (Disconnect and remove existing cable) | E69: m | F69: 200 | H69: =F69*G69 -> 0
C70: =C69+1 -> 11 | D70: BVX 2 ECV (Installing and testing new cable) | E70: m | F70: 200 | H70: =F70*G70 -> 0
C71: =C70+1 -> 12 | D71: BVX 2 ECV (Gland supply) | E71: No. | F71: 12 | H71: =F71*G71 -> 0
C72: =C71+1 -> 13 | D72: BVX 2 ECV (Terminations) | E72: No. | F72: 12 | H72: =F72*G72 -> 0
C74: =C72+1 -> 14 | D74: X21 (Disconnect and remove existing cable) | E74: m | F74: 25 | H74: =F74*G74 -> 0
C75: =C74+1 -> 15 | D75: X21 (Installing and testing new cable) | E75: m | F75: 25 | H75: =F75*G75 -> 0
C76: =C75+1 -> 16 | D76: X21 (Gland supply) | E76: No. | F76: 4 | H76: =F76*G76 -> 0
C77: =C76+1 -> 17 | D77: X21 (Terminations) | E77: No. | F77: 4 | H77: =F77*G77 -> 0
C79: =C77+1 -> 18 | D79: TPH 10 AX (Disconnect and remove existing cable). | E79: m | F79: 65 | H79: =F79*G79 -> 0
C80: =C79+1 -> 19 | D80: TPH 10 AX (Installing and testing new cable). | E80: m | F80: 65 | H80: =F80*G80 -> 0
...

Sheet 11. WITKOP
D4: NORTHERN PORTFOLIO PLC REFURBISHMENT - WITKOP SUBSTATION
C6: ITEM | D6: DESCRIPTION | E6: UNIT | F6: QUANTITY | G6: RATE | H6: AMOUNT
D9: BILL NO. 1 - PRELIMINARY AND GENERAL
D11: (Applicable to the whole of the Works)
D13: Notes to Tenderers:
D15: The following bills in this section, are according to the "SABS 1200 System for Measuring Civil Works" as published by the SABS.
D17: The Contractor shall price Bill No. 1 - Preliminary and General in respect of all payment required for any work, risk, contingency or obligation whatsoever, that is not described in the Bill of Quantities and which is his responsibility under the Contract
D19: PRELIMINARY AND GENERAL
C21: 1 | D21: Contractual requirements. | E21: Sum | F21: 1 | H21: =F21*G21 -> 0
C23: =C21+1 -> 2 | D23: Establishment of the contractor's's facilities on site (as per specifications provided by Employer). | E23: Sum | F23: 1 | H23: =F23*G23 -> 0
C25: =C23+1 -> 3 | D25: Complying with NTCSA's SHEQ requirements as outlined in the Works Information and all statutory requirements. | E25: Sum | F25: 1 | H25: =F25*G25 -> 0
C27: =C25+1 -> 4 | D27: Living accommodation. | E27: Sum | F27: 1 | H27: =F27*G27 -> 0
C29: =C27+1 -> 5 | D29: Removal of site establishment on completion of the works | E29: Sum | F29: 1 | H29: =F29*G29 -> 0
D33: BILL NO. 2 STRINGING & CABLING
D35: REMOVAL OF EQUIPMENT
D37: Note to tenderer: Eskom has the responsibility to dispose all yard Equipment.
C39: 1 | D39: Line matching Equipment HP Filter. | E39: No. | F39: 6 | H39: =F39*G39 -> 0
C41: =C39+1 -> 2 | D41: Decommision and remove old and existing PLC cabinets with associated cables | E41: No. | F41: 3 | H41: =F41*G41 -> 0
C43: =C41+1 -> 3 | D43: Decommision and remove old and existing NSD70 TPE units incuding associated cables | E43: No. | F43: 2 | H43: =F43*G43 -> 0
D45: ERECTION OF EQUIPMENT
D47: Note to tenderer: unless otherwise stated below, the equipment will be supplied by Eskom including the storage for these items
C49: =C43+1 -> 4 | D49: Line matching Equipment HP Filter. | E49: No. | F49: 6 | H49: =F49*G49 -> 0
C51: =C49+1 -> 5 | D51: Carrier Cabinet and wiring for 1 PLC. | E51: No. | F51: 3 | H51: =F51*G51 -> 0
C53: =C51+1 -> 6 | D53: Power Line Carrier protection with 3 channel , 50 W 2 kHz | E53: No. | F53: 3 | H53: =F53*G53 -> 0
C55: =C53+1 -> 7 | D55: PLC Carrier Combiner for phase to phase coupling | E55: No. | F55: 1 | H55: =F55*G55 -> 0
C57: =C55+1 -> 8 | D57: NSD570 TPE unit | E57: No. | F57: 2 | H57: =F57*G57 -> 0
C59: =C57+1 -> 9 | D59: Supply and install 5mm Thick checker plate 600mm wide and 1600mm long including cutting to accommodate the panel. | E59: No. | F59: 3 | H59: =F59*G59 -> 0
C61: =C59+1 -> 10 | D61: Panel labels (Refer to specification). | E61: No. | F61: 3 | H61: =F61*G61 -> 0
D63: CABLING, GLANDS AND TERMINATION
D65: Note to tenderer: cables to be supplied by Eskom, the contractor to supply the glanding.
D67: Eskom has the responsibility to dispose all the cable that is removed.
C69: =C61+1 -> 11 | D69: BVX 2 ECV (Disconnect and remove existing cable) | E69: m | F69: 330 | H69: =F69*G69 -> 0
C70: =C69+1 -> 12 | D70: BVX 2 ECV (Installing and testing new cable) | E70: m | F70: 330 | H70: =F70*G70 -> 0
C71: =C70+1 -> 13 | D71: BVX 2 ECV (Gland supply) | E71: No. | F71: 18 | H71: =F71*G71 -> 0
C72: =C71+1 -> 14 | D72: BVX 2 ECV (Terminations) | E72: No. | F72: 18 | H72: =F72*G72 -> 0
C74: =C72+1 -> 15 | D74: X21 (Disconnect and remove existing cable) | E74: m | F74: 78 | H74: =F74*G74 -> 0
C75: =C74+1 -> 16 | D75: X21 (Installing and testing new cable) | E75: m | F75: 78 | H75: =F75*G75 -> 0
C76: =C75+1 -> 17 | D76: X21 (Gland supply) | E76: No. | F76: 4 | H76: =F76*G76 -> 0
C77: =C76+1 -> 18 | D77: X21 (Terminations) | E77: No. | F77: 4 | H77: =F77*G77 -> 0
C79: =C77+1 -> 19 | D79: TPH 10 AX (Disconnect and remove existing cable). | E79: m | F79: 100 | H79: =F79*G79 -> 0
...

Sheet SUMMARY
E6: ='COVER SHEET'!D8 -> NORTHERN PORTFOLIO PLC REFURBISHMENT
C8: BILL NO. | D8: DESCRIPTION | G8: AMOUNT
C15: 1 | D15: ACORNHOEK SUBSTATION | G15: R | H15: ='1. ACORNHOEK'!H104 -> 0
C17: =C15+1 -> 2 | D17: FOSKOR SUBSTATION | G17: =IF(C17<>"","R","") -> R | H17: ='2. FOSKOR'!H104 -> 0
C19: =C17+1 -> 3 | D19: LESEDING SUBSTATION | G19: =IF(C19<>"","R","") -> R | H19: ='3. LESEDING '!H104 -> 0
C21: =C19+1 -> 4 | D21: MARATHON SUBSTATION | G21: =IF(C21<>"","R","") -> R | H21: ='4. MARATHON'!H104 -> 0
C23: =C21+1 -> 5 | D23: MERENSKY SUBSTATION | G23: =IF(C23<>"","R","") -> R | H23: ='5. MERENSKY'!H112 -> 0
C25: =C23+1 -> 6 | D25: PELLY SUBSTATION | G25: =IF(C25<>"","R","") -> R | H25: ='6. PELLY'!H104 -> 0
C27: =C25+1 -> 7 | D27: SENAKANGWEDI SUBSTATION | G27: =IF(C27<>"","R","") -> R | H27: ='7. SENAKANGWEDI'!H104 -> 0
C29: =C27+1 -> 8 | D29: SIMPLON SUBSTATION | G29: =IF(C29<>"","R","") -> R | H29: ='8. SIMPLON'!H104 -> 0
C31: =C29+1 -> 9 | D31: SPENCER SUBSTATION | G31: =IF(C31<>"","R","") -> R | H31: ='9. SPENCER'!H104 -> 0
C33: =C31+1 -> 10 | D33: WARMBAD SUBSTATION | G33: =IF(C33<>"","R","") -> R | H33: ='10. WARMBAD'!H104 -> 0
C35: =C33+1 -> 11 | D35: WITKOP SUBSTATION | G35: =IF(C35<>"","R","") -> R | H35: ='11. WITKOP'!H104 -> 0
F39: SUB-TOTAL CARRIED TO FORM OF OFFER (EXCLUDING VAT) | G39: R | H39: =SUBTOTAL(9,H11:H38) -> 0
