Workbook
Name \c: [1]CALCS!#REF!
Name \c: [1]CALCS!#REF!
Name \c: [1]CALCS!#REF!
Name \i: [1]CALCS!#REF!
Name \i: [1]CALCS!#REF!
Name \i: [1]CALCS!#REF!
Name \l: [1]CALCS!$AJ$11
Name \t: [1]CALCS!#REF!
Name _00APL: #REF!
Name _00APL: #REF!
Name _00APL: #REF!
Name _00AUG: #REF!
Name _00AUG: #REF!
Name _00AUG: #REF!
Name _00DEC: #REF!
Name _00DEC: #REF!
Name _00DEC: #REF!
Name _00FEB: #REF!
Name _00JAN: #REF!
Name _00JUL: #REF!
Name _00JUN: #REF!
Name _00MAR: #REF!
Name _00MAY: #REF!
Name _00NOV: #REF!
Name _00OCT: #REF!
Name _00SEP: #REF!
Name _01APL: #REF!
Name _01AUG: #REF!
Name _01DEC: #REF!
Name _01FEB: #REF!
Name _01JAN: #REF!
Name _01JUL: #REF!
Name _01JUN: #REF!
Name _01MAR: #REF!
Name _01MAY: #REF!
Name _01NOV: #REF!
Name _01OCT: #REF!
Name _01SEP: #REF!
Name _02APL: #REF!
Name _02AUG: #REF!
Name _02DEC: #REF!
Name _02FEB: #REF!
Name _02JAN: #REF!
Name _02JUL: #REF!
Name _02JUN: #REF!
Name _02MAR: #REF!
Name _02MAY: #REF!
Name _02NOV: #REF!
Name _02OCT: #REF!
Name _02SEP: #REF!
Name _03APL: #REF!
Name _03AUG: #REF!
Name _03DEC: #REF!
Name _03FEB: #REF!
Name _03JAN: #REF!
Name _03JUL: #REF!
Name _03JUN: #REF!
Name _03MAR: #REF!
Name _03MAY: #REF!
Name _03NOV: #REF!

Sheet SUMMARY
B3: Section 1 | C3: Preliminary and General (Part A, B and C) @ 15% | D3: =0.15*SUM(D4+D12+D19) -> #REF!
B4: PART A: Specon Pipeline Replacement Phase | D4: =SUM(D5:D10) -> #REF!
B5: Section 2: | C5: Earthworks (Pipe Trenches | D5: ='Part-A '!#REF! -> #REF!
B6: Section 3: | C6: Medium Pressure Pipelines | D6: ='Part-A '!#REF! -> #REF!
B7: Section 4: | C7: Bedding (Flexible Pipes) | D7: ='Part-A '!G382 -> 0
B8: Section 5: | C8: Pipe Jacking | D8: ='Part-A '!G415 -> 0
B9: Section 6: | C9: Cathodic Protection | D9: ='Part-A '!#REF! -> #REF!
B10: Section 7: | C10: Service Roads | D10: ='Part-A '!G495 -> 0
B12: PART B: Refurbishment of Olifantspoort Water Treatment Works | D12: =SUM(D13:D17) -> 33075221
B13: Section 2: | C13: Water Treatment Works Process | D13: ='Part B'!I116 -> 15996291
B14: Section 3: | C14: Mechanical Refurbishment | D14: ='Part B'!I130 -> 4301577
B15: Section 4: | C15: Electrical Refurbishment | D15: ='Part B'!I184 -> 6717727
B16: Section 5: | C16: Control and Instrumentation Refurbishment | D16: ='Part B'!I250 -> 3676020
B17: Section 6: | C17: Buildings and Minor Civil Works | D17: ='Part B'!I756 -> 2383606.6
B19: PART C: Rehabilitation of Megoring and Thakgalang River Crossings | D19: =SUM(D20:D25) -> 21726719
B20: Section A2: | C20: Megoring Earthworks (Pipe Trenches) | D20: ='Part C'!G100 -> 651350
B21: Section A3: | C21: Megoring Medium Pressure Pipelines | D21: ='Part C'!G230 -> 10737271
B22: Section A4: | C22: Megoring Bedding (Flexible Pipes) | D22: ='Part C'!G279 -> 912400
B23: Section B2: | C23: Thakgalang Earthworks (Pipe Trenches) | D23: ='Part C'!G374 -> 717850
B24: Section B3: | C24: Thakgalang Medium Pressure Pipelines | D24: ='Part C'!G462 -> 8206848.4
B25: Section B4: | C25: Thakgalang Bedding (Flexible Pipes) | D25: ='Part C'!G511 -> 501000
B27: SUB-TOTAL 1 | C27: Section 1 + Part A + Part B + Part C | D27: =D4+D12+D19+D3 -> #REF!
B28: Contingencies at 10% of Sub-Total 1 | D28: =0.1*D27 -> #REF!
B29: SUB-TOTAL 2 | D29: =D27+D28 -> #REF!
B30: Escalation at 10% of Sub-Total 2 | D30: =0.1*D29 -> #REF!
B31: SUB-TOTAL 3 | D31: =D29+D30 -> #REF!
B32: VAT at 15% of Sub-Total 3 | D32: =0.15*D31 -> #REF!
B33: GRAND TOTAL (Sub-Total 1 and Sub-Total 2) | D33: =D31+D32 -> #REF!

Sheet P&G
A1: SECTION 1: PRELIMINARY & GENERAL -SANS 1200A / 1200AB
A2: ITEM No | B2: PAYMENT REF | C2: DESCRIPTION | D2: UNIT | E2: QTY | F2: RATE | G2: AMOUNT R
A4: 1.1 | B4: PSA8.3 | C4: Scheduled Fixed-Time Charge Items
A6: 1.1.1 | B6: PSA8.3.1 | C6: Fixed Preliminary and Genaral charges | D6: Sum | E6: 1
B8: SANS 1200AB
A9: 1.1.2 | B9: 8.2.1 | C9: Establishing Facilities for Engineer | D9: Sum | E9: 1
B11: SANS 1200A
A12: 1.1.3 | B12: 8.3.2.2 | C12: Establishing Facilities for Contractor | D12: Sum | E12: 1
A14: 1.1.4 | B14: 8.3.3 | C14: Other Fixed-charge Obligations | D14: Sum | E14: 1
A16: 1.1.5 | B16: 8.3.4 | C16: Removal of Site Establishment | D16: Sum | E16: 1
A18: 1.1.6 | B18: PSA8.8 | C18: The preparation of risk assessments, safe work procedures, and plan. Provision of Personal Protection Equipment and Clothing and any other health and safety matters according to the Project specifications | D18: Sum | E18: 1
A20: 1.1.7 | B20: PSA8.9 | C20: Compliance with Environmental Management Plan | D20: Sum | E20: 1
A22: 1.2 | B22: PSA8.4 | C22: Scheduled Time Raleted Items
A24: 1.2.1 | B24: PSA8.4.1 | C24: Time related preliminary and general | D24: Sum | E24: 1
B26: SANS 1200AB
B27: 8.2.1 | C27: Operation and Maintenance of Facilities for Engineer | D27: Sum | E27: 1
B29: SANS 1200A
A30: 1.2.2 | B30: 8.4.2.2 | C30: Operation and Maintenance of Facilities for Contractor | D30: Sum | E30: 1
A32: 1.2.3 | B32: 8.4.3 | C32: Supervision for The Duration of Construction | D32: Sum | E32: 1
A34: 1.2.4 | B34: 8.4.4 | C34: Company and Head office Overhead for Duration of Construction | D34: Sum | E34: 1
A36: 1.2.5 | B36: 8.4.5 | C36: Other Time-related Obligations | D36: Sum | E36: 1
A37: 1.2.6 | B37: PSA8.4.5.1 | C37: Supervision and Training of Nominated Sub-contractors | D37: Sum | E37: 1
A38: Carried Forward
A39: SECTION 1: PRELIMINARY & GENERAL -SANS 1200A / 1200AB
A40: ITEM No | B40: PAYMENT REF | C40: DESCRIPTION | D40: UNIT | E40: QTY | F40: RATE | G40: AMOUNT R
A41: Brought Forward
A43: 1.2.7 | B43: PSA8.4.5.2 | C43: Salary for Labour Desk office and Community Liaison officer | D43: Sum | E43: 1
A45: 1.2.8 | B45: PSA8.4.5.3 | C45: Artisans and Skills accredited Training | D45: Sum | E45: 1
A47: 1.2.9 | B47: PSA8.4.5.4 | C47: Specialised Services | D47: Sum | E47: 1
A49: 1.2.10 | B49: PSA8.8 | C49: Full Compliance with all Health and Safety specifications | D49: Sum | E49: 1
A51: 1.2.11 | B51: PSA8.9 | C51: Compliance with EMP | D51: Sum | E51: 1
A53: 1.3 | B53: PSA8.5 | C53: Sums Stated Provisionally by Engineer
A55: 1.3.1 | C55: Cellular communications and data bundles | D55: Prov Sum | E55: 1 | F55: 24000 | G55: =E55*F55 -> 24000
A57: 1.3.2 | C57: Supply of computer, printer and associated equipment to become property of the Engineer at the end of the Contract | D57: Prov Sum | E57: 1 | F57: 45000 | G57: =E57*F57 -> 45000
A59: 1.3.3 | B59: PSA8.5.1 | C59: Works Executed by the Contractor | D59: Prov Sum | E59: 1 | F59: =G59 -> 50000 | G59: 50000
A61: 1.3.4 | C61: Relocation of Existing Services (inclusive all Discussions, Liaison, Labour and Material) | D61: Prov Sum | E61: 1 | F61: =G61 -> 150000 | G61: 150000
A63: 1.3.4 | B63: 8.8.5 (a) | C63: Search for and Record Trigonometrically Survey Beacons, Bench Marks and Plot Boundary Pegs, and Expose on Completion of Works | D63: Prov Sum | E63: 1 | F63: =G63 -> 10000 | G63: 10000
A65: 1.3.5 | C65: Electromechanical Refurbishment and Repairs of 10ML Package Plant including valves replacement and pipeworks. Testing and Commissioning of Package Plant including all 'As Built' Drawings and Manuals (3-Sets Hard Copies and 1-Set Soft-copy on USB) | D65: Prov Sum | E65: 1 | F65: 6500000 | G65: =F65 -> 6500000
A66: 1.3.6 | C66: Percentage (%) mark-up on item 1.3.1 to 1.3.5 above for Contractor's overheads, administration charges and profit | D66: % | E66: 10 | F66: =F55+F57+F59+F61+F63+F65 -> 6779000 | G66: =F66*E66/100 -> 677900
A67: 1.4 | B67: PSA8.6 | C67: Prime Cost Sums
...

Sheet Sheet3
A1: Section 1 | B1: Preliminary and General (Part A, B and C)
A2: PART A: Specon Pipeline Replacement Phase
A3: Section 2: | B3: Earthworks (Pipe Trenches
A4: Section 3: | B4: Medium Pressure Pipelines
A5: Section 4: | B5: Bedding (Flexible Pipes)
A6: Section 5: | B6: Pipe Jacking
A7: Section 6: | B7: Cathodic Protection
A8: Section 7: | B8: Service Roads
A10: PART B: Refurbishment of Olifantspoort Water Treatment Works
A11: Section 2: | B11: Water Treatment Works Process
A12: Section 3: | B12: Mechanical Refurbishment
A13: Section 4: | B13: Electrical Refurbishment
A14: Section 5: | B14: Control and Instrumentation Refurbishment
A15: Section 6: | B15: Buildings and Minor Civil Works
A17: PART C: Rehabilitation of Megoring and Thakgalang River Crossings
A18: Section A2: | B18: Megoring Earthworks (Pipe Trenches)
A19: Section A3: | B19: Megoring Medium Pressure Pipelines
A20: Section A4: | B20: Megoring Bedding (Flexible Pipes)
A21: Section B2: | B21: Thakgalang Earthworks (Pipe Trenches)
A22: Section B3: | B22: Thakgalang Medium Pressure Pipelines
A23: Section B4: | B23: Thakgalang Bedding (Flexible Pipes)
A25: SUB-TOTAL 1 | B25: Section 1 + Part A + Part B + Part C
A26: Contingencies at 10% of Sub-Total 1
A27: SUB-TOTAL 2
A28: Escalation at 10% of Sub-Total 2
A29: SUB-TOTAL 3
A30: VAT at 15% of Sub-Total 3
A31: GRAND TOTAL (Sub-Total 1 and Sub-Total 2)

Sheet P&Gs
A1: SECTION 1: PRELIMINARY & GENERAL -SANS 1200A / 1200AB
A2: ITEM No | B2: PAYMENT REF | C2: DESCRIPTION | D2: UNIT | E2: QTY | F2: RATE | G2: AMOUNT R
A3: 1.1 | B3: PSA8.3 | C3: Scheduled Fixed-Time Charge Items
A4: 1.1.1 | B4: PSA8.3.1 | C4: Fixed Preliminary and Genaral charges | D4: Sum | E4: 1
B5: SANS 1200AB
A6: 1.1.2 | B6: 8.2.1 | C6: Establishing Facilities for Engineer | D6: Sum | E6: 1
B7: SANS 1200A
A8: 1.1.3 | B8: 8.3.2.2 | C8: Establishing Facilities for Contractor | D8: Sum | E8: 1
A9: 1.1.4 | B9: 8.3.3 | C9: Other Fixed-charge Obligations | D9: Sum | E9: 1
A10: 1.1.5 | B10: 8.3.4 | C10: Removal of Site Establishment | D10: Sum | E10: 1
A11: 1.1.6 | B11: PSA8.8 | C11: The preparation of risk assessments, safe work procedures, and plan. Provision of Personal Protection Equipment and Clothing and any other health and safety matters according to the Project specifications | D11: Sum | E11: 1
A12: 1.1.7 | B12: PSA8.9 | C12: Compliance with Environmental Management Plan | D12: Sum | E12: 1
A13: 1.2 | B13: PSA8.4 | C13: Scheduled Time Raleted Items
A14: 1.2.1 | B14: PSA8.4.1 | C14: Time related preliminary and general | D14: Sum | E14: 1
B15: SANS 1200AB
B16: 8.2.1 | C16: Operation and Maintenance of Facilities for Engineer | D16: Sum | E16: 1
B17: SANS 1200A
A18: 1.2.2 | B18: 8.4.2.2 | C18: Operation and Maintenance of Facilities for Contractor | D18: Sum | E18: 1
A19: 1.2.3 | B19: 8.4.3 | C19: Supervision for The Duration of Construction | D19: Sum | E19: 1
A20: 1.2.4 | B20: 8.4.4 | C20: Company and Head office Overhead for Duration of Construction | D20: Sum | E20: 1
A21: 1.2.5 | B21: 8.4.5 | C21: Other Time-related Obligations | D21: Sum | E21: 1
A22: 1.2.6 | B22: PSA8.4.5.1 | C22: Supervision and Training of Nominated Sub-contractors | D22: Sum | E22: 1
A23: Carried Forward
A24: SECTION 1: PRELIMINARY & GENERAL -SANS 1200A / 1200AB
A25: ITEM No | B25: PAYMENT REF | C25: DESCRIPTION | D25: UNIT | E25: QTY | F25: RATE | G25: AMOUNT R
A26: Brought Forward
A27: 1.2.7 | B27: PSA8.4.5.2 | C27: Salary for Labour Desk office and Community Liaison officer | D27: Sum | E27: 1
A28: 1.2.8 | B28: PSA8.4.5.3 | C28: Artisans and Skills accredited Training | D28: Sum | E28: 1
A29: 1.2.9 | B29: PSA8.4.5.4 | C29: Specialised Services | D29: Sum | E29: 1
A30: 1.2.10 | B30: PSA8.8 | C30: Full Compliance with all Health and Safety specifications | D30: Sum | E30: 1
A31: 1.3 | B31: PSA8.5 | C31: Sums Stated Provisionally by Engineer
A32: 1.3.1 | C32: Cellular communications and data bundles | D32: Prov Sum | E32: 1 | F32: 24000 | G32: =E32*F32 -> 24000
A33: 1.3.2 | C33: Supply of computer, printer and associated equipment to become property of the Engineer at the end of the Contract | D33: Prov Sum | E33: 1 | F33: 45000 | G33: =E33*F33 -> 45000
A34: 1.3.3 | B34: PSA8.5.1 | C34: Works Executed by the Contractor | D34: Prov Sum | E34: 1 | F34: =G34 -> 50000 | G34: 50000
A35: 1.3.4 | C35: Relocation of Existing Services (inclusive all Discussions, Liaison, Labour and Material) | D35: Prov Sum | E35: 1 | F35: =G35 -> 150000 | G35: 150000
A36: 1.3.4 | B36: 8.8.5 (a) | C36: Search for and Record Trigonometrically Survey Beacons, Bench Marks and Plot Boundary Pegs, and Expose on Completion of Works | D36: Prov Sum | E36: 1 | F36: =G36 -> 10000 | G36: 10000
A37: 1.3.5 | C37: Electromechanical Refurbishment and Repairs of 10ML Package Plant including valves replacement and pipeworks. Testing and Commissioning of Package Plant including all 'As Built' Drawings and Manuals (3-Sets Hard Copies and 1-Set Soft-copy on USB) | D37: Prov Sum | E37: 1 | F37: 6500000 | G37: =F37 -> 6500000
A38: 1.3.6 | C38: Percentage (%) mark-up on item 1.3.1 to 1.3.5 above for Contractor's overheads, administration charges and profit | D38: % | E38: 10 | F38: =F32+F33+F34+F35+F36+F37 -> 6779000 | G38: =F38*E38/100 -> 677900
A39: 1.4 | B39: PSA8.6 | C39: Prime Cost Sums
A40: 1.4.1 | B40: PSA8.6 (a) | C40: Allowance for accredited training | D40: PC Sum | F40: 650000 | G40: =F40 -> 650000
...

Sheet Part-A 
A1: SECTION 2: EARTHWORKS (PIPE TRENCHES) - SANS 1200DB
A2: ITEM No | B2: PAYMENT REF | C2: DESCRIPTION | D2: UNIT | E2: QTY | F2: RATE | G2: AMOUNT R
A4: 2.1 | B4: 8.3.1 | C4: Site Clearance
A6: 2.1.1 | B6: 8.3.1 (a) | C6: Clear Vegetation and Trees of Girth Up to 1m (4m Wide Strip) | D6: m | E6: 7020
A8: 2.1.2 | B8: 8.3.1 (b) | C8: Clear Trees of Girth Over 1,0 m and Designated Obstacles | D8: No | E8: 5
A10: 2.1.3 | B10: PSDB 8.3.1 (c) | C10: Remove topsoil (strip to 150 mm Deep x 3 m wide), Stockpile, Prevent Dust Nuisance and Reinstate on Upon Completion | D10: m² | E10: =E6*3 -> 21060
G11: =IF(E11>0, E11*F11, " ")
A12: 2.2 | B12: 8.3.2 | C12: Excavation | G12: =IF(E12>0, E12*F12, " ")
G13: =IF(E13>0, E13*F13, " ")
B14: 8.3.2 (a) | C14: Excavate in all Materials for Trenches, Backfill, Compact and Dispose of Surplus Material with Depth Over and Up to: | G14: =IF(E14>0, E14*F14, " ")
A16: 2.2.1 | C16: 1.0 m 2.0 m | D16: m3 | E16: 9000
A18: 2.2.2 | C18: 2.0 m 3.0 m | D18: m3 | E18: 22000
A20: 2.2.3 | C20: 3.0 m 4.0 m | D20: m3 | E20: 300
A22: 2.2.4 | C22: 4.0 m 5.0 m | D22: m3 | E22: 350
A24: 2.2.5 | C24: 5.0 m 6.0 m | D24: m3 | E24: 100
B26: PSDB8.3.2 | C26: Extra-over Item (a) above for:
A28: 2.2.6 | B28: 8.3.2 (b) (2) | C28: Hard Rock Excavation | D28: m³ | E28: 8010
A30: 2.2.7 | B30: PSDB 8.3.2 | C30: Excavate and Dispose of Boulders Class A | D30: m³ | E30: 80
A32: 2.2.8 | B32: 8.3.2 (c) | C32: Excavate and Dispose of Unsuitable Material From Trench Bottom (provisional) | D32: m³ | E32: 1588
G33: =IF(E33>0, E33*F33, " ")
A34: 2.3 | B34: 8.3.3 | C34: Excavation ancillaries | G34: =IF(E34>0, E34*F34, " ")
G35: =IF(E35>0, E35*F35, " ")
B36: 8.3.3.1 | C36: Make Up Deficiency in Backfill Material (provisional)
A38: Carried Forward
A39: SECTION 2: EARTHWORKS (PIPE TRENCHES) - SANS 1200DB
A40: ITEM No | B40: PAYMENT REF | C40: DESCRIPTION | D40: UNIT | E40: QTY | F40: RATE | G40: AMOUNT R
A41: Brought Forward
A43: 2.3.1 | B43: 8.3.3.1 (a) | C43: From Other Necessary Excavations On Site | D43: m³ | E43: 4290
A45: 2.3.2 | B45: PSDB 8.3.3.3 | C45: Compaction in Road Reserves
A47: 2.3.2.1 | B47: 8.3.3.3 (a) | C47: Under roadways to 93% MOD AASHTO | D47: m³ | E47: 250
A49: 2.3.2.2 | B49: 8.3.3.3 (b) | C49: Elswhere to 93% to MOD AASHTO | D49: m³ | E49: 60
A51: 2.4 | B51: 8.3.5 | C51: Existing Services that intersect or adjoin Pipe Trench
B53: 8.3.5(a) | C53: Services That intersect a Trench
A55: 2.4.1 | C55: 1) Stock Fences | D55: No | E55: 10
A57: 2.4.2 | C57: 2) Storm Water Pipes | D57: No | E57: 3
A59: 2.4.3 | C59: 3) Water Pipes | D59: No | E59: 2
A61: 2.4.4 | C61: 4) Overhead Electrical Lines | D61: No | E61: 3
A63: 2.4.5 | C63: 5) Overhead Telephone Lines | D63: No | E63: 2
A65: 2.4.6 | C65: 6) Gravel Roads | D65: No | E65: 11
B67: 8.3.5 (b) | C67: Services That adjoin a Trench | G67: =IF(E67>0, E67*F67, " ")
...

Sheet Part-B
A1: SECTION 2 - OLIFANTSPOORT WATER TREATMENT WORKS PROCESS
A2: ITEM No | B2: PAYMENT REF | C2: DESCRIPTION | F2: UNIT | G2: QTY | H2: RATE | I2: AMOUNT
A3: 1 | C3: WATER TREATMENT WORKS PROCESS WORKS
A4: 1.1 | C4: Lime Dosing System
A5: 1.1.1 | C5: Design, manufacture, test at works, supply, install and test at site of Mechanical Lifting Device to lift 25kg bags of Lime | F5: No | G5: 1
A6: 1.1.2 | C6: Design, manufacture, test at works, supply, install and test at site 500kg Hydrated Lime Storage Silo with Conical Lower Section at an Angle of 70° to the Horizontal complete with | F6: No | G6: 1
A7: 1.1.3 | C7: Design, supply and install Steel Steps and Platform to facilitate empting 25kg bags of lime into the Silo | F7: No | G7: 1
A8: 1.1.4 | C8: Design, manufacture, test at works, supply, install and test at site of Lime Screw Feeder with capacity to feed 8kg dry hudrated lime per hour to mixing tank complete with variable speed controlled motor compete with PLC panel | F8: No | G8: 1
A9: 1.1.5 | C9: Design, manufacture, test at works, supply, install and test at site of a peristaltic pump suitable to pump 100l/h of lime slurry complete with accessories | F9: No | G9: 1
A10: 1.1.6 | C10: Design, manufacture, test at works, supply, install and test at site of Vibrating Bin Activator connected to the bottom of Silo Cone incorporated with a manually operated Knife-gate Isolation Valve | F10: no | G10: 1
A11: 1.1.7 | C11: Commissioning of pre-chlorine dosing system | F11: sum | G11: 1
A12: 1.2 | C12: Pre-Chlorine Dosing System
A13: 1.2.1 | C13: Chloring cylinder scale with full functional LED indicator | F13: no | G13: 2
A14: 1.2.2 | C14: Cylinder to be fitted with automatic container shut-off/auto valve shutdown system | F14: no | G14: 2
A15: 1.2.3 | C15: Vacuum eductors with rotameters and control valve to supply up to 20kg/h | F15: no | G15: 2
A16: Carried Forward
A17: SECTION 2 - OLIFANTSPOORT WATER TREATMENT WORKS PROCESS
A18: ITEM No | B18: PAYMENT REF | C18: DESCRIPTION | F18: UNIT | G18: QTY | H18: RATE | I18: AMOUNT
A19: Brought Forward
A20: 1.2.4 | C20: Chlorine 80uPVC pipework, measurement and all fittings to be confimed on sideto be confimed on site | F20: sum | G20: 1
A21: 1.2.5 | C21: Pre-chorine load cells | F21: no | G21: 2
A22: 1.2.6 | C22: Chlorine room safety equipment includng gas leak detection, safety shower and eye wash, breathing apparatus and safety/warning signage | F22: sum | G22: 1
A23: 1.2.7 | C23: Pre-chloring dosing pumps with flow meter complete with control Panel | F23: no | G23: 3
A24: 1.2.8 | C24: Refurbishment of the makeup water pumps | F24: no | G24: 3
A25: 1.2.10 | C25: Commissioning of pre-chlorine dosing system | F25: sum | G25: 1
A26: 1.3 | C26: Power Activate Carbon (PAC) Dosing System
A27: 1.3.1 | C27: Refurbishment of PAC dosing system including replacement of 3 dosing pumps | F27: sum | G27: 1
A28: 1.3.2 | C28: Design, supply and install PAC pump MCC panel (3 dosing pumps) complete with PLC panel | F28: no | G28: 1
A29: 1.3.3 | C29: Commissioning of the PAC dosing system | F29: sum | G29: 1
A30: 1.4 | C30: Polyelctrolyte Dosing System
A31: 1.4.1 | C31: Supply and install polyelectrolyte feeder pipeline with hydrant connector (75mm with adaptors to accommodate 50mm, 75mm and 100mm for different tanker suppliers) | F31: sum | G31: 1
A32: 1.4.2 | C32: Replace the polyelectrolyte transfer pump (0.75kW) with new dual polyelectrolyte transfer pumps complete with local control MCC panel | F32: no | G32: 2
A33: 1.4.3 | C33: Supply and installation of 25mm diameter PVC pipeline complete with valves on the transfer pumps to enable recirculating of polyelectrolyte | F33: sum | G33: 1
A34: 1.4.4 | C34: Supply and install 25mm diamter valve with clip-on 10m detachable flexible hose | F34: Sum | G34: 1
A35: 1.4.5 | C35: Mixer on polyelectrolyte make-up tank (EML MS80114 or equivalent) | F35: no | G35: 1
A36: Carried Forward
A37: SECTION 2 - OLIFANTSPOORT WATER TREATMENT WORKS PROCESS
A38: ITEM No | B38: PAYMENT REF | C38: DESCRIPTION | F38: UNIT | G38: QTY | H38: RATE | I38: AMOUNT
A39: Brought Forward
A40: 1.4.6 | C40: Flow meter on 25mm polyelectrolyte dosing line to measure up to 50l/h | F40: no | G40: 2
...

Sheet Part-C
A1: SECTION A2 - MEGORING: EARTHWORKS (PIPE TRENCHES) - SANS 1200DB
A2: ITEM No | B2: PAYMENT REF | C2: DESCRIPTION | D2: UNIT | E2: QTY | F2: RATE | G2: AMOUNT R
A4: A2.1 | B4: 8.3.1 | C4: Site Clearance
A6: A2.1.1 | B6: 8.3.1 (a) | C6: Clear Vegetation and Trees of Girth Up to 1m (m 6 Wide Strip) | D6: m | E6: 240
A8: A2.1.2 | B8: 8.3.1 (b) | C8: Clear Trees of Girth Over 1,0 m and Designated Obstacles | D8: No | E8: Rate Only
A10: A2.1.3 | B10: PSDB 8.3.1 (c) | C10: Remove topsoil (strip to 150 mm Deep), Stockpile, Prevent Dust Nuisance and Reinstate on Upon Completion | D10: m² | E10: 480
A12: A2.2 | B12: 8.3.2 | C12: Excavation
B14: 8.3.2 (a) | C14: Excavate in all Materials for Trenches, Backfill, Compact and Dispose of Surplus Material with Depth Over and Up to:
A16: A2.2.1 | C16: 1.0 m 2.0 m | D16: m3 | E16: 50
A18: A2.2.2 | C18: 2.0 m 3.0 m | D18: m3 | E18: 1000
A20: A2.2.3 | C20: 3.0 m 4.0 m | D20: m3 | E20: 200
A22: A2.2.4 | C22: 4.0 m 5.0 m | D22: m3 | E22: 10
B24: PSDB8.3.2 | C24: Extra-over Item (a) above for:
A26: A2.2.5 | B26: 8.3.2 (b) (2) | C26: Hard Rock Excavation | D26: m³ | E26: 20
A28: A2.2.6 | B28: PSDB 8.3.2 | C28: Excavate and Dispose of Boulders Class A | D28: m³ | E28: 10
A30: A2.2.7 | B30: 8.3.2 (c) | C30: Excavate and Dispose of Unsuitable Material From Trench Bottom (provisional) | D30: m³ | E30: 50
A32: A2.3 | B32: 8.3.3 | C32: Excavation ancillaries
B34: 8.3.3.1 | C34: Make Up Deficiency in Backfill Material (provisional)
A36: A2.3.1 | B36: 8.3.3.1 (a) | C36: From Other Necessary Excavations On Site | D36: m³ | E36: 50
A38: A2.3.2 | B38: PSDB 8.3.3.3 | C38: Compaction in Road Reserves
A40: A2.3.2.1 | B40: 8.3.3.3 (a) | C40: Under roadways to 93% MOD AASHTO | D40: m³ | E40: 200
A42: A2.3.2.2 | B42: 8.3.3.3 (b) | C42: Elswhere to 93% to MOD AASHTO | D42: m³ | E42: 50
A43: Carried Forward
A44: SECTION A2 - MEGORING: EARTHWORKS (PIPE TRENCHES) - SANS 1200DB
A45: ITEM No | B45: PAYMENT REF | C45: DESCRIPTION | D45: UNIT | E45: QTY | F45: RATE | G45: AMOUNT R
A46: Brought Forward
A48: A2.4 | B48: 8.3.5 | C48: Existing Services that intersect or adjoin a Pipe Trench
B50: 8.3.5(a) | C50: Services That intersect a Trench
A52: A2.4.1 | C52: 1) Stock Fences | D52: No | E52: Rate Only
A54: A2.4.2 | C54: 2) Storm Water Pipes | D54: No | E54: Rate Only
A56: A2.4.3 | C56: 3) Water Pipes | D56: No | E56: Rate Only
A58: A2.4.4 | C58: 4) Gravel Roads | D58: No | E58: 2
B60: 8.3.5 (b) | C60: Services That adjoin a Trench
A62: A2.4.5 | C62: 1) Stock Fence | D62: m | E62: Rate Only
A64: A2.4.6 | C64: 2) Storm Water Pipes | D64: m | E64: 10
A66: A2.4.7 | C66: 3) Water Pipes | D66: m | E66: 165
A68: A2.5 | B68: PSDB8.3.6 | C68: Finishing
B70: 8.3.6.1 | C70: Reinstate Road Surfaces Complete
A72: A2.5.1 | B72: 8.3.6.1 (a) | C72: Gravel Road Surfaces | D72: m² | E72: 150
A74: A2.5.2 | B74: 8.3.7 | C74: Accommodation of traffic including bypass and signage | D74: Sum | E74: 1
...

Sheet Part B
A1: SECTION 2 - OLIFANTSPOORT WATER TREATMENT WORKS PROCESS
A2: ITEM No | B2: PAY REF | C2: DESCRIPTION | F2: UNIT | G2: QTY | H2: RATE | I2: AMOUNT
A3: 1 | C3: WATER TREATMENT WORKS PROCESS WORKS
A4: 1.1 | C4: Lime Dosing System
A5: 1.1.1 | C5: Design, manufacture, test at works, supply, install and test at site of Mechanical Lifting Device to lift 25kg bags of Lime | F5: No | G5: 1 | H5: 85756 | I5: =G5*H5 -> 85756
A6: 1.1.2 | C6: Design, manufacture, test at works, supply, install and test at site 500kg Hydrated Lime Storage Silo with Conical Lower Section at an Angle of 70° to the Horizontal complete with | F6: No | G6: 1 | H6: 485621 | I6: =G6*H6 -> 485621
A7: 1.1.3 | C7: Design, supply and install Steel Steps and Platform to facilitate empting 25kg bags of lime into the Silo | F7: No | G7: 1 | H7: 66101 | I7: =G7*H7 -> 66101
A8: 1.1.4 | C8: Design, manufacture, test at works, supply, install and test at site of Lime Screw Feeder with capacity to feed 8kg dry hudrated lime per hour to mixing tank complete with variable speed controlled motor compete with PLC panel | F8: No | G8: 1 | H8: 376521 | I8: =G8*H8 -> 376521
A9: 1.1.5 | C9: Design, manufacture, test at works, supply, install and test at site of a peristaltic pump suitable to pump 100l/h of lime slurry complete with accessories | F9: No | G9: 1 | H9: 254845 | I9: =G9*H9 -> 254845
A10: 1.1.6 | C10: Design, manufacture, test at works, supply, install and test at site of Vibrating Bin Activator connected to the bottom of Silo Cone incorporated with a manually operated Knife-gate Isolation Valve | F10: no | G10: 1 | H10: 402567 | I10: =G10*H10 -> 402567
A11: 1.1.7 | C11: Commissioning of pre-chlorine dosing system | F11: sum | G11: 1 | H11: 60000 | I11: =G11*H11 -> 60000
A12: 1.2 | C12: Pre-Chlorine Dosing System
A13: 1.2.1 | C13: Chloring cylinder scale with full functional LED indicator | F13: no | G13: 2 | H13: 17000 | I13: =G13*H13 -> 34000
A14: 1.2.2 | C14: Cylinder to be fitted with automatic container shut-off/auto valve shutdown system | F14: no | G14: 2 | H14: 17500 | I14: =G14*H14 -> 35000
A15: 1.2.3 | C15: Vacuum eductors with rotameters and control valve to supply up to 20kg/h | F15: no | G15: 2 | H15: 70000 | I15: =G15*H15 -> 140000
A16: 1.2.4 | C16: Chlorine 80uPVC pipework, measurement and all fittings to be confimed on sideto be confimed on site | F16: sum | G16: 1 | H16: 20000 | I16: =G16*H16 -> 20000
A17: 1.2.5 | C17: Pre-chorine load cells | F17: no | G17: 2 | H17: 80000 | I17: =G17*H17 -> 160000
A18: 1.2.6 | C18: Chlorine room safety equipment includng gas leak detection, safety shower and eye wash, breathing apparatus and safety/warning signage | F18: sum | G18: 1 | H18: 30000 | I18: =G18*H18 -> 30000
A19: 1.2.7 | C19: Pre-chloring dosing pumps with flow meter complete with control Panel | F19: no | G19: 3 | H19: 30000 | I19: =G19*H19 -> 90000
A20: 1.2.8 | C20: Refurbishment of the makeup water pumps | F20: no | G20: 3 | H20: 4500 | I20: =G20*H20 -> 13500
A21: 1.2.10 | C21: Commissioning of pre-chlorine dosing system | F21: sum | G21: 1 | H21: 60000 | I21: =G21*H21 -> 60000
A22: 1.3 | C22: Power Activate Carbon (PAC) Dosing System
A23: 1.3.1 | C23: Refurbishment of PAC dosing system including replacement of 3 dosing pumps | F23: sum | G23: 1 | H23: 150000 | I23: =G23*H23 -> 150000
A24: 1.3.2 | C24: Design, supply and install PAC pump MCC panel (3 dosing pumps) complete with PLC panel | F24: no | G24: 1 | H24: 115000 | I24: =G24*H24 -> 115000
A25: 1.3.3 | C25: Commissioning of the PAC dosing system | F25: sum | G25: 1 | H25: 60000 | I25: =G25*H25 -> 60000
A26: 1.4 | C26: Polyelctrolyte Dosing System
A27: 1.4.1 | C27: Supply and install polyelectrolyte feeder pipeline with hydrant connector (75mm with adaptors to accommodate 50mm, 75mm and 100mm for different tanker suppliers) | F27: sum | G27: 1 | H27: 40000 | I27: =G27*H27 -> 40000
A28: 1.4.2 | C28: Replace the polyelectrolyte transfer pump (0.75kW) with new dual polyelectrolyte transfer pumps complete with local control MCC panel | F28: no | G28: 2 | H28: =65000 -> 65000 | I28: =G28*H28 -> 130000
A29: 1.4.3 | C29: Supply and installation of 25mm diameter PVC pipeline complete with valves on the transfer pumps to enable recirculating of polyelectrolyte | F29: sum | G29: 1 | H29: 10000 | I29: =G29*H29 -> 10000
A30: 1.4.4 | C30: Supply and install 25mm diamter valve with clip-on 10m detachable flexible hose | F30: Sum | G30: 1 | H30: 10000 | I30: =G30*H30 -> 10000
A31: 1.4.5 | C31: Mixer on polyelectrolyte make-up tank (EML MS80114 or equivalent) | F31: no | G31: 1 | H31: 40000 | I31: =G31*H31 -> 40000
A32: 1.4.6 | C32: Flow meter on 25mm polyelectrolyte dosing line to measure up to 50l/h | F32: no | G32: 2 | H32: 17500 | I32: =G32*H32 -> 35000
A33: 1.4.7 | C33: 1.8m chemical feeder across flow channel (Module 1) | F33: no | G33: 1 | H33: 5000 | I33: =G33*H33 -> 5000
A34: 1.5 | C34: Post-Chlorine Dosing System
A35: 1.5.1 | C35: Chlorine room safety equipment includng gas leak detection, safety shower and eye wash, breathing apparatus and safety/warning signage | F35: sum | G35: 1 | H35: 40000 | I35: =G35*H35 -> 40000
A36: 1.5.2 | C36: Post-chlorine dosing pumps with flow meter complete with control Panel | F36: no | G36: 3 | H36: 22000 | I36: =G36*H36 -> 66000
A37: 1.6 | C37: Module 1 Rapid Mix and Flocculation Channel
A38: Carried Forward | I38: =SUM(I5:I37) -> 3014911
A39: SECTION 2 - OLIFANTSPOORT WATER TREATMENT WORKS PROCESS
A40: ITEM No | B40: PAY REF | C40: DESCRIPTION | F40: UNIT | G40: QTY | H40: RATE | I40: AMOUNT
...

Sheet Part C
A1: SECTION A2 - MEGORING: EARTHWORKS (PIPE TRENCHES) - SANS 1200DB
A2: ITEM No | B2: PAYMENT REF | C2: DESCRIPTION | D2: UNIT | E2: QTY | F2: RATE | G2: AMOUNT R
A4: A2.1 | B4: 8.3.1 | C4: Site Clearance
A6: A2.1.1 | B6: 8.3.1 (a) | C6: Clear Vegetation and Trees of Girth Up to 1m (m 6 Wide Strip) | D6: m | E6: 240 | F6: 80 | G6: =E6*F6 -> 19200
A8: A2.1.2 | B8: 8.3.1 (b) | C8: Clear Trees of Girth Over 1,0 m and Designated Obstacles | D8: No | E8: Rate Only
A10: A2.1.3 | B10: PSDB 8.3.1 (c) | C10: Remove topsoil (strip to 150 mm Deep), Stockpile, Prevent Dust Nuisance and Reinstate on Upon Completion | D10: m² | E10: 480 | F10: 80 | G10: =E10*F10 -> 38400
A12: A2.2 | B12: 8.3.2 | C12: Excavation
B14: 8.3.2 (a) | C14: Excavate in all Materials for Trenches, Backfill, Compact and Dispose of Surplus Material with Depth Over and Up to:
A16: A2.2.1 | C16: 1.0 m 2.0 m | D16: m3 | E16: 50 | F16: 150 | G16: =E16*F16 -> 7500
A18: A2.2.2 | C18: 2.0 m 3.0 m | D18: m3 | E18: 1000 | F18: 200 | G18: =E18*F18 -> 200000
A20: A2.2.3 | C20: 3.0 m 4.0 m | D20: m3 | E20: 200 | F20: 250 | G20: =E20*F20 -> 50000
A22: A2.2.4 | C22: 4.0 m 5.0 m | D22: m3 | E22: 10 | F22: 300 | G22: =E22*F22 -> 3000
B24: PSDB8.3.2 | C24: Extra-over Item (a) above for:
A26: A2.2.5 | B26: 8.3.2 (b) (2) | C26: Hard Rock Excavation | D26: m³ | E26: 20 | F26: 1200 | G26: =E26*F26 -> 24000
A28: A2.2.6 | B28: PSDB 8.3.2 | C28: Excavate and Dispose of Boulders Class A | D28: m³ | E28: 10 | F28: 1200 | G28: =E28*F28 -> 12000
A30: A2.2.7 | B30: 8.3.2 (c) | C30: Excavate and Dispose of Unsuitable Material From Trench Bottom (provisional) | D30: m³ | E30: 50 | F30: 160 | G30: =E30*F30 -> 8000
A32: A2.3 | B32: 8.3.3 | C32: Excavation ancillaries
B34: 8.3.3.1 | C34: Make Up Deficiency in Backfill Material (provisional)
A36: A2.3.1 | B36: 8.3.3.1 (a) | C36: From Other Necessary Excavations On Site | D36: m³ | E36: 50 | F36: 100 | G36: =+F36*E36 -> 5000
A38: A2.3.2 | B38: PSDB 8.3.3.3 | C38: Compaction in Road Reserves
A40: A2.3.2.1 | B40: 8.3.3.3 (a) | C40: Under roadways to 93% MOD AASHTO | D40: m³ | E40: 200 | F40: 200 | G40: =+F40*E40 -> 40000
A42: A2.3.2.2 | B42: 8.3.3.3 (b) | C42: Elswhere to 93% to MOD AASHTO | D42: m³ | E42: 50 | F42: 200 | G42: =+F42*E42 -> 10000
A48: Total Carried Forward | G48: =SUM(G3:G47) -> 417100
A49: ITEM No | B49: PAYMENT REF | C49: DESCRIPTION | D49: UNIT | E49: QTY | F49: RATE | G49: AMOUNT R
A50: Brought Forward | G50: =+G48 -> 417100
A52: A2.4 | B52: 8.3.5 | C52: Existing Services that intersect or adjoin a Pipe Trench
B54: 8.3.5(a) | C54: Services That intersect a Trench
A56: A2.4.1 | C56: 1) Stock Fences | D56: No | E56: Rate Only
A58: A2.4.2 | C58: 2) Storm Water Pipes | D58: No | E58: Rate Only
A60: A2.4.3 | C60: 3) Water Pipes | D60: No | E60: Rate Only
A62: A2.4.4 | C62: 6) Gravel Roads | D62: No | E62: 2 | F62: 1500 | G62: =+F62*E62 -> 3000
B64: 8.3.5 (b) | C64: Services That adjoin a Trench
A66: A2.4.5 | C66: 1) Stock Fence | D66: m | E66: Rate Only
A68: A2.4.6 | C68: 2) Storm Water Pipes | D68: m | E68: 10 | F68: 50 | G68: =+F68*E68 -> 500
A70: A2.4.7 | C70: 3) Water Pipes | D70: m | E70: 165 | F70: 50 | G70: =+F70*E70 -> 8250
A72: A2.5 | B72: PSDB8.3.6 | C72: Finishing
B74: 8.3.6.1 | C74: Reinstate Road Surfaces Complete
A76: A2.5.1 | B76: 8.3.6.1 (a) | C76: Gravel Road Surfaces | D76: m² | E76: 150 | F76: 150 | G76: =+F76*E76 -> 22500
A78: A2.5.2 | B78: 8.3.7 | C78: Accommodation of traffic including bypass and signage | D78: Sum | E78: 1 | F78: 200000 | G78: 200000
A100: TOTAL SECTION A2 CARRIED TO SUMMARY | G100: =SUM(G50:G99) -> 651350
...
