Workbook
Name a: #REF!
Name Area_Print: #REF!
Name Area_Print: #REF!
Name b: #REF!
Name Clear_CAST_Price_Summary: [0]!Clear_CAST_Price_Summary
Name copy: #REF!
Name Corp_NO: #REF!
Name Cost_Allocation: #REF!
Name CPA_Data: #REF!
Name Currency_Allocated: #REF!
Name d: #REF!
Name Data: #REF!
Name Data: #REF!
Name Data_Daywork: #REF!
Name Data_Daywork: #REF!
Name Data_Opt_Bill5: #REF!
Name Data_Opt_Bill5: #REF!
Name e: #REF!
Name PS5_Allocation: #REF!
Name Sort_Data: #REF!
Name Sort_Data: #REF!
Name w: #REF!
Name w: [0]!w

Sheet Instructions
B2: INSTRUCTIONS FOR COMPLETING THE PRICING SCHEDULE:
A4: 1 | B4: The Supplier must complete the following Sheets:
B6: Cover Page
B7: PS5
B8: Price List
B9: Option X1 CPA Formulae
B10: Option X3 FOREX Data
B14: NOTE: If the above sheets are not complete, the tender will be disqualified
A16: 2 | B16: Drop-down items are provided in cells highlighted in light blue
A18: 3 | B18: The cells highlighted in light green are cells the Supplier can edit/manual inputs
A20: 5 | B20: The Supplier shall verify the values in the PS5 Schedule
A22: 6 | B22: The sheet 'Option X3' defines the different currencies and ruling Rates of Exchange (RoE) to be used as part of the contract.
A24: 7 | B24: The sheet 'Option X1' defines the formulas that shall be used for the calculation of price adjustments.
B37: Name of supplier & factory of origin:

Sheet Cover Page
B10: PRICING INFORMATION
B12: ENQUIRY No.
B14: NAME OF PACKAGE:
B16: TENDERER’S NAME:
B18: CATEGORY OF OFFER (MAIN OFFER ONLY): | C18: Main Offer Only
B20: TENDERED PRICE: IN ZAR | C20: ='PRICE LIST'!AC16 -> 0
B21: (excluding VAT)
B23: RAND VALUE IN WORDS | C23: [Price in Words]
B28: TENDERED PRICE: IN ZAR | C28: =C20*1.15 -> 0
B29: (including VAT)
B31: DATE :
B35: FULL NAMES OF SIGNATORY:
B39: DESIGNATION OF SIGNATORY:
B43: SIGNATURE :

Sheet PS5
A6: ="ENQUIRY NUMBER : "&'Cover Page'!C12 -> ENQUIRY NUMBER : | C6: ='Cover Page'!C12 -> 0 | E6: PRICES INCLUSIVE OF VAT (VALUE ADDED TAX)
A8: =" PRICE SCHEDULE : C (PS5) : "&'Cover Page'!C14 -> PRICE SCHEDULE : C (PS5) : | M8: SUPPLIER: | N8: ='Cover Page'!$C$16 -> 0
A10: PRICE SCHEDULE FOR GOODS MANUFACTURED IN AND OUTSIDE THE R.S.A. PRICE PER UNIT FOR SUPPLY, DELIVERY AND ERECTION / INSTALLATION. ALL AMOUNTS EXPRESSED IN RANDS
A12: 1 | B12: 2 | C12: 3 | D12: 4 | E12: 5 | F12: 6 | G12: 7 | H12: 8 | I12: 9 | J12: 10 | K12: 11 | L12: 12 | M12: 13 | N12: 14 | O12: 15
A13: REMARKS | G13: ITEM NO | J13: 1 | K13: =J13+1 -> 2 | L13: =K13+1 -> 3 | M13: =L13+1 -> 4 | N13: =M13+1 -> 5 | O13: =N13+1 -> 6
A14: *Eskom may effect this insurance which includes war | G14: ITEM DESCRIPTION | J14: =IFERROR(INDEX('PRICE LIST'!$D:$D,MATCH('PS5'!J$13,'PRICE LIST'!$B:$B,0)),"") -> TELEPHONE CABLE - 10 PAIR | K14: =IFERROR(INDEX('PRICE LIST'!$D:$D,MATCH('PS5'!K$13,'PRICE LIST'!$B:$B,0)),"") -> TELEPHONE CABLE - 25 PAIR | L14: =IFERROR(INDEX('PRICE LIST'!$D:$D,MATCH('PS5'!L$13,'PRICE LIST'!$B:$B,0)),"") -> TELEPHONE CABLE - 50 PAIR | M14: =IFERROR(INDEX('PRICE LIST'!$D:$D,MATCH('PS5'!M$13,'PRICE LIST'!$B:$B,0)),"") -> COAXIAL CABLE - 75 OHM | N14: =IFERROR(INDEX('PRICE LIST'!$D:$D,MATCH('PS5'!N$13,'PRICE LIST'!$B:$B,0)),"") -> DATA CABLE - X.21 | O14: =IFERROR(INDEX('PRICE LIST'!$D:$D,MATCH('PS5'!O$13,'PRICE LIST'!$B:$B,0)),"") -> 18Z CABLE -
A15: risk insurance
A16: **Please specify
A17: SUPPLIED FROM OUTSIDE R.S.A.: | I17: (In ZAR)
A18: 1: F.O.B. PRICE | I18: (In ZAR)
A19: 2: COST OF SEA FREIGHT | I19: (In ZAR)
A20: 3: COST OF AIR FREIGHT | I20: (In ZAR)
A21: 4: COST OF MARINE INSURANCES * | I21: (In ZAR)
A22: 5: TOTAL PRICE DELIVERED PORT R.S.A. ... | G22: (1+2+3+4) | I22: (In ZAR) | J22: =SUM(J18:J21) -> 0 | K22: =SUM(K18:K21) -> 0 | L22: =SUM(L18:L21) -> 0 | M22: =SUM(M18:M21) -> 0 | N22: =SUM(N18:N21) -> 0 | O22: =SUM(O18:O21) -> 0
A23: 6: WHARFAGE | I23: (In ZAR)
A24: 7: LANDING CHARGES | I24: (In ZAR)
A25: 8: CUSTOMS DUTIES | I25: (In ZAR)
A26: 9: IMPORT SURCHARGE | I26: (In ZAR)
A27: 10: OTHER** | I27: (In ZAR)
A28: 11: COST OF IMPORTATION ... | G28: (6+7+8+9+10) | I28: (In ZAR) | J28: =SUM(J23:J27) -> 0 | K28: =SUM(K23:K27) -> 0 | L28: =SUM(L23:L27) -> 0 | M28: =SUM(M23:M27) -> 0 | N28: =SUM(N23:N27) -> 0 | O28: =SUM(O23:O27) -> 0
A29: 12: COST OF RAIL TRANSPORT IN R.S.A. | I29: (In ZAR)
A30: 13: COST OF ROAD TRANSPORT IN R.S.A. | I30: (In ZAR)
A31: 14: TOTAL COST OF TRANSPORT S.A. PORT TO WORK/SITE ... | G31: (12+13) | I31: (In ZAR) | J31: =SUM(J29:J30) -> 0 | K31: =SUM(K29:K30) -> 0 | L31: =SUM(L29:L30) -> 0 | M31: =SUM(M29:M30) -> 0 | N31: =SUM(N29:N30) -> 0 | O31: =SUM(O29:O30) -> 0
A32: 15: TOTAL PRICE (F.O.B.) DELIVERED TO WORKS/SITE... | G32: (5+11+14) | I32: (In ZAR) | J32: =SUM(J22+J28+J31) -> 0 | K32: =SUM(K22+K28+K31) -> 0 | L32: =SUM(L22+L28+L31) -> 0 | M32: =SUM(M22+M28+M31) -> 0 | N32: =SUM(N22+N28+N31) -> 0 | O32: =SUM(O22+O28+O31) -> 0
A34: SUPPLIED FROM INSIDE R.S.A.
A35: 16: F.O.R. PRICE-GOODS MANUFACTURED INSIDE R.S.A.
A36: 17: F.O.R. PRICE-GOODS SUPPLIED FROM IMPORTED ITEMS
A37: 18: TOTAL F.O.R. PRICE ... | G37: (16+17) | J37: =SUM(J35:J36) -> 0 | K37: =SUM(K35:K36) -> 0 | L37: =SUM(L35:L36) -> 0 | M37: =SUM(M35:M36) -> 0 | N37: =SUM(N35:N36) -> 0 | O37: =SUM(O35:O36) -> 0
A38: 19: COST OF RAIL TRANSPORT | H38: refer to Transport matrix
A39: 20: COST OF ROAD TRANSPORT | H39: refer to Transport matrix
A40: 21: COST OF TRANSPORT WORKS TO SITE ... | G40: (19+20) | J40: =SUM(J38:J39) -> 0 | K40: =SUM(K38:K39) -> 0 | L40: =SUM(L38:L39) -> 0 | M40: =SUM(M38:M39) -> 0 | N40: =SUM(N38:N39) -> 0 | O40: =SUM(O38:O39) -> 0
A41: 22: PRICE (F.O.R.) DELIVERED TO SITE ... | G41: (18+21) | J41: =SUM(J37,J40) -> 0 | K41: =SUM(K37,K40) -> 0 | L41: =SUM(L37,L40) -> 0 | M41: =SUM(M37,M40) -> 0 | N41: =SUM(N37,N40) -> 0 | O41: =SUM(O37,O40) -> 0
A42: SITE WORK (ERECTION / INSTALLATION INCL. COMMISSIONING)
A43: 23: LOCAL LABOUR
A44: 24: EXPATRIATE LABOUR
A45: 25: TOTAL PRICE FOR SITE WORK ... | G45: (23+24) | J45: =SUM(J43:J44) -> 0 | K45: =SUM(K43:K44) -> 0 | L45: =SUM(L43:L44) -> 0 | M45: =SUM(M43:M44) -> 0 | N45: =SUM(N43:N44) -> 0 | O45: =SUM(O43:O44) -> 0
A46: 26: OVERSEAS ENGINEERING SERVICES
A47: 27: LOCAL ENGINEERING SERVICES
A48: 28: TOTAL PRICE FOR ENGINEERING SERVICES... | G48: (26+27) | J48: =SUM(J46:J47) -> 0 | K48: =SUM(K46:K47) -> 0 | L48: =SUM(L46:L47) -> 0 | M48: =SUM(M46:M47) -> 0 | N48: =SUM(N46:N47) -> 0 | O48: =SUM(O46:O47) -> 0
A49: 28a: TOTAL PRICE DELIVERED TO SITE (EXCL VAT) | G49: (15+22+25+28) | J49: =SUM(J32+J41+J45+J48) -> 0 | K49: =SUM(K32+K41+K45+K48) -> 0 | L49: =SUM(L32+L41+L45+L48) -> 0 | M49: =SUM(M32+M41+M45+M48) -> 0 | N49: =SUM(N32+N41+N45+N48) -> 0 | O49: =SUM(O32+O41+O45+O48) -> 0
...

Sheet PRICE LIST
B1: Enquiry No. | C1: ='Cover Page'!C12 -> 0
B2: Package Name: | C2: ='Cover Page'!C14 -> 0
B3: Tenderer's Name: | C3: ='Cover Page'!C16 -> 0
B5: DESCRIPTION | E5: Qty | F5: Unit of measurement | G5: SUPPLIED FROM OUTSIDE R.S.A.: | M5: SUPPLIED FROM INSIDE R.S.A. | R5: SITE WORK (ERECTION / INSTALLATION INCL. COMMISSIONING) | AB5: Total Unit Rate | AC5: Total Amount (Excl.VAT)
G6: In Local Currency | M6: In Local Currency | R6: In Local Currency
G7: CPA Formula ref (Goods supplied from outside RSA) | H7: 5: TOTAL PRICE DELIVERED PORT R.S.A. ... | I7: CPA Formula ref (Local In-Land transportation for goods supplied from Outside RSA) | J7: ='PS5'!A28 -> 11: COST OF IMPORTATION ... | K7: 14: TOTAL COST OF TRANSPORT S.A. PORT TO WORK/SITE ... | L7: 15: TOTAL PRICE (F.O.B.) DELIVERED TO WORKS/SITE... | M7: CPA Formula ref (Goods supplied from inside RSA) | N7: 18: TOTAL F.O.R. PRICE ... | O7: CPA Formula ref (Local In-Land transportation for goods supplied from Inside RSA) | P7: 21: COST OF TRANSPORT WORKS TO SITE ... | Q7: 22: PRICE (F.O.R.) DELIVERED TO SITE ... | R7: CPA Formula ref (Site Work, Local Labour & Local Engineering) | S7: ='PS5'!A43 -> 23: LOCAL LABOUR | T7: CPA Formula ref (Site Work, Expatriate Labour & Expatriate Engineering) | U7: ='PS5'!A44 -> 24: EXPATRIATE LABOUR | V7: ='PS5'!A45 -> 25: TOTAL PRICE FOR SITE WORK ... | W7: CPA Formula ref (Overseas Engineering Services) | X7: ='PS5'!A46 -> 26: OVERSEAS ENGINEERING SERVICES | Y7: CPA Formula ref (Local Engineering Services) | Z7: 27: LOCAL ENGINEERING SERVICES | AA7: 28: TOTAL PRICE FOR ENGINEERING SERVICES...
B8: Item | C8: SAP numbers | D8: Item Description
H9: (1+2+3+4) | J9: (6+7+8+9+10) | K9: (12+13) | L9: (5+11+14) | N9: (16+17) | P9: (19+20) | Q9: (18+21) | V9: (23+24) | AA9: (26+27)
B10: =IF(D10="","",COUNTA($D$10:$D10)) -> 1 | C10: 0014666 | D10: TELEPHONE CABLE - 10 PAIR | E10: =[1]Summary!$D3 -> 58800 | F10: No | H10: =VLOOKUP(H$7,'PS5'!$A:$O,INDEX('PS5'!$12:$12,MATCH('PRICE LIST'!$B10,'PS5'!$13:$13,0)),FALSE) -> 0 | J10: =VLOOKUP(J$7,'PS5'!$A:$O,INDEX('PS5'!$12:$12,MATCH('PRICE LIST'!$B10,'PS5'!$13:$13,0)),FALSE) -> 0 | K10: =VLOOKUP(K$7,'PS5'!$A:$O,INDEX('PS5'!$12:$12,MATCH('PRICE LIST'!$B10,'PS5'!$13:$13,0)),FALSE) -> 0 | L10: =H10+J10+K10 -> 0 | N10: =VLOOKUP(N$7,'PS5'!$A:$O,INDEX('PS5'!$12:$12,MATCH('PRICE LIST'!$B10,'PS5'!$13:$13,0)),FALSE) -> 0 | P10: =VLOOKUP(P$7,'PS5'!$A:$O,INDEX('PS5'!$12:$12,MATCH('PRICE LIST'!$B10,'PS5'!$13:$13,0)),FALSE) -> 0 | Q10: =N10+P10 -> 0 | S10: =VLOOKUP(S$7,'PS5'!$A:$O,INDEX('PS5'!$12:$12,MATCH('PRICE LIST'!$B10,'PS5'!$13:$13,0)),FALSE) -> 0 | U10: =VLOOKUP(U$7,'PS5'!$A:$O,INDEX('PS5'!$12:$12,MATCH('PRICE LIST'!$B10,'PS5'!$13:$13,0)),FALSE) -> 0 | V10: =S10+U10 -> 0 | X10: =VLOOKUP(X$7,'PS5'!$A:$O,INDEX('PS5'!$12:$12,MATCH('PRICE LIST'!$B10,'PS5'!$13:$13,0)),FALSE) -> 0 | Z10: =VLOOKUP(Z$7,'PS5'!$A:$O,INDEX('PS5'!$12:$12,MATCH('PRICE LIST'!$B10,'PS5'!$13:$13,0)),FALSE) -> 0 | AA10: =X10+Z10 -> 0 | AB10: =L10+Q10+V10+AA10 -> 0 | AC10: =AB10*E10 -> 0
B11: =IF(D11="","",COUNTA($D$10:$D11)) -> 2 | C11: 0014667 | D11: TELEPHONE CABLE - 25 PAIR | E11: =[1]Summary!$D4 -> 29400 | F11: No | H11: =VLOOKUP(H$7,'PS5'!$A:$O,INDEX('PS5'!$12:$12,MATCH('PRICE LIST'!$B11,'PS5'!$13:$13,0)),FALSE) -> 0 | J11: =VLOOKUP(J$7,'PS5'!$A:$O,INDEX('PS5'!$12:$12,MATCH('PRICE LIST'!$B11,'PS5'!$13:$13,0)),FALSE) -> 0 | K11: =VLOOKUP(K$7,'PS5'!$A:$O,INDEX('PS5'!$12:$12,MATCH('PRICE LIST'!$B11,'PS5'!$13:$13,0)),FALSE) -> 0 | L11: =H11+J11+K11 -> 0 | N11: =VLOOKUP(N$7,'PS5'!$A:$O,INDEX('PS5'!$12:$12,MATCH('PRICE LIST'!$B11,'PS5'!$13:$13,0)),FALSE) -> 0 | P11: =VLOOKUP(P$7,'PS5'!$A:$O,INDEX('PS5'!$12:$12,MATCH('PRICE LIST'!$B11,'PS5'!$13:$13,0)),FALSE) -> 0 | Q11: =N11+P11 -> 0 | S11: =VLOOKUP(S$7,'PS5'!$A:$O,INDEX('PS5'!$12:$12,MATCH('PRICE LIST'!$B11,'PS5'!$13:$13,0)),FALSE) -> 0 | U11: =VLOOKUP(U$7,'PS5'!$A:$O,INDEX('PS5'!$12:$12,MATCH('PRICE LIST'!$B11,'PS5'!$13:$13,0)),FALSE) -> 0 | V11: =S11+U11 -> 0 | X11: =VLOOKUP(X$7,'PS5'!$A:$O,INDEX('PS5'!$12:$12,MATCH('PRICE LIST'!$B11,'PS5'!$13:$13,0)),FALSE) -> 0 | Z11: =VLOOKUP(Z$7,'PS5'!$A:$O,INDEX('PS5'!$12:$12,MATCH('PRICE LIST'!$B11,'PS5'!$13:$13,0)),FALSE) -> 0 | AA11: =X11+Z11 -> 0 | AB11: =L11+Q11+V11+AA11 -> 0 | AC11: =AB11*E11 -> 0
B12: =IF(D12="","",COUNTA($D$10:$D12)) -> 3 | C12: 0014668 | D12: TELEPHONE CABLE - 50 PAIR | E12: =[1]Summary!$D5 -> 9800 | F12: No | H12: =VLOOKUP(H$7,'PS5'!$A:$O,INDEX('PS5'!$12:$12,MATCH('PRICE LIST'!$B12,'PS5'!$13:$13,0)),FALSE) -> 0 | J12: =VLOOKUP(J$7,'PS5'!$A:$O,INDEX('PS5'!$12:$12,MATCH('PRICE LIST'!$B12,'PS5'!$13:$13,0)),FALSE) -> 0 | K12: =VLOOKUP(K$7,'PS5'!$A:$O,INDEX('PS5'!$12:$12,MATCH('PRICE LIST'!$B12,'PS5'!$13:$13,0)),FALSE) -> 0 | L12: =H12+J12+K12 -> 0 | N12: =VLOOKUP(N$7,'PS5'!$A:$O,INDEX('PS5'!$12:$12,MATCH('PRICE LIST'!$B12,'PS5'!$13:$13,0)),FALSE) -> 0 | P12: =VLOOKUP(P$7,'PS5'!$A:$O,INDEX('PS5'!$12:$12,MATCH('PRICE LIST'!$B12,'PS5'!$13:$13,0)),FALSE) -> 0 | Q12: =N12+P12 -> 0 | S12: =VLOOKUP(S$7,'PS5'!$A:$O,INDEX('PS5'!$12:$12,MATCH('PRICE LIST'!$B12,'PS5'!$13:$13,0)),FALSE) -> 0 | U12: =VLOOKUP(U$7,'PS5'!$A:$O,INDEX('PS5'!$12:$12,MATCH('PRICE LIST'!$B12,'PS5'!$13:$13,0)),FALSE) -> 0 | V12: =S12+U12 -> 0 | X12: =VLOOKUP(X$7,'PS5'!$A:$O,INDEX('PS5'!$12:$12,MATCH('PRICE LIST'!$B12,'PS5'!$13:$13,0)),FALSE) -> 0 | Z12: =VLOOKUP(Z$7,'PS5'!$A:$O,INDEX('PS5'!$12:$12,MATCH('PRICE LIST'!$B12,'PS5'!$13:$13,0)),FALSE) -> 0 | AA12: =X12+Z12 -> 0 | AB12: =L12+Q12+V12+AA12 -> 0 | AC12: =AB12*E12 -> 0
B13: =IF(D13="","",COUNTA($D$10:$D13)) -> 4 | C13: '0404126 | D13: COAXIAL CABLE - 75 OHM | E13: =[1]Summary!$D6 -> 117600 | F13: No | H13: =VLOOKUP(H$7,'PS5'!$A:$O,INDEX('PS5'!$12:$12,MATCH('PRICE LIST'!$B13,'PS5'!$13:$13,0)),FALSE) -> 0 | J13: =VLOOKUP(J$7,'PS5'!$A:$O,INDEX('PS5'!$12:$12,MATCH('PRICE LIST'!$B13,'PS5'!$13:$13,0)),FALSE) -> 0 | K13: =VLOOKUP(K$7,'PS5'!$A:$O,INDEX('PS5'!$12:$12,MATCH('PRICE LIST'!$B13,'PS5'!$13:$13,0)),FALSE) -> 0 | L13: =H13+J13+K13 -> 0 | N13: =VLOOKUP(N$7,'PS5'!$A:$O,INDEX('PS5'!$12:$12,MATCH('PRICE LIST'!$B13,'PS5'!$13:$13,0)),FALSE) -> 0 | P13: =VLOOKUP(P$7,'PS5'!$A:$O,INDEX('PS5'!$12:$12,MATCH('PRICE LIST'!$B13,'PS5'!$13:$13,0)),FALSE) -> 0 | Q13: =N13+P13 -> 0 | S13: =VLOOKUP(S$7,'PS5'!$A:$O,INDEX('PS5'!$12:$12,MATCH('PRICE LIST'!$B13,'PS5'!$13:$13,0)),FALSE) -> 0 | U13: =VLOOKUP(U$7,'PS5'!$A:$O,INDEX('PS5'!$12:$12,MATCH('PRICE LIST'!$B13,'PS5'!$13:$13,0)),FALSE) -> 0 | V13: =S13+U13 -> 0 | X13: =VLOOKUP(X$7,'PS5'!$A:$O,INDEX('PS5'!$12:$12,MATCH('PRICE LIST'!$B13,'PS5'!$13:$13,0)),FALSE) -> 0 | Z13: =VLOOKUP(Z$7,'PS5'!$A:$O,INDEX('PS5'!$12:$12,MATCH('PRICE LIST'!$B13,'PS5'!$13:$13,0)),FALSE) -> 0 | AA13: =X13+Z13 -> 0 | AB13: =L13+Q13+V13+AA13 -> 0 | AC13: =AB13*E13 -> 0
B14: =IF(D14="","",COUNTA($D$10:$D14)) -> 5 | C14: '0014716 | D14: DATA CABLE - X.21 | E14: =[1]Summary!$D7 -> 49000 | F14: No | H14: =VLOOKUP(H$7,'PS5'!$A:$O,INDEX('PS5'!$12:$12,MATCH('PRICE LIST'!$B14,'PS5'!$13:$13,0)),FALSE) -> 0 | J14: =VLOOKUP(J$7,'PS5'!$A:$O,INDEX('PS5'!$12:$12,MATCH('PRICE LIST'!$B14,'PS5'!$13:$13,0)),FALSE) -> 0 | K14: =VLOOKUP(K$7,'PS5'!$A:$O,INDEX('PS5'!$12:$12,MATCH('PRICE LIST'!$B14,'PS5'!$13:$13,0)),FALSE) -> 0 | L14: =H14+J14+K14 -> 0 | N14: =VLOOKUP(N$7,'PS5'!$A:$O,INDEX('PS5'!$12:$12,MATCH('PRICE LIST'!$B14,'PS5'!$13:$13,0)),FALSE) -> 0 | P14: =VLOOKUP(P$7,'PS5'!$A:$O,INDEX('PS5'!$12:$12,MATCH('PRICE LIST'!$B14,'PS5'!$13:$13,0)),FALSE) -> 0 | Q14: =N14+P14 -> 0 | S14: =VLOOKUP(S$7,'PS5'!$A:$O,INDEX('PS5'!$12:$12,MATCH('PRICE LIST'!$B14,'PS5'!$13:$13,0)),FALSE) -> 0 | U14: =VLOOKUP(U$7,'PS5'!$A:$O,INDEX('PS5'!$12:$12,MATCH('PRICE LIST'!$B14,'PS5'!$13:$13,0)),FALSE) -> 0 | V14: =S14+U14 -> 0 | X14: =VLOOKUP(X$7,'PS5'!$A:$O,INDEX('PS5'!$12:$12,MATCH('PRICE LIST'!$B14,'PS5'!$13:$13,0)),FALSE) -> 0 | Z14: =VLOOKUP(Z$7,'PS5'!$A:$O,INDEX('PS5'!$12:$12,MATCH('PRICE LIST'!$B14,'PS5'!$13:$13,0)),FALSE) -> 0 | AA14: =X14+Z14 -> 0 | AB14: =L14+Q14+V14+AA14 -> 0 | AC14: =AB14*E14 -> 0
B15: =IF(D15="","",COUNTA($D$10:$D15)) -> 6 | C15: '0229241 | D15: 18Z CABLE - | E15: =[1]Summary!$D8 -> 68600 | F15: No | H15: =VLOOKUP(H$7,'PS5'!$A:$O,INDEX('PS5'!$12:$12,MATCH('PRICE LIST'!$B15,'PS5'!$13:$13,0)),FALSE) -> 0 | J15: =VLOOKUP(J$7,'PS5'!$A:$O,INDEX('PS5'!$12:$12,MATCH('PRICE LIST'!$B15,'PS5'!$13:$13,0)),FALSE) -> 0 | K15: =VLOOKUP(K$7,'PS5'!$A:$O,INDEX('PS5'!$12:$12,MATCH('PRICE LIST'!$B15,'PS5'!$13:$13,0)),FALSE) -> 0 | L15: =H15+J15+K15 -> 0 | N15: =VLOOKUP(N$7,'PS5'!$A:$O,INDEX('PS5'!$12:$12,MATCH('PRICE LIST'!$B15,'PS5'!$13:$13,0)),FALSE) -> 0 | P15: =VLOOKUP(P$7,'PS5'!$A:$O,INDEX('PS5'!$12:$12,MATCH('PRICE LIST'!$B15,'PS5'!$13:$13,0)),FALSE) -> 0 | Q15: =N15+P15 -> 0 | S15: =VLOOKUP(S$7,'PS5'!$A:$O,INDEX('PS5'!$12:$12,MATCH('PRICE LIST'!$B15,'PS5'!$13:$13,0)),FALSE) -> 0 | U15: =VLOOKUP(U$7,'PS5'!$A:$O,INDEX('PS5'!$12:$12,MATCH('PRICE LIST'!$B15,'PS5'!$13:$13,0)),FALSE) -> 0 | V15: =S15+U15 -> 0 | X15: =VLOOKUP(X$7,'PS5'!$A:$O,INDEX('PS5'!$12:$12,MATCH('PRICE LIST'!$B15,'PS5'!$13:$13,0)),FALSE) -> 0 | Z15: =VLOOKUP(Z$7,'PS5'!$A:$O,INDEX('PS5'!$12:$12,MATCH('PRICE LIST'!$B15,'PS5'!$13:$13,0)),FALSE) -> 0 | AA15: =X15+Z15 -> 0 | AB15: =L15+Q15+V15+AA15 -> 0
D16: Total | H16: =SUM(H10:H15) -> 0 | L16: =SUM(L10:L15) -> 0 | Q16: =SUM(Q10:Q14) -> 0 | V16: =SUM(V10:V14) -> 0 | AA16: =SUM(AA10:AA14) -> 0 | AC16: =SUM(AC10:AC14) -> 0

Sheet Option X1 _ CPA Formulae
A1: Enquiry No. | C1: ='Cover Page'!C12 -> 0
A2: Package Name: | C2: ='Cover Page'!C14 -> 0
A3: Tenderer's Name: | C3: ='Cover Page'!C16 -> 0
A4: Category of Offer: | C4: ='Cover Page'!C18 -> Main Offer Only
A6: PART C_ CONTRACT PRICE ADJUSTMENT (CPA) FOR INFLATION
A8: No. | B8: Formula Code | C8: Summary of the description of the Tenderer's Formulae
A9: 1 | B9: Fixed | C9: Firm and Fixed | F9: Prices are 100 % fixed and firm. CPA is not applicable.
A10: 2 | B10: A | C10: =B41 -> CPA Formula ref (Goods supplied from outside RSA) | F10: Type in the description of each formula in the tables below
A11: 3 | B11: B | C11: =B52 -> CPA Formula ref (Local In-Land transportation for goods supplied from Outside RSA)
A12: 4 | B12: C | C12: =B63 -> CPA Formula ref (Local In-Land transportation for goods supplied from Outside RSA)
A13: 5 | B13: D | C13: =B74 -> CPA Formula ref (Site Work, Erection, Local Labour & Local Engineering)
A14: 6 | B14: E | C14: =B85 -> CPA Formula ref (Site Work, Erection, Expatriate Labour & Expatriate Engineering)
A15: 7 | B15: F | C15: =B96 -> CPA Formula ref (Site Work, Off-loading)
A16: 8 | B16: G | C16: =B107 -> CPA Formula ref (Site Work, Off-loading)
A17: 9 | B17: H | C17: =B118 -> CPA Formula ref (Site Work, Commissioning, De-Comissioning)
A18: 10 | B18: I | C18: =B129 -> 0
A19: 11 | B19: J | C19: =B140 -> 0
A21: SPECIFIC REQUIREMENTS
A22: 1 | B22: Only Main Offer is to be submitted. Main offer tenderers are to fully comply with the requirements in the General Notes and CPA Formulae Notes below.
A23: 2 | B23: No ALTERNATIVE offers are accepted.
A25: GENERAL NOTES :
A26: 1 | B26: References to "indices" below mean "cost indices or reference prices".
A27: 2 | B27: Where 5 year historical information must be provided as instructed below, internet address references which are accessible to the general public may be submitted by the Tenderer instead, with the specific electronic route and web page reflecting the applicable data.
A28: 3 | B28: The worksheet Option X1 has to be populated by the tenderer (Formulae below, columns B - J), unless the tenderer’s prices are fixed and firm for the duration of the contract. Each CPA formula must add up to a total of 100%. All columns are to be populated. No inhouse CPA indices may be used. Tenderers are to provide all requested information.CPA Formulae should represent cost breakdown of the goods/commodities/components/items being sourced.
A29: 4 | B29: The tenderer must populate the CPA formula codes listed above in cells B9 to B19, in Columns G, I, M, O, R, T, W & Y, of the "PRICE LIST" tab And Transport and Offloading Matrix Tabs line 39. This is to be done by selecting the appropriate CPA formula codes (e.g., Formula A–J) from the dropdown list developed by the tenderer in the Option X1_CPA Formulae worksheet.
A30: 5 | B30: CPA will kick in after sixteen (16) months from the base date (of one month prior to enquiry closing) for commodities with prices that are less volatile. The sixteen months comprises of one (1) month prior to enquiry closing, three (3) months normal tender validity period as prescribed by the CIDB Act, and the twelve (12) months being the first twelve (12) months of the contract period.
A31: 6 | B31: The CPA escalation will be calculated as follows: The CPA escalation shall be calculated using the latest available index at the time of completion of each activity, subject to item 5 above. The base index shall be the index published one month prior to the tender closing date.
A32: CPA FORMULA NOTES :
A33: 1 | B33: Proportions/weightings in CPA Formulae: The fixed portion of each formula, not subject to CPA, must be at least 15% but Tenderers may submit higher fixed portion percentages. The other constituent indices and their proportions in each formula must be realistic and relative to the applicable work. The fixed portion and other proportions must add up to 100%.
A34: 2 | B34: Formulae must be linked to independent cost indices or other benchmarks ("reference prices") and must be clearly and completely defined. The source must be a recognised and independent statistical publishing organisation. The Tenderers' in-house indices may not be used.
A35: 3 | B35: Local Price CPA: Where local indices other than those published by SEIFSA or Statistics SA are specified, the Tenderer must submit 5 years' of month by month historical data for such indices. The Tenderer must ensure that indices are published and recommended by the source thereof as applicable to the work involved and that they are still in force/use and applicable at the date of submission of the tender.
A36: 4 | B36: CPA Base Date: The CPA base date for calculating price movements will be the Base Date, Month before Tender closes. For indices or reference prices published as at certain dates, and where such a date is not the Base Date, the latest date for which it is published before the Base Date will be considered as the Base Date index or reference price. In instances where the figure or value is not as at the Base Date or considered as the Base Date Index or reference price as explained herein, the date, figure or value as well as the reason for the deviation must be clearly separately stated and must be realistic for purposes of CPA.
A37: 5 | B37: Base Date Index : The base index or reference price must be inserted in the appropriate column.
A41: Formula A | B41: CPA Formula ref (Goods supplied from outside RSA)
A42: Index Ref. | B42: Proportions / weightings for each index (refer note 1) | C42: Description / scope of index (e.g. Labour) | D42: Title/Definition : Linked to the index, e.g., Table C3, All hourly paid employees. Must be completely defined | E42: Source/publisher of index (e.g. SEIFSA, StatsSA, LME) | F42: Base Month for CPA if not Base Date as defined (refer note 4) | G42: Base Date Index (refer note 5) | H42: Historical data provided (Yes or No- provide http link) | I42: yy/mm/dd | J42: yy/mm/dd | K42: yy/mm/dd | L42: yy/mm/dd | M42: yy/mm/dd | N42: yy/mm/dd
A43: A1
A44: A2
A45: A3
A46: A4
A47: A5
...

Sheet Option X3 FOREX DATA
A1: Enquiry No. | C1: ='Cover Page'!C12 -> 0
A2: Package Name: | C2: ='Cover Page'!C14 -> 0
A3: Tenderer's Name: | C3: ='Cover Page'!C16 -> 0
A5: PART E_ EXCHANGE RATES FOR MULTIPLE CURRENCIES
A7: NOTES:
A8: 1 | B8: The table below needs to be completed if the Employer will be exposed to any currency fluctuation as stipulated in Secondary Clause X3. For conversion of the foreign portions to Rand, please use the South African Reserve Bank's (SARB) exchange rate at 12:00 on the day of advertisement of the bid. This is in terms of the Preferential Procurement Policy Framework Act (PPPFA) with which the Employer has to comply. NB: Tenderers must submit proof of the SARB rate(s) of exchange used
A9: 2 | B9: The following URL (electronic route) is to be followed to access the relevant SARB rates on their web pages
B10: www.resbank.co.za
B11: - Select Research - Then select Rates - Click on "Select historical exchange rates and other interest rates" - Clicking on the exchange rate in the following page opens the daily rates per currency and SA Rand
A12: 3 | B12: The Employer deals only in the currencies listed below unless other currencies are specifically approved for this tender. Kindly notify the Employer of any currency that the tenderer intends to use, but is not stipulated in the table, to consider sanctioning such currency. Sufficient time must be allowed for the assessment and to respond to such request. The onus is on the tenderer to submit a bid with approved currencies
A13: 4 | B13: The format in which the exchange rate must be inserted in the table is: 1 (One) Foreign Currency = R Amount (i.e. the Rand amount for one of each foreign currency applicable). Exchange rates must be rounded to 4 decimals NB : Only the USD/ZAR, GBP/ZAR and EUR/ZAR are published in this way on the SARB web pages above. The Rand rate with the other currencies must be inverted (1/Foreign Currency Rate) in order to list it in the required format in the table below
A14: 5 | B14: All information in the table below must conform with all other equivalent information in the offer.
B15: Payment in terms of Payment Method 2 is considered as a "foreign payment" although it will be effected in South African Rand. However, amounts for "F.O.R. Price-Goods supplied from Imported Items", are NOT considered as "foreign payments"
B16: If more than one payment method apply for a currency, the Tenderer must request an additional row be inserted in the table in order to split the values and identify the relevant method.
A19: EXCHANGE RATES PUBLISHED BY SARB
A20: NB: Tenderers must submit proof of the SARB rate (s) of exchange used.
E21: Date for which the rates are published : | H21: Date to be inserted in the following format: Day, Month and Year. Must be the SARB rate at 12:00 on day of advertisement of bid
A22: No | B22: Currency Description | C22: Code | D22: Exchange Rate Currency 1,00 = R Amount | E22: Payment Method 1a, 1b or 2 | F22: Source
A23: 1 | B23: South African Rand | C23: ZAR | D23: 1
A24: 2 | B24: Australian Dollar | C24: AUD | D24: 0
A25: 3 | B25: Canadian Dollar | C25: CAN | D25: 0
A26: 4 | B26: Swiss Franc | C26: CHF | D26: 0
A27: 5 | B27: Danish Krone | C27: DKK | D27: 0
A28: 6 | B28: European Currency | C28: EUR | D28: 0
A29: 7 | B29: British Pound | C29: GBP | D29: 0
A30: 8 | B30: Hong Kong Dollar | C30: HKD | D30: 0
A31: 9 | B31: Japanese Yen | C31: JPY | D31: 0
A32: 10 | B32: Norwegian Krone | C32: NOK | D32: 0
A33: 11 | B33: New Zealand Dollar | C33: NZD | D33: 0
A34: 12 | B34: Swedish Krone | C34: SEK | D34: 0
... A36: 14 | B36: United States Dollar | C36: USD | D36: 0

Sheet Transport& offloading Matrix
B1: Load, Transport & Off-load on Site
B4: ENQUIRY NO
B6: COMMODITY
B8: SUPPLIER
B10: DISTANCE WITHIN A GIVEN RADIUS (Return Trip from Dispath) | C10: PER UNIT PRICE IN SOUTH AFRICAN CURRENCY EXCLUDING VAT
C11: TRANSPORT TO SITE OR GRID STORE
C12: NUMBER OF UNITS TO BE TRANSPORTED DURING ONE SITE VISIT (Sum/Load for qtys indicated below)
C13: 1 | D13: 2 | E13: 3 | F13: 4 | G13: 5 | H13: 6 | I13: 7 to 9 | J13: 10 to 12 | K13: 13 to 18 | L13: 19 or more
B14: 0 - 100
B15: 101 - 200
B16: 201 - 300
B17: 301 - 400
B18: 401 - 500
B19: 501 - 600
B20: 601 - 700
B21: 701 - 800
B22: 801 - 900
B23: 901 - 1000
B24: 1001 - 1100
B25: 1101 - 1200
... B33: ADDITIONAL NOTES:
