Workbook
Name Consequence: '[1]Drop Down Lists'!$A$3:$A$8
Name Likelihood: '[1]Drop Down Lists'!$B$3:$B$7
Name RCE: '[1]Drop Down Lists'!$D$3:$D$7

Sheet HV Plant BRA
A3: Occupational Health and Safety Baseline risk assessment template
A4: Business/Operating unit: | B4: TRANSMISSION EAST GRID | J4: Department: | K4: HV PLANT | U4: Next Review Date (every 2 years): | V4: 45202 | W4: Template identifier: | X4: 240-70044602
A6: Date: | B6: 44107 | J6: Prepared by: | M6: Authorised by: | O6: Name: Ellen Shezi | W6: Document identifier | X6: 240-142073894 | AM6: R | AN6: Safety | AO6: 1 | AP6: A | AQ6: Fully effective | AR6: I
O7: Designation: HV Plant Manager | W7: Revision number: | X7: 6 | AM7: N | AN7: Health | AO7: 2 | AP7: B | AQ7: Mostly effective | AR7: II
O8: Signed: | W8: Revision date: | X8: 45202 | AO8: 3 | AP8: C | AQ8: Mostly ineffective | AR8: III
O9: Date: | AO9: 4 | AP9: D | AQ9: None | AR9: IV
A10: Refer to Occupational Health and Safety Risk assessment procedure 32-520 | AO10: 5 | AP10: E
A11: List activity | B11: Activity type (Routine/Non-routine) | C11: Hazard nr | D11: Hazard Identification | E11: Risk Nr | F11: Associated risk | G11: Risk type | H11: Cause(s) of the risk | I11: Exposed group/employees | J11: Risk Owner | K11: Exposure patterns | L11: What are the possible consequences? | M11: Existing Controls | P11: Risk Priority Rating | R11: Additional Controls or Tasks Aimed at improving Existing Controls | S11: Monitoring Mechanisms | T11: Control Owner | U11: Legal and Other Requirements | V11: Target Date | W11: Current Status | X11: Integrated Risk Management (IRM) reference number | AO11: 6
A12: List specific activities to be performed taking into consideration the equipment to be used, the personnel involved in the task. | B12: Indicate R or N 1. Routine activities and situations create hazards through day-to-day operations and normal work activities; 2. Non-routine activities and situations are occasional or unplanned; | C12: # | D12: Anything with potential to cause of harm. Note: A hazard can pose more than one risk. | E12: # | F12: A chance that injury , ill health or damage could occur as a result of uncontrolled hazard. | G12: Safety or health | H12: What causes the risk to come into effect? | I12: Who is exposed to the hazard i.e. visitors, members of the public, etc. | J12: Who is accountable for making sure the controls and monitors are: - in place, - implemented, - regularly reviewed for effectiveness. | K12: The frequency and duration the person/group is exposed to the hazard e.g. Daily for 3 hrs. | L12: Consider the worse case scenario without controls? | M12: Include: - Preventative Controls (controls implemented to eliminate hazards or reduce the likelihood of the risk occurring), and - Reactive Controls (controls implemented to reduce the immediate impact of the risk occurring) Elimination Substitution Engineering controls Administrative controls Personal protective equipment (PPE) | N12: Consequence | O12: Likelihood | Q12: RCE Risk Control Effectiveness | R12: Include: - Preventative Controls (controls implemented to eliminate hazards or reduce the likelihood of the risk occurring), and - Reactive Controls (controls implemented to reduce the immediate impact of the risk occurring) Elimination Substitution Engineering controls Administrative controls Personal protective equipment (PPE) | S12: How we know if we are succeeding. Include comments on effectiveness. This may include i.e. measurements, inspections, supervision where necessary. | T12: Person allocated the responsibility for implementing the agreed controls | U12: Where relevant, list the relevant legislative and or Eskom requirements that prescribe the control. | V12: Once a date has been agreed to, this can not be changed | W12: Pending, In Progress, Complete | X12: Where applicable, add IRM system reference number for tracking of treatment actions. | AD12: Consequences | AE12: 6 | AF12: III | AG12: II | AH12: I | AI12: I | AJ12: I
A13: Driving National road Public road Terrain / servitudes | B13: R | C13: 1 | D13: Sub standard Vehicles | E13: 1.1 | F13: Unroadworthy vehicles - Motor vehicle accident | G13: Safety | H13: - Inadequate communication - Lack of vehicle pre-trip inspection - Lack of vehicle maintenance - Vehicles not replaced as per the request | I13: Employees and Contractor employees | J13: HV Plant Manager | K13: Daily | L13: Vehicle breakdown | M13: - Pre –trip inspections is done to ensure that the vehicle is in good condition before driving. - Regular maintenance as per the manufature's specification is maintained. | N13: 2 | O13: B | P13: IV | Q13: F | R13: - Unroadworthy vehicles are replaced. -Regular inspections are conducted. | S13: Inspections Audits | T13: HV Plant Supervisors and Technical Supervisor, Contractor site Supervisor | U13: - Occupational Health and Safety Act, 1993 (Act No. 85 of 1993) - General Safety Regulations, 1986 - General Administrative Regulations, 2003 - National Road Traffic Act, 1996 (Act No. 93 of 1996) - 32-846 Operating Regulations for High Voltage System - 240-43848327 Right to Refuse to Work in an unsafe condition procedure - 32-477 Safety Health and Environment Training and Development - 240-75567900 Manual for Internal QualityAssurance Management of the Eskom Occupational Hygiene Approved Inspection Authority - 240-44175132 Eskom Personal Protective Equipment - 32-285 Medical surveillance - 32-95 Environmental, Occupational Health and Safety Incident Management Procedure -240-52456757Contract specification for vegetation management services on Eskom Networks - EP Plan R28 | V13: October 2020 | W13: Complete | X13: n/a | AE13: 5 | AF13: III | AG13: II | AH13: II | AI13: I | AJ13: I
B14: R | E14: 1.2 | F14: Vehicle breakdown and brake failure | G14: Safety | H14: - Lack of vehicle maintenance | I14: Employees and Contractor employees | J14: HV Plant Manager | K14: Daily | L14: Fatalities Lost Time Injury Medical Incident Property damage | M14: Vehicles are maintained in a roadworthy condition as per the manufature's instruction. Employees are aware of Emergency Numbers and that they are tested for effectiveness. | N14: 5 | O14: C | P14: II | Q14: F | R14: - Unroadworthy vehicles are replaced. -Regular inspections are conducted. | S14: Maintenance Inspection Audits | T14: HV Plant Supervisors and Technical Supervisor, Contractor site Supervisor | U14: - Occupational Health and Safety Act, 1993 (Act No. 85 of 1993) - General Safety Regulations, 1986 - General Administrative Regulations, 2003 - National Road Traffic Act, 1996 (Act No. 93 of 1996) 32-846 Operating Regulations for High Voltage System - 240-43848327 Right to Refuse to Work in an unsafe condition procedure - 32-477 Safety Health and Environment Training and Development - 240-75567900 Manual for Internal QualityAssurance Management of the Eskom Occupational Hygiene Approved Inspection Authority - 240-44175132 Eskom Personal Protective Equipment - 32-285 Medical surveillance - 32-95 Environmental, Occupational Health and Safety Incident Management Procedure -240-52456757Contract specification for vegetation management services on Eskom Networks - EP Plan | V14: October 2021 | W14: Complete | X14: n/a | AE14: 4 | AF14: IV | AG14: III | AH14: II | AI14: I | AJ14: I
B15: R | E15: 1.3 | F15: Vehicle not meeting Eskom minimum vehicle specification. | G15: Safety | H15: - Failure to ensure compliance to Eskom vehicle specification | I15: Employees and Contractor employees | J15: HV Plant Manager | K15: Whenever vehicles are purchased | L15: Fatalities Lost Time Injury Medical Incident | M15: - All vehicle are fitted with airbags, ABS, power steering, fitted with seatbelts, etc - Vehicles are provided with first aid kit, 2 x warning triangle and fire extinguisher | N15: 6 | O15: C | P15: I | Q15: F | R15: - Site specific induction training, Enforcement of current controls, management of phasing out of non compliant vehicles are conducted. - - | S15: Inspections Audits | T15: HV Plant Supervisors and Technical Supervisor, Contractor site Supervisor | U15: - Occupational Health and Safety Act, 1993 (Act No. 85 of 1993) - National Road Traffic Act, 1996 (Act No. 93 of 1996) - 32-846 Operating Regulations for High Voltage System - 240-43848327 Right to Refuse to Work in an unsafe condition procedure - 32-477 Safety Health and Environment Training and Development - 240-75567900 Manual for Internal QualityAssurance Management of the Eskom Occupational Hygiene Approved Inspection Authority - 240-44175132 Eskom Personal Protective Equipment - 32-285 Medical surveillance - 32-95 Environmental, Occupational Health and Safety Incident Management Procedure -240-52456757Contract specification for vegetation management services on Eskom Networks - EP Plan | V15: October 2021 | W15: In progress | X15: n/a | AE15: 3 | AF15: IV | AG15: III | AH15: II | AI15: II | AJ15: I
B16: R | C16: 2 | D16: Fatigue Individuals / People | E16: 2.1 | F16: Excessive travelling causing fatigue . | G16: Health | H16: - Not taking rest period when required - Prolonged driving (long distance driving); - Traffic congestion | I16: Employees and Contractor employees | J16: HV Plant Manager | K16: Daily | L16: Fatality Lost Time Injury Property damage | M16: - Employees do road / trip planning and risk assessment prior to embarking on a trip. - Employees are do take a rest period based at their own discretion while travelling / driving to site. - Employees are allowed to buy some refreshment while driving to sites when feeling fatigue. - Employees’ vehicles are maintained in good working operations. The maintenance of the vehicles includes that of the seats and suspensions. Adequate and regular maintenance of the vehicles reduce exposure to body vibration to a larger extent. R16 -kgnkhj | N16: 5 | O16: D | P16: I | Q16: F | R16: Awareness are created on general vehicle safety and enforced, afterwards.sefe and - Only medical fit drivers are alowed to drive. ( Vehicle driversafety management procedure) - Only maximum of 200 kilometers/2hours are allowed to be travelled per day. | S16: Monitoring | T16: HV Plant Supervisors and Technical Supervisor, Contractor site Supervisor | U16: - Occupational Health and Safety Act, 1993 (Act No. 85 of 1993) - 32-846 Operating Regulations for High Voltage System - 240-43848327 Right to Refuse to Work in an unsafe condition procedure - 32-477 Safety Health and Environment Training and Development - 240-75567900 Manual for Internal QualityAssurance Management of the Eskom Occupational Hygiene Approved Inspection Authority - 240-44175132 Eskom Personal Protective Equipment - 32-285 Medical surveillance - 32-95 Environmental, Occupational Health and Safety Incident Management Procedure -240-52456757Contract specification for vegetation management services on Eskom Networks - EP Plan | V16: October 2021 | W16: Complete Done quarteltyRegisters available on site | X16: n/a | AE16: 2 | AF16: IV | AG16: IV | AH16: III | AI16: II | AJ16: II
B17: R | E17: 2.2 | F17: Collision with an object while reversing | G17: Safety | H17: - Poor observation and judgement - Lack of concentration | I17: Eskom Employees | J17: HV Plant Manager | K17: Daily | L17: Property damage, Lost time injury. | M17: Precautionary measures are Ilways taken care of when reversing and if backround view is obstructed .a passenger gets down give guidance. | N17: 4 | O17: C | P17: II | Q17: Mostly effective | R17: All vehicles are fitted with reverse sensors | S17: Behavioral Safety Observation. | T17: Secondary Plant Supervisor | U17: - Occupational Health and Safety Act, 1993 (Act No. 85 of 1993) - 240-62196227 Eskom life saving rules procedure - 240-62946386 Vehicle Driver Safety Management Procedure | V17: October 2021 | W17: Complete Done quarteltyRegisters available on site | X17: n/a | AE17: 1 | AF17: IV | AG17: IV | AH17: III | AI17: III | AJ17: III
B18: R | E18: 2.3 | F18: Driver error due to substance abuse | G18: Health | H18: - Failure to adhere to road safety and Eskom rules | I18: Eskom Employees | J18: HV Plant Manager | K18: Daily | L18: Lost Time Injury Medical Incident Property damage/ Fatality. | M18: Drivers are not allowed to drive vehicle when under the influence of any intoxicating substances. | N18: 5 | O18: D | P18: I | Q18: Mostly effective | R18: Compliance is monitored, implemented and consequense management followed if there is a violation.Only medical fit drivers are alowed to drive. ( Vehicle driversafety management procedure) - Substance abuse is prohibited to all employees and screening is constantly executed anytime anywhere to everyone ( Substance abuse procedure). | S18: Alcohol Screeing, Behavioral Safety Observation | T18: Secondary Plant Supervisor | U18: - Occupational Health and Safety Act, 1993 (Act No. 85 of 1993) - National Road Traffic Act, 1996 (Act No. 93 of 1996) - 240-62196227 Eskom life saving rules procedure - 240-62946386 Vehicle Driver Safety Management Procedure | V18: October 2021 | W18: Complete Done quarteltyRegisters available on site | X18: n/a | AF18: A | AG18: B | AH18: C | AI18: D | AJ18: E
B19: R | E19: 2.4 | F19: Non-adherence to road safety rules | G19: Safety | H19: - Negligence and reckless - Overtaking unsafely - Talking on cellphone while driving - Impatience and road rage - Driving at excessive speed - Third party error | I19: Eskom Employees | J19: HV Plant Manager | K19: Daily | L19: Lost Time Injury , Fatality, Property damage | M19: - Monitor and analyse driver behaviour on MIX Telematics System and encourage good driving - Drivers are limited to three people per vehicle as per TEXCO decision. - Discuss Southern Grid driving charter during statutory safety meetings / departmental meetings | N19: 5 | O19: C | P19: II | Q19: Mostly effective | R19: Adherence to rules and procedures by utilising Drivecam and OBC is monitored. | S19: Monitoring Behavior Safety Observation | T19: HV Plant Supervisors and Technical Supervisor, Contractor site Supervisor | U19: - Occupational Health and Safety Act, 1993 (Act No. 85 of 1993) - National Road Traffic Act, 1996 (Act No. 93 of 1996) - 240-62196227 Eskom life saving rules procedure - 240-62946386 Vehicle Driver Safety Management Procedure | V19: October 2021 | W19: Complete Done quarteltyRegisters available on site | X19: n/a | AF19: Likelihood
B20: R | E20: 2.5 | F20: Driver inexperience | G20: Safety | H20: - Lack of driver training - Lack of driver license and driver permit - Inadequate Risk assessment | I20: Eskom Employees | J20: HV Plant Manager | K20: Daily | L20: Fatalities Lost Time Injury Medical Incident Property damage | M20: - All drivers are in possession of valid driver's licence. - Drivers do undergo advanced driver training and driver evaluation before issued with Eskom driver permit or authorised to drive for Eskom business. | N20: 5 | O20: C | P20: II | Q20: Mostly effective | R20: All inexperienced drivers are evaluated and Job Observed done before being issued with Driver permit | S20: Inspection Audit | T20: secondary Plant Supervisor | U20: - Occupational Health and Safety Act, 1993 (Act No. 85 of 1993) - National Road Traffic Act, 1996 (Act No. 93 of 1996) - 240-62196227 Eskom life saving rules procedure - 240-62946386 Vehicle Driver Safety Management Procedure . -East Grid Route Risk assessment- | V20: October 2021 | W20: Complete Done quarteltyRegisters available on site | X20: n/a
B21: R | E21: 2.6 | F21: Health Condition | G21: Health | H21: - Inadequate medical surveillance | I21: Employees and Contractor employees | J21: HV Plant Manager | K21: Daily | L21: Lost Time Injury Medical Incident Property damage | M21: - All drivers before allowed to drive for Eskom business must do driver risk assessment, medical surveillance and be in possession of valid driver licence. - Drivers are encouraged to inform their Managers/ Supervisors of any health conditions that render them unfit to drive. | N21: 4 | O21: D | P21: I | Q21: F | R21: - Only medical fit driver are allowed to drive. | S21: Inspection Audit | T21: HV Plant Supervisors and Technical Supervisor, Contractor site Supervisor | U21: - Occupational Health and Safety Act, 1993 (Act No. 85 of 1993) - National Road Traffic Act, 1996 (Act No. 93 of 1996) - 240-62196227 Eskom life saving rules procedure - 240-62946386 Vehicle Driver Safety Management Procedure - 32-95 Environmental, Occupational Health and Safety Incident Management Procedure - 32-285 Medical surveillance - 32-520 Occupational Health & Safety Risk Assessment Procedure | V21: October 2021 | W21: Complete Done quarteltyRegisters available on site | X21: n/a
B22: R | C22: 3 | D22: Weather | E22: 3.1 | F22: Poor visibility due to rain, mists, etc | G22: Safety | H22: - Inadequate planning - Lack of driver experience | I22: employees and Contractor employees | J22: HV Plant Manager | K22: Depending on season or weather condition | L22: Fatality Lost Time Injury Medical Incident Property damage | M22: - Drivers do risk assessment before, during as they drive and adjust speed as per the environmental condition. - Drivers are cautious when driving in an adverse weather condition and plan the routes properly. | N22: 5 | O22: C | P22: II | Q22: F | R22: Awareness are frequently done on driving in adverse weather condition | S22: Observation Monitoring | T22: HV Plant Supervisors and Technical Supervisor, Contractor site Supervisor | U22: - Occupational Health and Safety Act, 1993 (Act No. 85 of 1993) - National Road Traffic Act, 1996 (Act No. 93 of 1996) - 240-62196227 Eskom life saving rules procedure - 32-477 Safety Health and Environment Training and Development - 32-520 Occupational Health & Safety Risk Assessment Procedure - 32-95 Environmental, Occupational Health and Safety Incident Management Procedure | V22: October 2021 | W22: Complete Done quarteltyRegisters available on site | X22: n/a
B23: R | C23: 4 | D23: Stray Animals | E23: 4.1 | F23: Wild life interaction i.e. stray animals, etc | G23: Safety | H23: - Inadequate Risk assessment - Driving very early in the morning or at night | I23: Employees, Contractor employees and visitors | J23: HV Plant Manager | K23: Daily | L23: Lost Time Injury Medical Incident Property damage, Fatality. | M23: Employees are always on a look out of stray / wild animals and adjust speed where necessary as per the road warning signs. | N23: 5 | O23: c | P23: II | Q23: F | R23: The speed when driving on around Game reserve areas is reduced. | S23: Observation | T23: HV Plant Supervisors and Technical Supervisor, Contractor site Supervisor | U23: - Occupational Health and Safety Act, 1993 (Act No. 85 of 1993)- 240-62196227 Eskom life saving rules procedure - 32-520 Occupational Health & Safety Risk Assessment Procedure - 240-62946386 Vehicle Driver Safety Management Procedure | V23: October 2021 | W23: Complete Done quarteltyRegisters available on site | X23: n/a
B24: R | C24: 5 | D24: Substandard condition Roads | E24: 5.1 | F24: Poor road condition - Motor vehicle accident. | G24: Safety | H24: - Inadequate Risk assessment - Uneven, damaged and gravel road conditions and bad terrain - Poor vehicle maintenance which might lead to whole body vibrating when driving on gravel road | I24: Bush clearing contractors and Eskom HV Plant employees | J24: HV Plant Manager | K24: Daily | L24: Lost Time Injury Medical Incident Property damage | M24: - Caution is taken when driving in an uneven, damaged and gravel road conditions or an alternative route should be taken. - Speed get reduced as per road condition. - Prescribed speed limit and road warning signs are adhered to. - Adequate and regular maintenance of the vehicles to reduce exposure to whole body vibration to a larger extent. | N24: 4 | O24: D | P24: I | Q24: F | R24: Route analysis are conducted and results are shared with all. - Telematics system has installed on vehicles to moniter driver's behavior on the road. | S24: Observation | T24: HV Plant Supervisors and Technical Supervisor, Contractor site Supervisor | U24: - Occupational Health and Safety Act, 1993 (Act No. 85 of 1993) - National Road Traffic Act, 1996 (Act No. 93 of 1996) - 240-62196227 Eskom life saving rules procedure - 240-62946386 Vehicle Driver Safety Management Procedure - 32-520 Occupational Health & Safety Risk Assessment Procedure | V24: October 2021 | W24: Complete Done quarteltyRegisters available on site | X24: n/a
C25: 6 | D25: Bullying | E25: 6.1 | F25: Minimize self eesteem | G25: Health | H25: Lack of interpersonal relationship with employees | I25: Bush clearing contractors and Eskom HV Plant employees | J25: HV Plant Manager | K25: Daily | L25: Low productivity | M25: HR policies addressing bullying practices have been improved. | N25: 3 | O25: 3 | P25: II | Q25: Mostly effective | R25: HR Officers do presentation to create awareness. | S25: Audits by Full Time Health and Safety Representative. | T25: HV Plant Supervisors and Technical Supervisor, Contractor site Supervisor | U25: - Occupational Health and Safety Act, 1993 (Act No. 85 of 1993)- 240-62196227 Eskom life saving rules procedure - 240-43848327 Right to Refuse to Work in an unsafe condition procedure - 32-520 Occupational Health & Safety Risk Assessment Procedure - 32-477 Safety Health and Environment Training and Development - 32-285 Medical surveillance - 32-95 Rev. 4 Environmental, Occupational Health and Safety Incident Management Procedure | V25: October 2021 | W25: Complete Done quarteltyRegisters available on site | X25: n/a
C26: 7 | D26: Drug abuse | E26: 7.1 | F26: Poor judgement | G26: Health | H26: Peer pressure | I26: Bush clearing contractors and Eskom HV Plant employees | J26: HV Plant Manager | K26: Daily | L26: Low productivity | M26: Self or Employer recommendations to visit Employee Assistant proggramme facilities always welcomed. | N26: 3 | O26: 3 | P26: II | Q26: Mostly effective | R26: HR Officers do presentation to create awareness. | S26: Audits by Full Time Health and Safety Representative. | T26: HV Plant Supervisors and Technical Supervisor, Contractor site Supervisor | U26: - Occupational Health and Safety Act, 1993 (Act No. 85 of 1993)- 240-62196227 Eskom life saving rules procedure - 240-43848327 Right to Refuse to Work in an unsafe condition procedure - 32-520 Occupational Health & Safety Risk Assessment Procedure - 32-477 Safety Health and Environment Training and Development - 32-285 Medical surveillance - 32-95 Rev. 4 Environmental, Occupational Health and Safety Incident Management Procedure | V26: October 2021 | W26: Complete Done quarteltyRegisters available on site | X26: n/a
C27: 8 | D27: Gender discrimination | E27: 8.1 | F27: Cmpromise self esteem | G27: Health | H27: Gender intolerance | I27: Bush clearing contractors and Eskom HV Plant employees | J27: HV Plant Manager | K27: Daily | L27: Low productivity | M27: Improvement awereness on HR polices managing gender based discrimination is implemented. | N27: 3 | O27: 3 | P27: II | Q27: Mostly effective | R27: HR Officers do presentation to create awareness. | S27: Audits by Full Time Health and Safety Representative. | T27: HV Plant Supervisors and Technical Supervisor, Contractor site Supervisor | U27: - Occupational Health and Safety Act, 1993 (Act No. 85 of 1993)- 240-62196227 Eskom life saving rules procedure - 240-43848327 Right to Refuse to Work in an unsafe condition procedure - 32-520 Occupational Health & Safety Risk Assessment Procedure - 32-477 Safety Health and Environment Training and Development - 32-285 Medical surveillance - 32-95 Rev. 4 Environmental, Occupational Health and Safety Incident Management Procedure | V27: October 2021 | W27: Complete Done quarteltyRegisters available on site | X27: n/a
C28: 9 | D28: Labour unrest | E28: 9.1 | F28: Employees fear for their lives and Eskom property/ Vehicle. | G28: Safety | H28: Poor service delivery by Government. | I28: Bush clearing contractors and Eskom HV Plant employees | J28: HV Plant Manager | K28: As and when | L28: Fatalities Lost Time Injury Medical Incident | M28: Local Police inform the organisation if there are road blocks around. | N28: 5 | O28: 3 | P28: II | Q28: Mostly effective | R28: Organisation always liase with Local Police for the possible | S28: Audits by Full Time Health and Safety Representative. | T28: L&S Plant Supervisors, Contractor site Supervisor | U28: - Occupational Health and Safety Act, 1993 (Act No. 85 of 1993)- 240-62196227 Eskom life saving rules procedure - 240-43848327 Right to Refuse to Work in an unsafe condition procedure - 32-520 Occupational Health & Safety Risk Assessment Procedure - 32-477 Safety Health and Environment Training and Development - 32-285 Medical surveillance - 32-95 Rev. 4 Environmental, Occupational Health and Safety Incident Management Procedure | V28: October 2021 | W28: Complete Done quarteltyRegisters available on site | X28: n/a
B29: R | E29: 6.5 | F29: Working at heights using skyjack, aerial bucket (cherry picker), man-lift or similar device. | G29: Safety | H29: - Ineffective PPE - Lack of concentration - Inadequate Risk assessment - Inadequate communication - Failure to adhere to standards, procedure and instruction - Lack of training on operating the man-lift | I29: Eskom HV Plant and Contractor Employees | J29: HV Plant Manager | K29: Once in 6 yearly for +/- 30 minutes | L29: Fatalities Lost Time Injury Medical Incident | M29: Ensure that Man Lift is load tested annually and inspected 3 monthly by a competent person and inspected before use. Man Lift is operated by a trained/competent person . Ensure that the Man Lift is free to move before operating. Tools, equipment and PPE i.e. full body harness, overalls, safety shoes, hard hats, eye protection, etc to be checked for damage before use. - Correct PPE i.e. Safety shoes, Overall, gloves, hard hat, eye protection, FAS are worn when working at heights - Safe work procedure, Risk assessment and contingency planing is reviewed and discussed before any work commences - Job observation when doing critical task and SMAT (Behavioural) Observations. - A full body harness shall be worn and a lanyard attached to the boom or basket when working from a man-lift. - Hard hats must be worn at all times to provide protection from falling objects. - Aerial man lift devices should be inspected before use - Employees to ensure access equipment are of adequate height | N29: 5 | O29: C | P29: II | Q29: F | R29: 1.Ensure that employees are trained on Working at Height 2.Medical and Psychological fitness. - Ensure that there is supervision | S29: Inspections Audits Supervision | T29: HV Plant Supervisors and Technical Supervisor, Contractor site Supervisor | U29: - Occupational Health and Safety Act, 1993 (Act No. 85 of 1993) - General Safety Regulations, 1986 - General Administrative Regulations, 2003 - Driven Machinery Regulations, 1988 -East Grid fall protection plan - 240-62196227 Eskom life saving rules procedure - 240-43848327 Right to Refuse to Work in an unsafe condition procedure - 32-477 Safety Health and Environment Training and Development - 240-44175132 Eskom Personal Protective Equipment - 32-285 Medical surveillance - 32-95 Environmental, Occupational Health and Safety Incident Management Procedure - 32-520 Occupational Health & Safety Risk Assessment Procedure - 240 - 72092948 East Grid EP Plan | V29: October 2021 | W29: Complete Done quarteltyRegisters available on site | X29: n/a
B30: N | E30: 6.6 | F30: Exposure to thermal stress (excessive cold and heat) depending on the season | G30: Health | H30: - Ultra-violet radiation from the sun - Inclement Weather Conditions (extremely cold / hot conditions) | I30: Eskom HV Plant and Contractor Employees | J30: HV Plant Manager | K30: Once in 6 yearly for +/- 30 minutes | L30: Heat rashes Heat stroke Heat edema Heat exhaustion Heat syncope Heat cramps Heat cramps Hypothermia | M30: - Drinking lot of fluids to prevent dehydration. do help our employees. - Work-rest Regime:Employees are allways encouraged to take resting period or stop an activity when there are warnings of extreme weather condition. - Employees reduces duration of exposure. If exposure occurs, it occurs over short durations. - Employees are subjected to training and education (induction), which includes heat exposure, cold exposure and PPE including control measures. - Employees are acclimatised on working in these weather condition particular hot environment. - Natural ventilation: work is performed outdoors under adequate natural ventilation conditions. The effectiveness of the ventilation condition is mainly determined by weather conditions. - Mechanical ventilation: air conditioning units are installed in the control room in order to regulate indoor temperatures. - Wearing of correct PPE:safety shoes; hard hats; safety overalls / long pants and warm clothing (jackets). | N30: 3 | O30: B | P30: III | Q30: F | R30: Conduct OH Surveys and implement Corrective Actions | S30: Surveys Inspection Audit | T30: HV Plant Supervisors and Technical Supervisor, Contractor site Supervisor | U30: - Occupational Health and Safety Act, Act 85 of 1993 (OHS Act) - Compensation for Occupational Injuries and Diseases Act, Act 130 of 1993 (COID) - Environmental Regulations for Workplaces, 1987 - General Safety Regulations, 1986 - General Administrative Regulations, 2003- 240 - 75567900 Manual for Internal Quality Assurance Management of the Eskom Occupational Hygiene Approved Inspection Authority - 32-520 Occupational Health & Safety Risk Assessment Procedure - 32-477 Safety Health and Environment Training and Development - 240-44175132 Eskom Personal Protective Equipment - 32-285 Medical surveillance - 32-95 Environmental, Occupational Health and Safety Incident Management Procedure | V30: October 2021 | W30: Complete Done quarteltyRegisters available on site | X30: n/a
B31: R | E31: 6.7 | F31: Exposure to SF6 gas which may cause eye, lung and skin irritation | G31: Health | H31: - Accidental release of SF6 gas | I31: Eskom HV Plant and Contractor Employees | J31: HV Plant Manager | K31: Once in 6 yearly for +/- 30 minutes | L31: Lost Time Injury Medical Incident | M31: - Tools, equipment and PPE are checked for damage before use. - Correct PPE i.e. Safety shoes, Overall, gloves, hard hat, eye protection are worn when doing breaker maintenance - Emergency preparedness plan is reviewed and discussed before any work commences - Job observation when doing critical task and SMAT (Behavioural) Observations is done | N31: 4 | O31: C | P31: II | Q31: F | R31: Conduct OH Surveys and implement Corrective Actions | S31: Inspections Audits Supervision | T31: HV Plant Supervisors and Technical Supervisor, Contractor site Supervisor | U31: - Regualtion for Hazardous Chemical Substance (1995) - Occupational Health and Safety Act, 1993 (Act No. 85 of 1993) - General Safety Regulations, 1986 - General Administrative Regulations, 2003 - 32-477 Safety Health and Environment Training and Development - 240-44175132 Eskom Personal Protective Equipment - 32-285 Medical surveillance - 32-95 Environmental, Occupational Health and Safety Incident Management Procedure - 32-520 Occupational Health & Safety Risk Assessment Procedure - 240 - 72092948 East Grid EP Plan. | V31: October 2021 | W31: Complete Done quarteltyRegisters available on site | X31: n/a
B32: R | E32: 6.8 | F32: Explosion of vessels under pressure and SF6 pressurised pipes | G32: Safety | H32: - SF6 containers when involved in fire may rupture or burst in the heat of the fire. - Pressurised SF6 gas pipes | I32: Eskom HV Plant and Contractor Employees | J32: HV Plant Manager | K32: Once in 6 yearly for +/- 30 minutes | L32: Fatalities Lost Time Injury Medical Incident | M32: - Cylinders should be stored upright and be firmly secured to prevent falling or being knocked-over. - Cylinders can be stored in the open, but in such cases, should be protected against extremes of weather and from the dampness of the ground to prevent rusting. - Cylinders should be stored in dry, well-ventilated areas away from sources of heat, ignition and direct sunlight. - Keep storage area clear of materials which can burn. - Correct PPE i.e. Safety shoes, Overall, gloves, hard hat, eye protection are worn - Emergency preparedness plan is reviewed and discussed before any work commences | N32: 6 | O32: B | P32: I | Q32: F | R32: - Conduct HCS awareness - Enforce current controls. | S32: Inspections Audits Supervision | T32: HV Plant Supervisors and Technical Supervisor, Contractor site Supervisor | U32: - Regulation for Hazardous Chemical Substances (1995) - Occupational Health and Safety Act, 1993 (Act No. 85 of 1993) - Environmental Regulations for Workplaces (1987) - General Administrative Regulations, 2003 - TST41-1114 (outdoor breaker) scope of work and work report - 32-477 Safety Health and Environment Training and Development - 240-44175132 Eskom Personal Protective Equipment - 32-285 Medical surveillance - 32-95 Environmental, Occupational Health and Safety Incident Management Procedure - 240 - 72092948 East Grid EP Plan. | V32: October 2021 | W32: Complete Done quarteltyRegisters available on site | X32: n/a
B33: R | E33: 6.9 | F33: Use of faulty or incorrect equipment / tools | G33: Safety | H33: - Lack of training and knowledge -Inadequate Risk assessment - Inadequate Inspection and maintenance | I33: Eskom HV Plant and Contractor Employees | J33: HV Plant Manager | K33: Once in 6 yearly for +/- 30 minutes | L33: Medical Incident First Aid Incident, Lost time Injury. | M33: - Proper work plan to ensure that all required tool and equipments are available when doing circuit breaker maintanance - Ensure that risk assessment is done before work commences. - Tools, equipment and PPE i.e. gloves, etc to be checked for damage before use. | N33: 4 | O33: C | P33: II | Q33: F | R33: - Conduct inspections - Ensure supervision. - Enforce current controls | S33: Inspections Audits Supervision | T33: HV Plant Supervisors and Technical Supervisor, Contractor site Supervisor | U33: - Occupational Health and Safety Act, 1993 (Act No. 85 of 1993) - General Safety Regulations, 1986 - General Administrative Regulations, 2003- 32-477 Safety Health and Environment Training and Development - 240-44175132 Eskom Personal Protective Equipment -32-95 Environmental, Occupational Health and Safety Incident Management Procedure | V33: October 2021 | W33: Complete Done quarteltyRegisters available on site | X33: n/a
B34: R | C34: 7 | D34: Substandard condition Circuit breakers with Oil | E34: 7.1 | F34: Electrocution | G34: Health | H34: - Climbing on the wrong panel - Working in a live yard - Violation of ORHVS | I34: Eskom HV Plant and Contractor Employees | J34: HV Plant Manager | K34: Once in 6 yearly for +/- 30 minutes | L34: Electric shock Psychological damage Physical burns Neurological damage Ventricular fibrillation resulting in fatality | M34: - Technicians always ensure that equipment is opened, isolated and safe to work on. - An equipotential safety zone is created for each worker on the job site by earthing, bonding and/or insulating according to approved procedures to avoid contact by charging the equipment being tested. - Authorised person (team leader) has certified and shown all team members that the apparatus is safe to work on. - Pre-task risk assessment to identify all risks and hazards has been conducted and complete workers register prior to any work commencing. - Permit is always issued before commencement of the testing activities. - PPE issued:(encompassing non-slip safety boots, electrical shock-resistant boots, long sleeve and long pants),and restriction on wearing of jewellery, long breem safety hat. - Emergency preparedness plan is reviewed and discussed before any work commences. - Test Equipment.- Use updated drawings. | N34: 5 | O34: C | P34: II | Q34: F | R34: -Ensure that Supervision is in place - Enforce compliance to ORHVS - Ensure that Planned Task Observations are conducted | S34: Inspections Audits Supervision | T34: HV Plant Supervisors and Technical Supervisor, Contractor site Supervisor | U34: - Occupational Health and Safety Act, Act 85 of 1993 (OHS Act) - Compensation for Occupational Injuries and Diseases Act, Act 130 of 1993 (COID) - General Safety Regulations, 1986 - General Administrative Regulations, 2003- TPC 41-203 Topping up procedure - TST 41-42 Circuit breaker maintenance standard - TST41-1114 (outdoor breaker) scope of work and work report - 32-846 Operating Regulations for High Voltage System - 240-43848327 Right to Refuse to Work in an unsafe condition procedure - 32-477 Safety Health and Environment Training and Development - 240-44175132 Eskom Personal Protective Equipment - 32-285 Medical surveillance - 32-95 Environmental, Occupational Health and Safety Incident Management Procedure - 32-520 Occupational Health & Safety Risk Assessment Procedure - 240 - 72092948 East Grid EP Plan | V34: October 2021 | W34: Complete Done quarteltyRegisters available on site | X34: n/a
B35: R | E35: 7.2 | F35: Charged closing and tripping strings | G35: Safety | H35: - Not discharging the closing and tripping strings | I35: Eskom HV Plant and Contractor Employees | J35: HV Plant Manager | K35: Once in 6 yearly for +/- 30 minutes | L35: Lost Time Injury Medical Incident | M35: - Before commencing any work inside mechanism, staff ensures that the springs are discharged and the circuit breaker made safe. | N35: 4 | O35: B | P35: III | Q35: F | R35: - Enforce current control. - Enorce compliance to ORHVS | S35: Inspections Audits Supervision | T35: HV Plant Supervisors and Technical Supervisor, Contractor site Supervisor | U35: - Occupational Health and Safety Act, 1993 (Act No. 85 of 1993) - General Safety Regulations, 1986 - General Administrative Regulations, 2003 - 32-846 Operating Regulations for High Voltage System - TST 41-42 Circuit breaker maintenance standard - 32-520 Occupational Health & Safety Risk Assessment Procedure | V35: October 2021 | W35: Complete Done quarteltyRegisters available on site | X35: n/a
B36: R | E36: 7.3 | F36: Operating on the wrong panel | G36: Safety | H36: - No proper barricading - No proper toolbox talk - Lack of being properly informed - Failure to adhere to standard, procedures | I36: Eskom HV Plant and Contractor Employees | J36: HV Plant Manager | K36: Once in 6 yearly for +/- 30 minutes | L36: Loss of power supply Property damage Lost Time Injury Electrocution or Medical Incident | M36: - The requirements of the ORHVS Regulation i.e. ORHVS training and authorisation, access management, conduct pre-task risk assessment, complete workers register, work permit in place and, barricading the work environment is implemented. - The panel to worked on gets properly barricaded. - Before work commences site specific risk assessment as per scope of work is conducted. - All risks identified and the control measures get discussed with everyone involved in the task. - All applicable rules, standards and procedures are adhered to, at all times - Emergency preparedness plan is reviewed and discussed before any work commences - Job observation when doing critical task and SMAT (Behavioural) Observations. | N36: 4 | O36: C | P36: II | Q36: F | R36: -Ensure that Supervision is in place - Enforce compliance to ORHVS - Ensure that Planned Task Observations are conducted | S36: Inspections Audits Supervision | T36: HV Plant Supervisors and Technical Supervisor, Contractor site Supervisor | U36: - Occupational Health and Safety Act, 1993 (Act No. 85 of 1993) - General Safety Regulations, 1986 - General Administrative Regulations, 2003 - Site specific induction training R101 | V36: October 2021 | W36: Complete Done quarteltyRegisters available on site | X36: n/a
B37: R | E37: 7.4 | F37: Working at heights using scaffolding | G37: Safety | H37: - Lack of training and knowledge on scaffolding - Ineffective PPE - Lack of concentration - Inadequate Risk assessment - Inadequate communication - Failure to adhere to standards, procedure and instruction | I37: Eskom HV Plant and Contractor Employees | J37: HV Plant Manager | K37: Once in 6 yearly for +/- 30 minutes | L37: Fatalities Lost Time Injury Medical Incident | M37: - Trained ,Qualified and Authorised Scaffolding erectors, inspectors are responsible persons to signed off suitable safe to use scaffolding. - Scaffolding are erected in accordance with SANS Standard. - All employees working on Scaffolding do wear fall protection and tie onto structure or guard rail. - Scaffold are inspected before use - Performance test of scaffolding are done as per DMR Regulations - Psychological and Medical fitness test for all employees are conducted by certified by a medical Practitioner. | N37: 5 | O37: D | P37: I | Q37: F | R37: 1.Ensure that employees are trained on Working at Height 2.Medical and Psychological fitness. - Ensure that there is supervision to enforce current controls.gvrryt | S37: Inspections Audits Supervision | T37: HV Plant Supervisors and Technical Supervisor, Contractor site Supervisor | U37: - Occupational Health and Safety Act, 1993 (Act No. 85 of 1993) - General Safety Regulations, 1986 - General Administrative Regulations, 2003 East Grid fall protection plan - 240-62196227 Eskom life saving rules procedure - 240-43848327 Right to Refuse to Work in an unsafe condition procedure - 32-477 Safety Health and Environment Training and Development - 240-44175132 Eskom Personal Protective Equipment - 32-285 Medical surveillance - 32-95 Environmental, Occupational Health and Safety Incident Management Procedure - 32-520 Occupational Health & Safety Risk Assessment Procedure - 240 - 72092948 East Grid EP Plan | V37: October 2021 | W37: Complete Done quarteltyRegisters available on site | X37: n/a
B38: R | E38: 7.5 | F38: Working at heights using man-lift | G38: Safety | H38: - Ineffective PPE - Lack of concentration - Inadequate Risk assessment - Inadequate communication - Failure to adhere to standards, procedure and instruction - Lack of training on operating the man-lift | I38: Eskom HV Plant and Contractor Employees | J38: HV Plant Manager | K38: Once in 6 yearly for +/- 30 minutes | L38: Fatalities Lost Time Injury Medical Incident | M38: - The man-lift get load tested annually and inspected 3 monthly by a competent person and inspected before use. - Man-lift get operated by trained / competent personnel. - Tools, equipment and PPE i.e. full body harness, overalls, safety shoes, hard hats, eye protection, etc are checked for damage before use. - Correct PPE i.e. Safety shoes, Overall, gloves, hard hat, eye protection, FAS are worn when working at heights - Emergency preparedness plan is reviewed and discussed before any work commences - Job observation when doing critical task and SMAT (Behavioural) Observations. - A full body harness is worn and a lanyard attached to the boom or basket when working from a man-lift. - Hard hats are worn at all times to provide protection from falling objects. - Aerial man lift devices are inspected before use - Employees do ensure access equipment are of adequate height | N38: 5 | O38: D | P38: I | Q38: F | R38: 1.Ensure that employees are trained on Working at Height 2.Medical and Psychological fitness. - Ensure that there is supervision | S38: Inspections Audits Supervision | T38: HV Plant Supervisors and Technical Supervisor, Contractor site Supervisor | U38: - Occupational Health and Safety Act, 1993 (Act No. 85 of 1993) - General Safety Regulations, 1986 - General Administrative Regulations, 2003 - Driven Machinery Regulations, 1988 East Grid fall protection plan - 240-62196227 Eskom life saving rules procedure - 240-43848327 Right to Refuse to Work in an unsafe condition procedure - 32-477 Safety Health and Environment Training and Development - 240-44175132 Eskom Personal Protective Equipment - 32-285 Medical surveillance - 32-95 Environmental, Occupational Health and Safety Incident Management Procedure - 240 - 72092948 East Grid EP Plan. | V38: October 2021 | W38: Complete Done quarteltyRegisters available on site | X38: n/a
B39: R | E39: 7.6 | F39: Exposure to thermal stress (excessive cold and heat) depending on the season | G39: Health | H39: - Ultra-violet radiation from the sun - Inclement Weather Conditions (extremely cold / hot conditions) | I39: Eskom HV Plant and Contractor Employees | J39: HV Plant Manager | K39: Once in 6 yearly for +/- 30 minutes | L39: Heat rashes Heat stroke Heat edema Heat exhaustion Heat syncope Heat cramps Heat cramps Hypothermia | M39: - Drinking lot of fluids to prevent dehydration. do help our employees. - Work-rest Regime:Employees are allways encouraged to take resting period or stop an activity when there are warnings of extreme weather condition. - Employees reduces duration of exposure. If exposure occurs, it occurs over short durations. - Employees are subjected to training and education (induction), which includes heat exposure, cold exposure and PPE including control measures. - Employees are acclimatised on working in these weather condition particular hot environment. - Natural ventilation: work is performed outdoors under adequate natural ventilation conditions. The effectiveness of the ventilation condition is mainly determined by weather conditions. - Mechanical ventilation: air conditioning units are installed in the control room in order to regulate indoor temperatures. - Wearing of correct PPE:safety shoes; hard hats; safety overalls / long pants and warm clothing (jackets). | N39: 3 | O39: C | P39: II | Q39: F | R39: Conduct OH Surveys and implement Corrective Actions | S39: Surveys Inspection Audit | T39: HV Plant Supervisors and Technical Supervisor, Contractor site Supervisor | U39: - Occupational Health and Safety Act, Act 85 of 1993 (OHS Act) - Compensation for Occupational Injuries and Diseases Act, Act 130 of 1993 (COID) - Environmental Regulations for Workplaces, 1987 - General Safety Regulations, 1986 - General Administrative Regulations, 2003- 240 - 75567900 Manual for Internal Quality Assurance Management of the Eskom Occupational Hygiene Approved Inspection Authority - 32-520 Occupational Health & Safety Risk Assessment Procedure - 32-477 Safety Health and Environment Training and Development - 240-44175132 Eskom Personal Protective Equipment - 32-285 Medical surveillance - 32-95 Environmental, Occupational Health and Safety Incident Management Procedure | V39: October 2021 | W39: Complete Done quarteltyRegisters available on site | X39: n/a
B40: R | E40: 7.7 | F40: Use of faulty or incorrect equipment / tools | G40: Safety | H40: - Lack of training and knowledge -Inadequate Risk assessment - Inadequate Inspection and maintenance | I40: Eskom HV Plant and Contractor Employees | J40: HV Plant Manager | K40: Once in 6 yearly for +/- 30 minutes | L40: Medical Incident First Aid Incident | M40: - Proper work plan to ensure that all required tool and equipments are available when doing circuit breaker maintanance is prapred. - The risk assessment is always done before work commences. - Tools, equipment and PPE i.e. gloves, etc are checked for damage before use. | N40: 3 | O40: B | P40: III | Q40: F | R40: - Conduct inspections - Ensure supervision. - Enforce current controls | S40: Inspections Audits Supervision | T40: HV Plant Supervisors and Technical Supervisor, Contractor site Supervisor | U40: - Occupational Health and Safety Act, 1993 (Act No. 85 of 1993) - General Safety Regulations, 1986 - General Administrative Regulations, 2003- 32-477 Safety Health and Environment Training and Development - 240-44175132 Eskom Personal Protective Equipment - 32-95 Environmental, Occupational Health and Safety Incident Management Procedure | V40: October 2021 | W40: Complete Done quarteltyRegisters available on site | X40: n/a
B41: R | E41: 7.8 | F41: Contact with circuit breaker oil | G41: Health | H41: - Accidental leakage of circuit braker oil | I41: Eskom HV Plant and Contractor Employees | J41: HV Plant Manager | K41: Once in 6 yearly for +/- 30 minutes | L41: Eye, noseand throat irritation Dermatitis (Inflammation) | M41: - All equipment that are leaking oil are repaired - MSDS for the oil is available and employees are trained on MSDS and control measures in case of contact incident - The risk assessment is always done B6before work commences. - Tools, equipment and PPE i.e. gloves, etc are checked for damages before use. | N41: 3 | O41: C | P41: II | Q41: F | R41: - Enforce current controls. Conduct inspections | S41: Inspections Audits Supervision | T41: HV Plant Supervisors and Technical Supervisor, Contractor site Supervisor | U41: - Occupational Health and Safety Act, 1993 (Act No. 85 of 1993) - Regualtion for Hazardous Chemical Substance (1995) - General Safety Regulations, 1986 - General Administrative Regulations, 2003- 32-477 Safety Health and Environment Training and Development - 240-44175132 Eskom Personal Protective Equipment - 32-285 Medical surveillance - 32-95 Environmental, Occupational Health and Safety Incident Management Procedure | V41: October 2021 | W41: Complete Done quarteltyRegisters available on site | X41: n/a
A42: Circuit Breaker Maintenance (Gas and oil breakers) - Major overhaul maintenance task (MOT) | B42: R | C42: 8 | D42: Substandard condition Circuit breaker with SF6 (Sulphur Hexaflouride) gas. | E42: 8.1 | F42: Electrocution | G42: Health | H42: - Climbing on the wrong panel - Working in a live yard - Violation of ORHVS | I42: Eskom HV Plant and Contractor Employees | J42: HV Plant Manager | K42: Once in 12 years | L42: Electric shock Psychological damage Physical burns Neurological damage Ventricular fibrillation resulting in fatality | M42: - MSDS for the oil is available and employees are trained on MSDS and control measures in case of contact incident | N42: 5 | O42: D | P42: I | Q42: F | R42: -Ensure that Supervision is in place - Enforce compliance to ORHVS - Ensure that Planned Task Observations are conducted | S42: Inspections Audits Supervision | T42: HV Plant Supervisors and Technical Supervisor, Contractor site Supervisor | U42: - Occupational Health and Safety Act, Act 85 of 1993 (OHS Act) - Compensation for Occupational Injuries and Diseases Act, Act 130 of 1993 (COID) - General Safety Regulations, 1986 - General Administrative Regulations, 2003- 32-846 Operating Regulations for High Voltage System - 240-43848327 Right to Refuse to Work in an unsafe condition procedure - 32-477 Safety Health and Environment Training and Development - 240-75567900 Manual for Internal QualityAssurance Management of the Eskom Occupational Hygiene Approved Inspection Authority - 240-44175132 Eskom Personal Protective Equipment - 32-285 Medical surveillance - 32-95 Environmental, Occupational Health and Safety Incident Management Procedure -240-52456757Contract specification for vegetation management services on Eskom Networks - EP Plan | V42: October 2021 | W42: Complete Done quarteltyRegisters available on site | X42: n/a
B43: R | E43: 8.2 | F43: Charged closing and tripping strings | G43: Safety | H43: - Not discharging the closing and tripping strings | I43: Eskom HV Plant and Contractor Employees | J43: HV Plant Manager | K43: Once in 12 years | L43: Lost Time Injury Medical Incident | M43: - The risk assessment is always done B6before work commences. | N43: 4 | O43: C | P43: II | Q43: F | R43: -Ensure that Supervision is in place - Enforce compliance to ORHVS - Ensure that Planned Task Observations are conducted | S43: Inspections Audits Supervision | T43: HV Plant Supervisors and Technical Supervisor, Contractor site Supervisor | U43: - Occupational Health and Safety Act, 1993 (Act No. 85 of 1993) - General Safety Regulations, 1986 - General Administrative Regulations, 2003 - 32-846 Operating Regulations for High Voltage System - TST 41-42 Circuit breaker maintenance standard - 32-520 Occupational Health & Safety Risk Assessment Procedure | V43: October 2021 | W43: Complete Done quarteltyRegisters available on site | X43: n/a
...

Sheet Lines & Servitudes
A3: Occupational Health and Safety Baseline risk assessment template
A4: Business/Operating unit: | B4: Tramsmission East Grid | J4: Department: | K4: Lines & Servitudes | U4: Next Review Date (every 2 years): | V4: 45200 | W4: Template identifier: | X4: 240-70044602
A6: Date: | B6: 44107 | J6: Prepared by: | K6: Mike Bustin, Gift Buthelezi, Dumisani Mncwabe, Sifiso Ndlovu, Gustav Khors | M6: Authorised by: | O6: Name: Swazi Simelane | W6: Document identifier | X6: 240-142073894 | AM6: R | AN6: Safety | AO6: 1 | AP6: A | AQ6: Fully effective | AR6: I
O7: Designation: Lines & Servitudes Manager | W7: Revision number: | X7: 6 | AM7: N | AN7: Health | AO7: 2 | AP7: B | AQ7: Mostly effective | AR7: II
O8: Signed: | W8: Revision date: | X8: 45200 | AO8: 3 | AP8: C | AQ8: Mostly ineffective | AR8: III
O9: Date: | AO9: 4 | AP9: D | AQ9: None | AR9: IV
A10: Refer to Occupational Health and Safety Risk assessment procedure 32-520 | AO10: 5 | AP10: E
A11: List activity | B11: Activity type (Routine/Non-routine) | C11: Hazard nr | D11: Hazard Identification | E11: Risk Nr | F11: Associated risk | G11: Risk type | H11: Cause(s) of the risk | I11: Exposed group/employees | J11: Risk Owner | K11: Exposure patterns | L11: What are the possible consequences? | M11: Existing Controls | P11: Risk Priority Rating | R11: Additional Controls or Tasks Aimed at improving Existing Controls | S11: Monitoring Mechanisms | T11: Control Owner | U11: Legal and Other Requirements | V11: Target Date | W11: Current Status | X11: Integrated Risk Management (IRM) reference number | AO11: 6
A12: List specific activities to be performed taking into consideration the equipment to be used, the personnel involved in the task. | B12: Indicate R or N 1. Routine activities and situations create hazards through day-to-day operations and normal work activities; 2. Non-routine activities and situations are occasional or unplanned; | C12: # | D12: Anything with potential to cause of harm. Note: A hazard can pose more than one risk. | E12: # | F12: A chance that injury , ill health or damage could occur as a result of uncontrolled hazard. | G12: Safety or health | H12: What causes the risk to come into effect? | I12: Who is exposed to the hazard i.e. visitors, members of the public, etc. | J12: Who is accountable for making sure the controls and monitors are: - in place, - implemented, - regularly reviewed for effectiveness. | K12: The frequency and duration the person/group is exposed to the hazard e.g. Daily for 3 hrs. | L12: Consider the worse case scenario without controls? | M12: Include: - Preventative Controls (controls implemented to eliminate hazards or reduce the likelihood of the risk occurring), and - Reactive Controls (controls implemented to reduce the immediate impact of the risk occurring) Elimination Substitution Engineering controls Administrative controls Personal protective equipment (PPE) | N12: Consequence | O12: Likelihood | Q12: RCE Risk Control Effectiveness | R12: Include: - Preventative Controls (controls implemented to eliminate hazards or reduce the likelihood of the risk occurring), and - Reactive Controls (controls implemented to reduce the immediate impact of the risk occurring) Elimination Substitution Engineering controls Administrative controls Personal protective equipment (PPE) | S12: How we know if we are succeeding. Include comments on effectiveness. This may include i.e. measurements, inspections, supervision where necessary. | T12: Person allocated the responsibility for implementing the agreed controls | U12: Where relevant, list the relevant legislative and or Eskom requirements that prescribe the control. | V12: Once a date has been agreed to, this can not be changed | W12: Pending, In Progress, Complete | X12: Where applicable, add IRM system reference number for tracking of treatment actions. | AD12: Consequences | AE12: 6 | AF12: III | AG12: II | AH12: I | AI12: I | AJ12: I
A13: Vegetation Managemant : - Tree felling or cutting, - Trimming bushes and trees - Herbicide application | B13: N | C13: 1 | D13: Substandard Act on Chainsaw | E13: 1.1 | F13: Chainsaw operated by Incompetent or unauthorised people leading to lacerations. | G13: Safety | H13: - Lack of training and knowledge (area, environment, equipment) - Inadequate Risk assessment - Inadequate communication - Failure to adhere to standards, procedure and instruction - Lack of supervision | I13: Eskom Lines and Servitudes employees and Bush clearing contractor employees | J13: Lines and Servitudes Manager | K13: 6 months per year | L13: Lost Time Injury Medical Incident | M13: - Risk Assessment at the site to determine the scope of work and the resources that would be required (people, equipment, PPE, etc.) is conducted prior working.. - Training validity of all the required authorized people that are involved in the task is confirmed. | N13: 4 | O13: C | P13: II | Q13: P | R13: - Lesson learnt from previous incidents are shared- BSOs and Job observation | S13: Inspections Audits Supervision | T13: L&S Plant Supervisors, Contractor site Supervisor | U13: - Occupational Health and Safety Act (Act No. 85 of 1993) - General Safety Regulations, 1986 - General Administrative Regulations, 2003- Site specific Eastern Grid induction training - 32-477 Safety Health and Environment Training and Development - 32-520 Occupational Health & Safety Risk Assessment Procedure - 240-44175132 Eskom Personal Protective Equipment - 32-285 Medical surveillance - TGL41-334 Vegetation Management Guideline - 32-95 Rev. 4 Environmental, Occupational Health and Safety Incident Management Procedure | V13: 44470 | W13: Complete Done quarteltyRegisters available on site | AE13: 5 | AF13: III | AG13: II | AH13: II | AI13: I | AJ13: I
B14: N | E14: 1.2 | F14: Struck by (falling) tree | G14: Safety | H14: - Poor planning - Inadequate Risk assessment - Inadequate communication - Failure to adhere to standards, procedure and instruction | I14: Eskom Lines and Servitudes employees and Bush clearing contractor employees | J14: Lines and Servitudes Manager | K14: 6 months per year | L14: Lost Time Injury Medical Incident | M14: - Risk Assessment at the site to determine the scope of work and the resources that would be required (people, equipment, PPE, etc.) is conducted prior working.. - Training validity of all the required authorized people that are involved in the task is confirmed.L20 | N14: 4 | O14: C | P14: II | Q14: F | R14: - Sharing lesson learnt from previous incidents, Audits and Inspections ane conducted. | S14: Inspections Supervision | T14: L&S Plant Supervisors, Contractor site Supervisor | U14: - Occupational Health and Safety Act (Act No. 85 of 1993) - General Administrative Regulations, 2003- TGL41-334 Vegetation Management Guideline - 32-520 Occupational Health & Safety Risk Assessment Procedure - 32-95 Rev. 4 Environmental, Occupational Health and Safety Incident Management Procedure | V14: 44470 | W14: Complete Done quarteltyRegisters available on site | AE14: 4 | AF14: IV | AG14: III | AH14: II | AI14: I | AJ14: I
