Workbook
Name _1Excel_BuiltIn_Print_Area_1_1: #REF!
Name _2Excel_BuiltIn_Print_Area_1_1_1: #REF!
Name ACT_REV_CASHFLOW__VAT_incl: '[1]Cost Summary'!$AG$1:$AG$65536
Name adfsd: #REF!
Name AdjvalueS: #REF!
Name Chosen: #REF!
Name CIBD_GRADING2: #REF!
Name Client1: [2]START!$D$7
Name Client2: [2]START!$D$8
Name Col_ARC: '[1]Cost Summary'!$AG$2:$AG$3
Name Col_ARE: '[1]Cost Summary'!$AE$2:$AE$3
Name Col_ARW: '[1]Cost Summary'!$AD$2:$AD$3
Name Col_CAoSM: #REF!
Name Col_CD: #REF!
Name Col_CSMfM: #REF!
Name Col_CSMtD: #REF!
Name Col_CTAoSM: #REF!
Name Col_EVMR: #REF!
Name Col_EVMS: #REF!
Name Col_GVCPA: #REF!
Name Col_NVtD: #REF!
Name Col_PRC: '[1]Cost Summary'!$AH$2
Name Col_PRE: '[1]Cost Summary'!$AF$2
Name Col_TAdtD: #REF!
Name Col_TVdtD: #REF!
Name Col_TVER: #REF!
Name Col_TVES: #REF!
Name Consultant: [2]START!$D$14
Name ContractNo: [2]START!$D$10
Name Contractor: [2]START!$D$13
Name Data1: #REF!
Name Data2: #REF!
Name Data3: #REF!
Name DATA4: '[3]W11 record'!$B$9:$K$46
Name DATA5: '[3]W11 record'!$I$9:$K$46
Name EstimatingRateMakeUp: #REF!
Name Excel_BuiltIn_Print_Area_1_1: #REF!
Name fg: #REF!
Name INDICES: [1]Indices!$B$10:$O186
Name Items_01: #REF!
Name l: #REF!
Name ljhgvkjhg: #REF!
Name NO: [2]START!$D$3
Name Penalty: [2]START!$D$33
Name Penalty_days: [2]START!$D$34
Name RecOfExp1: #REF!
Name Ret_DLP_limit1: [2]START!$D$30
Name Ret_DLP_limit2: [2]START!$D$31
Name Retention_limit: [2]START!$D$28
Name Retention_perc: [2]START!$D$27

Sheet establ
A1: RE-ADVERT THE REHABILITATION OF DAMAGED SURFACING, FOUNDATION LAYERS, RESEALING AND ROAD MAINTENANCE ON VARIOUS AREAS WITHIN THE RUSTENBURG LOCAL MUNICIPALITY, AS AND WHEN REQUIRED FOR A PERIOD OF 36 MONTHS.
A2: RLM/DRT/0152/2024/25
A3: ITEM NO | B3: DESCRIPTION | C3: UNIT | D3: RATE | E3: AMOUNT
A4: C1.3 | B4: CONTRACTOR'S ESTABLISHMENT ON SITE AND GENERAL OBLIGATIONS
A5: C1.3.1.3 | B5: Time Related Obligations | C5: Month | D5: Rate only
B6: Establishment for milling machine | C6: Prov Sum | D6: Rate only | E6: 25000
B7: Establishment of Paver on Site | C7: Prov Sum | D7: Rate only | E7: 25000
A12: C1.3 | B12: TOTAL CARRIED FORWARD TO SUMMARY
A13: 152-1

Sheet traffic acc
A2: ITEM NO | B2: DESCRIPTION | C2: UNIT | D2: RATE | E2: AMOUNT
A3: C1.5.2 | B3: ACCOMMODATION OF VEHICULAR TRAFFIC
A4: M050.01 LI | B4: Accommodation of traffic and maintaining temporary deviations (including provision of flagman and all relevent temporary signs) (Prov Sum) | C4: month | D4: Rate Only
A8: C1.5 | B8: TOTAL CARRIED FORWARD TO SUMMARY
A9: 152-2

Sheet PRIME COAT
A1: ITEM NO | B1: DESCRIPTION | C1: UNIT | D1: RATE | E1: AMOUNT
A2: C8.1 | B2: PRIME COAT
A3: C8.1.1 | B3: Prime Coat:
A4: C8.1.1.1 | B4: MC 30 Cut- Back Bitumen | C4: l | D4: Rate Only
A5: C8.1.1.2 | B5: MC 30 Cut- Back Bitumen | C5: l | D5: Rate Only
A6: C8.1.1.3 | B6: Inverted bitumen emuslison | C6: l | D6: Rate Only
A7: C8.2.1 | B7: Aggregate for binding
A8: C8.1.2.1 | B8: Natural Sand | C8: m³ | D8: Rate Only
A9: C8.1.2.2 | B9: Crushed Sand | C9: m³ | D9: Rate Only
A10: C8.1.3 | B10: Extra over item C8.1.1 for applying the prime coat accessible only to hand held or light equipement | C10: l | D10: Rate Only
A11: C8.2.1 | B11: Cover Sprays, Fog Sprays and Rejuvenation sprays
A12: C8.2.1.1 | B12: 65% Cationic spray grade emulsion
B13: (a)Diluted: 40% | C13: l | D13: Rate Only
A14: C8.2.1.2 | B14: 60% anionic spray grade emulsion
B15: (a)Diluted: 50% | C15: l | D15: Rate Only
A16: C8.2.1.3 | B16: Cutback Inverted bitumen emulsion
A17: C8.2.1.4 | B17: Certified Rejuvenation (COLAS MSP3 OR SIMILAR) | C17: l | D17: Rate Only
A18: C8.2.2 | B18: Extra over item C8.2.1 for labour enhanced application
A19: C8.2.2.1 | B19: 65% Cationic spray grade emulsion
B20: (a)Diluted: (____%Emulsion/ 40% Water) | C20: l | D20: Rate Only
A21: C8.2.2.2 | B21: 60% anionic spray grade emulsion
B22: (a)Diluted: (____%Emulsion/____% Water) | C22: l | D22: Rate Only
A23: C8.2.2.3 | B23: Cutback Inverted bitumen emulsion | C23: l | D23: Rate Only
A24: C8.2.2.4 | B24: Certified Rejuvenation (COLAS MSP3 OR SIMILAR) | C24: l | D24: Rate Only
A26: C8.4.1 | B26: RUT and/or Depression Correction( Screeding)
A27: c8.4.1.2 | B27: Correction Material
B28: (a) Continiously- graded Asphalt( 60/70 @5% binder content) | C28: t | D28: Rate Only
B29: (c) Cold applied Asphalt | C29: t | D29: Rate Only
B30: (d)Course slurry (Stable grade cationic emulsion 80/100 penetration grade) | C30: m³ | D30: Rate Only
B31: (e ) Microsurfacing (Stable grade cationic emulsion 80/100 penetration grade) | C31: m³ | D31: Rate Only
A33: C8.1 | B33: TOTAL CARRIED FORWARD TO SUMMARY
A34: 152-3

Sheet layer repair
A1: ITEM NO | B1: DESCRIPTION | C1: UNIT | D1: RATE | E1: AMOUNT
A2: C8.8 | B2: PAVEMENT LAYERS REPAIR
A3: C8.8.2 | B3: Excavation in existing pavements for patching (non-milling)
A4: C8.8.2.1 | B4: Asphalt layers
B5: (a) Not exceeding 10m² including for edge repair wider than 250mm | C5: m³ | D5: Rate only
B6: (b) Exceeding 10m² but not exceeding 50m² including for edge repair wider than 250mm | C6: m³ | D6: Rate only
B7: (c) Exceeding 50m² but not exceeding 100m² including for edge repair wider than 250mm | C7: m³ | D7: Rate only
B8: (d) Exceeding 100m² | C8: m³ | D8: Rate only
A9: C8.8.2.2 | B9: Cemented layers
B10: (a) Not exceeding 10m² including for edge repair wider than 250mm | C10: m³ | D10: Rate only
B11: (b) Exceeding 10m² but not exceeding 50m² including for edge repair wider than 250mm | C11: m³ | D11: Rate only
B12: (c) Exceeding 50m² but not exceeding 100m² including for edge repair wider than 250mm | C12: m³ | D12: Rate only
B13: (d) Exceeding 100m² | C13: m³ | D13: Rate only
A15: C8.8.4 | B15: Backfilling of excavations for patching with:
A16: C8.8.4.1 | B16: Chemically stabilized pavement material (base compacted to 98% of modified AASHTO density) for a patch with a surface area:
B17: (a) Not exceeding 10m² including for edge repair wider than 250mm | C17: m³ | D17: Rate only
B18: (b) Exceeding 10m² but not exceeding 50m² including for edge repair wider than 250mm | C18: m³ | D18: Rate only
B19: (c) Exceeding 50m² but not exceeding 100m² including for edge repair wider than 250mm | C19: m³ | D19: Rate only
B20: (d) Exceeding 100m² | C20: m³ | D20: Rate only
A21: C8.8.4.1.3 | B21: Asphalt for a patch with a surface area (continuously graded medium)
A22: C8.8 | B22: TOTAL CARRIED FORWARD
A23: ITEM NO | B23: DESCRIPTION | C23: UNIT | D23: RATE
B24: (a) Not exceeding 10m² including for edge repair wider than 250mm | C24: t | D24: Rate only
B25: (b) Exceeding 10m² but not exceeding 50m² including for edge repair wider than 250mm | C25: t | D25: Rate only
B26: (c) Exceeding 50m² but not exceeding 100m² including for edge repair wider than 250mm | C26: t | D26: Rate only
B27: (d) Exceeding 100m² | C27: t | D27: Rate only
A28: C8.8.4.4 | B28: Granular base material: subbase layer compacted to 95% modified AASHTO density
B29: (a) Not exceeding 10m² including for edge repair wider than 250mm | C29: m³ | D29: Rate only
B30: (b) Exceeding 10m² but not exceeding 50m² including for edge repair wider than 250mm | C30: m³ | D30: Rate only
B31: (c) Exceeding 50m² but not exceeding 100m² including for edge repair wider than 250mm | C31: m³ | D31: Rate only
B32: (d) Exceeding 100m² | C32: m³ | D32: Rate only
A33: C8.8 | B33: TOTAL CARRIED FORWARD
A34: 152-4

Sheet backfilling
A1: ITEM NO | B1: DESCRIPTION | C1: UNIT | D1: RATE | E1: AMOUNT
B2: BROUGHT FORWARD
A3: C8.8.4.4
B4: Selected layer (93% modified AASHTO density)
B5: (a) Not exceeding 10m² including for edge repair wider than 250mm | C5: m³ | D5: Rate only
B6: (b) Exceeding 10m² but not exceeding 50m² including for edge repair wider than 250mm | C6: m³ | D6: Rate only
B7: (c) Exceeding 50m² but not exceeding 100m² including for edge repair wider than 250mm | C7: m³ | D7: Rate only
B8: (d) Exceeding 100m² | C8: m³ | D8: Rate only
B9: Fill layer (90% modified AASHTO density)
B10: (a) Not exceeding 10m² including for edge repair wider than 250mm | C10: m³ | D10: Rate only
B11: (b) Exceeding 10m² but not exceeding 50m² including for edge repair wider than 250mm | C11: m³ | D11: Rate only
B12: (c) Exceeding 50m² but not exceeding 100m² including for edge repair wider than 250mm | C12: m³ | D12: Rate only
B13: (d) Exceeding 100m² | C13: m³ | D13: Rate only
A15: C8.8 | B15: TOTAL CARRIED FORWARD TO SUMMARY
A16: 152-5

Sheet Crack Seal
A1: ITEM NO | B1: DESCRIPTION | C1: UNIT | D1: RATE | E1: AMOUNT
A2: C8.5.1 | B2: STANDARD CRACKS SEALING
A3: C8.5.1.1 | B3: Cleaning cracks (b) Cleaning cracks with hot compressed air | C3: m | D3: Rate only
A4: C8.5.1.2 | B4: Applying herbicides for sealing cracks | C4: l | D4: Rate only
A5: C8.5.1.3 | B5: Priming (MSP1 or similar) | C5: l | D5: Rate only
A6: C8.5.1.4 | B6: Sealing the cracks
B7: (a) Sealant (hot applied sealant) | C7: l | D7: Rate only
A8: C8.5 | B8: TOTAL CARRIED FORWARD TO SUMMARY
A14: C8.8 | B14: TOTAL CARRIED FORWARD TO SUMMARY
A15: 152-6

Sheet surface tr
A1: ITEM NO | B1: DESCRIPTION | C1: UNIT | D1: RATE | E1: AMOUNT
A2: C8.3 | B2: SURFACE TREATMENT- TEXTURE CORRECTION
A3: C8.3.1 | B3: Texture treatment
A4: C8.3.1.1 | B4: Application of slurry for texture improvement, applied by hand (Tack coat using 30% bitumen emulsion) | C4: m³ | D4: Rate only
A5: C8.3.1.2 | B5: Application of slurry for texture improvement, applied by spreader box (Tack coat using 30% bitumen emulsion) | C5: m³ | D5: Rate only
A6: C8.3.1.3 | B6: Application of microsurfacing for texture improvement, applied by spreader box (Coarse grading and 80/100 pen. bitumen) | C6: m³ | D6: Rate only
B8: TOTAL CARRIED FORWARD TO SUMMARY
A9: 152-7

Sheet potholes
A1: ITEM NO | B1: DESCRIPTION | C1: UNIT | D1: RATE | E1: AMOUNT
A2: C8.8.6 | B2: REPAIR OF POTHOLES
A3: M120.01 LI | B3: Pothole repair (<0.5m2) using hot mix continuously graded asphalt | C3: No. | D3: Rate only
A4: C8.8.6 | B4: REPAIR OF EDGE BREAKS IN SURFACING
A6: C8.8.6.3 | B6: Reconstructing edges using:
B7: (a) continuously graded asphalt (hot mix) | C7: t | D7: Rate only
A9: C8.9 | B9: REPAIR OF SURFACE DEFECTS
A10: M122.01 LI | B10: Repair of surface failures hot mix continuously graded asphalt | C10: No. | D10: Rate only
A11: M1230 | B11: TEMPORARY REPAIR
A12: M123.01 LI | B12: Temporary repair of potholes, edge breaks and surface failures using cold mix asphalt surfacing from the following sources:
B13: (a) Commercial sources | C13: No | D13: Rate only
B14: (b) Mix on site as specified | C14: No | D14: Rate only
B15: Patching and Repairing
A17: C8.8.1 | B17: Saw cutting pavement layers for Patching:
A18: C8.8.1.1 | B18: Asphalt or bituminous surfacing to an average depth
B19: (a) Not Exceeding 50mm | C19: m | D19: Rate only
B20: (b) Exceeding 50mm but not exceeding 100mm | C20: m | D20: Rate only
B21: (c) Exceeding 100mm | C21: m | D21: Rate only
A22: C8.8.1.2 | B22: Cemented pavement layer to an average depth
B23: (a) Not Exceeding 50mm | C23: m | D23: Rate only
B24: (b) Exceeding 50mm but not exceeding 100mm | C24: m | D24: Rate only
B25: TOTAL CARRIED FORWARD | E25: =SUM(E3:E24) -> 0
A26: ITEM NO | B26: DESCRIPTION | C26: UNIT | D26: RATE | E26: AMOUNT
B27: TOTAL BROUGHT FORWARD | E27: =E25 -> 0
B28: (c) Exceeding 100mm | C28: m | D28: Rate only
A29: C8.8.2 | B29: Excavating in Existing Pavement for Patching:
B31: (1) Not Exceeding 1m² | C31: m² | D31: Rate only
B33: (2) Exceeding 1m² but not 5m² | C33: m² | D33: Rate only
B35: (3) Exceeding 5m² but not 10m² | C35: m² | D35: Rate only
A37: C8.8.4 | B37: Backfilling of excavations for Patching with:
A38: C8.8.4.1 | B38: Chemically stabilized pavement material using 30% cement for a patch with a surface area:
B40: (a) Not Exceeding 10m² including for edge repair wider than 250mm | C40: m³ | D40: Rate only
B42: (b) Exceeding 10m² but not 50m² including for edge repair wider than 250mm | C42: m³ | D42: Rate only
B44: (c) Exceeding 50m² but not 100m² including for edge repair wider than 250mm | C44: m³ | D44: Rate only
B45: (d) Exceeding 100m² including for edge repair wider than 250mm | C45: m³ | D45: Rate only
A47: C8.8.3 | B47: Compacting the Floor of Excavations for patching: | C47: m² | D47: Rate only
B49: Prime: | C49: l | D49: Rate only
B51: Bitumen Treated Base Material: | C51: t | D51: Rate only
B52: TOTAL CARRIED FORWARD TO SUMMARY
A53: 152-8

Sheet Inlet & Out
A1: ITEM NO | B1: DESCRIPTION | C1: UNIT | D1: RATE | E1: AMOUNT
B2: REPAIR AND MAINTENANCE OF INLET AND OUTLET STRUCTURES
A3: C3.2.1 | B3: Excavation
A4: C3.2.1.1 | B4: Excavation in all material situated within the following rages below surface level: | C4: m³ | D4: Rate only
B5: (a) 0m to 1,5m | C5: m³ | D5: Rate only
B6: (b) Exceeding 1,5m and up to 3,0m | C6: m³ | D6: Rate only
B7: (c)Etc, in increments of 1,5m | C7: m³ | D7: Rate only
A8: C3.2.1.5 | B8: Extra over for sub item C3.2.1.1 for excavation in stabilised existing road layers , irrespective of depth | C8: m³ | D8: Rate only
A9: C3.2.1 | B9: Excavation
A10: C3.2.1.1 | B10: Excavation in all material situated within the following rages below surface level: | C10: m³ | D10: Rate only
B11: (a) 0m to 1,5m | C11: m³ | D11: Rate only
B12: (b) Exceeding 1,5m and up to 3,0m | C12: m³ | D12: Rate only
B13: (c)Etc, in increments of 1,5m | C13: m³ | D13: Rate only
A14: C3.2.1.5 | B14: Extra over for sub item C3.2.1.1 for excavation in stabilised existing road layers , irrespective of depth | C14: m³ | D14: Rate only
A15: C3.2.2 | B15: Backfilling
A16: C3.2.2.2 | B16: (a)Using the excavated material | C16: m² | D16: Rate only
B17: (b)Using stabilised excavated material | C17: m² | D17: Rate only
B18: Reconstruction of inlet and outlet structures
B19: (a)Concrete (class 20/19) (b)Brickwork (230mm width) (c ) Plastering | C19: No | D19: Rate only
B20: (d) Pre-cast Concrete inlets | C20: No | D20: Rate only
B21: Accessories
B22: (a)Provisional sum for the cost of accessories | C22: Prov Sum | D22: Rate only
B23: (b)The Contractor's overhead charges and profit in respect of sub-item BM210.04 (a) | C23: % | D23: Rate only
B24: Steel reinforcement
B25: (a)Mild steel bars | C25: t | D25: Rate only
B26: (b)High tensile steel bars | C26: t | D26: Rate only
B27: (c ) Welded steel mesh (Ref 311) | C27: kg | D27: Rate only
A28: C2.2.12 | B28: Demolition of existing structures
B29: (a) Plain concrete | C29: m³ | D29: Rate only
B30: (c) Brickwork | C30: m² | D30: Rate only
A42: c3.2 | B42: TOTAL CARRIED FORWARD TO SUMMARY
A43: 152-8

Sheet cleaning of drains
A1: ITEM NO | B1: DESCRIPTION | C1: UNIT | D1: RATE | E1: AMOUNT
B2: CLEANING OF CONCRETE DRAINS AND CHANNELS
A3: C3.1.3 | B3: Excavation, clearing and disposal of accummulated sedimants in existing lined drains and drainage system
A4: C3.1.3.3 | B4: Using labour enhanced construction method:
B5: (a) Mainhole inlet and outlet structures | C5: m³ | D5: Rate only
B6: (b) Culvert barrels | C6: m³ | D6: Rate only
B7: (c)Concrete and outher lined side drains | C7: m³ | D7: Rate only
A8: C3.1.3 | B8: Excavations, Cleaning and Disposal of accumulated sediments in existing lined drains and drainange systems
A9: C3.1.3.1 | B9: using conventional methods( up to 1,5m):
B10: (a) Manhole and inlet and outlet structure | C10: m³ | D10: Rate only
B11: (b) Culvert barrels | C11: m³ | D11: Rate only
B12: (3) Concrete or other lined side drains | C12: m³ | D12: Rate only
A13: C3.1.3.2 | B13: using conventional methods( in access 1,5m):
B14: (a) Manhole and inlet and outlet structure | C14: m³ | D14: Rate only
B15: (b) Culvert barrels | C15: m³ | D15: Rate only
B16: (3) Concrete or other lined side drains | C16: m³ | D16: Rate only
B17: CLEANING AND MAINTENANCE OF EXISTING EARTH CHANNELS
B18: Cleaning earth drains and channels | C18: m³ | D18: Rate only
A19: C3.1.15 | B19: Repairing or replacing of existing drainage system | C19: Prov sum | D19: Rate only
A20: C3.1.16 | B20: Loading and hauling material in excess of 1,0 km | C20: m³-km | D20: Rate only
A23: C3.1 | B23: TOTAL CARRIED FORWARD TO SUMMARY
A24: 152-9

Sheet edge build-up
A1: ITEM NO | B1: DESCRIPTION | C1: UNIT | D1: RATE | E1: AMOUNT
A2: M2700 | B2: EDGE BUILD-UP REMOVAL
A3: M270.01 LI | B3: Removal of edge build-ups: Various road sections as descibed under C3.1.2.1 : Description of site | C3: km | D3: Rate only
A5: M2700 | B5: TOTAL CARRIED FORWARD TO SUMMARY
A6: 159-10

Sheet removal of debris
A1: ITEM NO | B1: DESCRIPTION | C1: UNIT | D1: RATE | E1: AMOUNT
A2: M3200 | B2: COLLECTION AND REMOVAL OF DEBRIS AND LITTER
A3: M320.01 LI | B3: Clearing of the road reserve (a) Urban roads: Various road sections as descibed under C3.1.2.1 : Description of site | C3: km | D3: Rate only
B4: (b) Non urban roads: Various road sections as descibed under C3.1.2.1 : Description of site | C4: km | D4: Rate only
A5: M3200 | B5: TOTAL CARRIED FORWARD TO SUMMARY
A6: 159-11

Sheet shoulder repair
A1: ITEM NO | B1: DESCRIPTION | C1: UNIT | D1: RATE | E1: AMOUNT
A2: M3300 | B2: SHOULDER REPAIRS
A3: M330.01 LI | B3: Reinstating gravel shoulders
B4: (a)Ripping, watering, mixing, placing and compacting existing shoulders to 93% of modified AASHTO density | C4: m³ | D4: Rate only
B5: (b)Extra over sub-item M330.01 (a) for adding extra material from borrowpits outside the road reserve | C5: m³ | D5: Rate only
B6: (c ) Extra over sub-item M330.01 (a) for stabilising material | C6: m³ | D6: Rate only
B7: (d) Blading | C7: km | D7: Rate only
B8: (e ) Cutting of mitre drains | C8: m | D8: Rate only
B9: Overhaul on material hauled in excess of 1,0 km | C9: m³-km | D9: Rate only
A10: M3300 | B10: TOTAL CARRIED FORWARD TO SUMMARY
A11: 159-12

Sheet guardrail
A1: ITEM NO | B1: DESCRIPTION | C1: UNIT | D1: RATE | E1: AMOUNT
A2: C11.4 | B2: ROAD RESTRAINT SYSTEMS
A3: C11.4.1 | B3: Erection of guardrails at 3,81m spacing
A4: C11.4.1.1 | B4: Complete galvanized system compliant to SANS 1350:
B5: (a) On timber posts (drawing reference) | C5: m | D5: Rate only
B6: (b) On steel posts used at specific location (drawing reference) | C6: m | D6: Rate only
B7: (c)On conrete or other surfaces with spacer block but without posts (drawing reference) | C7: m | D7: Rate only
B8: (d) Extra over C11.4.1 (a) and C11.4.1.1 (b) for excavating holes of posts using labour enhanced metheds (soft and intermediate) | C8: m | D8: Rate only
A10: C11.4.1.2 | B10: Terminal sections for 3.81 guardrails comprising of:
B11: (a) End wing to SANS 1350 | C11: No | D11: Rate only
B12: (b) Bullnose to SANS 1350 | C12: No | D12: Rate only
B13: (c) Bridge adapters to SANS 1350 | C13: No | D13: Rate only
B14: (d) End treatment where single guardrail section are specified (drawing reference) | C14: No | D14: Rate only
B15: (e) End treatment where double guardrail section are specified | C15: No | D15: Rate only
B16: (f) Bridge adapters (including extra rails and posts ) (drawing reference) | C16: No | D16: Rate only
B17: (g) Extra over C11.4.1.2(d) and C11.4.1.2 (e) | C17: No | D17: Rate only
A19: C11.4.4 | B19: Extra over fo horizontally curved guardrails | C19: m | D19: Rate only
A20: C11.4.4.1 | B20: Extra over C11.4.1 and C11.4.11 for horizontally curved guardrail factory bent to a radius of less than 45m | C20: m | D20: Rate only
A22: C11.4 | B22: TOTAL CARRIED FORWARD
A23: ITEM NO | B23: DESCRIPTION | C23: UNIT | D23: RATE | E23: AMOUNT
B24: TOTAL BROUGHT FORWARD
A25: C11.4.6 | B25: Reflectors plates
A26: C11.4.6.1 | B26: Steel plates | C26: No | D26: Rate only
A27: C11.4.6.2 | B27: Plastic plates | C27: No | D27: Rate only
A28: C11.4.7 | B28: Removing existing damaged guardrails | C28: m | D28: Rate only
C29: m | D29: Rate only
A30: C11.4 | B30: TOTAL CARRIED FORWARD
A31: 159-13

Sheet guardrails
A1: ITEM NO | B1: DESCRIPTION | C1: UNIT | D1: RATE | E1: AMOUNT
A2: C11.4 | B2: BROUGHT FORWARD
A3: C11.4.7 | B3: Removing existing guardrails | C3: m | D3: Rate only
A4: C11.4.8 | B4: Renovating guardrail material
A5: C11.4.8.1 | B5: Painting guardrailds, end wings and bullnoses | C5: m | D5: Rate only
A7: C11.4.9 | B7: Re-eraction of guardrails with covered or provided material
A8: C11.4.9.1 | B8: Single guardrails | C8: m | D8: Rate only
A9: C11.4.9.2 | B9: Double guardrails | C9: m | D9: Rate only
A10: C11.4.9.3 | B10: Extra over C11.4.9.1 and C11.4.9.2 for excavating holes of posts using labour enhanced method | C10: m | D10: Rate only
A11: C11.4 | B11: TOTAL CARRIED FORWARD TO SUMMARY
A12: 159-14

Sheet layby
A1: ITEM NO | B1: DESCRIPTION | C1: UNIT | D1: RATE | E1: AMOUNT
A2: M4700 | B2: MAINTENANCE OF LAY-BYES AND REST AREAS
A3: M470.01 LI | B3: Maintenance of lay-byes and rest areas
B4: (a) Provision for bus rest area ( Bus Shelter Roof MKII type) including installation thereoff | C4: each | D4: Rate only
B5: (b)Provision of concrete benches of 4 sitter | C5: each | D5: Rate only
B6: Provision of refuse bins,
B7: (b) Provision of concrete refuse bins ( Advertising type Bin 700mm x 1150mm) | C7: each | D7: Rate only
A9: M4700 | B9: TOTAL CARRIED FORWARD TO SUMMARY
A10: 159-15

Sheet pitching
A1: ITEM NO | B1: DESCRIPTION | C1: UNIT | D1: RATE | E1: AMOUNT
A2: C11.1 | B2: PITCHING, STONEWORK, CAST IN SITU CONCRETE FOR PROTECTION AGAINST EROSION
A3: C11.1.2 | B3: Stone pitching
B4: Plain pitching
A5: C11.1.2.1 | B5: (a) Method 1 | C5: m² | D5: Rate only
B6: (b) Method 2 | C6: m² | D6: Rate only
A7: C11.1.2.2 | B7: Grouted pitching stone with mortar | C7: m² | D7: Rate only
A8: C11.1.2.3 | B8: Grouted pitching on a concrete bed | C8: m² | D8: Rate only
A9: C11.1.3 | B9: Riprap
A10: C11.1.3.1 | B10: Packed riprap | C10: m³ | D10: Rate only
A11: C11.1.3.2 | B11: Extra over item C11.1.3.1 for construction packed riprap using labour enhanced construction method
A12: C11.1.3.3 | B12: Dumped riprap | C12: m³ | D12: Rate only
A13: C11.1.3.4 | B13: Filter backing of:
B14: (a) Crushed stone | C14: m³ | D14: Rate only
B15: (b) Filter sand | C15: m³ | D15: Rate only
B16: (c) Synthetic-fibre filter fabric (Grade 2) | C16: m² | D16: Rate only
A17: C11.1.4 | B17: Stone masonry walls
A18: C11.1.4.1 | B18: Plain packed stone walls | C18: m³ | D18: Rate only
A19: C11.1.4.2 | B19: Cement-mortared stone walls | C19: m³ | D19: Rate only
A20: C11.1.4.3 | B20: Extra over item C11.1.4.1 and C11.1.4.2 for procuring stone from commercial source | C20: m³ | D20: Rate only
A21: C11.1.6 | B21: Concrete edge beams (30 Mpa concrete) | C21: m³ | D21: Rate only
A22: C11.1 | B22: TOTAL CARRIED FORWARD TO SUMMARY
A23: 159-16

Sheet gabions
A1: ITEM NO | B1: DESCRIPTION | C1: UNIT | D1: RATE | E1: AMOUNT
A2: C11.2 | B2: NON- STRUCTURAL GABION
A3: C11.2.1. | B3: Foundation trench excavation
A4: C11.2.1.1 | B4: Excavating all material situated within the following depth ranges below the surface level
B5: (a) 0m to 1,5m | C5: m³ | D5: Rate only
B6: (b) Exceeding 1,5m and up to 3,0m | C6: m³ | D6: Rate only
B7: (c)Etc, in increments of 1,5m | C7: m³ | D7: Rate only
A8: C11.2.1.2 | B8: Etra over sub item C11.2.1.1 for excavation in hard material, irrespective of depth | C8: m³ | D8: Rate only
A9: C11.2.1.3 | B9: Excavating soft material within 1,5m below the surface level using labour enhanced construction methods | C9: m³ | D9: Rate only
A10: C11.2.1.4 | B10: Excavating intermediate material within 1,5m below the surface level using | C10: m³ | D10: Rate only
A12: C11.2.2 | B12: Surface preparation for bedding the gabion boxes and mattress | C12: m² | D12: Rate only
A13: C11.2.3 | B13: Gabion boxes and mattresses:
A14: C11.2.3.1 | B14: Galvanized gabion boxes | C14: m³ | D14: Rate only
A15: C11.2.3.2 | B15: PVC coated Gabion boxes | C15: m³ | D15: Rate only
A16: C11.2.3.3 | B16: Galvanised gabion mattresses | C16: m³ | D16: Rate only
A17: C11.2.3.4 | B17: PVC coated Gabion mattresses | C17: m³ | D17: Rate only
A18: C11.2.4 | B18: Filter fabric (Grade 2) | C18: m² | D18: Rate only
A19: C11.2 | B19: TOTAL CARRIED FORWARD TO SUMMARY
A20: 159-16

Sheet grass cutt
A1: ITEM NO | B1: DESCRIPTION | C1: UNIT | D1: RATE | E1: AMOUNT
A2: M6100 | B2: GRASS CUTTING: SHOULDER AND GENERAL MOWING
A3: M610.01 LI | B3: Shoulder mowing and removal of grass cuttings (b)Reserve with single carriageway Various road sections as descibed under C3.1.2.1 : Description of site | C3: ha | D3: Rate only
A4: M610.02 LI | B4: General mowing and removal of grass cuttings (b)Reserve with single carriageway Various road sections as descibed under C3.1.2.1 : Description of site | C4: ha | D4: Rate only
A5: M611.01 LI | B5: Cutting of designated areas (a) Sight triangle at intersections, road signs and marker boards at the following section and
B6: interchanges Various road sections as descibed under C3.1.2.1 : Description of site | C6: No | D6: Rate only
A7: M611.02 LI | B7: Additional cutting
B8: (a)Any area on instruction of the Engineer | C8: m² | D8: Rate only
B9: (c) 1m cut either side of concrete drains | C9: km | D9: Rate only
A10: M6100 | B10: TOTAL CARRIED FORWARD TO SUMMARY
A11: 159-17

Sheet removal of veg
A1: ITEM NO | B1: DESCRIPTION | C1: UNIT | D1: RATE | E1: AMOUNT
A2: M6300 | B2: REMOVAL OF UNDESIRABLE VEGETATION: PHYSICAL ERADICATION
A3: M630.01 LI | B3: Eradication of undesirable vegetation
B4: (b) Annual eradication Various road sections as descibed under C3.1.2.1 : Description of site Tree felling on instruction of the | C4: ha | D4: Rate only
B5: Engineer (a) Girth 151 mm to 500 mm | C5: No | D5: Rate only
B6: (b) Girth 501 mm to 1000 mm | C6: No | D6: Rate only
B7: (c) Girth 1 001 mm to 2000 mm | C7: No | D7: Rate only
B8: (d) Girth 2 001 mm to 4000 mm | C8: No | D8: Rate only
B9: (e) Girth larger than 4000 mm | C9: No | D9: Rate only
A10: M630.04 LI | B10: Additional eradication of undesirable vegetation on instruction of the Department of Transport Rustenburg local Municipality Project Manager/ Technician | C10: ha | D10: Rate only
A11: M6300 | B11: TOTAL CARRIED FORWARD TO SUMMARY
A12: 159-18

Sheet repairs of str
A1: ITEM NO | B1: DESCRIPTION | C1: UNIT | D1: RATE | E1: AMOUNT
A2: M8100 | B2: MINOR REPAIRS TO STRUCTURES
A3: M810.01 LI | B3: Minor repairs to structures
B5: (a)Minor repairs to structures | C5: Prov Sum | D5: Rate only | E5: 25000
B6: (b)The Contractor's overhead charges and profit in respect of sub-item M810.01 (a) | C6: %
A7: M8100 | B7: TOTAL CARRIED FORWARD TO SUMMARY
A8: 159-19

Sheet dayworks
A1: ITEM NO | B1: DESCRIPTION | C1: UNIT | D1: RATE | E1: AMOUNT
A2: C1.2.8 | B2: DAYWORKS SCHEDULE
A3: C1.2.8.1 | B3: PERSONNEL
B4: (a) Unskilled | C4: h | D4: Rate only
B5: (b) Semi-skilled | C5: h | D5: Rate only
B6: (c) Skilled | C6: h | D6: Rate only
B7: (d) Ganger | C7: h | D7: Rate only
B8: (e) Flagmen
B9: (f) Skilled Artisan | C9: h | D9: Rate only
A10: M910.02 | B10: Labour outside normal working hours (a) Outside normal working hours and Saturdays (i) Unskilled | C10: h | D10: Rate only
B11: (ii) Semi-skilled | C11: h | D11: Rate only
B12: (iii) Skilled | C12: h | D12: Rate only
B13: (iv) Ganger | C13: h | D13: Rate only
B14: (v) Flagmen | C14: h | D14: Rate only
B15: (b) Sundays and public holidays (i) Unskilled | C15: h | D15: Rate only
B16: (ii) Semi-skilled | C16: h | D16: Rate only
B17: (iii) Skilled | C17: h | D17: Rate only
B18: (iv) Ganger | C18: h | D18: Rate only
B19: (v) Flagmen | C19: h | D19: Rate only
A20: C1.2.8 | B20: TOTAL CARRIED FORWARD
A21: 159-20

Sheet plant
A1: ITEM NO | B1: DESCRIPTION | C1: UNIT | D1: RATE | E1: AMOUNT
B2: BROUGHT FORWARD
A3: C1.2.8.2 | B3: Construction equipment
B4: (a) TLB - Tractor, loader, backhoe (0.5m3 bucket) | C4: h | D4: Rate only
B5: (b ) Grader (CAT 140 G or similar) | C5: h | D5: Rate only
B6: (c) Compactor (Bomag BW 90) | C6: h | D6: Rate only
B7: (d) Dewatering pump including generators and accessories (500l/min) | C7: h | D7: Rate only
B8: (e) Mobile concrete mixers (150l) | C8: h | D8: Rate only
B9: (f) Centremount cranes (20ton) | C9: h | D9: Rate only
B10: (g) Mechanical broom | C10: h | D10: Rate only
B11: (h) Portable generator set | C11: h | D11: Rate only
A12: C1.2.8.3 | B12: Vehicles (Specify size)
B13: (a) Tipper Trucks | C13: h | D13: Rate only
B14: (i) 3 to 5 ton capacity | C14: h | D14: Rate only
B15: (ii) More than 5 ton capacity | C15: h | D15: Rate only
B16: (b) Suitable truck/bus for transporting labourers (40 seater) | C16: h | D16: Rate only
B17: (c) Safety vehicle for pre-marking purposes | C17: h | D17: Rate only
A18: C1.2.8 | B18: TOTAL CARRIED FORWARD
A19: ITEM NO | B19: DESCRIPTION | C19: UNIT | D19: RATE | E19: AMOUNT
B20: BROUGHT FORWARD
B22: (i) Compressor (air) including hoses and tools(up to10m3/min) | C22: h | D22: Rate only
B23: (d) Water truck (5 000 litre) | C23: h | D23: Rate only
B24: (e) Flat bed truck (6 ton) | C24: h | D24: Rate only
B25: (f) Light delivery vehicle (LDV) | C25: h | D25: Rate only
A26: C1.2.8 | B26: TOTAL CARRIED FORWARD
A27: 159-21

Sheet Equip& m
A1: ITEM NO | B1: DESCRIPTION | C1: UNIT | D1: RATE | E1: AMOUNT
A2: C1.2.8 | B2: BROUGHT FORWARD
A3: C1.2.8.4 | B3: Material
B4: (a)Procurement of materials (Base gravel material) | C4: prime cost sum | D4: Rate only
B5: (b) Contractor's handling costs, profit and all other charges in respect of item C1.2.8.4 a | C5: % | D5: Rate only
A6: M910.05 | B6: Extra over item M910.03 for establishment within 24 hours (a) Tipper trucks (i)3 to 5 ton capacity | C6: No | D6: Rate only
B7: (ii)More than 5 ton capacity | C7: No | D7: Rate only
B8: (b) TLB - Tractor, loader, backhoe (0.5m3 bucket) | C8: No | D8: Rate only
B9: (c) Dewatering pump including generators and accessories (500l/min) | C9: No | D9: Rate only
B10: (d) Water truck (5000 litre) | C10: No | D10: Rate only
A17: C1.2.8 | B17: TOTAL CARRIED FORWARD TO SUMMARY
A18: 159-22

Sheet OHS
A1: ITEM NO | B1: DESCRIPTION | C1: UNIT | D1: RATE | E1: AMOUNT
A2: C1.2.5 | B2: OCCUPATIONAL HEALTH AND SAFETY ACT
A3: C1.2.5.1 | B3: Health and Safety plan | C3: Lump Sum | D3: Rate only
A4: C1.2.5.2 | B4: Implementation of health and safety plan | C4: month | D4: Rate only
A6: C1.2.6.2 | B6: Preventive and/ or mitigation measures | C6: Lump Sum | D6: Rate only
A14: C1.2 | B14: TOTAL CARRIED FORWARD TO SUMMARY
A15: 159-23

Sheet PAVING
A1: ITEM NO | B1: DESCRIPTION | C1: UNIT | D1: RATE | E1: AMOUNT
A2: C6.2 | B2: SEGMENTED PAVING
A4: C6.2.1 | B4: Segmental block Paving
A5: C6.2.1.1 | B5: Concrete block paving
B6: (a) 80mm Tan Concrete Interlocking Paver | C6: m² | D6: Rate only
B8: (b) 60mm Tan Concrete Interlocking Paver | C8: m² | D8: Rate only
B10: (c) 25mm bedding coarse river sand | C10: m² | D10: Rate only
A12: c6.2.2 | B12: Cast in-situ concrete edge and intermediate beams | C12: m³ | D12: Rate only
A14: C6.2.3 | B14: Provision and application of approved herbicide and ant poison
A16: C6.2.3.1 | B16: Provision of materials | C16: prime cost sum | D16: Rate only
A18: C6.2.3.2 | B18: Contractors charges and profit added to the prime cost sum | C18: % | D18: Rate only
A22: C6.2 | B22: TOTAL CARRIED FORWARD TO SUMMARY
A23: 159-24

Sheet TENDER SUMMARY
A2: SECTION | B2: DESCRIPTION | F2: AMOUNTS
A4: C1.2.5 | B4: OCCUPATIONAL HEALTH AND SAFETY ACT | F4: =OHS!E14 -> 0
A5: C1.2.8 | B5: DAYWORKS SCHEDULE | F5: ='Equip& m'!E17 -> 0
A6: C1.3 | B6: CONTRACTOR'S ESTABLISHMENT ON SITE AND GENERAL OBLIGATIONS | F6: =establ!E12 -> 0
A7: C1.5.2 | B7: ACCOMMODATION OF VEHICULAR TRAFFIC | F7: ='traffic acc'!E8 -> 0
A8: C3.1 | B8: CLEANING OF CONCRETE DRAINS AND CHANNELS | F8: ='cleaning of drains'!E23 -> 0
A9: C3.2 | B9: REPAIR AND MAINTENANCE OF INLET AND OUTLET STRUCTURES | F9: ='Inlet & Out'!E42 -> 0
A10: C6.2 | B10: SEGMENTED PAVING | F10: =PAVING!E22 -> 0
A11: C8.1 | B11: PRIME COAT | F11: ='PRIME COAT'!E33 -> 0
A12: C8.3 | B12: SURFACE TREATMENT- TEXTURE CORRECTION | F12: ='surface tr'!E8 -> 0
A13: C8.5 | B13: STANDARD CRACKS SEALING | F13: ='Crack Seal'!E14 -> 0
A14: C8.8 | B14: PATCHING AND REPAIRING | F14: =backfilling!E15 -> 0
A15: C8.8-2 | B15: REPAIR OF POTHOLES | F15: =potholes!E52 -> 0
A16: C11.1 | B16: PITCHING, STONEWORK, CAST IN SITU CONCRETE FOR PROTECTION AGAINST EROSION | F16: =pitching!E22 -> 0
A17: C11.2 | B17: NON- STRUCTURAL GABION | F17: =gabions!E19 -> 0
A18: C11.4 | B18: ROAD RESTRAINT SYSTEMS | F18: =guardrails!E11 -> 0
A19: M2700 | B19: EDGE BUILD-UP REMOVAL | F19: ='edge build-up'!E5 -> 0
A20: M3200 | B20: COLLECTION AND REMOVAL OFDEBRIS AND LITTER | F20: ='removal of debris'!E5 -> 0
A21: M3300 | B21: SHOULDER REPAIRS | F21: ='shoulder repair'!E10 -> 0
A22: M4700 | B22: MAINTENANCE OF LAY-BYES AND REST AREAS | F22: =layby!E9 -> 0
A23: M6100 | B23: GRASS CUTTING: SHOULDER AND GENERAL MOWING | F23: ='grass cutt'!E10 -> 0
A24: M6300 | B24: REMOVAL OF UNDESIRABLE VEGETATION: PHYSICAL ERADICATION | F24: ='removal of veg'!E11 -> 0
A25: M8100 | B25: MINOR REPAIRS TO STRUCTURES | F25: ='repairs of str'!E7 -> 0
B27: TOTAL A TO CALCULATION OF THE TENDER SUM | F27: =SUM(F4:F25) -> 0

Sheet SUMMARY OF SCHEDULES OF QUANTI
A1: SECTION | B1: DESCRIPTION | G1: AMOUNT
A4: A | B4: TOTAL SCHEDULE A: RESURFACING AND RESEALING
B7: TOTAL FOR SCHEDULE OF REHABILITATION AND RESEALING OF STREETS
B9: VAT: ADD TO SUB - TOTAL 1
B12: TENDER SUM CARRIED TO FORM OF TENDER
