Workbook

Sheet SUMMARY
A1: PROJECT NAME: | C1: START DATE:
A2: CONTRACTOR: | C2: END DATE:
A3: CONTRACT #:
A4: PO NUMBER: | C4: Number of connections
A5: SUMMARY PAGE | C5: =BOQ!H276+BOQ!H277+BOQ!H278 -> 0
A6: SECTION | B6: DESCRIPTION | C6: GRAND TOTAL
A7: A | B7: PRELIMINARIES AND GENERAL | C7: =BOQ!K8 -> 0
A8: B | B8: =BOQ!C9 -> BUSH CLEARING & TREE FELLING | C8: =BOQ!K13 -> 0
A9: C | B9: =VLOOKUP(SUMMARY!A9,BOQ!_xlnm.Print_Area,3,FALSE) -> EXCAVATIONS | C9: =BOQ!K82 -> 0
A10: D | B10: =VLOOKUP(SUMMARY!A10,BOQ!_xlnm.Print_Area,3,FALSE) -> PLANTING OF POLES | C10: =BOQ!K166 -> 0
A11: E | B11: =BOQ!#REF! -> #REF! | C11: =BOQ!K176 -> 0
A12: F | B12: =VLOOKUP(SUMMARY!A12,BOQ!_xlnm.Print_Area,3,FALSE) -> ASSEMBLE SINGLE PHASE LV STRUCTURES | C12: =BOQ!K210 -> 0
A13: G | B13: =VLOOKUP(SUMMARY!A13,BOQ!_xlnm.Print_Area,3,FALSE) -> ASSEMBLE LV STAYS | C13: =BOQ!K217 -> 0
A14: H | B14: =VLOOKUP(SUMMARY!A14,BOQ!_xlnm.Print_Area,3,FALSE) -> POLE TOP BOX INSTALLATION | C14: =BOQ!K231 -> 0
A15: I | B15: =VLOOKUP(SUMMARY!A15,BOQ!_xlnm.Print_Area,3,FALSE) -> CONDUCTOR STRINGING (TENSION, REGULATE & BIND IN) | C15: =BOQ!K244 -> 0
A16: J | B16: =VLOOKUP(SUMMARY!A16,BOQ!_xlnm.Print_Area,3,FALSE) -> EQUIPMENT INSTALLATION | C16: =BOQ!K273 -> 0
A17: K | B17: =VLOOKUP(SUMMARY!A17,BOQ!_xlnm.Print_Area,3,FALSE) -> SERVICE CONNECTION INSTALLATION | C17: =BOQ!K299 -> 0
A18: L | B18: =VLOOKUP(SUMMARY!A18,BOQ!_xlnm.Print_Area,3,FALSE) -> Service Conductor Installation: Accessories for Service Conductor installation shall include installation of pigtails, bolts, strain clamps, threaded rod, cable saddles, stringging of all types of service cable. Installation of poles and its accessories are measured elsewhere | C18: =BOQ!K307 -> 0
A19: M | B19: Underground Cable Installation: | C19: =BOQ!K354 -> 0
A20: N | B20: SERVICE CONDUCTOR INSTALLATION | C20: =BOQ!K368 -> 0
A21: O | B21: UNDERGROUND CABLE INSTALLATION | C21: =BOQ!K386 -> 0
A22: P | B22: =VLOOKUP(SUMMARY!A22,BOQ!_xlnm.Print_Area,3,FALSE) -> EQUIPMENT DISMANTLING | C22: =BOQ!K406 -> 0
A23: Q | B23: =VLOOKUP(SUMMARY!A23,BOQ!_xlnm.Print_Area,3,FALSE) -> LABELLING | C23: =BOQ!K410 -> 0
A24: R | B24: =VLOOKUP(SUMMARY!A24,BOQ!_xlnm.Print_Area,3,FALSE) -> EQUIPMENT TESTING | C24: =BOQ!K421 -> 0
A25: S | B25: =VLOOKUP(SUMMARY!A25,BOQ!_xlnm.Print_Area,3,FALSE) -> AS - BUILTS | C25: =BOQ!K425 -> 0
A26: T | B26: =TRANSPORT!B7 -> TRANSPORT | C26: =TRANSPORT!F19 -> 0
A27: U | B27: ='ADHOC MATERIAL'!B5 -> Adhoc material | C27: ='ADHOC MATERIAL'!F9 -> 0
A28: TOTAL EXCLUDING 15% VAT | C28: =SUM(C7:C27) -> 0
A29: 15% VAT | C29: =C28*0.15 -> 0
A30: TOTAL INCLUDING 15% VAT | C30: =SUM(C28:C29) -> 0
A31: COST PER CONNECTION | C31: =C30/C5 -> 0
A32: VERIFIED BY: CLERK OF WORKS
A33: COST CHECK BY: QUANTITY SURVEYOR
A34: ACCEPTED BY: CONTRACTOR
A35: APPROVED BY: PROGRAM MANAGER

Sheet Ps & Gs
C3: 1 | E3: Site Establishment | F3: UOM | G3: Qty | H3: Rate | I3: Total
C4: 1.1 | E4: Risk Assessment Procedure,Quality Management System, Health and Safety Management, Safety Inspections, PPE,Environmental Management and Site Maintenance, OHSA appointments, Non-Conformance Process to be available in project file. Total Labour Value | F4: %
C5: 1.2 | E5: Overheads for project (This includes site establishment, office overheads, administration cost, etc) Total Labour Value | F5: %
C6: 1.3 | E6: De-establishment & Rehabilitation of Site | F6: Sum
C7: 1.4 | E7: CLO | F7: Month
C8: 1.5 | E8: Parttime Health and Safety Officer as per Construction Regulations, registered with SACPMP | F8: Per/day
C9: 1.6 | E9: Responsible person | F9: Per/day
C10: 1.7 | E10: Security | F10: Per Guard / per week
E11: Subtotal carried to summary | I11: =SUM(I4:I10) -> 0

Sheet BOQ
A1: PROJECT NAME: | C1: START DATE:
A2: CONTRACTOR: | C2: END DATE:
A3: CONTRACT #:
A4: PO NUMBER:
A5: BILL OF ACTIVITIES
A6: ITEM | B6: REFERENCE DRAWING | C6: DESCRIPTION | D6: UNIT | E6: SUPPLY QTY | F6: SUPPLY RATE | G6: SUPPLY TOTAL | H6: LABOUR QTY | I6: LABOUR RATE | J6: LABOUR TOTAL | K6: GRAND TOTAL | L6: Comments
A7: A | C7: PRELIMINARY AND GENERAL ITEMS | K7: ='Ps & Gs'!I11 -> 0
A8: SUB-TOTAL A | K8: =SUM(K7) -> 0
A9: B | C9: BUSH CLEARING & TREE FELLING
A10: In the event where the contractor is required to cut, remove and clear trees on site. This activity shall be used to execute such work provided that the quotation submited is from a contractor who meets all the necessary requirements for Bush Clearing plus fee. | I10: COST PLUS fee
A11: 1 | C11: Bush Clearing and Tree Felling (Scattered Formation) | D11: m | J11: =I11*J10 -> 0 | K11: =I11+J11 -> 0
A12: 2 | C12: Bush Clearing and Tree Felling (Dense Formation) | D12: m2 | J12: =I12*J10 -> 0 | K12: =I12+J12 -> 0
A13: SUB-TOTAL B | K13: =SUM(K11:K12) -> 0
A14: C | C14: EXCAVATIONS
A15: Excavate only as per Eskom Standard for Holes and Trenches for Poles, Stays and Struts. All material will be elsewhere measured.
A16: 1 | C16: STAYS & STRUTS
A17: 1.1 | B17: D-DT-0350 | C17: LV Stay Back-Actor or Hand | D17: Each | J17: =SUM(H17*I17) -> 0 | K17: =SUM(G17+J17) -> 0
A18: 1.2 | B18: D-DT-0350 | C18: LV Stay auger | D18: Each | J18: =SUM(H18*I18) -> 0 | K18: =SUM(G18+J18) -> 0
A19: 1.3 | B19: D-DT-0350 | C19: LV Strut Back-Actor or Hand | D19: Each | J19: =SUM(H19*I19) -> 0 | K19: =SUM(G19+J19) -> 0
A20: 1.4 | B20: D-DT-0350 | C20: LV Strut auger | D20: Each | J20: =SUM(H20*I20) -> 0 | K20: =SUM(G20+J20) -> 0
A21: 1.5 | B21: D-DT-0337 | C21: LV Short Strut Back-Actor or Hand | D21: Each | J21: =SUM(H21*I21) -> 0 | K21: =SUM(G21+J21) -> 0
A22: 1.6 | B22: D-DT-0337 | C22: LV Short Strut auger | D22: Each | J22: =SUM(H22*I22) -> 0 | K22: =SUM(G22+J22) -> 0
A23: 1.7 | B23: D-DT-0350 | C23: MV Stay Back-Actor or Hand | D23: Each | J23: =SUM(H23*I23) -> 0 | K23: =SUM(G23+J23) -> 0 | L23: Incase work is executed on shared structure
A24: 1.8 | B24: D-DT-0350 | C24: MV Stay auger | D24: Each | J24: =SUM(H24*I24) -> 0 | K24: =SUM(G24+J24) -> 0
A25: 1.9 | B25: D-DT-0350 | C25: MV Strut Back-Actor or Hand | D25: Each | J25: =SUM(H25*I25) -> 0 | K25: =SUM(G25+J25) -> 0
A26: 1.1 | B26: D-DT-0350 | C26: MV Strut auger | D26: Each | J26: =SUM(H26*I26) -> 0 | K26: =SUM(G26+J26) -> 0
A27: 2 | C27: WOOD POLES
A28: 2.1 | B28: D-DT-0330 | C28: 5m Pole Wood Back-Actor or Hand (1.0m Deep) | D28: Each | J28: =SUM(H28*I28) -> 0 | K28: =SUM(G28+J28) -> 0
A29: 2.2 | B29: D-DT-0330 | C29: 5m Pole Wood auger (1.0m Deep) | D29: Each | J29: =SUM(H29*I29) -> 0 | K29: =SUM(G29+J29) -> 0
A30: 2.3 | B30: D-DT-0330 | C30: 5m Pole Wood Hard Rock Drilling (1.0m Deep) | D30: Each | J30: =SUM(H30*I30) -> 0 | K30: =SUM(G30+J30) -> 0
A31: 2.4 | B31: D-DT-0330 | C31: 5m Pole Wood Back-Actor or Hand (1.5m Deep) | D31: Each | J31: =SUM(H31*I31) -> 0 | K31: =SUM(G31+J31) -> 0
A32: 2.5 | B32: D-DT-0330 | C32: 5m Pole Wood auger (1.5m Deep) | D32: Each | J32: =SUM(H32*I32) -> 0 | K32: =SUM(G32+J32) -> 0
A33: 2.6 | B33: D-DT-0330 | C33: 5m Pole Wood Hard Rock Drilling (1.5m Deep) | D33: Each | J33: =SUM(H33*I33) -> 0 | K33: =SUM(G33+J33) -> 0
A34: 2.7 | B34: D-DT-0330 | C34: 7m Pole Wood Back-Actor or Hand (1.3m Deep) | D34: Each | J34: =SUM(H34*I34) -> 0 | K34: =SUM(G34+J34) -> 0
A35: 2.8 | B35: D-DT-0330 | C35: 7m Pole Wood auger (1.3m Deep) | D35: Each | J35: =SUM(H35*I35) -> 0 | K35: =SUM(G35+J35) -> 0
A36: 2.9 | B36: D-DT-0330 | C36: 7m Pole Wood Hard Rock Drilling (1.3m Deep) | D36: Each | J36: =SUM(H36*I36) -> 0 | K36: =SUM(G36+J36) -> 0
A37: 2.13 | B37: D-DT-0330 | C37: 9m Pole Wood Back-Actor or Hand (1.5m Deep) | D37: Each | J37: =SUM(H37*I37) -> 0 | K37: =SUM(G37+J37) -> 0
A38: 2.14 | B38: D-DT-0330 | C38: 9m Pole Wood auger (1.5m Deep) | D38: Each | J38: =SUM(H38*I38) -> 0 | K38: =SUM(G38+J38) -> 0
A39: 2.15 | B39: D-DT-0330 | C39: 9m Pole Wood Hard Rock Drilling (1.5m Deep) | D39: Each | J39: =SUM(H39*I39) -> 0 | K39: =SUM(G39+J39) -> 0
... A45: 2.21 | B45: D-DT-0330 | C45: 11m Pole Wood Hard Rock Drilling (1.8m Deep) | D45: Each | J45: =SUM(H45*I45) -> 0 | K45: =SUM(G45+J45) -> 0
...

Sheet TRANSPORT
A1: PROJECT NAME: | C1: START DATE:
A2: CONTRACTOR: | C2: END DATE:
A3: CONTRACT #:
A4: PO NUMBER:
A5: BILL OF ACTIVITIES
A6: ITEM | B6: DESCRIPTION | C6: UNIT | D6: LABOUR QTY | E6: LABOUR RATE | F6: LABOUR TOTAL
A7: T | B7: TRANSPORT
A8: Unless otherwise specified, transport is to be used under specific instruction from the Project Manager only. This excludes staff transport. Staff transport is to be paid to transport workers from base location to site only. LDV/4x4 will only be paid for justifiable use and will be to the sole discretion of the Project Manager
A9: 1.1 | B9: LDV 4x2 | C9: km | F9: =D9*E9 -> 0
A10: 1.2 | B10: LDV/4x4 | C10: km | F10: =D10*E10 -> 0
A11: 1.3 | B11: Personnel Transport for Staff | C11: km | F11: =D11*E11 -> 0
A12: 1.4 | B12: 10 m³ Tipper Truck | C12: km | F12: =D12*E12 -> 0
A13: 1.5 | B13: 6 m³ Tipper Truck | C13: km | F13: =D13*E13 -> 0
A14: 1.6 | B14: Transport Truck 2-4 ton | C14: km | F14: =D14*E14 -> 0
A15: 1.7 | B15: Transport Truck 5-8 ton | C15: km | F15: =D15*E15 -> 0
A16: 1.8 | B16: Transport Truck 5-8 ton with crane | C16: km | F16: =D16*E16 -> 0
A17: 1.9 | B17: Transport Truck 9-14 ton | C17: km | F17: =D17*E17 -> 0
A18: 1.1 | B18: Transport Truck 9-14 ton with crane | C18: km | F18: =D18*E18 -> 0
A19: SUB-TOTAL T | F19: =SUM(F9:F18) -> 0
A20: VERIFIED BY: CLERK OF WORKS | C20: DATE:
A21: COST CHECK BY: QUANTITY SURVEYOR | C21: DATE:
A22: ACCEPTED BY: CONTRACTOR | C22: DATE:
A23: APPROVED BY: PROGRAM MANAGER | C23: DATE:

Sheet ADHOC MATERIAL
A1: PROJECT NAME: | B1: START DATE:
A2: CONTRACTOR: | B2: END DATE:
A3: CONTRACT #:
A4: PO NUMBER:
A5: ITEM: W | B5: Adhoc material | C5: SCOPE
B6: DESCRIPTION | C6: % | D6: Price before VAT | E6: Cost + | F6: Total
A7: This schedule is used to assist with all the adhoc material that is purchased on the request of the PM/PC. A 5% handling fee will be compensated to the contractor for the amount before VAT
A8: 1.1 | B8: Material bought | D8: 0 | E8: =C8*D8 -> 0 | F8: =SUM(E8,D8) -> 0
B9: TOTAL - W | F9: =SUM(F8:F8) -> 0
A10: VERIFIED BY: CLERK OF WORKS | C10: DATE:
A11: COST CHECK BY: QUANTITY SURVEYOR | C11: DATE:
A12: ACCEPTED BY: CONTRACTOR | C12: DATE:
A13: APPROVED BY: PROGRAM MANAGER | C13: DATE:
