Workbook
Name a: '[1]KW Vlookup'!#REF!
Name a: '[1]KW Vlookup'!#REF!
Name a: '[1]KW Vlookup'!#REF!
Name a: '[1]KW Vlookup'!#REF!
Name a: '[1]KW Vlookup'!#REF!
Name a: '[1]KW Vlookup'!#REF!
Name a: '[1]KW Vlookup'!#REF!
Name a: '[1]KW Vlookup'!#REF!
Name a: '[1]KW Vlookup'!#REF!
Name a: '[1]KW Vlookup'!#REF!
Name a: '[1]KW Vlookup'!#REF!
Name a: '[1]KW Vlookup'!#REF!
Name a: '[1]KW Vlookup'!#REF!
Name a: '[1]KW Vlookup'!#REF!
Name a: '[1]KW Vlookup'!#REF!
Name a: '[1]KW Vlookup'!#REF!
Name a: '[1]KW Vlookup'!#REF!
Name Battery: [2]Sheet2!$A$4:$A$5
Name BU: '[3]KW Vlookup'!$O$4:$O$8
Name BU: '[3]KW Vlookup'!$O$4:$O$8
Name BU: '[3]KW Vlookup'!$O$4:$O$8
Name BU: '[3]KW Vlookup'!$O$4:$O$8
Name BU: '[3]KW Vlookup'!$O$4:$O$8
Name BU: '[3]KW Vlookup'!$O$4:$O$8
Name BU: '[3]KW Vlookup'!$O$4:$O$8
Name BU: '[3]KW Vlookup'!$O$4:$O$8
Name BU: '[3]KW Vlookup'!$O$4:$O$8
Name BU: '[3]KW Vlookup'!$O$4:$O$8
Name BU: '[3]KW Vlookup'!$O$4:$O$8
Name BU: '[3]KW Vlookup'!$O$4:$O$8
Name BU: '[3]KW Vlookup'!$O$4:$O$8
Name BU: '[3]KW Vlookup'!$O$4:$O$8
Name BU: '[3]KW Vlookup'!$O$4:$O$8
Name BU: '[3]KW Vlookup'!$O$4:$O$8
Name BU: '[1]KW Vlookup'!$O$4:$O$8
Name CT: '[3]KW Vlookup'!$R$4:$R$8
Name CT: '[3]KW Vlookup'!$R$4:$R$8
Name CT: '[3]KW Vlookup'!$R$4:$R$8
Name CT: '[3]KW Vlookup'!$R$4:$R$8
Name CT: '[3]KW Vlookup'!$R$4:$R$8
Name CT: '[3]KW Vlookup'!$R$4:$R$8
Name CT: '[3]KW Vlookup'!$R$4:$R$8
Name CT: '[3]KW Vlookup'!$R$4:$R$8
Name CT: '[3]KW Vlookup'!$R$4:$R$8
Name CT: '[3]KW Vlookup'!$R$4:$R$8
Name CT: '[3]KW Vlookup'!$R$4:$R$8
Name CT: '[3]KW Vlookup'!$R$4:$R$8
Name CT: '[3]KW Vlookup'!$R$4:$R$8
Name CT: '[3]KW Vlookup'!$R$4:$R$8
Name CT: '[3]KW Vlookup'!$R$4:$R$8
Name CT: '[3]KW Vlookup'!$R$4:$R$8
Name CT: '[1]KW Vlookup'!$R$4:$R$8
Name D: '[3]KW Vlookup'!$P$4:$P$8
Name D: '[3]KW Vlookup'!$P$4:$P$8
Name D: '[3]KW Vlookup'!$P$4:$P$8
Name D: '[3]KW Vlookup'!$P$4:$P$8
Name D: '[3]KW Vlookup'!$P$4:$P$8
Name D: '[3]KW Vlookup'!$P$4:$P$8
Name D: '[3]KW Vlookup'!$P$4:$P$8
Name D: '[3]KW Vlookup'!$P$4:$P$8

Sheet 12801-Summary
A1: GANYESA HOSPITAL
A2: DEPARTMENT OF HEALTH
A3: BILL OF QUANTITIES
A6: SUMMARY FOR BILLS OF QUANTITIES : ELECTRICAL SERVICES
A8: ITEM | B8: DESCRIPTION | C8: AMOUNT
A9: 1 | B9: BILL 1: PRELIMINARY AND GENERAL | C9: ='12801-BOQ1(P&G)'!E42 -> 0
A10: 2 | B10: BILL 2: COMPLIANCE CERTIFICATION (SANS 10142) | C10: ='12801-BOQ2(CoC)'!E30 -> 0
A11: 3 | B11: BILL 3: DISTRIBUTION SWITCHBOARDS | C11: ='12801-BOQ3DB)'!E474 -> 0
A12: 4 | B12: BILL 4: SMALL POWER INSTALLATIONS | C12: ='12801-BOQ4(SP)'!E329 -> 0
A13: 5 | B13: BILL 5: LIGHTING INSTALLATIONS | C13: ='12801-BOQ5(L)'!E283 -> 0
A14: 6 | B14: BILL 6: NURSE CALL SYSTEMS | C14: ='12801-BOQ6(NCS)'!E113 -> 0
A15: 7 | B15: BILL 7: SURGE & LIGHTNING PROTECTION | C15: ='12801-BOQ7(SLP)'!E114 -> 0
A16: 8 | B16: BILL 8: EMERGENCY POWER | C16: ='12801-BOQ8(SGen)'!E39 -> 0
A17: 9 | B17: BILL 9: HVAC | C17: ='12801-BOQ9(HVAC)'!E225 -> 0
A18: 10 | B18: BILL 10: FIRE WATER PUMP & PLANT ROOM - WIP | C18: ='12801-BOQ10(FirePump)'!E38 -> 0
A19: 11 | B19: SUB-TOTAL : ELECTRICAL [Items 1 to 10] (Excl. VAT) | C19: =SUM(C9:C18) -> 0
A20: 12 | B20: VAT 15% | C20: =C19*0.15 -> 0
A21: 13 | B21: TOTAL AMOUNT : ELECTRICAL [Items 11+12] (Incl. VAT) | C21: =SUM(C19:C20) -> 0

Sheet 12801-BOQ1(P&G)
A1: GANYESA HOSPITAL
A2: DEPARTMENT OF HEALTH
A3: BILL OF QUANTITIES - ELECTRICAL
A6: BOQ No.1: Preliminary & General
A8: ITEM | B8: DESCRIPTION | C8: UNIT | D8: QTY | E8: RATE | F8: AMOUNT
A10: 1.1 | B10: SITE ESTABLISHMENT & ADMIN COSTS | C10: Lot | D10: 1 | F10: =E10*$D10 -> 0
B11: a) Site Office (Camp and Fencing) & Store | F11: =E11*$D11 -> 0
B12: b) Site Personnel (including security) & Supervisory Staff | F12: =E12*$D12 -> 0
B13: c) Transport (staff). | F13: =E13*$D13 -> 0
B14: d) Insurances & Surety/Bank guarantee. | F14: =E14*$D14 -> 0
B15: e) Running costs e.g. electricity, water, telephone, printing, etc. | F15: =E15*$D15 -> 0
F16: =E16*$D16 -> 0
A17: 1.2 | B17: GENERAL COSTS | F17: =E17*$D17 -> 0
A18: 1.2.1 | B18: Ensure full compliance with all the requirements of the Health and Safety (H&S) Undertaking. Including, but not limited to, that all work shall be carried out strictly in accordance with the relevant OHS Act requirements; weekly H&S meetings and H&S site file that is always on site and kept up to date. | C18: Lot | D18: 1 | F18: =E18*$D18 -> 0
A19: 1.2.2 | B19: Critical path schedule, contract programme, including weekly updating and attending two weekly site meetings. | C19: Lot | D19: 1 | F19: =E19*$D19 -> 0
F20: =E20*$D20 -> 0
A21: 1.3 | B21: DISPOSAL OF REDUNDANT MATERIAL | F21: =E21*$D21 -> 0
A22: 1.3.1 | B22: The Contractor shall make provision for the safe disconnection, removal, loading, transport and safe disposal of all redundant materials inclusive of distribution boards, switchgear, cable, conduit, wire channel, small power outlets, luminaires, lamps and electrical sundry materials in accordance with standard safe practices. | C22: Lot | D22: 1 | F22: =E22*$D22 -> 0
A23: 1.3.2 | B23: The Contractor shall obtain a Safe Disposal Certificate from a registered hazardous waste site as confirmation of the safe disposal of all flourescent lamps identified as been redundant. The certificate shall indicate the waste type, volume and hazardous waste site used. | C23: Lot | D23: 1 | F23: =E23*$D23 -> 0
F24: =E24*$D24 -> 0
A25: 1.4 | B25: SITE CLEAN-UP | C25: Lot | D25: 1 | F25: =E25*$D25 -> 0
B26: Clean-up of the construction site after completion of the Works, to the satisfaction of both the Engineer and the Client. | F26: =E26*$D26 -> 0
F27: =E27*$D27 -> 0
F28: =E28*$D28 -> 0
F29: =E29*$D29 -> 0
F30: =E30*$D30 -> 0
F31: =E31*$D31 -> 0
F32: =E32*$D32 -> 0
F33: =E33*$D33 -> 0
F34: =E34*$D34 -> 0
F35: =E35*$D35 -> 0
F36: =E36*$D36 -> 0
F37: =E37*$D37 -> 0
F38: =E38*$D38 -> 0
... F41: =E41*$D41 -> 0
A42: CARRIED FORWARD TO ITEM 1 - SUMMARY FOR BILLS OF QUANTITIES | E42: =SUM(F9:F41) -> 0

Sheet 12801-BOQ2(CoC)
A1: GANYESA HOSPITAL
A2: DEPARTMENT OF HEALTH
A3: BILL OF QUANTITIES - ELECTRICAL
A6: BOQ No.2: Compliance Certification (SANS 10142)
A8: ITEM | B8: DESCRIPTION | C8: UNIT | D8: QTY | E8: RATE | F8: AMOUNT
A10: 2.1 | B10: STANDARD REGULATIONS AND CODES OF PRACTICE | F10: =E10*$D10 -> 0
B11: The Occupational Health and Safety Act, 1993 (Act No. 85 of 1993) (OHS Act), which is administered by the Chief Inspector of Occupational Health and Safety of the Department of Labour, requires that electrical installations comply with the requirements of SANS 10142-1. It also requires that a registered person, as defined (master installation electrician, installation electrician or electrical tester for single phase), will issue a Certificate of Compliance together with a test report. The certificate shall be in the form of the Certificate of Compliance published in the Electrical Installation Regulations, 2012, and the test report shall be in the form of the test report as per SANS 10142.
A12: 2.2 | B12: SPECIALIST SUB-CONTRACTOR (MASTER ELECTRICIAN) | F12: =E12*$D12 -> 0
A13: 2.2.1 | B13: The Contractor shall make allowance for supervision of the electrical repair/installation works by a certificated master electrician, as pertaining to specilist medical locations (theatres, high care units, wards, etc.) and as detailed below:
B14: a) Supervisory works for duration of project | C14: Hrs | D14: 48 | F14: =E14*$D14 -> 0
B15: b) Travelling | C15: Km | D15: 2400 | F15: =E15*$D15 -> 0
B16: c) Accommodation | C16: Days | D16: 8 | F16: =E16*$D16 -> 0
A17: 2.2.2 | B17: On receiving confirmation from the Client that the electrical works is complete, the Contractor shall make allowance for the return to site of the master electrician to conduct all necessary inspections and testing in order to issue valid Certificates of Compliance , as pertaining to specilist medical locations (theatres, high care units, wards, etc.) and as detailed below.
B18: Inspection, testing and commissioning of electrical installations as specified above: | F18: =E18*$D18 -> 0
B19: a) Theater - Master Electrician | C19: No | D19: 2 | F19: =E19*$D19 -> 0
B20: b) High Care Unit - Master Electrician | C20: No | D20: 1 | F20: =E20*$D20 -> 0
B21: c) Normal Hospital Accomodation - Installation Electrician | C21: No | D21: 21 | F21: =E21*$D21 -> 0
B22: d) Travelling | C22: Km | D22: 600 | F22: =E22*$D22 -> 0
B23: e) Accommodation | C23: Days | D23: 3 | F23: =E23*$D23 -> 0
A24: 2.2.3 | B24: Compilation of electrical as-build drawings of the complete hospital complex, and as indicated below: | F24: =E24*$D24 -> 0
B25: a) LV distribution network diagram | C25: Lot | D25: 1 | F25: =E25*$D25 -> 0
B26: b) LV distribution board single-line diagrams | C26: No | D26: 24 | F26: =E26*$D26 -> 0
B27: c) LV small power; indoor & outdoor lighting layout drawings | C27: Lot | D27: 1 | F27: =E27*$D27 -> 0
A28: 2.2.4 | B28: Certificates of Compliance for the complete works as per SANS 10142-1. | C28: Lot | D28: 1 | F28: =E28*$D28 -> 0
F29: =E29*$D29 -> 0
A30: CARRIED FORWARD TO ITEM 2 - SUMMARY FOR BILLS OF QUANTITIES | E30: =SUM(F9:F28) -> 0

Sheet 12801-BOQ3DB)
A1: GANYESA HOSPITAL
A2: DEPARTMENT OF HEALTH
A3: BILL OF QUANTITIES - ELECTRICAL
A6: BOQ No.3: Distribution Boards
A8: ITEM | B8: DESCRIPTION | C8: UNIT | D8: QTY | E8: RATE | F8: AMOUNT
A10: 3.1 | B10: STANDARD REGULATIONS AND CODES OF PRACTICE | F10: =E10*$D10 -> 0
B11: All low voltage electrical distribution board installation work associated with this project shall be in accordance with the latest SANS Codes of Practice 10142-1 and in conjunction with: | F11: =E11*$D11 -> 0
B12: Occupational Health and Safety Act of 1993
B13: Manufacturer’s Specifications and Installation Instructions.
B14: Industry Standard Good Practices
A15: 3.2 | B15: GENERAL OVERVIEW | F15: =E15*$D15 -> 0
B16: Allowance shall be made for the installation, servicing, repairing and/or maintenance of all existing and/or new distribution boards as specified below, as a minimum. | F16: =E16*$D16 -> 0
A17: 3.2.1 | B17: Servicing of Existing Distribution Boards | F17: =E17*$D17 -> 0
B18: Allow for the comprehensive servicing of the distribution board which shall include for the opening of the distribution board; internal cleaning of the enclosure; cleaning of equipment and meters; removal of obsolete distribution board equipment; re-arrangement of equipment and wiring; treatment of the enclosure for moisture ingress and corrosion; vermin protection; tightening of all terminals on switchgear, neutral / earth bars and replacement of non-compliant wiring where required. | F18: =E18*$D18 -> 0
A19: 3.2.2 | B19: Circuit Verification & Electrical Integrity of Existing D/Boards | F19: =E19*$D19 -> 0
B20: Allow for the comprehensive visual inspection and operational testing of the distribution board circuits (inclusive of power, protection & control switchgear and components), in conjunction with, the tracing and labelling (traffolyte) of all outgoing circuits and ratifying of conductor phase colour-coding , in order to verify the electrical integrity and compliance of the circuits within the DB's area of distribution.
A21: 3.2.3 | B21: New Distribution Boards
B22: New enclosures shall be powder coated, have a minimum IP35 rating (indoors), IP65 rating (outdoors) and be c/w steelwork, frames, sub-frames, chassis, covers and lockable doors.
B23: New distribution switchboards shall be of the specified enclosure, factory equipped and wired c/w power and control switchgear, busbars, internal wiring, auxillary equipment, fixing accessories, labelling, signage and allowance for 30% spare capacity.
A24: 3.2.4 | B24: Distribution Board LV Switchgear
B25: All new low voltage switchgear required to be installed, in existing and/or new distribution board enclosures, shall be of the CBI range, or equivalent and approved.
F31: =IF(D31="n/a","Rate Only",IF(D31>0,E31*D31,0)) -> 0
A32: ITEM | B32: DESCRIPTION | C32: UNIT | D32: QTY | E32: RATE | F32: AMOUNT
A34: 3.3 | B34: DISTRIBUTION BOARDS
B35: All distribution boards shall be either installed, serviced, repaired and/or maintained such that after final inspection and testing, an electrical certificate of compliance may be issued.
A36: 3.3.1 | B36: DB # 01 (Munic Point of Supply * Main Kiosk)
B37: Outdoor * Plinth Mounted
A38: a) | B38: Service distribution kiosk | C38: Lot | D38: 1 | F38: =$D38*E38 -> 0
A39: b) | B39: Cable installed but not connected - make safe & secure | C39: Lot | D39: 1 | F39: =$D39*E39 -> 0
A40: c) | B40: Circuit verification & tracing - allow for five circuits | C40: No | D40: 5 | F40: =$D40*E40 -> 0
A41: d) | B41: Traffolyte circuit labels - allow for five circuits | C41: No | D41: 5 | F41: =$D41*E41 -> 0
A42: e) | B42: Traffolyte DB labels - allow for Kiosk "Name" and "Fed from…" | C42: Lot | D42: 1 | F42: =$D42*E42 -> 0
A43: f) | B43: Kiosk legend card | C43: No | D43: 1 | F43: =$D43*E43 -> 0
A44: g) | B44: Conduct infrared scan on kiosk on completion of works | C44: Lot | D44: 1 | F44: =$D44*E44 -> 0
A45: h) | B45: Final inspection and testing in preparation for issue of certificate of compliance by master electrician | C45: Lot | D45: 1 | F45: =$D45*E45 -> 0
A46: 3.3.2 | B46: DB # 02 (LT Room * Main LT Board) | F46: =$D46*E46 -> 0
B47: Indoor * Floor Standing | F47: =$D47*E47 -> 0
A48: a) | B48: Service distribution board | C48: Lot | D48: 1 | F48: =$D48*E48 -> 0
A49: b) | B49: Circuit verification & tracing - allow for fifteen circuits | C49: No | D49: 15 | F49: =$D49*E49 -> 0
A50: c) | B50: Traffolyte circuit labels - allow for fifteen circuits | C50: No | D50: 15 | F50: =$D50*E50 -> 0
...

Sheet 12801-BOQ4(SP)
A1: GANYESA HOSPITAL
A2: DEPARTMENT OF HEALTH
A3: BILL OF QUANTITIES - ELECTRICAL
A6: BOQ No.4: Small Power Installations
A8: ITEM | B8: DESCRIPTION | C8: UNIT | D8: QTY | E8: RATE | F8: AMOUNT
F9: =$D9*E9 -> 0
A10: 4.1 | B10: STANDARD REGULATIONS AND CODES OF PRACTICE | F10: =$D10*E10 -> 0
B11: All low voltage electrical small power installation work associated with this project shall be in accordance with the latest SANS Codes of Practice 10142-1 and in conjunction with: | F11: =$D11*E11 -> 0
B12: Occupational Health and Safety Act of 1993 | F12: =$D12*E12 -> 0
B13: Manufacturer’s Specifications and Installation Instructions. | F13: =$D13*E13 -> 0
B14: Industry Standard Good Practices | F14: =$D14*E14 -> 0
A15: 4.2 | B15: POWER & LIGHTING OUTLETS - INSPECTION & TESTING | F15: =$D15*E15 -> 0
B16: Allowance shall be made for the inspection, testing and labelling of all existing and/or new small power and lighting appliance installations, to ensure electrical integrity and compliance. | F16: =$D16*E16 -> 0
B17: All switched socket outlets, switched disconnectors (isolators), luminaires and light switches shall be opened; cleaned out of any debris; terminations checked to ensure sound connection (T-type ferrules to be used) and securely closed. | F17: =$D17*E17 -> 0
B18: All switched socket outlets, switched disconnectors (isolators) and light switches shall be correctly labelled with the distribution board (name) and circuit breaker (number) it is being fed from [i.e. DB...CB…] | F18: =$D18*E18 -> 0
B19: AREA # 01 (Theatres & Maternity Ward) | F19: =$D19*E19 -> 0
A20: 4.2.1 | B20: Theatres 1 & 2 | F20: =$D20*E20 -> 0
B21: a) Open, inspect and test - switched socket outlets | C21: No | D21: 16 | F21: =$D21*E21 -> 0
B22: b) Open, inspect and test - light switches | C22: No | D22: 4 | F22: =$D22*E22 -> 0
B23: c) Open, inspect and test - luminaires | C23: No | D23: 8 | F23: =$D23*E23 -> 0
B24: d) Label - socket outlets / light switches / Isolators | C24: Lot | D24: 1 | F24: =$D24*E24 -> 0
A25: 4.2.2 | B25: Pre-Op & Recovery; Theatre General Areas | F25: =$D25*E25 -> 0
B26: a) Open, inspect and test - switched socket outlets | C26: No | D26: 34 | F26: =$D26*E26 -> 0
B27: b) Open, inspect and test - light switches | C27: No | D27: 27 | F27: =$D27*E27 -> 0
B28: c) Open, inspect and test - luminaires | C28: No | D28: 42 | F28: =$D28*E28 -> 0
B29: d) Label - socket outlets / light switches / Isolators | C29: Lot | D29: 1 | F29: =$D29*E29 -> 0
B30: e) Re-route all light circuits to to UPS supply | C30: Lot | D30: 1 | F30: =$D30*E30 -> 0
A31: 4.2.3 | B31: Maternity Ward | F31: =$D31*E31 -> 0
B32: a) Open, inspect and test - switched socket outlets | C32: No | D32: 18 | F32: =$D32*E32 -> 0
B33: b) Open, inspect and test - light switches | C33: No | D33: 21 | F33: =$D33*E33 -> 0
B34: c) Open, inspect and test - luminaires | C34: No | D34: 42 | F34: =$D34*E34 -> 0
B35: d) Open, inspect and test - bed head units | C35: No | D35: 3 | F35: =$D35*E35 -> 0
B36: e) Open, inspect and test - air-con unit isolators | C36: No | D36: 2 | F36: =$D36*E36 -> 0
B37: f) Supply & install new socket outlet for TV's c/w 20A circuit breaker in DB; conduit, wireways and wiring. | C37: No | D37: 3 | F37: =$D37*E37 -> 0
B38: g) Label - socket outlets / light switches / Isolators | C38: Lot | D38: 1 | F38: =$D38*E38 -> 0
F39: =$D39*E39 -> 0
F40: =$D40*E40 -> 0
F41: =$D41*E41 -> 0
B42: Carried Forward to NEXT PAGE | E42: =SUM(F9:F41) -> 0
A43: ITEM | B43: DESCRIPTION | C43: UNIT | D43: QTY | E43: RATE | F43: AMOUNT
...

Sheet 12801-BOQ5(L)
A1: GANYESA HOSPITAL
A2: DEPARTMENT OF HEALTH
A3: BILL OF QUANTITIES - ELECTRICAL
A6: BOQ No.5: Lighting Installations
A8: ITEM | B8: DESCRIPTION | C8: UNIT | D8: QTY | E8: RATE | F8: AMOUNT
A10: 5.1 | B10: STANDARD REGULATIONS AND CODES OF PRACTICE | F10: =E10*$D10 -> 0
B11: All low voltage lighting installation work associated with this project shall be in accordance with the latest SANS Codes of Practice 10142-1 and in conjunction with: | F11: =E11*$D11 -> 0
B12: Occupational Health and Safety Act of 1993
B13: Manufacturer’s Specifications and Installation Instructions.
B14: Industry Standard Good Practices
A15: 5.2 | B15: TENDERED RATES | F15: =E15*$D15 -> 0
B16: The tendered rates used in this bills of quantites shall be applied as follows: | F16: =E16*$D16 -> 0
B17: a) Supply : Tendered rate for the supply of the specified item's measured unit quantity to be installed.
B18: b) Replace : Tendered rate for the supply of the specified item's measured unit quantity to be installed, and shall include full compensation for the removal of the existing item to be replaced.
B19: c) Install : Tendered rate for the installation of the specified item's measured unit quantity.
A20: 5.3 | B20: INDOOR LIGHTING - LUMINAIRES
B21: Supply and installation of luminaires of the Beka-, Philips-, Province Lighting type/s and range/s (c/w lamps), or equivalent and approved. Allow for the mounting onto cable trays, concrete, brickwork, walls and/or ceilings c/w all brackets,supports, conduit boxes, mounting and fixing accessories.
A22: 5.3.1 | B22: Type A
B23: 1200x600; Recessed 3x28W
B24: T5 lamps - Cool White; ECG | F24: =$D24*E24 -> 0
B25: a) Replace | C25: No | D25: 5 | F25: =$D25*E25 -> 0
B26: b) Install | C26: =C25 -> No | D26: 5 | F26: =$D26*E26 -> 0
A27: 5.3.2 | B27: Type B
B28: 1200x600; Recessed 4x28W
B29: T5 lamps - Cool White; ECG | F29: =$D29*E29 -> 0
B30: a) Replace | C30: No | F30: Rate Only
B31: b) Install | C31: =C30 -> No | F31: Rate Only
A32: 5.3.3 | B32: Type C
B33: 1500mm; Surface Open Channel Fluorescent; 1x35W
B34: T5 lamps - Cool White; ECG; Wide Body | F34: =$D34*E34 -> 0
B35: a) Replace | C35: No | D35: 41 | F35: =$D35*E35 -> 0
B36: b) Install | C36: =C35 -> No | D36: 41 | F36: =$D36*E36 -> 0
A37: 5.3.4 | B37: Type D
B38: 1500mm; Surface Open Channel Fluorescent; 2x35W
B39: T5 lamps - Cool White; ECG; Wide Body | F39: =$D39*E39 -> 0
B40: a) Supply | C40: No | D40: 6 | F40: =$D40*E40 -> 0
B41: b) Replace | C41: No | D41: 165 | F41: =$D41*E41 -> 0
B42: c) Install | C42: =C41 -> No | D42: 171 | F42: =$D42*E42 -> 0
B43: Carried Forward to NEXT PAGE | E43: =SUM(F9:F42) -> 0
A44: ITEM | B44: DESCRIPTION | C44: UNIT | D44: QTY | E44: RATE | F44: AMOUNT
...

Sheet 12801-BOQ6(NCS)
A1: GANYESA HOSPITAL
A2: DEPARTMENT OF HEALTH
A3: BILL OF QUANTITIES - ELECTRICAL
A6: BOQ No.6: Nurse Call Systems
A8: ITEM | B8: DESCRIPTION | C8: UNIT | D8: QTY | E8: RATE | F8: AMOUNT
A10: 6.1 | B10: STANDARD REGULATIONS AND CODES OF PRACTICE | F10: =E10*$D10 -> 0
B11: All low voltage electrical installation work, pertaining to nurse call systems associated with this project, shall be in accordance with the latest SANS Codes of Practice 10142-1 and in conjunction with: | F11: =E11*$D11 -> 0
B12: Occupational Health and Safety Act of 1993
B13: Manufacturer’s Specifications and Installation Instructions
B14: Industry Standard Good Practices
A15: 6.2 | B15: NURSE CALL SYSTEMS | F15: =$D15*E15 -> 0
B16: The new nurse call systems shall be supplied, installed and commissioned by a Specialist Contractor.
B17: The existing system is a Micro Nursecall Systems type of nurse call system . The new nurse call systems for the planned medical wards shall be of the same type and manufacture, or equivalent and approved. | F17: =$D17*E17 -> 0
A18: 6.3 | B18: SYSTEM INSTALLATION - FEMALE WARD | F18: =$D18*E18 -> 0
B19: Supply, installation, test and commissioning of a nurse call system in conjuction with manufacturers instructions and standard installation good practices, c/w suitable junction boxes, 2x4 and 4x4 adaptors, mounting and fixing accessories. | F19: =$D19*E19 -> 0
A20: 6.3.1 | B20: MM-Mimic Panel | F20: =$D20*E20 -> 0
B21: a) Supply | C21: No | D21: 1 | F21: =$D21*E21 -> 0
B22: b) Install | C22: =C21 -> No | D22: 1 | F22: =$D22*E22 -> 0
A23: 6.3.2 | B23: 24VDC Regulated Power Supply with 4A output rating | F23: =$D23*E23 -> 0
B24: a) Supply | C24: No | D24: 1 | F24: =$D24*E24 -> 0
B25: b) Install | C25: =C24 -> No | D25: 1 | F25: =$D25*E25 -> 0
A26: 6.3.3 | B26: MB-EUB-R (BHU R02 UB4) Round Bedunit with UB4 socket | F26: =$D26*E26 -> 0
B27: a) Supply | C27: No | D27: 20 | F27: =$D27*E27 -> 0
B28: b) Install | C28: =C27 -> No | D28: 20 | F28: =$D28*E28 -> 0
A29: 6.3.4 | B29: MH-PUB (MNS-PP-LED-UB4) Patient Handset unit without TV Control - Pearpush 1.8m cord, moulded UB4 plug + LED Lens | F29: =$D29*E29 -> 0
B30: a) Supply | C30: No | D30: 20 | F30: =$D30*E30 -> 0
B31: b) Install | C31: =C30 -> No | D31: 20 | F31: =$D31*E31 -> 0
A32: 6.3.5 | B32: MW-PLL-4x4 (MSNLPCR) Latching Pullcord unit with led on 4x4 mounting plate | F32: =$D32*E32 -> 0
B33: a) Supply | C33: No | D33: 3 | F33: =$D33*E33 -> 0
B34: b) Install | C34: =C33 -> No | D34: 3 | F34: =$D34*E34 -> 0
A35: 6.3.6 | B35: MW-PBL-C (MSNLBR) Latching Pushbutton with LED, Clip-In | F35: =$D35*E35 -> 0
B36: a) Supply | C36: No | D36: 3 | F36: =$D36*E36 -> 0
B37: b) Install | C37: =C36 -> No | D37: 3 | F37: =$D37*E37 -> 0
B40: Carried Forward to NEXT PAGE | E40: =SUM(F9:F46) -> 0
A41: ITEM | B41: DESCRIPTION | C41: UNIT | D41: QTY | E41: RATE | F41: AMOUNT
B42: Brought Forward from PREVIOUS PAGE | E42: =E40 -> 0
A44: 6.3.7 | B44: MI-ODL-C (MNSODL) Dome shape 4-led overdoor light, Clip-In | F44: =$D44*E44 -> 0
B45: a) Supply | C45: No | D45: 8 | F45: =$D45*E45 -> 0
B46: b) Install | C46: =C45 -> No | D46: 8 | F46: =$D46*E46 -> 0
A47: 6.3.8 | B47: Communication Cable | F47: =$D47*E47 -> 0
...

Sheet 12801-BOQ7(SLP)
A1: GANYESA HOSPITAL
A2: DEPARTMENT OF HEALTH
A3: BILL OF QUANTITIES - ELECTRICAL
A6: BOQ No.7: Surge & Lightning Protection (SLP)
A8: ITEM | B8: DESCRIPTION | C8: UNIT | D8: QTY | E8: RATE | F8: AMOUNT
F9: =$D9*E9 -> 0
A10: 7.1 | B10: CODES OF PRACTICE | F10: =$D10*E10 -> 0
B11: The Surge & Lightning Protection System shall be designed and installed by a Specialist Contractor, in accordance with the latest SANS Codes of Practice 10313 (2012) and in conjunction with: | F11: =$D11*E11 -> 0
B12: SANS 62305-1-2-3-4:2011 (IEC 62305-1-2-3-4:2010) | F12: =$D12*E12 -> 0
B13: SANS 10199 (2016) | F13: =$D13*E13 -> 0
B14: SANS 1063 (2015) | F14: =$D14*E14 -> 0
B15: SANS 62561:1-7:2013. | F15: =$D15*E15 -> 0
F16: =$D16*E16 -> 0
A17: 7.2 | B17: RISK ASSESSMENT & SOIL RESISTIVITY TEST | F17: =$D17*E17 -> 0
A18: 7.2.1 | B18: Conduct a Risk Assessment in terms of SANS 62305-2 and compile subsequent report. | C18: Lot | D18: 1 | F18: =$D18*E18 -> 0
A19: 7.2.2 | B19: Conduct a Soil Resistivity test on site and compile subsequent report. | C19: Lot | D19: 1 | F19: =$D19*E19 -> 0
A21: 7.3 | B21: SYSTEM INSTALLATION | F21: =$D21*E21 -> 0
B22: Supply, installation, test and commissioning of SLP system in conjuction with the above codes of practice, risk assessment and soil resisitivity tests. | F22: =$D22*E22 -> 0
B23: All related safety files, accommodation and travelling costs shall be allowed for in the supply and installation per unit rates.
B25: Air Termination System (ATS) | F25: =$D25*E25 -> 0
B26: The air-termination system will be installed to prevent lightning strikes from damaging the building by intercepting the lightning strike and preventing penetration into the the protected space. | F26: =$D26*E26 -> 0
A27: 7.3.1 | B27: (DEHN 840018) 8mm aluminium round wire secured in holders | F27: =$D27*E27 -> 0
B28: a) Supply & Install | C28: M | D28: 100 | F28: =$D28*E28 -> 0
A29: 7.3.2 | B29: Surface mounted (DEHN 207109) conductor holder with 1m spacing | F29: =$D29*E29 -> 0
B30: a) Supply & Install | C30: No | D30: 100 | F30: =$D30*E30 -> 0
A31: 7.3.3 | B31: (DEHN 103410) 1500mm mast | F31: =$D31*E31 -> 0
B32: a) Supply & Install | C32: No | D32: 8 | F32: =$D32*E32 -> 0
A33: 7.3.4 | B33: (DEHN 274260) Rod holders for wall mounted masts | F33: =$D33*E33 -> 0
B34: a) Supply & Install | C34: No | D34: 16 | F34: =$D34*E34 -> 0
B35: Down Conductor System (DCS) | F35: =$D35*E35 -> 0
B36: The down-conductor system will be installed surface mounted and secured to the wall every 1m with conductor holder, to safely conduct the lightning current from the ATS to the ETS without damaging the building. | F36: =$D36*E36 -> 0
A37: 7.3.5 | B37: (DEHN 840018) 8mm aluminium round wire secured in holders | F37: =$D37*E37 -> 0
B38: a) Supply & Install | C38: M | D38: 420 | F38: =$D38*E38 -> 0
B41: Carried Forward to NEXT PAGE | E41: =SUM(F9:F40) -> 0
A42: ITEM | B42: DESCRIPTION | C42: UNIT | D42: QTY | E42: RATE | F42: AMOUNT
B43: Brought Forward from PREVIOUS PAGE | E43: =E41 -> 0
A45: 7.3.6 | B45: Surface mounted (DEHN 207109) conductor holder with 1m spacing | F45: =$D45*E45 -> 0
B46: a) Supply & Install | C46: No | D46: 420 | F46: =$D46*E46 -> 0
A47: 7.3.7 | B47: (DEHN 377100) clamp to connect to steel sheeting | F47: =$D47*E47 -> 0
B48: a) Supply & Install | C48: No | D48: 120 | F48: =$D48*E48 -> 0
...

Sheet 12801-BOQ8(SGen)
A1: GANYESA HOSPITAL
A2: DEPARTMENT OF HEALTH
A3: BILL OF QUANTITIES - ELECTRICAL
A6: BOQ No.8: Emergency Power
A8: ITEM | B8: DESCRIPTION | C8: UNIT | D8: QTY | E8: RATE | F8: AMOUNT
A10: 8.1 | B10: STANDARD REGULATIONS AND CODES OF PRACTICE | F10: =E10*$D10 -> 0
B11: All low voltage electrical installation work, pertaining to standby generator systems associated with this project, shall be in accordance with the latest SANS Codes of Practice 10142-1 and in conjunction with: | F11: =E11*$D11 -> 0
B12: Occupational Health and Safety Act of 1993
B13: Manufacturer’s Specifications and Installation Instructions.
B14: Industry Standard Good Practices
A15: 8.2 | B15: STANDBY DIESEL GENERATOR MAINTENANCE SERVICE | F15: =E15*$D15 -> 0 | I15: `
B16: The tendered rate shall include full compensation for the on-site annual maintenance service of the existing 250KVA 400V Gen-Tek standby diesel generator set. | F16: =E16*$D16 -> 0
B17: Note: There are no service records for the existing generator. | F17: =E17*$D17 -> 0
B18: The maintenance service shall include for all labour, materials, spares, consumables and first-fill of diesel. The major service shall be conducted and commissioned in conjunction with Item 3.3.4 of Bill No.3 (servicing of DB-Gen) | F18: =E18*$D18 -> 0
B19: The maintenance service shall allow for the following (as a minimum): | F19: =E19*$D19 -> 0
B20: a) Change of all filters | F20: =E20*$D20 -> 0
B21: b) Oil changed | F21: =E21*$D21 -> 0
B22: c) Belts checked | F22: =E22*$D22 -> 0
B23: d) Battery checked | F23: =E23*$D23 -> 0
B24: e) Water and coolant checked | F24: =E24*$D24 -> 0
B25: f) Engine cleaned & checked for leaks
B26: g) Alternator cleaned
B27: h) Inspect/check all alternator output connections
B28: i) Inspect all components and cubicle
B29: j) Inspect all wiring and terminals
B30: k) Flush and re-fill daily service fuel tank
B31: l) Load tested on site
B32: m) Controllers programmed
B33: The Tenderer shall ensure that the generator set is fully operational on completion of the maintenance service. | F33: =E33*$D33 -> 0
B34: The Tenderer shall allow for on-site maintenance servicing of the generator set for a further 12-month period from date of works completion and hand-over to Client. | F34: =E34*$D34 -> 0
A35: 8.2.1 | B35: Generator Maintenance Service | C35: Lot | D35: 1 | F35: =E35*(ROUNDUP($D35,0)) -> 0
A36: 8.2.2 | B36: Twelve (12) month guarantee period from date of works completion and hand-over to Client. | C36: Lot | D36: 1 | F36: =E36*(ROUNDUP($D36,0)) -> 0
A37: 8.2.3 | B37: 6-Monthly maintenance services of the generator set during the twelve (12) months guarantee period | C37: Lot | D37: 1 | F37: =E37*(ROUNDUP($D37,0)) -> 0
F38: =E38*$D38 -> 0
A39: CARRIED FORWARD TO ITEM 8 - SUMMARY FOR BILLS OF QUANTITIES | E39: =SUM(F9:F38) -> 0

Sheet 12801-BOQ9(HVAC)
A1: GANYESA HOSPITAL
A2: DEPARTMENT OF HEALTH
A3: BILL OF QUANTITIES - ELECTRICAL
A6: BOQ No.9: HVAC
A8: ITEM | B8: DESCRIPTION | C8: UNIT | D8: QTY | E8: RATE | F8: AMOUNT
A10: 9.1 | B10: STANDARD REGULATIONS AND CODES OF PRACTICE | F10: =E10*$D10 -> 0
B11: All low voltage electrical installation work, pertaining to the mechanical engineering systems associated with this project, shall be in accordance with the latest SANS Codes of Practice 10142-1 and in conjunction with: | F11: =E11*$D11 -> 0
B12: Occupational Health and Safety Act of 1993
B13: Manufacturer’s Specifications and Installation Instructions
B14: Industry Standard Good Practices
A15: 9.2 | B15: HVAC SYSTEMS | F15: =$D15*E15 -> 0
B16: Supply, installation, test and commissioning of LV small power distribution and cable work associated with new mechanical HVAC systems; and in conjuction with the Mechanical Engineer's design requirements. | F16: =$D16*E16 -> 0
A17: 9.3 | B17: DISTRIBUTION SWITCHBOARDS
B18: New enclosures shall be powder coated, have a minimum IP35 rating (indoors), IP65 rating (outdoors) and be c/w steelwork, frames, sub-frames, chassis, covers and lockable doors.
B19: New distribution switchboards shall be of the specified enclosure, factory equipped and wired c/w power and control switchgear, busbars, internal wiring, auxillary equipment, fixing accessories, labelling, signage and allowance for 30% spare capacity.
B20: All new low voltage switchgear required to be installed, in existing and/or new distribution board enclosures, shall be of the CBI range, or equivalent and approved.
A21: 9.3.1 | B21: DB-HVAC 1 (Maternity Ward) | F21: =E21*D21 -> 0
B22: Indoor * Surface Wall * Front Access * Bottom/Top Entry | F22: =E22*D22 -> 0
A23: (a) | B23: Design, manufacture, supply and delivery to site c/w the supply and equipping of associated switchgear, as tabled below: | C23: No | D23: 1 | F23: =$D23*E23 -> 0
B24: 1 off DEHNguard DG M TT 275 Surge Arrester | F24: =$D24*E24 -> 0
B25: 1 off 125A * 3-Pole Isolator * Mains Disconnector | F25: =$D25*E25 -> 0
B26: 4 off 20A * 3-Pole Circuit Breaker * 10kA | F26: =$D26*E26 -> 0
B27: 17 off 20A * 1-Pole Circuit Breaker * 10kA | F27: =$D27*E27 -> 0
B28: 14 off 15A * 1-Pole Circuit Breaker * 10kA | F28: =$D28*E28 -> 0
A29: (b) | B29: Factory Acceptance Tests (FAT). | C29: No | D29: =D23 -> 1 | F29: =$D29*E29 -> 0
A30: (c) | B30: Install new distribution board in position; connect all incoming supply and outgoing feeder cables and make good for commissioning. | C30: No | D30: =D23 -> 1 | F30: =$D30*E30 -> 0
A31: (d) | B31: Labelling, signage of complete installation. | C31: No | D31: =D23 -> 1 | F31: =$D31*E31 -> 0
A32: (e) | B32: Commissioning and Site Acceptance Tests (SAT) | C32: No | D32: =D23 -> 1 | F32: =$D32*E32 -> 0
F33: =$D33*E33 -> 0
F34: =$D34*E34 -> 0
B37: Carried Forward to NEXT PAGE | E37: =SUM(F9:F36) -> 0
A38: ITEM | B38: DESCRIPTION | C38: UNIT | D38: QTY | E38: RATE | F38: AMOUNT
B39: Brought Forward from PREVIOUS PAGE | E39: =E37 -> 0
A41: 9.3.2 | B41: DB-HVAC 2 (Female & Male Wards) | F41: =E41*D41 -> 0
B42: Indoor * Surface Wall * Front Access * Bottom/Top Entry | F42: =E42*D42 -> 0
A43: (a) | B43: Design, manufacture, supply and delivery to site c/w the supply and installation of associated switchgear, as tabled below: | C43: No | D43: 1 | F43: =$D43*E43 -> 0
B44: 1 off DEHNguard DG M TT 275 Surge Arrester | F44: =$D44*E44 -> 0
B45: 1 off 160A * 3-Pole Isolator * Mains Disconnector | F45: =$D45*E45 -> 0
B46: 6 off 20A * 3-Pole Circuit Breaker * 10kA | F46: =$D46*E46 -> 0
B47: 6 off 20A * 1-Pole Circuit Breaker * 10kA | F47: =$D47*E47 -> 0
...

Sheet 12801-BOQ10(FirePump)
A1: GANYESA HOSPITAL
A2: DEPARTMENT OF HEALTH
A3: BILL OF QUANTITIES - ELECTRICAL
A6: BOQ No.10: Fire Water Pump & Plant Building
A8: ITEM | B8: DESCRIPTION | C8: UNIT | D8: QTY | E8: RATE | F8: AMOUNT
A10: 10.1 | B10: STANDARD REGULATIONS AND CODES OF PRACTICE | F10: =E10*$D10 -> 0
B11: All low voltage electrical installation work, pertaining to the mechanical engineering systems associated with this project, shall be in accordance with the latest SANS Codes of Practice 10142-1 and in conjunction with: | F11: =E11*$D11 -> 0
B12: Occupational Health and Safety Act of 1993
B13: Manufacturer’s Specifications and Installation Instructions
B14: Industry Standard Good Practices
F15: =$D15*E15 -> 0
F16: =$D16*E16 -> 0
F21: =E21*D21 -> 0
F22: =E22*D22 -> 0
F23: =$D23*E23 -> 0
E38: =SUM(F9:F37) -> 0

Sheet 12801-Summary Electronic
A1: GANYESA HOSPITAL
A2: DEPARTMENT OF HEALTH
A3: BILL OF QUANTITIES
A6: SUMMARY FOR BILLS OF QUANTITIES : ELECTRONIC SERVICES
A8: ITEM | B8: DESCRIPTION | C8: AMOUNT
A9: 1 | B9: BILL E1: UPS | C9: ='12801-BOQE1(UPS)'!E34 -> 0
A10: 2 | B10: BILL E2: CCTV | C10: ='12801-BOQE2(CCTV)'!E148 -> 0
A11: 3 | B11: BILL E3: ACCESS CONTROL | C11: ='12801-BOQE3(AC)'!E116 -> 0
A12: 4.1 | B12: BILL E4: FIRE DETECTION : BUILDING AREA # 1 | C12: ='12801-BOQE4(FD)'!E101 -> 0
A13: 4.2 | B13: BILL E4: FIRE DETECTION : BUILDING AREA # 2 | C13: ='12801-BOQE4(FD)'!E171 -> 0
A14: 4.3 | B14: BILL E4: FIRE DETECTION : BUILDING AREA # 3 | C14: ='12801-BOQE4(FD)'!E239 -> 0
A15: 4.4 | B15: BILL E4: FIRE DETECTION : MANAGEMENT & OPERATIONS | C15: ='12801-BOQE4(FD)'!E273 -> 0
A16: 5 | B16: SUB-TOTAL : ELECTRONIC [Items 1 to 4.4] (Excl. VAT) | C16: =SUM(C9:C15) -> 0
A17: 6 | B17: VAT 15% | C17: =C16*0.15 -> 0
A18: 7 | B18: TOTAL AMOUNT : ELECTRONIC [Items 5+6] (Incl. VAT) | C18: =SUM(C16:C17) -> 0

Sheet 12801-BOQE1(UPS)
A1: GANYESA HOSPITAL
A2: DEPARTMENT OF HEALTH
A3: BILL OF QUANTITIES - ELECTRONIC
A6: BOQ No.1: Uninterrupted Power Supply (UPS)
A8: ITEM | B8: DESCRIPTION | C8: UNIT | D8: QTY | E8: RATE | F8: AMOUNT
F9: =$D9*E9 -> 0
A10: 1.1 | B10: STANDARD REGULATIONS AND CODES OF PRACTICE | F10: =E10*$D10 -> 0
B11: All low voltage electrical installation work, pertaining to the UPS systems associated with this project, shall be in accordance with the latest SANS Codes of Practice 10142-1 and in conjunction with: | F11: =E11*$D11 -> 0
B12: Occupational Health and Safety Act of 1993
B13: Manufacturer’s Specifications and Installation Instructions
B14: Industry Standard Good Practices
A15: 1.2 | B15: UPS INSTALLATION | F15: =$D15*E15 -> 0
B16: Allow for the supply, installation, test and commissioning of an uninterruptible power supply system (UPS) in conjuction with the above standard regulations and codes of practice. | F16: =$D16*E16 -> 0
B17: The UPS shall be of the Eaton 9155 tower range, or equivalent and approved, and a three-phase, on-line, double conversion type c/w internal battery backup of 20 minutes (minimum).
A18: 1.2.1 | B18: 20kVA UPS (3-Phase In // 3-Phase Out) | F18: =$D18*E18 -> 0
B19: a) Supply | C19: No | D19: 1 | F19: =$D19*E19 -> 0
B20: b) Install | C20: =C19 -> No | D20: 1 | F20: =$D20*E20 -> 0
B21: Note: Supply and installation of distribution board and field isolators as required for installation of the above UPS system is by others (elsewhere measured in the electrical bills of quantities).
A22: 1.3 | B22: MANAGEMENT AND OPERATIONS | F22: =$D22*E22 -> 0
B23: Testing, Commissioning & Hand-Over | F23: =$D23*E23 -> 0
A24: 1.3.1 | B24: Allow for all factors required for the inspections, testing, commissioning (inclusive of commissioning certificate) and handover of all the installed UPS systems in conjuction with the above codes of practice. | C24: Lot | D24: 1 | F24: =$D24*E24 -> 0
B25: Maintenance & Guarantee | F25: =$D25*E25 -> 0
A26: 1.3.2 | B26: All work performed and all material and equipment furnished, under this contract, shall be free from defects, and shall remain so, for a period of 12 months from the date of hand-over. | C26: Lot | D26: 1 | F26: =$D26*E26 -> 0
B27: Documentation | F27: =$D27*E27 -> 0
A28: 1.3.3 | B28: Handing over of a comprehensive "As-built" Data Pack of the commissioned systems : Three (3) hard copies in A4-sized binders and one (1) soft copy on Disc. | C28: Lot | D28: 1 | F28: =$D28*E28 -> 0
B29: Training | F29: =$D29*E29 -> 0
A30: 1.3.4 | B30: The contractor shall allow for a half-day training session with the client for the successfully operation and performance of first-line maintenance of the installed system/s. | C30: Lot | D30: 1 | F30: =$D30*E30 -> 0
B31: Preliminary & General Costs | F31: =$D31*E31 -> 0
A32: 1.3.5 | B32: Specialist Contractor - Health & Safety File | C32: Lot | D32: 1 | F32: =$D32*E32 -> 0
A33: 1.3.6 | B33: Specialist Contractor - Travelling & accommodation | C33: Lot | D33: 1 | F33: =$D33*E33 -> 0
A34: CARRIED FORWARD TO ITEM 1 - SUMMARY FOR BILLS OF QUANTITIES | E34: =SUM(F9:F33) -> 0

Sheet 12801-BOQE2(CCTV)
A1: GANYESA HOSPITAL
A2: DEPARTMENT OF HEALTH
A3: BILL OF QUANTITIES - ELECTRONIC
A6: BOQ No.2: Closed-Circuit Television Systems (CCTV)
A8: ITEM | B8: DESCRIPTION | C8: UNIT | D8: QTY | E8: RATE | F8: AMOUNT
F9: =$D9*E9 -> 0
A10: 2.1 | B10: STANDARD REGULATIONS AND CODES OF PRACTICE | F10: =E10*$D10 -> 0
B11: All low voltage electrical installation work, pertaining to the CCTV systems associated with this project, shall be in accordance with the latest SANS Codes of Practice 10142-1 and in conjunction with: | F11: =E11*$D11 -> 0
B12: Occupational Health and Safety Act of 1993
B13: Manufacturer’s Specifications and Installation Instructions
B14: Industry Standard Good Practices
A15: 2.2 | B15: CCTV INSTALLATION | F15: =$D15*E15 -> 0
B16: Supply, installation, test and commissioning of a CCTV system in conjuction with the above standard regulations and codes of practice. | F16: =$D16*E16 -> 0
B17: Cameras, digital video recorders and network switches shall be of the Provison-ISR equipment and accessories, or equivalent and approved.
B18: Cameras | F18: =$D18*E18 -> 0
A19: 2.2.1 | B19: I4-390AVF # 2MP 4 in 1 (AHD / TVI/ CVI / Analogue) Bullet Camera, 40m IR (4 LED Array), 1080P AHD or 960H Analogue, 1/3" Sony 2MP Sensor, 2.8-12mm Mega-Pixel Vari-focal Lens | F19: =$D19*E19 -> 0
B20: a) Supply | C20: No | D20: 23 | F20: =$D20*E20 -> 0
B21: b) Install | C21: =C20 -> No | D21: 23 | F21: =$D21*E21 -> 0
A22: 2.2.2 | B22: I3-320AVF # 2MP AHD Pro series IR 40M ( 3LED Array) 2.8-12mm Lens | F22: =$D22*E22 -> 0
B23: a) Supply | C23: No | D23: 54 | F23: =$D23*E23 -> 0
B24: b) Install | C24: =C23 -> No | D24: 54 | F24: =$D24*E24 -> 0
B25: 32+8 CH Dynamic Hybrid DVR | F25: =$D25*E25 -> 0
A26: 2.2.3 | B26: SH-32400A5-5L(1.5U) # 32CH 5MP Lite Half-Real time DVR, 16CH 1080P Real-Time, 4 in 1, AHD,HD-CVI,TVI or Analogue, Output: HDMI & VGA and CVBS, Audio In/Out, Alarm In/Out, 4 SATA (8TB), 400FPS, RS-485
B27: a) Supply | C27: No | D27: 2 | F27: =$D27*E27 -> 0
B28: b) Install | C28: =C27 -> No | D28: 2 | F28: =$D28*E28 -> 0
B29: 1U Rack Mountable Power Supply | F29: =$D29*E29 -> 0
A30: 2.2.4 | B30: PR-20A16CH(1U) # 220Vac/12Vdc 20A rack mountable power supply
B31: a) Supply | C31: No | D31: 5 | F31: =$D31*E31 -> 0
B32: b) Install | C32: =C31 -> No | D32: 5 | F32: =$D32*E32 -> 0
B33: Storage Hard Drive | F33: =$D33*E33 -> 0
A34: 2.2.5 | B34: Seagate SkyHawk # 8TB SATA 6Gb/s
B35: a) Supply | C35: No | D35: 4 | F35: =$D35*E35 -> 0
B36: b) Install | C36: =C35 -> No | D36: 4 | F36: =$D36*E36 -> 0
F38: =$D38*E38 -> 0
F39: =$D39*E39 -> 0
B40: Carried Forward to NEXT PAGE | E40: =SUM(F9:F39) -> 0
A41: ITEM | B41: DESCRIPTION | C41: UNIT | D41: QTY | E41: RATE | F41: AMOUNT
B42: Brought Forward from PREVIOUS PAGE | E42: =E40 -> 0
B44: Uninterrupted Power Supply | F44: =$D44*E44 -> 0
A45: 2.2.6 | B45: 2.0kVA single-phase in // single phase out
...

Sheet 12801-BOQE3(AC)
A1: GANYESA HOSPITAL
A2: DEPARTMENT OF HEALTH
A3: BILL OF QUANTITIES - ELECTRONIC
A6: BOQ No.3: Access Control (AC)
A8: ITEM | B8: DESCRIPTION | C8: UNIT | D8: QTY | E8: RATE | F8: AMOUNT
F9: =$D9*E9 -> 0
A10: 3.1 | B10: STANDARD REGULATIONS AND CODES OF PRACTICE | F10: =E10*$D10 -> 0
B11: All low voltage electrical small power installation work pertaining to this project shall be in accordance with the latest SANS Codes of Practice 10142-1 and in conjunction with: | F11: =E11*$D11 -> 0
B12: Occupational Health and Safety Act of 1993
B13: Manufacturer’s Specifications and Installation Instructions.
B14: Industry Standard Good Practices
A15: 3.2 | B15: ACCESS CONTROL INSTALLATION | F15: =$D15*E15 -> 0
B16: Supply, installation, test and commissioning of a Access Control system in conjuction with the above standard regulations and codes of practice. | F16: =$D16*E16 -> 0
B17: Allowance for all trunking, conduit, mounting and fixing accessories measured elsewhere.
B18: Controllers, readers, panels, door-closers, magnetic-locks shall be of the Saflec Systems / Centurion Sytems equipment and accessories, or equivalent and approved.
B19: Door Controller | F19: =$D19*E19 -> 0
A20: 3.2.1 | B20: SFSDC65000 # SDC-650 multiple door controller | F20: =$D20*E20 -> 0
B21: a) Supply | C21: No | D21: 3 | F21: =$D21*E21 -> 0
B22: b) Install | C22: =C21 -> No | D22: 3 | F22: =$D22*E22 -> 0
B23: Door Closers | F23: =$D23*E23 -> 0
A24: 3.2.2 | B24: EMAG180V1I: Magnetic Lock 180kg 12/24V Inward Swing c/w universal mounting bracket. | F24: =$D24*E24 -> 0
B25: a) Supply | C25: No | D25: 19 | F25: =$D25*E25 -> 0
B26: b) Install | C26: =C25 -> No | D26: 19 | F26: =$D26*E26 -> 0
A27: 3.2.3 | B27: CP121V2: Battery 12V 1.2Ah rechargeable sealed lead-acid | F27: =$D27*E27 -> 0
B28: a) Supply | C28: No | D28: 19 | F28: =$D28*E28 -> 0
B29: b) Install | C29: =C28 -> No | D29: 19 | F29: =$D29*E29 -> 0
A30: 3.2.4 | B30: CLOSEC060K: Cisa Door Closer (40-60kg) | F30: =$D30*E30 -> 0
B31: a) Supply | C31: No | D31: 19 | F31: =$D31*E31 -> 0
B32: b) Install | C32: =C31 -> No | D32: 19 | F32: =$D32*E32 -> 0
A33: 3.2.5 | B33: CP4C2: Battery 12V 7.2Ah rechargeable sealed lead-acid | F33: =$D33*E33 -> 0
B34: a) Supply | C34: No | D34: 19 | F34: =$D34*E34 -> 0
B35: b) Install | C35: =C34 -> No | D35: 19 | F35: =$D35*E35 -> 0
B36: Readers | F36: =$D36*E36 -> 0
A37: 3.2.6 | B37: SSR-221: Take-on Reader (USB) | F37: =$D37*E37 -> 0
B38: a) Supply | C38: No | D38: 1 | F38: =$D38*E38 -> 0
B39: b) Install | C39: =C38 -> No | D39: 1 | F39: =$D39*E39 -> 0
A40: 3.2.7 | B40: SSR-201: RS-485 Proximity Card Reader | F40: =$D40*E40 -> 0
B41: a) Supply | C41: No | D41: 19 | F41: =$D41*E41 -> 0
B42: b) Install | C42: =C41 -> No | D42: 19 | F42: =$D42*E42 -> 0
B44: Carried Forward to NEXT PAGE | E44: =SUM(F9:F43) -> 0
...

Sheet 12801-BOQE4(FD)
A1: GANYESA HOSPITAL
A2: DEPARTMENT OF HEALTH
A3: BILL OF QUANTITIES - ELECTRONIC
A6: BOQ No.4: Fire Detection & Alarm (FD)
A8: ITEM | B8: DESCRIPTION | C8: UNIT | D8: QTY | E8: RATE | F8: AMOUNT
F9: =$D9*E9 -> 0
A10: 4.1 | B10: STANDARD REGULATIONS AND CODES OF PRACTICE | F10: =E10*$D10 -> 0
B11: All low voltage electrical installation work, pertaining to the Fire Detection systems associated with this project, shall be in accordance with the latest SANS Codes of Practice 10142-1; SANS 10139:2012 Fire Detection for Buildings; SANS 1475 Certification and in conjunction with: | F11: =E11*$D11 -> 0
B12: Occupational Health and Safety Act of 1993
B13: Manufacturer’s Specifications and Installation Instructions
B14: Industry Standard Good Practices
A15: 4.2 | B15: INSTALLATION CONTRACTOR REQUIREMENTS | F15: =E15*$D15 -> 0
B16: The Contractor shall be a member of the Fire Detection Installers Association (FDIA). | F16: =E16*$D16 -> 0
B17: All contractor staff used on this site shall be registered with The South African Qualification & Certification Committee (SAQCC) Fire together with proof of training on the equipment they install. | F17: =E17*$D17 -> 0
A18: 4.3 | B18: FIRE DETECTION & ALARM INSTALLATION | F18: =$D18*E18 -> 0
B19: Supply, installation, test and commissioning of a fire detection & alarm sytems in conjuction with the above standard regulations and codes of practice. | F19: =$D19*E19 -> 0
B20: Intelligent Systems | F20: =$D20*E20 -> 0
B21: Intelligent fire control panels shall be from the Technoswitch TC5400 series analogue addressable types, or equivalent and approved. | F21: =$D21*E21 -> 0
B22: All fire detectors shall be Apollo XP95 addressable types, or equivalent and approved.
B23: Conventional Systems | F23: =$D23*E23 -> 0
B24: Conventional fire control panels shall be of the Technoswitch TC800 range, or equivalent and approved. | F24: =$D24*E24 -> 0
B25: All fire detectors shall be of the Sensomag conventional types, or equivalent and approved.
B26: Battery Backup | F26: =$D26*E26 -> 0
B27: Fire control panels shall have battery backup to ensure continued operation for 24hrs under mains power failure. The contractor shall size batteries in accordance with SANS 10139 calculations. | F27: =$D27*E27 -> 0
B28: Cable / Conduit | F28: =$D28*E28 -> 0
B29: New PH30 cables shall be installed in 25mmØ PVC conduit throughout each building in an A-Class loop configuration. The outgoing leg of the loop shall be kept separate from the return leg.
B30: Tender Pricing | F30: =$D30*E30 -> 0
B31: Prices given in this bill shall be net cost of equipment and materials supplied and installed on site and shall include profit, overheads, financing, insurance and guarantee costs
A34: ITEM | B34: DESCRIPTION | C34: UNIT | D34: QTY | E34: RATE | F34: AMOUNT
A35: 4.4 | B35: BUILDING AREA # 1 (Main Hospital Building) | F35: =E35*$D35 -> 0
B36: Analogue Addressable Fire Alarm Panel | F36: =$D36*E36 -> 0
A37: 4.4.1 | B37: Allow for the procurement, delivery, installation, connection, testing and commissioning of a four loop analogue addressable fire detection and alarm system control panel. | C37: No | D37: 1 | F37: =$D37*E37 -> 0
B38: Standby Batteries | F38: =$D38*E38 -> 0
A39: 4.4.2 | B39: Allow for the procurement, delivery, installation, connection, testing and commissioning of stand by batteries for 24 hour back up and 30 minutes under full alarm load. | C39: No | D39: 2 | F39: =$D39*E39 -> 0
B40: Lightning Protection Units | F40: =$D40*E40 -> 0
A41: 4.4.3 | B41: Allow for procurement and installation of lightning protection units on the mains power supply to the fire alarm panel. | C41: No | D41: 1 | F41: =$D41*E41 -> 0
B42: Allow for procurement and installation of lightning protection units on the cable loops at the fire alarm panel. | C42: No | D42: 4 | F42: =$D42*E42 -> 0
B43: Logbook & Block Plan | F43: =$D43*E43 -> 0
A44: 4.4.4 | B44: Provide logbook in a holder installed adjacent to master fire panel; and a zone diagram and associated signage, laminated and framed behind glass for all fire panels. | C44: Lot | D44: 1 | F44: =$D44*E44 -> 0
B45: Analogue Addressable Fire Detectors & Bases | F45: =$D45*E45 -> 0
...
