Workbook
Name Company: '[1]Client Info'!#REF!
Name Company: '[1]Client Info'!#REF!
Name Company: '[1]Client Info'!#REF!
Name Company: '[1]Client Info'!#REF!
Name Company: '[1]Client Info'!#REF!
Name E_mail: '[1]Client Info'!#REF!
Name E_mail: '[1]Client Info'!#REF!
Name E_mail: '[1]Client Info'!#REF!
Name E_mail: '[1]Client Info'!#REF!
Name E_mail: '[1]Client Info'!#REF!
Name Maintenance: '[1]Client Info'!#REF!
Name Maintenance: '[1]Client Info'!#REF!
Name Maintenance: '[1]Client Info'!#REF!
Name Maintenance: '[1]Client Info'!#REF!
Name Maintenance: '[1]Client Info'!#REF!
Name Namelist: '[1]Client Info'!#REF!
Name Namelist: '[1]Client Info'!#REF!
Name Staff: '[1]Client Info'!#REF!
Name Staff: '[1]Client Info'!#REF!
Name Staff: '[1]Client Info'!#REF!
Name Staff: '[1]Client Info'!#REF!
Name Staff: '[1]Client Info'!#REF!
Name TC802_: '[2]CONVENTIONAL EQUIPMENT'!#REF!
Name TC802_: '[2]CONVENTIONAL EQUIPMENT'!#REF!
Name TC802_: '[2]CONVENTIONAL EQUIPMENT'!#REF!
Name TC802_: '[2]CONVENTIONAL EQUIPMENT'!#REF!
Name TC802_: #REF!
Name Z_025A42E9_8688_4C90_B86A_88430F032693_.wvu.Cols: Landscaping!#REF!
Name Z_025A42E9_8688_4C90_B86A_88430F032693_.wvu.PrintArea: Landscaping!$A$5:$H$7
Name Z_025A42E9_8688_4C90_B86A_88430F032693_.wvu.PrintTitles: Landscaping!$5:$6

Sheet P&G + Building Work
A1: ITEM NO | D1: QUANTITY | E1: RATE | F1: AMOUNT
B3: SECTION NO. 1
B5: BILL NO. 1
B7: PRELIMINARY AND GENERAL
B9: BUILDING AGREEMENT AND PRELIMINARIES
B11: The JBCC Principal Building Agreement (Edition 6.2 - May 2018) prepared by the Joint Building Contracts Committee shall be the applicable building agreement, amended as hereinafter described
B13: The JBCC Principal Building Agreement contract data form an integral part of this agreement
B15: The JBCC General Preliminaries (Edition 6.2 - May 2018) published by the Joint Building Contracts Committee for use with the JBCC Principal Building Agreement (Edition 6.2 - May 2018) shall be deemed to be incorporated in these bills of quantities, amended as hereinafter described
B17: The contractor is deemed to have referred to the abovementioned documents for the full intent and meaning of each clause
B19: The clauses in the abovementioned documents are hereinafter referred to by clause number and heading only
B21: Where any item is not relevant to this agreement such item is marked N/A signifying "not applicable"
B23: Where standard clauses or alternatives are not entirely applicable to this agreement such amendments, modifications, corrections or supplements as will apply are given under each relevant clause heading and such amendments, modifications, corrections or supplements shall take precedence notwithstanding anything to the contrary contained in the abovementioned documents.
B25: PREAMBLES FOR TRADES
... B47: Interpretation (A1-A7)
A49: 1 | B49: Clause 1.0 - Definitions and interpretation Amend the following definition Construction Period: The period commencing on the Site Handover Date as recorded in the Certificate of Site Possession and ending on the date of practical completion Pricing of bills of quantities The contractor is to allow opposite each item for all costs in connection therewith. All prices to include, unless otherwise stated, for all materials, fabrication, conveyance and delivery, unloading, storing, unpacking, hoisting, labour, setting, fitting and fixing in position, cutting and waste (except where to be measured in accordance with the standard system of measurement), patterns, models and templates, plant, temporary works, returning of packaging, duties, taxes (other than Value Added Tax), imposts, establishment charges, overheads, profit and all other obligations arising out of this agreement. Value Added Tax (VAT) is to be separately stated on the summary page of these bills of quantities Items left unpriced will be deemed to be covered in prices against other items throughout these bills of quantities and no claim for any extras arising out of the contractor's omission to price any item will be entertained Prices for all construction equipment, temporary works, services and other items shall include for the supply, maintenance, operating cost and subsequent removal and making good as necessary Abbreviated descriptions The items in these bills of quantities utilise abbreviated descriptions. It is the intention that the abbreviated descriptions be fully described when read with the applicable measuring system and the relevant preambles and/or specifications. However, should the full intent and meaning of any description not be clear, the contractor shall, before submission of his tender, call for a written directive from the principal agent, failing which it shall be assumed that the contractor has allowed in his pricing for materials and workmanship in terms of international best practice Legal status of contractor If the contractor constitutes a joint venture, consortium or other unincorporated grouping of two or more persons then: 1. These persons are deemed to be jointly and severally liable to the employer for the performance of this agreement 2. These persons shall notify the employer of their leader who has authority to bind the contractor and each of these persons 3. The contractor shall not alter its composition or legal status without the prior written consent of the employer F:......................... V:........................ T:........................ | C49: Item | D49: 1 | F49: =ROUND($D49*E49,2) -> 0
A51: 2 | B51: Clause 2.0 - Law, regulations and notices F:......................... V:........................ T:........................ | C51: Item | D51: 1 | F51: =ROUND($D51*E51,2) -> 0
A53: 3 | B53: Clause 3.0 - Offer and acceptance F:......................... V:........................ T:........................ | C53: Item | D53: 1 | F53: =ROUND($D53*E53,2) -> 0
A55: 4 | B55: Clause 4.0 - Cession and assignment F:......................... V:........................ T:........................ | C55: Item | D55: 1 | F55: =ROUND($D55*E55,2) -> 0
A57: 5 | B57: Clause 5.0 - Documents F:......................... V:........................ T:........................ | C57: Item | D57: 1 | F57: =ROUND($D57*E57,2) -> 0
A59: 6 | B59: Clause 6.0 - Employer's agents
B61: Delegated authority
B63: The authority of the principal agent to issue contract instructions [17.1] and perform duties for specific aspects of the works is delegated to agents as follows [6.2]. This does not preclude the principal agent from issuing such contract instructions:
B65: 1. Architect
B67: 1.1 Duties [6.2] : The architect is responsible for the architectural design, functional design and quality inspection of the works
B69: 1.2 Contract instructions [6.2; 17.1] :
B71: 1.2.1 Rectification of discrepancies, errors in description or quantity or omission of items in the agreement other than in the JBCC Principal Building Agreement
B73: 1.2.2 Alteration to design, standards or quantity of the works provided that such contract instructions shall not substantially change the scope of the works
B75: 1.2.3 The site [13.0]
B77: 1.2.4 Compliance with the law, regulations and bylaws [2.1]
B79: 1.2.5 Provision and testing of samples of materials and goods and/or of finishes and assemblies of elements of the works
B81: 1.2.6 Opening up of work for inspection, removal or re-execution [23.2.4; 26.4.2]
B83: 1.2.7 Removal or re-execution of work
... B275: 8.1.5 Stop the execution of the works where the agreed specification or plan is not adhered to
B277: F:......................... V:........................ T:........................ | C277: Item | D277: 1 | F277: =ROUND($D277*E277,2) -> 0
A279: 7 | B279: Clause 7.0 - Design responsibility F:......................... V:........................ T:........................ | C279: Item | D279: 1 | F279: =ROUND($D279*E279,2) -> 0
B281: Insurances and securities (A8-A11)
A283: 8 | B283: Clause 8.0 - Works risk F:......................... V:........................ T:........................ | C283: Item | D283: 1 | F283: =ROUND($D283*E283,2) -> 0
A285: 9 | B285: Clause 9.0 - Indemnities F:......................... V:........................ T:........................ | C285: Item | D285: 1 | F285: =ROUND($D285*E285,2) -> 0
A287: 10 | B287: Clause 10.0 - Insurances F:......................... V:........................ T:........................ | C287: Item | D287: 1 | F287: =ROUND($D287*E287,2) -> 0
A289: 11 | B289: Clause 11.0 - Securities Clause 11.5 Omit this clause in its entirety Clause 11.5.1 Omit this clause in its entirety Clause 11.5.2 Omit this clause in its entirety Clause 11.6 Omit this clause in its entirety Clause 11.10 Omit the words "on receipt of a Guarantee for Payment from the employer" Extension of waiver of lien The contractor shall ensure that a waiver of lien is included in all subcontracts and that the works executed on the site are kept free of all liens and other encumbrances at all times [11.10] F:......................... V:........................ T:........................ | C289: Item | D289: 1 | F289: =ROUND($D289*E289,2) -> 0
...

Sheet Electrical - Electronic
A1: IDC MINOR EXTERNAL WORKS : ELECTRICAL AND ELECTRONIC SERVICES INSTALLATION
C3: BILL NO. 1 : ELECTRONIC SERVICES INSTALLATION
A5: ITEM | B5: DESCRIPTION | D5: UNIT | E5: QTY | F5: RATE | H5: TOTAL | I5: AMOUNT
F6: MAT. | G6: INSTAL.
C8: ELECTRIC FENCE INSTALLATION
C10: Supply, Deliver, Install and Commission of the following equipment for the Electric Fence Installation :
A12: 1.1 | C12: SOFTWARE AND LICENCING
B14: a) | C14: ID - C201311 : Command Centre Licence | D14: No. | E14: 1 | H14: =+F14+G14 -> 0 | I14: Rate Only
B16: b) | C16: ID - 2A8272 : Fence Zone Licence | D16: No. | E16: 2 | H16: =+F16+G16 -> 0 | I16: =+E16*H16 -> 0
B18: c) | C18: ID - C12732 : Video Viewer SDK | D18: No. | E18: 1 | H18: =+F18+G18 -> 0 | I18: =+E18*H18 -> 0
B20: d) | C20: ID - 2A8982 : ASCII Text Interface : FTC API ASCII I/F M/W | D20: No. | E20: 1 | H20: =+F20+G20 -> 0 | I20: =+E20*H20 -> 0
A22: 1.2 | C22: ACCESS CONTROL HARDWARE
B24: a) | C24: ID - C400010 : Controller 7000 Single Door RS485 | D24: No. | E24: 4 | H24: =+F24+G24 -> 0 | I24: =+E24*H24 -> 0
B26: b) | C26: ID - C400181 : DIN Rail Adapter, Controller 7000 Single Door | D26: No. | E26: 4 | H26: =+F26+G26 -> 0 | I26: =+E26*H26 -> 0
B28: c) | C28: ID - C200340 : Power Supply | D28: No. | E28: 4 | H28: =+F28+G28 -> 0 | I28: =+E28*H28 -> 0
B30: d) | C30: ID - C300463 : T20 Alarm Terminal Black | D30: No. | E30: 2 | H30: =+F30+G30 -> 0 | I30: =+E30*H30 -> 0
A32: 1.3 | C32: PERIMETER HARDWARE
B34: a) | C34: ID - G21950 : F42 Fence Controller | D34: No. | E34: 4 | H34: =+F34+G34 -> 0 | I34: =+E34*H34 -> 0
B36: b) | C36: ID - G21965 : F3 Cable Manager | D36: No. | E36: 4 | H36: =+F36+G36 -> 0 | I36: =+E36*H36 -> 0
B38: c) | C38: ID - G64800 : Lightning Diverter | D38: No. | E38: 24 | H38: =+F38+G38 -> 0 | I38: =+E38*H38 -> 0
B40: d) | C40: ID - G22705 : Offset Mounting Block (50 Pack) | D40: No. | E40: 30 | H40: =+F40+G40 -> 0 | I40: =+E40*H40 -> 0
B42: e) | C42: ID - G62703 : Double Insulated Cable Hard 2.5mm x 100m | D42: No. | E42: 3 | H42: =+F42+G42 -> 0 | I42: =+E42*H42 -> 0
B44: f) | C44: ID - G62716 : Double Insulated Cable Soft 2.5mm x 400m | D44: No. | E44: 2 | H44: =+F44+G44 -> 0 | I44: =+E44*H44 -> 0
B46: g) | C46: ID - G93230 : High Conductivity Wire - 2.0mm | D46: No. | E46: 31 | H46: =+F46+G46 -> 0 | I46: =+E46*H46 -> 0
B48: h) | C48: ID - G602603 : Warning Signs (10 Pack) | D48: No. | E48: 12 | H48: =+F48+G48 -> 0 | I48: =+E48*H48 -> 0
B50: i) | C50: ID - G60355 : Joint Clamp (25 Pack) | D50: No. | E50: 93 | H50: =+F50+G50 -> 0 | I50: =+E50*H50 -> 0
B52: j) | C52: ID - G22416 : Link-up Sleeve Crimp (2.5mm) (100 Pack) | D52: No. | E52: 20 | H52: =+F52+G52 -> 0 | I52: =+E52*H52 -> 0
B54: k) | C54: ID - G20300 : Security Post 2.1M x 1mm (23 wire) | D54: No. | E54: 160 | H54: =+F54+G54 -> 0 | I54: =+E54*H54 -> 0
B56: l) | C56: ID - G20310 : Security Post 2.1M x 2mm (23 wire) | D56: No. | E56: 40 | H56: =+F56+G56 -> 0 | I56: =+E56*H56 -> 0
... B62: o) | C62: ID - G20410 : Security Post 1.0M x 1mm (11 wire) | D62: No. | E62: 130 | H62: =+F62+G62 -> 0 | I62: =+E62*H62 -> 0
C64: Sub-Total Carried Forward | I64: =SUM(I14:I62) -> 0
C68: BILL NO. 1 : ELECTRONIC SERVICES INSTALLATION (continued)
A70: ITEM | B70: DESCRIPTION | D70: UNIT | E70: QTY | F70: RATE | H70: TOTAL | I70: AMOUNT
F71: MAT. | G71: INSTAL.
C73: Sub-Total Brought Forward | I73: =+I64 -> 0
B75: p) | C75: ID - G20428 : Security Post 1.0M x 2mm (11 wire) | D75: No. | E75: 30 | H75: =+F75+G75 -> 0 | I75: =+E75*H75 -> 0
B77: q) | C77: ID - G20303 : Security Post 3.0M x 1mm (33 wire) | D77: No. | E77: 40 | H77: =+F77+G77 -> 0 | I77: =+E77*H77 -> 0
B79: r) | C79: ID - G20313 : Security Post 3.0M x 2mm (33 wire) | D79: No. | E79: 10 | H79: =+F79+G79 -> 0 | I79: =+E79*H79 -> 0
B81: q) | C81: ID - G20302 : Security Post 2.6M x 1mm (28 wire) | D81: No. | E81: 80 | H81: =+F81+G81 -> 0 | I81: =+E81*H81 -> 0
B83: r) | C83: ID -G20312 : Security Post 2.6M x 2mm (28 wire) | D83: No. | E83: 20 | H83: =+F83+G83 -> 0 | I83: =+E83*H83 -> 0
...

Sheet Electrical - Electrical
A1: IDC MINOR EXTERNAL WORKS : ELECTRICAL AND ELECTRONIC SERVICES INSTALLATION
C3: BILL NO. 2 : ELECTRICAL INSTALLATION
A5: ITEM | B5: DESCRIPTION | D5: UNIT | E5: QTY | F5: RATE | H5: TOTAL | I5: AMOUNT
F6: MAT. | G6: INSTAL.
A8: 2.1 | C8: Supply and installation of Round Black Norsk Cable complete terminations with gland installed on cable tray or in conduit.
L9: `
B10: a) | C10: 4,0mm² 3-Core plus E | D10: m | E10: 100 | H10: =+F10+G10 -> 0 | I10: =+H10*E10 -> 0
B12: b) | C12: 4,0mm² 2-Core plus E | D12: m | E12: 300 | H12: =+F12+G12 -> 0 | I12: =+H12*E12 -> 0
B14: c) | C14: 2,5mm² 3-Core plus E | D14: m | E14: 1 | H14: =+F14+G14 -> 0 | I14: Rate Only
B16: d) | C16: 2,5mm² 2-Core plus E | D16: m | E16: 500 | H16: =+F16+G16 -> 0 | I16: Rate Only
A18: 2.2 | C18: Supply and installation of Galvanised SABS approved conduits, including couplings, adaptors, locknuts, saddles, etc., installed on surface, installed in drywall partitioning or chased into brickwork.
B20: a) | C20: 20mm | D20: m | E20: 240 | H20: =+F20+G20 -> 0 | I20: =+H20*E20 -> 0
B22: b) | C22: 25mm | D22: m | E22: 180 | H22: =+F22+G22 -> 0 | I22: =+H22*E22 -> 0
A24: 2.3 | C24: Supply and installation of round 1-4 way Galvanised SABS approved ceiling boxes, including connection of conduit, compression glands and extension rings where required.
B26: a) | C26: 20mm round 65mm diameter | D26: No. | E26: 48 | H26: =+F26+G26 -> 0 | I26: =+H26*E26 -> 0
B28: b) | C28: 25mm round 65mm diameter | D28: No. | E28: 16 | H28: =+F28+G28 -> 0 | I28: =+H28*E28 -> 0
A30: 2.4 | C30: Supply and Installation of the following Low Voltage Miniature Circuit Breakers, all equipment to be Schneider, complete with tails to bus-bar and all ancillary material required to mount MCB's in existing Distribution Boards.
B32: a) | C32: 16A / Single Pole D Curve 6kA MCB | D32: No. | E32: 14 | H32: =+F32+G32 -> 0 | I32: =+H32*E32 -> 0
B34: b) | C34: 16A / Triple Pole D Curve 6kA MCB | D34: No. | E34: 2 | H34: =+F34+G34 -> 0 | I34: =+H34*E34 -> 0
B36: c) | C36: 63A / Single Pole 6kA MCB | D36: No. | E36: 1 | H36: =+F36+G36 -> 0 | I36: =+H36*E36 -> 0
A38: 2.5 | C38: Excavate new cable trench in the following soil conditions:
B40: a) | C40: Pickable ground [450mm Wide x 600mm Deep] | D40: m³ | E40: 50 | H40: =+F40+G40 -> 0 | I40: =+H40*E40 -> 0
B42: b) | C42: Backfill in layers of 150mm over cable with sifted material and compact. | D42: m³ | E42: 50 | H42: =+F42+G42 -> 0 | I42: =+H42*E42 -> 0
B44: c) | C44: Supply and install PVC marker tape | D44: m | E44: 200 | H44: =+F44+G44 -> 0 | I44: =+H44*E44 -> 0
A46: 2.6 | C46: Supply and installation of ribbed Black PVC sleeves (Kabelflex) complete with couplings with sealing rings, under building foundations and surface beds to distribution cupboards.
B48: a) | C48: 50mm diameter | D48: m | E48: 185 | H48: =+F48+G48 -> 0 | I48: =+H48*E48 -> 0
C52: Sub-Total Carried Forward | I52: =SUM(I10:I48) -> 0
C55: BILL NO. 2 : ELECTRICAL INSTALLATION (continued)
A57: ITEM | B57: DESCRIPTION | D57: UNIT | E57: QTY | F57: RATE | H57: TOTAL | I57: AMOUNT
F58: MAT. | G58: INSTAL.
C60: Sub-Total Brought Forward | I60: =+I52 -> 0
A62: 2.7 | C62: Supply and installation of the following 600 / 1000V, general purpose, PVC.PVC.SWA.PVC cables.
C63: (C) = Cable
C64: (E) = End
B66: a) | C66: 16mm²/4-core
C67: ( C ) | D67: m | E67: 1 | H67: =+F67+G67 -> 0 | I67: Rate Only
C69: ( E ) | D69: m | E69: 1 | H69: =+F69+G69 -> 0 | I69: Rate Only
B70: b) | C70: 16mm²/3-core
C71: ( C ) | D71: m | E71: 1 | H71: =+F71+G71 -> 0 | I71: Rate Only
C73: ( E ) | D73: m | E73: 1 | H73: =+F73+G73 -> 0 | I73: Rate Only
...

Sheet Electrical - General
A1: IDC MINOR EXTERNAL WORKS : ELECTRICAL AND ELECTRONIC SERVICES INSTALLATION
C3: BILL NO. 3 : GENERAL
A5: ITEM | B5: DESCRIPTION | D5: UNIT | E5: QTY | F5: RATE | G5: TOTAL
A8: 3.1 | C8: OPERATION AND MAINTENANCE MANUALS
B10: a) | C10: Design and Supply of Operation and Maintenance Manuals - 3 Copies | D10: Sum | E10: 1 | G10: =F10*E10 -> 0
A12: 3.2 | C12: 12 MONTH MAINTENANCE & GUARANTEE
B14: a) | C14: Provide 12 month guarantees and monthly site visit maintenance for the systems from date of handover | D14: Sum | E14: 1 | G14: =F14*E14 -> 0
A16: 3.3 | C16: TRAINING
B18: a) | C18: Provide operation training for security and operation employees (1 day session) | D18: Sum | E18: 1 | G18: =F18*E18 -> 0
A20: 3.4 | C20: AS-BUILT DRAWINGS
B22: a) | C22: Provide Engineer with Marked Up As-Built Drawings | D22: Sum | E22: 1 | G22: =F22*E22 -> 0
C52: TOTAL BILL NO.3 CARRIED FORWARD TO SUMMARY
G53: =SUM(G10:G22) -> 0

Sheet Electrical - Sum
A1: IDC MINOR EXTERNAL WORKS : ELECTRICAL AND ELECTRONIC SERVICES INSTALLATION
B3: BILL SUMMARY :
B6: Totals brought forward for :
B8: BILL NO. 1 : ELECTRONIC SERVICES INSTALLATION | D8: R | E8: ='Electrical - Electronic'!I201 -> 0
B10: BILL NO. 2 : ELECTRICAL INSTALLATION | D10: R | E10: ='Electrical - Electrical'!I114 -> 0
B12: BILL NO. 3 : GENERAL | D12: R | E12: ='Electrical - General'!G53 -> 0
A20: TOTAL (EX VAT) CARRIED FORWARD TO FINAL SUMMARY | D20: R | E20: =SUM(E8:E12) -> 0

Sheet Landscaping
A1: IDC HEAD OFFICE
A2: MINOR EXTERNAL WORKS PROJECT - LANDSCAPE WORKS
A3: BILL OF QUANTITIES
C5: DESCRIPTION | E5: UNIT | G5: QTY | I5: RATE | L5: TOTAL
A7: 1 | C7: INITIAL WORK
A9: 1.1 | C9: Tree felling
C10: Fell and cart existing dead trees as identified on site by the landscape architect | E10: Item | G10: 1 | L10: =G10*I10 -> 0
A12: 1.2 | C12: Cut back or remove existing vegetation
C13: Prune or remove existing vegetation as identified on site by the landscape architect and cart from site | E13: Item | G13: 1 | L13: =G13*I13 -> 0
A15: 1.3 | C15: Remove gravel | E15: m³ | G15: 20 | L15: =G15*I15 -> 0
C16: Remove and cart gravel from site
A18: 1.4 | C18: Move signposts
C19: Move existing signposts identified on site by the landscape architect | E19: Item | G19: 1 | L19: =G19*I19 -> 0
A21: 2 | C21: EARTHWORKS
A23: 2.1 | C23: Topsoil | E23: m³ | G23: 2 | L23: =G23*I23 -> 0
C24: Import and place topsoil from a disclosed source, a sample of which has been approved by the Landscape Architect
A26: 2.2 | C26: Compost | E26: m³ | G26: 54 | L26: =G26*I26 -> 0
C27: Import, place and spread (from a disclosed source) compost, a sample of which has been approved by the Landscape Architect.
A29: 2.3 | C29: Bonemeal | E29: m² | G29: 1176 | L29: =G29*I29 -> 0
C30: Supply and place bonemeal to lawn and planting areas at a rate of 50g per square metre prior to cultivation and planting
A32: 2.4 | C32: Moisture retention agent | E32: m² | G32: 1176 | L32: =G32*I32 -> 0
C33: Import, place and mix into growing medium a Saturaid moisture retention agent (or similar approved), to Supplier's specification. Saturaid to be manually applied as the last component of the soil preparation prior to any planting. Saturaid dosage: 0,25 Liters / 12,5m².
A35: 2.5 | C35: Efficient Microbes (EM) | E35: m² | G35: 1176 | L35: =G35*I35 -> 0
C36: Apply onto all planting areas, a solution of Efficient Microbes (EM) to manufacturer's specification. A water solution of EM to be manually applied as the last component of the soil preparation prior to any planting. EM dosage: 25 Liters / 5000 m².
A38: 2.6 | C38: Rockdust | E38: m² | G38: 1176 | L38: =G38*I38 -> 0
C39: Apply onto all planting areas, a solution of Rockdust available from LAVA Grow Mineral Products. Rockdust to be manually applied as the last component of the soil preparation prior to any planting. Rockdust dosage: 2 kg / 10 m².
C47: CARRIED FORWARD | L47: =SUM(L10:L46) -> 0
C48: BROUGHT FORWARD | L48: =SUM(L47) -> 0
C50: EARTHWORKS (Continued)
A52: 2.7 | C52: Fertiliser | E52: m² | G52: 1176 | L52: =G52*I52 -> 0
C53: Supply and spread organic 2:3:2 fertiliser to lawn and planting areas after planting
A55: 2.8 | C55: Cultivation + finishing | E55: m² | G55: 1176 | L55: =G55*I55 -> 0
C56: Cultivate soft landscape areas to a depth of 150mm in accordance with the desired running levels, removing stones larger than 50mm and foreign material including weeds and roots.
A58: 2.9 | C58: Mulch (bark chip) | E58: m³ | G58: 67 | L58: =G58*I58 -> 0
C59: Import, place and spread (from a disclosed source) a 50mm bark chip mulch layer, a sample of which has been approved by the Landscape Architect.
A61: 3 | C61: PLANTING
A62: 3.1 | C62: Trees and Shrubs
A63: 3.1.1 | C63: Buddleja saligna (50 litre) | E63: No. | G63: 8 | L63: =G63*I63 -> 0
A64: 3.1.2 | C64: Celtis africana (50 litre) | E64: No. | G64: 8 | L64: =G64*I64 -> 0
A65: 3.1.3 | C65: Combretum erythrophyllum (50 litre) | E65: No. | G65: 13 | L65: =G65*I65 -> 0
...

Sheet Final Summary
B7: FINAL SUMMARY
A10: Section | D10: Page | F10: Amount
A11: No | D11: No
A13: 1 | B13: Preliminaries & General | D13: 46 | F13: ='P&G + Building Work'!F509 -> 0
A15: 2 | B15: Building Works | D15: 67 | F15: ='P&G + Building Work'!F829+'P&G + Building Work'!F885 -> 0
A17: 3 | B17: Electrical Installation | D17: 74 | F17: ='Electrical - Sum'!E20*1.1 -> 0
A19: 4 | B19: Landscaping and Irrigation | D19: 81 | F19: =Landscaping!L304*1.1 -> 0
B22: Sub-Total | E22: R | F22: =SUM(F13:F19) -> 0
B24: ADD VAT @ 15% | E24: R | F24: =F22*15% -> 0
B46: Total Inclusive of VAT Carried to Form of Offer | E46: R | F46: =SUM(F22:F24) -> 0
