Workbook

Sheet Tender - Waste Monitoring
A4: KING SHAKA INTERNATIONAL AIRPORT
A6: APRIL 2016 - MARCH 2017
C11: 42475 | D11: 42505 | E11: 42536 | F11: 42566 | G11: 42597 | H11: 42628 | I11: 42658 | J11: 42689 | K11: 42719 | L11: 42750 | M11: 42781 | N11: 42809 | O11: Total | P11: Average
A13: % WASTE RECYCLED / RE-USED | C13: =C68/C72 -> 0.37429228 | D13: =D68/D72 -> 0.33344766 | E13: =E68/E72 -> 0.45419404 | F13: =F68/F72 -> 0.31344711 | G13: =G68/G72 -> 0.39960803 | H13: =H68/H72 -> 0.41170841 | I13: =I68/I72 -> 0.39488967 | J13: =J68/J72 -> 0.39808896 | ... N13: =N68/N72 -> 0.3398234 | O13: =AVERAGE(C13:N13) -> 0.35489559 | P13: =AVERAGE(C13:N13) -> 0.35489559
A14: % WASTE LANDFILLED | C14: =C30/C16 -> 0.62570772 | D14: =D30/D16 -> 0.66655234 | E14: =E30/E16 -> 0.54580596 | F14: =F30/F16 -> 0.68655289 | G14: =G30/G16 -> 0.60039197 | H14: =H30/H16 -> 0.58829159 | I14: =I30/I16 -> 0.60511033 | J14: =J30/J16 -> 0.60191104 | ... N14: =N30/N16 -> 0.6601766 | O14: =AVERAGE(C14:N14) -> 0.64510441 | P14: =AVERAGE(C14:N14) -> 0.64510441
A16: TOTAL WASTE GENERATED | C16: =C72 -> 92727 | D16: =D72 -> 93301 | E16: =E72 -> 84334 | F16: =F72 -> 100371 | G16: =G72 -> 90824 | H16: =H72 -> 94035 | I16: =I72 -> 105551 | J16: =J72 -> 89166 | ... N16: =N72 -> 81766 | O16: =SUM(C16:N16) -> 1101283 | P16: =O16/12 -> 91773.583
A18: WASTE TO LANDFILL (KG)
A20: NON HAZARDOUS
A21: GENERAL WASTE | C21: 49780 | D21: 54460 | E21: 40000 | F21: 61500 | G21: 47280 | H21: 46340 | I21: 56720 | J21: 48700 | K21: 64920 | L21: 55680 | M21: 51680 | N21: 48220 | O21: =SUM(C21:N21) -> 625280 | P21: =O21/12 -> 52106.667
A23: HAZARDOUS WASTE
A24: GALLEY WASTE | C24: 8240 | D24: 7730 | E24: 6030 | F24: 7410 | G24: 6850 | H24: 6890 | I24: 7150 | J24: 4970 | K24: 10570 | L24: 5700 | M24: 5890 | N24: 5760 | O24: =SUM(C24:N24) -> 83190 | P24: =O24/12 -> 6932.5
A25: EMPTY MOTOR OIL CANS | C25: 0 | D25: 0 | E25: 0 | F25: 0 | G25: 0 | H25: 0 | I25: 0 | J25: 0 | K25: 0 | L25: 0 | M25: 0 | N25: 0 | O25: =SUM(C25:N25) -> 0 | P25: =O25/12 -> 0
A26: OTHER | C26: 0 | D26: 0 | E26: 0 | F26: 0 | G26: 0 | H26: 0 | I26: 0 | J26: 0 | K26: 0 | L26: 0 | M26: 0 | N26: 0 | O26: =SUM(C26:N26) -> 0 | P26: =O26/12 -> 0
A27: AD-HOC (NOT INCL) | C27: 0 | D27: 0 | E27: 0 | F27: 0 | G27: 400 | H27: 2090 | I27: 0 | J27: 0 | K27: 0 | L27: 0 | M27: 0 | N27: 0 | O27: =SUM(C27:N27) -> 2490 | P27: =O27/12 -> 207.5
A28: TOTAL HAZARDOUS WASTE | C28: =SUM(C24:C27) -> 8240 | D28: =SUM(D24:D27) -> 7730 | E28: =SUM(E24:E27) -> 6030 | F28: =SUM(F24:F27) -> 7410 | G28: =SUM(G24:G27) -> 7250 | H28: =SUM(H24:H27) -> 8980 | I28: =SUM(I24:I27) -> 7150 | J28: =SUM(J24:J27) -> 4970 | ... N28: =SUM(N24:N27) -> 5760 | O28: =SUM(C28:N28) -> 85680 | P28: =O28/12 -> 7140
A30: TOTAL WASTE TO LANDFILL | C30: =C21+C28 -> 58020 | D30: =D21+D28 -> 62190 | E30: =E21+E28 -> 46030 | F30: =F21+F28 -> 68910 | G30: =G21+G28 -> 54530 | H30: =H21+H28 -> 55320 | I30: =I21+I28 -> 63870 | J30: =J21+J28 -> 53670 | ... N30: =N21+N28 -> 53980 | O30: =SUM(C30:N30) -> 710960 | P30: =O30/12 -> 59246.667
A32: WASTE RECYCLED (KG)
A34: PLASTIC | B34: PET | C34: 1285 | D34: 1283 | E34: 1357 | F34: 1347 | G34: 1715 | H34: 1627 | I34: 1350 | J34: 1545 | K34: 1520 | L34: 1118 | M34: 1087 | N34: 1801 | O34: =SUM(C34:N34) -> 17035 | P34: =O34/12 -> 1419.5833
B35: PET MIXED | C35: 0 | D35: 0 | E35: 0 | F35: 0 | G35: 0 | H35: 0 | I35: 0 | J35: 0 | K35: 0 | L35: 0 | M35: 0 | N35: 0 | O35: =SUM(C35:N35) -> 0 | P35: =O35/12 -> 0
B36: PP | C36: 457 | D36: 402 | E36: 537 | F36: 547 | G36: 495 | H36: 448 | I36: 596 | J36: 577 | K36: 469 | L36: 262 | M36: 360 | N36: 721 | O36: =SUM(C36:N36) -> 5871 | P36: =O36/12 -> 489.25
B37: LDPE SOFT | C37: 3700 | D37: 1000 | E37: 0 | F37: 0 | G37: 4591 | H37: 0 | I37: 3926 | J37: 0 | K37: 0 | L37: 0 | M37: 3680 | N37: 0 | O37: =SUM(C37:N37) -> 16897 | P37: =O37/12 -> 1408.0833
B38: HD | C38: 0 | D38: 0 | E38: 0 | F38: 0 | G38: 0 | H38: 0 | I38: 0 | J38: 0 | K38: 0 | L38: 0 | M38: 0 | N38: 0 | O38: =SUM(C38:N38) -> 0 | P38: =O38/12 -> 0
B39: PLASTIC PS | O39: =SUM(C39:N39) -> 0 | P39: =O39/12 -> 0
B40: PLASTIC MIX | O40: =SUM(C40:N40) -> 0 | P40: =O40/12 -> 0
B41: BOPP | O41: =SUM(C41:N41) -> 0 | P41: =O41/12 -> 0
A42: SUB TOTAL | C42: =SUM(C34:C41) -> 5442 | D42: =SUM(D34:D41) -> 2685 | E42: =SUM(E34:E41) -> 1894 | F42: =SUM(F34:F41) -> 1894 | G42: =SUM(G34:G41) -> 6801 | H42: =SUM(H34:H41) -> 2075 | I42: =SUM(I34:I41) -> 5872 | J42: =SUM(J34:J41) -> 2122 | ... N42: =SUM(N34:N41) -> 2522 | O42: =SUM(C42:N42) -> 39803 | P42: =O42/12 -> 3316.9167
A44: PAPER | B44: COMMON MIX WASTE | C44: 0 | D44: 0 | E44: 23400 | F44: 16920 | G44: 17900 | H44: 22020 | I44: 23280 | J44: 22580 | K44: 14640 | L44: 12060 | M44: 13240 | N44: 12280 | O44: =SUM(C44:N44) -> 178320 | P44: =O44/12 -> 14860
B45: NEWSPAPER | C45: 18220 | D45: 15920 | E45: 0 | F45: 0 | G45: 0 | H45: 0 | I45: 0 | J45: 0 | K45: 0 | L45: 0 | M45: 0 | N45: 0 | O45: =SUM(C45:N45) -> 34140 | P45: =O45/12 -> 2845
B46: CARDBOARD | C46: 5560 | D46: 6260 | E46: 6320 | F46: 6100 | G46: 6380 | H46: 5940 | I46: 6781 | J46: 4912 | K46: 5354 | L46: 3780 | M46: 3640 | N46: 5258 | O46: =SUM(C46:N46) -> 66285 | P46: =O46/12 -> 5523.75
B47: WHITE OFFICE PAPER | C47: 780 | D47: 1140 | E47: 927 | F47: 720 | G47: 1040 | H47: 840 | I47: 240 | J47: 460 | K47: 134 | L47: 0 | M47: 280 | N47: 0 | O47: =SUM(C47:N47) -> 6561 | P47: =O47/12 -> 546.75
A48: SUB TOTAL | C48: =SUM(C44:C47) -> 24560 | D48: =SUM(D44:D47) -> 23320 | E48: =SUM(E44:E47) -> 30647 | F48: =SUM(F44:F47) -> 23740 | G48: =SUM(G44:G47) -> 25320 | H48: =SUM(H44:H47) -> 28800 | I48: =SUM(I44:I47) -> 30301 | J48: =SUM(J44:J47) -> 27952 | ... N48: =SUM(N44:N47) -> 17538 | O48: =SUM(C48:N48) -> 285306 | P48: =O48/12 -> 23775.5
A50: OIL | B50: MACHINE OIL | C50: 0 | D50: 0 | E50: 0 | F50: 0 | G50: 0 | H50: 0 | I50: 0 | J50: 0 | K50: 0 | L50: 0 | M50: 0 | N50: 0 | O50: =SUM(C50:N50) -> 0 | P50: =O50/12 -> 0
B51: FOOD GRADE OIL | C51: 0 | D51: 0 | E51: 0 | F51: 0 | G51: 0 | H51: 0 | I51: 0 | J51: 0 | K51: 0 | L51: 0 | M51: 0 | N51: 0 | O51: =SUM(C51:N51) -> 0 | P51: =O51/12 -> 0
A52: SUB TOTAL | C52: =SUM(C50:C51) -> 0 | D52: =SUM(D50:D51) -> 0 | E52: =SUM(E50:E51) -> 0 | F52: =SUM(F50:F51) -> 0 | G52: =SUM(G50:G51) -> 0 | H52: =SUM(H50:H51) -> 0 | I52: =SUM(I50:I51) -> 0 | J52: =SUM(J50:J51) -> 0 | ... N52: =SUM(N50:N51) -> 0 | O52: =SUM(C52:N52) -> 0 | P52: =O52/12 -> 0
A54: METAL | B54: SCRAP METAL | C54: 0 | D54: 0 | E54: 0 | F54: 0 | G54: 0 | H54: 960 | I54: 0 | J54: 0 | K54: 0 | L54: 0 | M54: 0 | N54: 0 | O54: =SUM(C54:N54) -> 960 | P54: =O54/12 -> 80
B55: CANS | C55: 1440 | D55: 1078 | E55: 1598 | F55: 1200 | G55: 0 | H55: 1370 | I55: 905 | J55: 784 | K55: 0 | L55: 1720 | M55: 480 | N55: 1100 | O55: =SUM(C55:N55) -> 11675 | P55: =O55/12 -> 972.91667
B56: FOIL | C56: 0 | D56: 57 | E56: 80 | F56: 0 | G56: 0 | H56: 0 | I56: 140 | J56: 0 | K56: 0 | L56: 0 | M56: 0 | N56: 0 | O56: =SUM(C56:N56) -> 277 | P56: =O56/12 -> 23.083333
A57: SUB TOTAL | C57: =SUM(C54:C56) -> 1440 | D57: =SUM(D54:D56) -> 1135 | E57: =SUM(E54:E56) -> 1678 | F57: =SUM(F54:F56) -> 1200 | G57: =SUM(G54:G56) -> 0 | H57: =SUM(H54:H56) -> 2330 | I57: =SUM(I54:I56) -> 1045 | J57: =SUM(J54:J56) -> 784 | ... N57: =SUM(N54:N56) -> 1100 | O57: =SUM(C57:N57) -> 12912 | P57: =O57/12 -> 1076
A59: OTHER | B59: FLUORESCENT TUBES | C59: 0 | D59: 80 | E59: 174 | F59: 0 | G59: 175 | H59: 110 | I59: 71 | J59: 95 | K59: 0 | L59: 170 | M59: 163 | N59: 0 | O59: =SUM(C59:N59) -> 1038 | P59: =O59/12 -> 86.5
B60: LAMP COMPONENTS | O60: =SUM(C60:N60) -> 0 | P60: =O60/12 -> 0
B61: TETRA PAK | C61: 140 | D61: 380 | E61: 300 | F61: 360 | G61: 340 | H61: 280 | I61: 280 | J61: 400 | K61: 0 | L61: 378 | M61: 340 | N61: 480 | O61: =SUM(C61:N61) -> 3678 | P61: =O61/12 -> 306.5
B62: GLASS | C62: 3125 | D62: 3511 | E62: 3595 | F62: 4267 | G62: 3658 | H62: 4309 | I62: 3655 | J62: 4012 | K62: 2655 | L62: 4485 | M62: 2753 | N62: 5271 | O62: =SUM(C62:N62) -> 45296 | P62: =O62/12 -> 3774.6667
B63: RE-USED DRUMS | C63: 0 | D63: 0 | E63: 0 | F63: 0 | G63: 0 | H63: 0 | I63: 0 | J63: 0 | K63: 0 | M63: 0 | N63: 0 | O63: =SUM(C63:N63) -> 0 | P63: =O63/12 -> 0
B64: PRINTER CARTRIDGES | C64: 0 | D64: 0 | E64: 16 | F64: 0 | G64: 0 | H64: 0 | I64: 0 | J64: 31 | K64: 0 | M64: 0 | N64: 0 | O64: =SUM(C64:N64) -> 47 | P64: =O64/12 -> 3.9166667
B65: FOOD WASTE | C65: 0 | D65: 0 | E65: 0 | F65: 0 | G65: 0 | H65: 811 | I65: 457 | J65: 100 | K65: 0 | M65: 0 | N65: 875 | O65: =SUM(C65:N65) -> 2243 | P65: =O65/12 -> 186.91667
A66: SUB TOTAL | C66: =SUM(C59:C65) -> 3265 | D66: =SUM(D59:D65) -> 3971 | E66: =SUM(E59:E65) -> 4085 | F66: =SUM(F59:F65) -> 4627 | G66: =SUM(G59:G65) -> 4173 | H66: =SUM(H59:H65) -> 5510 | I66: =SUM(I59:I65) -> 4463 | J66: =SUM(J59:J65) -> 4638 | ... N66: =SUM(N59:N65) -> 6626 | O66: =SUM(C66:N66) -> 52302 | P66: =O66/12 -> 4358.5
A68: TOTAL WASTE RECYCLED | C68: =C66+C57+C52+C48+C42 -> 34707 | D68: =D66+D57+D52+D48+D42 -> 31111 | E68: =E66+E57+E52+E48+E42 -> 38304 | F68: =F66+F57+F52+F48+F42 -> 31461 | G68: =G66+G57+G52+G48+G42 -> 36294 | H68: =H66+H57+H52+H48+H42 -> 38715 | I68: =I66+I57+I52+I48+I42 -> 41681 | J68: =J66+J57+J52+J48+J42 -> 35496 | ... N68: =N66+N57+N52+N48+N42 -> 27786 | O68: =SUM(C68:N68) -> 390323 | P68: =O68/12 -> 32526.917
A70: SUMMARY
A72: TOTAL WASTE GENERATED | C72: =C30+C68 -> 92727 | D72: =D30+D68 -> 93301 | E72: =E30+E68 -> 84334 | F72: =F30+F68 -> 100371 | G72: =G30+G68 -> 90824 | H72: =H30+H68 -> 94035 | I72: =I30+I68 -> 105551 | J72: =J30+J68 -> 89166 | ... N72: =N30+N68 -> 81766 | O72: =SUM(C72:N72) -> 1101283 | P72: =O72/12 -> 91773.583
A76: KING SHAKA INTERNATIONAL AIRPORT
A80: APRIL 2017 - MARCH 2018
C84: 42840 | D84: 42870 | E84: 42901 | F84: 42931 | G84: 42962 | H84: 42993 | I84: 43023 | J84: 43054 | K84: 43084 | L84: 43115 | M84: 43146 | N84: 43174 | O84: Total | P84: Average
A86: % WASTE RECYCLED / RE-USED | C86: =C141/C145 -> 0.25318786 | D86: =D141/D145 -> 0.36649126 | E86: =E141/E145 -> 0.31734184 | F86: =F141/F145 -> 0.2628316 | G86: =G141/G145 -> 0.42174314 | H86: =H141/H145 -> 0.48279763 | I86: =I141/I145 -> 0.53759422 | J86: =J141/J145 -> 0.59182661 | ... N86: =N141/N145 -> 0.33514625 | O86: =AVERAGE(C86:N86) -> 0.41462251 | P86: =AVERAGE(C86:N86) -> 0.41462251
A87: % WASTE LANDFILLED | C87: =C103/C89 -> 0.74681214 | D87: =D103/D89 -> 0.63350874 | E87: =E103/E89 -> 0.68265816 | F87: =F103/F89 -> 0.7371684 | G87: =G103/G89 -> 0.57825686 | H87: =H103/H89 -> 0.51720237 | I87: =I103/I89 -> 0.46240578 | J87: =J103/J89 -> 0.40817339 | ... N87: =N103/N89 -> 0.66485375 | O87: =AVERAGE(C87:N87) -> 0.58537749 | P87: =AVERAGE(C87:N87) -> 0.58537749
A89: TOTAL WASTE GENERATED | C89: =C145 -> 72776 | D89: =D145 -> 88365 | E89: =E145 -> 68995 | F89: =F145 -> 80972 | G89: =G145 -> 93142 | H89: =H145 -> 83971 | I89: =I145 -> 97382 | J89: =J145 -> 80603 | ... N89: =N145 -> 80717 | O89: =SUM(C89:N89) -> 1018471 | P89: =O89/12 -> 84872.583
A91: WASTE TO LANDFILL (KG)
A93: NON HAZARDOUS
A94: GENERAL WASTE | C94: 48460 | D94: 50040 | E94: 42200 | F94: 52700 | G94: 42960 | H94: 38380 | I94: 39720 | J94: 28840 | K94: 51800 | L94: 46440 | M94: 28740 | N94: 48410 | O94: =SUM(C94:N94) -> 518690 | P94: =O94/12 -> 43224.167
A96: HAZARDOUS WASTE
A97: GALLEY WASTE | C97: 5890 | D97: 5940 | E97: 4900 | F97: 6990 | G97: 5500 | H97: 5050 | I97: 5310 | J97: 4060 | K97: 6690 | L97: 6320 | M97: 5060 | N97: 5030 | O97: =SUM(C97:N97) -> 66740 | P97: =O97/12 -> 5561.6667
A98: EMPTY MOTOR OIL CANS | C98: 0 | D98: 0 | E98: 0 | F98: 0 | G98: 0 | H98: 0 | I98: 0 | J98: 0 | K98: 0 | L98: 0 | M98: 0 | N98: 225 | O98: =SUM(C98:N98) -> 225 | P98: =O98/12 -> 18.75
A99: OTHER | C99: 0 | D99: 0 | E99: 0 | F99: 0 | G99: 0 | H99: 0 | I99: 0 | J99: 0 | K99: 0 | L99: 0 | M99: 0 | N99: 0 | O99: =SUM(C99:N99) -> 0 | P99: =O99/12 -> 0
A100: AD-HOC (NOT INCL) | C100: 0 | D100: 0 | E100: 0 | F100: 0 | G100: 5400 | H100: 0 | I100: 0 | J100: 0 | K100: 0 | L100: 0 | M100: 0 | N100: 0 | O100: =SUM(C100:N100) -> 5400 | P100: =O100/12 -> 450
A101: TOTAL HAZARDOUS WASTE | C101: =SUM(C97:C100) -> 5890 | D101: =SUM(D97:D100) -> 5940 | E101: =SUM(E97:E100) -> 4900 | F101: =SUM(F97:F100) -> 6990 | G101: =SUM(G97:G100) -> 10900 | H101: =SUM(H97:H100) -> 5050 | I101: =SUM(I97:I100) -> 5310 | J101: =SUM(J97:J100) -> 4060 | ... N101: =SUM(N97:N100) -> 5255 | O101: =SUM(C101:N101) -> 72365 | P101: =O101/12 -> 6030.4167
A103: TOTAL WASTE TO LANDFILL | C103: =C94+C101 -> 54350 | D103: =D94+D101 -> 55980 | E103: =E94+E101 -> 47100 | F103: =F94+F101 -> 59690 | G103: =G94+G101 -> 53860 | H103: =H94+H101 -> 43430 | I103: =I94+I101 -> 45030 | J103: =J94+J101 -> 32900 | ... N103: =N94+N101 -> 53665 | O103: =SUM(C103:N103) -> 591055 | P103: =O103/12 -> 49254.583
A105: WASTE RECYCLED (KG)
A107: PLASTIC | B107: PET | C107: 1355 | D107: 1422 | E107: 1244 | F107: 1331 | G107: 1885 | H107: 1295 | I107: 1095 | J107: 2298 | K107: 1913 | L107: 2706 | M107: 1236 | N107: 2011 | O107: =SUM(C107:N107) -> 19791 | P107: =O107/12 -> 1649.25
B108: PET MIXED | C108: 0 | D108: 0 | E108: 0 | F108: 0 | G108: 0 | H108: 0 | I108: 0 | J108: 0 | K108: 0 | L108: 0 | M108: 0 | N108: 0 | O108: =SUM(C108:N108) -> 0 | P108: =O108/12 -> 0
B109: PP | C109: 611 | D109: 718 | E109: 533 | F109: 423 | G109: 470 | H109: 240 | I109: 110 | J109: 320 | K109: 115 | L109: 130 | M109: 137 | N109: 131 | O109: =SUM(C109:N109) -> 3938 | P109: =O109/12 -> 328.16667
B110: LDPE SOFT | C110: 0 | D110: 3461 | E110: 0 | F110: 1200 | G110: 1570 | H110: 1430 | I110: 2720 | J110: 3970 | K110: 980 | L110: 3390 | M110: 1440 | N110: 1080 | O110: =SUM(C110:N110) -> 21241 | P110: =O110/12 -> 1770.0833
B111: HD | C111: 0 | D111: 140 | E111: 0 | F111: 0 | G111: 480 | H111: 230 | I111: 620 | J111: 365 | K111: 410 | L111: 711 | M111: 180 | N111: 320 | O111: =SUM(C111:N111) -> 3456 | P111: =O111/12 -> 288
B112: PLASTIC PS | I112: =704+120 -> 824 | J112: =0+50 -> 50 | K112: =0+36 -> 36 | L112: =0+108 -> 108 | M112: =0+77 -> 77 | N112: =0+74 -> 74 | O112: =SUM(C112:N112) -> 1169 | P112: =O112/12 -> 97.416667
B113: PLASTIC MIX | I113: 426 | J113: 108 | K113: 555 | L113: 718 | M113: 605 | N113: 430 | O113: =SUM(C113:N113) -> 2842 | P113: =O113/12 -> 236.83333
B114: BOPP | I114: 47 | J114: 49 | K114: 36 | L114: 50 | M114: 53 | N114: 16 | O114: =SUM(C114:N114) -> 251 | P114: =O114/12 -> 20.916667
A115: SUB TOTAL | C115: =SUM(C107:C114) -> 1966 | D115: =SUM(D107:D114) -> 5741 | E115: =SUM(E107:E114) -> 1777 | F115: =SUM(F107:F114) -> 2954 | G115: =SUM(G107:G114) -> 4405 | H115: =SUM(H107:H114) -> 3195 | I115: =SUM(I107:I114) -> 5842 | J115: =SUM(J107:J114) -> 7160 | ... N115: =SUM(N107:N114) -> 4062 | O115: =SUM(C115:N115) -> 52688 | P115: =O115/12 -> 4390.6667
A117: PAPER | B117: COMMON MIX WASTE | C117: 7972 | D117: 15070 | E117: 103 | F117: 154 | G117: 10280 | H117: 17166 | I117: 486 | J117: 2146 | K117: 1709 | L117: 3180 | M117: 1220 | N117: 1498 | O117: =SUM(C117:N117) -> 60984 | P117: =O117/12 -> 5082
B118: NEWSPAPER | C118: 0 | D118: 0 | E118: 7360 | F118: 7520 | G118: 0 | H118: 0 | I118: 18140 | J118: 18040 | K118: 17360 | L118: 15280 | M118: 14440 | N118: 3260 | O118: =SUM(C118:N118) -> 101400 | P118: =O118/12 -> 8450
B119: CARDBOARD | C119: 4178 | D119: 4037 | E119: 4717 | F119: 3906 | G119: 5860 | H119: 5900 | I119: 8773 | J119: 5260 | K119: 4408 | L119: 7000 | M119: 4700 | N119: 4821 | O119: =SUM(C119:N119) -> 63560 | P119: =O119/12 -> 5296.6667
B120: WHITE OFFICE PAPER | C120: 160 | D120: 300 | E120: 320 | F120: 220 | G120: 1740 | H120: 760 | I120: 1392 | J120: 879 | K120: 1140 | L120: 1460 | M120: 720 | N120: 600 | O120: =SUM(C120:N120) -> 9691 | P120: =O120/12 -> 807.58333
A121: SUB TOTAL | C121: =SUM(C117:C120) -> 12310 | D121: =SUM(D117:D120) -> 19407 | E121: =SUM(E117:E120) -> 12500 | F121: =SUM(F117:F120) -> 11800 | G121: =SUM(G117:G120) -> 17880 | H121: =SUM(H117:H120) -> 23826 | I121: =SUM(I117:I120) -> 28791 | J121: =SUM(J117:J120) -> 26325 | ... N121: =SUM(N117:N120) -> 10179 | O121: =SUM(C121:N121) -> 235635 | P121: =O121/12 -> 19636.25
A123: OIL | B123: MACHINE OIL | C123: 0 | D123: 0 | E123: 0 | F123: 0 | G123: 0 | H123: 0 | I123: 0 | J123: 0 | K123: 0 | L123: 0 | M123: 0 | N123: 0 | O123: =SUM(C123:N123) -> 0 | P123: =O123/12 -> 0
B124: FOOD GRADE OIL | C124: 0 | D124: 0 | E124: 0 | F124: 0 | G124: 0 | H124: 0 | I124: 0 | J124: 0 | K124: 0 | L124: 0 | M124: 0 | N124: 0 | O124: =SUM(C124:N124) -> 0 | P124: =O124/12 -> 0
A125: SUB TOTAL | C125: =SUM(C123:C124) -> 0 | D125: =SUM(D123:D124) -> 0 | E125: =SUM(E123:E124) -> 0 | F125: =SUM(F123:F124) -> 0 | G125: =SUM(G123:G124) -> 0 | H125: =SUM(H123:H124) -> 0 | I125: =SUM(I123:I124) -> 0 | J125: =SUM(J123:J124) -> 0 | ... N125: =SUM(N123:N124) -> 0 | O125: =SUM(C125:N125) -> 0 | P125: =O125/12 -> 0
A127: METAL | B127: SCRAP METAL | C127: 0 | D127: 0 | E127: 0 | F127: 0 | G127: 3720 | H127: 0 | I127: 0 | J127: 0 | K127: 0 | L127: 0 | M127: 0 | N127: 0 | O127: =SUM(C127:N127) -> 3720 | P127: =O127/12 -> 310
B128: CANS | C128: 540 | D128: 520 | E128: 460 | F128: 400 | G128: 940 | H128: 1100 | I128: 1240 | J128: 1650 | K128: 927 | L128: 1809 | M128: 1185 | N128: 625 | O128: =SUM(C128:N128) -> 11396 | P128: =O128/12 -> 949.66667
B129: FOIL | C129: 0 | D129: 0 | E129: 0 | F129: 0 | G129: 500 | H129: 0 | I129: 0 | J129: 0 | K129: 0 | L129: 360 | M129: 0 | N129: 0 | O129: =SUM(C129:N129) -> 860 | P129: =O129/12 -> 71.666667
A130: SUB TOTAL | C130: =SUM(C127:C129) -> 540 | D130: =SUM(D127:D129) -> 520 | E130: =SUM(E127:E129) -> 460 | F130: =SUM(F127:F129) -> 400 | G130: =SUM(G127:G129) -> 5160 | H130: =SUM(H127:H129) -> 1100 | I130: =SUM(I127:I129) -> 1240 | J130: =SUM(J127:J129) -> 1650 | ... N130: =SUM(N127:N129) -> 625 | O130: =SUM(C130:N130) -> 15976 | P130: =O130/12 -> 1331.3333
A132: OTHER | B132: FLUORESCENT TUBES | C132: 0 | D132: 211 | E132: 187 | F132: 0 | G132: 0 | H132: 800 | I132: 0 | J132: 0 | K132: 172 | L132: 0 | M132: 0 | N132: 160 | O132: =SUM(C132:N132) -> 1530 | P132: =O132/12 -> 127.5
B133: LAMP COMPONENTS | I133: 3380 | J133: 191 | K133: 0 | L133: 0 | M133: 0 | N133: 0 | O133: =SUM(C133:N133) -> 3571 | P133: =O133/12 -> 297.58333
B134: TETRA PAK | C134: 304 | D134: 408 | E134: 280 | F134: 420 | G134: 478 | H134: 338 | I134: 520 | J134: 480 | K134: 420 | L134: 720 | M134: 380 | N134: 340 | O134: =SUM(C134:N134) -> 5088 | P134: =O134/12 -> 424
B135: GLASS | C135: 2866 | D135: 4521 | E135: 3980 | F135: 2656 | G135: 5603 | H135: 4140 | I135: 6168 | J135: 5976 | K135: 1160 | L135: 8640 | M135: 4188 | N135: 5232 | O135: =SUM(C135:N135) -> 55130 | P135: =O135/12 -> 4594.1667
B136: RE-USED DRUMS | C136: 0 | D136: 0 | E136: 0 | F136: 0 | G136: 0 | H136: 0 | I136: 0 | J136: 0 | K136: 0 | L136: 0 | M136: 0 | N136: 0 | O136: =SUM(C136:N136) -> 0 | P136: =O136/12 -> 0
B137: PRINTER CARTRIDGES | C137: 0 | D137: 0 | E137: 74 | F137: 0 | G137: 0 | H137: 0 | I137: 0 | J137: 0 | K137: 0 | L137: 0 | M137: 0 | N137: 0 | O137: =SUM(C137:N137) -> 74 | P137: =O137/12 -> 6.1666667
B138: FOOD WASTE | C138: 440 | D138: 1577 | E138: 2637 | F138: 3052 | G138: 5756 | H138: 7142 | I138: 6411 | J138: 5921 | K138: 4245 | L138: 7534 | M138: 6555 | N138: 6454 | O138: =SUM(C138:N138) -> 57724 | P138: =O138/12 -> 4810.3333
A139: SUB TOTAL | C139: =SUM(C132:C138) -> 3610 | D139: =SUM(D132:D138) -> 6717 | E139: =SUM(E132:E138) -> 7158 | F139: =SUM(F132:F138) -> 6128 | G139: =SUM(G132:G138) -> 11837 | H139: =SUM(H132:H138) -> 12420 | I139: =SUM(I132:I138) -> 16479 | J139: =SUM(J132:J138) -> 12568 | ... N139: =SUM(N132:N138) -> 12186 | O139: =SUM(C139:N139) -> 123117 | P139: =O139/12 -> 10259.75
A141: TOTAL WASTE RECYCLED | C141: =C139+C130+C125+C121+C115 -> 18426 | D141: =D139+D130+D125+D121+D115 -> 32385 | E141: =E139+E130+E125+E121+E115 -> 21895 | F141: =F139+F130+F125+F121+F115 -> 21282 | G141: =G139+G130+G125+G121+G115 -> 39282 | H141: =H139+H130+H125+H121+H115 -> 40541 | I141: =I139+I130+I125+I121+I115 -> 52352 | J141: =J139+J130+J125+J121+J115 -> 47703 | ... N141: =N139+N130+N125+N121+N115 -> 27052 | O141: =SUM(C141:N141) -> 427416 | P141: =O141/12 -> 35618
A143: SUMMARY
A145: TOTAL WASTE GENERATED | C145: =C103+C141 -> 72776 | D145: =D103+D141 -> 88365 | E145: =E103+E141 -> 68995 | F145: =F103+F141 -> 80972 | G145: =G103+G141 -> 93142 | H145: =H103+H141 -> 83971 | I145: =I103+I141 -> 97382 | J145: =J103+J141 -> 80603 | ... N145: =N103+N141 -> 80717 | O145: =SUM(C145:N145) -> 1018471 | P145: =O145/12 -> 84872.583
A149: KING SHAKA INTERNATIONAL AIRPORT
A151: APRIL 2018 - MARCH 2019
...

Sheet Waste Monitoring - % Splits
A4: KING SHAKA INTERNATIONAL AIRPORT
D9: 1 | G9: 2 | J9: 3 | M9: 4 | P9: 5
C10: APRIL 2016 - MARCH 2017 | F10: APRIL 2017 - MARCH 2018 | I10: APRIL 2018 - MARCH 2019 | L10: APRIL 2019 - MARCH 2020 | O10: APRIL 2020 - MARCH 2021 | R10: APRIL 2021 - MARCH 2022
C11: Annual | D11: Month Avg | E11: % Split | F11: Annual | G11: Month Avg | H11: % Split | I11: Annual | J11: Month Avg | K11: % Split | L11: Annual | M11: Month Avg | N11: % Split | O11: Annual | P11: Month Avg | Q11: % Split | R11: Annual | S11: Month Avg | T11: % Split | U11: Total Tons | V11: Month Avg | W11: % Split
A13: % WASTE RECYCLED / RE-USED | C13: =C68/C72 -> 0.3544257 | D13: =D68/D72 -> 0.3544257 | F13: =F68/F72 -> 0.41966438 | G13: =G68/G72 -> 0.41966438 | I13: =I68/I72 -> 0.52812785 | J13: =J68/J72 -> 0.52812785 | L13: =L68/L72 -> 0.49279757 | M13: =M68/M72 -> 0.49279757 | O13: =O68/O72 -> 0.50139684 | P13: =P68/P72 -> 0.50139684 | R13: =R68/R72 -> 0.59967645 | S13: =S68/S72 -> 0.59967645 | U13: =U68/U72 -> 0.46647982 | V13: =V68/V72 -> 0.46647982
A14: % WASTE LANDFILLED | C14: =C30/C16 -> 0.6455743 | D14: =D30/D16 -> 0.6455743 | F14: =F30/F16 -> 0.58033562 | G14: =G30/G16 -> 0.58033562 | I14: =I30/I16 -> 0.47187215 | J14: =J30/J16 -> 0.47187215 | L14: =L30/L16 -> 0.50720243 | M14: =M30/M16 -> 0.50720243 | O14: =O30/O16 -> 0.49860316 | P14: =P30/P16 -> 0.49860316 | R14: =R30/R16 -> 0.40032355 | S14: =S30/S16 -> 0.40032355 | U14: =U30/U16 -> 0.53352018 | V14: =V30/V16 -> 0.53352018
A16: TOTAL WASTE GENERATED | C16: =C72 -> 1101283 | D16: =D72 -> 91773.583 | E16: =C16 -> 1101283 | F16: =F72 -> 1018471 | G16: =G72 -> 84872.583 | H16: =F16 -> 1018471 | I16: =I72 -> 1046703 | J16: =J72 -> 87225.25 | K16: =I16 -> 1046703 | L16: =L72 -> 1102989.6 | M16: =M72 -> 91915.8 | N16: =L16 -> 1102989.6 | O16: =O72 -> 242904.6 | P16: =P72 -> 20242.05 | Q16: =O16 -> 242904.6 | R16: =R72 -> 518380.7 | S16: =S72 -> 43198.392 | T16: =R16 -> 518380.7 | U16: =SUM(C16,F16,I16,L16,O16,R16) -> 5030731.9 | V16: =U16/63 -> 79852.887 | W16: =U16 -> 5030731.9 | X16: =U16/63 -> 79852.887
A18: WASTE TO LANDFILL (KG) | X18: =80155*63 -> 5049765
A20: NON HAZARDOUS
A21: GENERAL WASTE | C21: ='Tender - Waste Monitoring'!O21 -> 625280 | D21: ='Tender - Waste Monitoring'!P21 -> 52106.667 | E21: =C21/E16 -> 0.56777413 | F21: ='Tender - Waste Monitoring'!O94 -> 518690 | G21: ='Tender - Waste Monitoring'!P94 -> 43224.167 | H21: =F21/H16 -> 0.50928303 | I21: ='Tender - Waste Monitoring'!O165 -> 419660 | J21: ='Tender - Waste Monitoring'!P165 -> 34971.667 | K21: =I21/K16 -> 0.40093513 | L21: ='Tender - Waste Monitoring'!O235 -> 495030 | M21: ='Tender - Waste Monitoring'!P235 -> 41252.5 | N21: =L21/N16 -> 0.4488075 | O21: ='Tender - Waste Monitoring'!O307 -> 117134 | P21: ='Tender - Waste Monitoring'!P307 -> 9761.1667 | Q21: =O21/Q16 -> 0.48222224 | R21: ='Tender - Waste Monitoring'!O379 -> 196220 | S21: ='Tender - Waste Monitoring'!P379 -> 16351.667 | T21: =R21/T16 -> 0.37852489 | U21: =SUM(C21,F21,I21,L21,O21,R21) -> 2372014 | V21: =U21/63 -> 37651.016 | W21: =U21/W16 -> 0.47150475
A23: HAZARDOUS WASTE | I23: ='Tender - Waste Monitoring'!O167 -> 0 | L23: ='Tender - Waste Monitoring'!O237 -> 0 | O23: ='Tender - Waste Monitoring'!O309 -> 0 | R23: ='Tender - Waste Monitoring'!O381 -> 0
A24: GALLEY WASTE | C24: ='Tender - Waste Monitoring'!O24 -> 83190 | D24: ='Tender - Waste Monitoring'!P24 -> 6932.5 | E24: =C24/E16 -> 0.075539167 | F24: ='Tender - Waste Monitoring'!O97 -> 66740 | G24: ='Tender - Waste Monitoring'!P97 -> 5561.6667 | H24: =F24/H16 -> 0.065529603 | I24: ='Tender - Waste Monitoring'!O168 -> 70690 | J24: ='Tender - Waste Monitoring'!P168 -> 5890.8333 | K24: =I24/K16 -> 0.067535872 | L24: ='Tender - Waste Monitoring'!O238 -> 63469 | M24: ='Tender - Waste Monitoring'!P238 -> 5289.0833 | N24: =L24/N16 -> 0.0575427 | O24: ='Tender - Waste Monitoring'!O310 -> 3490 | P24: ='Tender - Waste Monitoring'!P310 -> 290.83333 | Q24: =O24/Q16 -> 0.014367781 | R24: ='Tender - Waste Monitoring'!O382 -> 8280 | S24: ='Tender - Waste Monitoring'!P382 -> 690 | T24: =R24/T16 -> 0.015972817 | U24: =SUM(C24,F24,I24,L24,O24,R24) -> 295859 | V24: =U24/63 -> 4696.1746 | W24: =U24/W16 -> 0.058810329
A25: EMPTY MOTOR OIL CANS | C25: ='Tender - Waste Monitoring'!O25 -> 0 | D25: ='Tender - Waste Monitoring'!P25 -> 0 | E25: =C25/E16 -> 0 | F25: ='Tender - Waste Monitoring'!O98 -> 225 | G25: ='Tender - Waste Monitoring'!P98 -> 18.75 | H25: =F25/H16 -> 0.0002209194 | I25: ='Tender - Waste Monitoring'!O169 -> 500 | J25: ='Tender - Waste Monitoring'!P169 -> 41.666667 | K25: =I25/K16 -> 0.00047769042 | L25: ='Tender - Waste Monitoring'!O239 -> 0 | M25: ='Tender - Waste Monitoring'!P239 -> 0 | N25: =L25/N16 -> 0 | O25: ='Tender - Waste Monitoring'!O311 -> 0 | P25: ='Tender - Waste Monitoring'!P311 -> 0 | Q25: =O25/Q16 -> 0 | R25: ='Tender - Waste Monitoring'!O383 -> 0 | S25: ='Tender - Waste Monitoring'!P383 -> 0 | T25: =R25/T16 -> 0 | U25: =SUM(C25,F25,I25,L25,O25,R25) -> 725 | V25: =U25/63 -> 11.507937 | W25: =U25/W16 -> 0.00014411422
A26: OTHER | C26: ='Tender - Waste Monitoring'!O26 -> 0 | D26: ='Tender - Waste Monitoring'!P26 -> 0 | E26: =C26/E16 -> 0 | F26: ='Tender - Waste Monitoring'!O99 -> 0 | G26: ='Tender - Waste Monitoring'!P99 -> 0 | H26: =F26/H16 -> 0 | I26: ='Tender - Waste Monitoring'!O170 -> 0 | J26: ='Tender - Waste Monitoring'!P170 -> 0 | K26: =I26/K16 -> 0 | L26: ='Tender - Waste Monitoring'!O240 -> 940 | M26: ='Tender - Waste Monitoring'!P240 -> 78.333333 | N26: =L26/N16 -> 0.00085222925 | O26: ='Tender - Waste Monitoring'!O312 -> 0 | P26: ='Tender - Waste Monitoring'!P312 -> 0 | Q26: =O26/Q16 -> 0 | R26: ='Tender - Waste Monitoring'!O384 -> 3020 | S26: ='Tender - Waste Monitoring'!P384 -> 251.66667 | T26: =R26/T16 -> 0.0058258342 | U26: =SUM(C26,F26,I26,L26,O26,R26) -> 3960 | V26: =U26/63 -> 62.857143 | W26: =U26/W16 -> 0.0007871618
A27: AD-HOC (NOT INCL) | C27: ='Tender - Waste Monitoring'!O27 -> 2490 | D27: ='Tender - Waste Monitoring'!P27 -> 207.5 | E27: =C27/E16 -> 0.0022609992 | F27: ='Tender - Waste Monitoring'!O100 -> 5400 | G27: ='Tender - Waste Monitoring'!P100 -> 450 | H27: =F27/H16 -> 0.0053020655 | I27: ='Tender - Waste Monitoring'!O171 -> 3060 | J27: ='Tender - Waste Monitoring'!P171 -> 255 | K27: =I27/K16 -> 0.0029234654 | L27: ='Tender - Waste Monitoring'!O241 -> 0 | M27: ='Tender - Waste Monitoring'!P241 -> 0 | N27: =L27/N16 -> 0 | O27: ='Tender - Waste Monitoring'!O313 -> 489 | P27: ='Tender - Waste Monitoring'!P313 -> 40.75 | Q27: =O27/Q16 -> 0.002013136 | R27: ='Tender - Waste Monitoring'!O385 -> 0 | S27: ='Tender - Waste Monitoring'!P385 -> 0 | T27: =R27/T16 -> 0 | U27: =SUM(C27,F27,I27,L27,O27,R27) -> 11439 | V27: =U27/63 -> 181.57143 | W27: =U27/W16 -> 0.0022738242
A28: TOTAL HAZARDOUS WASTE | C28: =SUM(C24:C27) -> 85680 | D28: =SUM(D24:D27) -> 7140 | F28: =SUM(F24:F27) -> 72365 | G28: =SUM(G24:G27) -> 6030.4167 | I28: =SUM(I24:I27) -> 74250 | J28: =SUM(J24:J27) -> 6187.5 | L28: =SUM(L24:L27) -> 64409 | M28: =SUM(M24:M27) -> 5367.4167 | O28: =SUM(O24:O27) -> 3979 | P28: =SUM(P24:P27) -> 331.58333 | R28: =SUM(R24:R27) -> 11300 | S28: =SUM(S24:S27) -> 941.66667 | U28: =SUM(C28,F28,I28,L28,O28,R28) -> 311983 | V28: =U28/63 -> 4952.1111
A30: TOTAL WASTE TO LANDFILL | C30: =C21+C28 -> 710960 | D30: =D21+D28 -> 59246.667 | F30: =F21+F28 -> 591055 | G30: =G21+G28 -> 49254.583 | I30: =I21+I28 -> 493910 | J30: =J21+J28 -> 41159.167 | L30: =L21+L28 -> 559439 | M30: =M21+M28 -> 46619.917 | O30: =O21+O28 -> 121113 | P30: =P21+P28 -> 10092.75 | R30: =R21+R28 -> 207520 | S30: =S21+S28 -> 17293.333 | U30: =SUM(C30,F30,I30,L30,O30,R30) -> 2683997 | V30: =U30/63 -> 42603.127
A32: WASTE RECYCLED (KG)
A34: PLASTIC | B34: PET | C34: ='Tender - Waste Monitoring'!O34 -> 17035 | D34: ='Tender - Waste Monitoring'!P34 -> 1419.5833 | E34: =C34/E16 -> 0.015468322 | F34: ='Tender - Waste Monitoring'!O107 -> 19791 | G34: ='Tender - Waste Monitoring'!P107 -> 1649.25 | H34: =F34/H16 -> 0.01943207 | I34: ='Tender - Waste Monitoring'!O178 -> 24223 | J34: ='Tender - Waste Monitoring'!P178 -> 2018.5833 | K34: =I34/K16 -> 0.02314219 | L34: ='Tender - Waste Monitoring'!O248 -> 23363 | M34: ='Tender - Waste Monitoring'!P248 -> 1946.9167 | N34: =L34/N16 -> 0.021181523 | O34: ='Tender - Waste Monitoring'!O320 -> 5900 | P34: ='Tender - Waste Monitoring'!P320 -> 491.66667 | Q34: =O34/Q16 -> 0.024289371 | R34: ='Tender - Waste Monitoring'!O392 -> 11745 | S34: ='Tender - Waste Monitoring'!P392 -> 978.75 | T34: =R34/T16 -> 0.022657094 | U34: =SUM(C34,F34,I34,L34,O34,R34) -> 102057 | V34: =U34/63 -> 1619.9524 | W34: =U34/W16 -> 0.02028671
B35: PET MIXED | C35: ='Tender - Waste Monitoring'!O35 -> 0 | D35: ='Tender - Waste Monitoring'!P35 -> 0 | E35: =C35/E16 -> 0 | F35: ='Tender - Waste Monitoring'!O108 -> 0 | G35: ='Tender - Waste Monitoring'!P108 -> 0 | H35: =F35/H16 -> 0 | I35: ='Tender - Waste Monitoring'!O179 -> 0 | J35: ='Tender - Waste Monitoring'!P179 -> 0 | K35: =I35/K16 -> 0 | L35: ='Tender - Waste Monitoring'!O249 -> 0 | M35: ='Tender - Waste Monitoring'!P249 -> 0 | N35: =L35/N16 -> 0 | O35: ='Tender - Waste Monitoring'!O321 -> 0 | P35: ='Tender - Waste Monitoring'!P321 -> 0 | Q35: =O35/Q16 -> 0 | R35: ='Tender - Waste Monitoring'!O393 -> 0 | S35: ='Tender - Waste Monitoring'!P393 -> 0 | T35: =R35/T16 -> 0 | U35: =SUM(C35,F35,I35,L35,O35,R35) -> 0 | V35: =U35/63 -> 0 | W35: =U35/W16 -> 0
B36: PP | C36: ='Tender - Waste Monitoring'!O36 -> 5871 | D36: ='Tender - Waste Monitoring'!P36 -> 489.25 | E36: =C36/E16 -> 0.0053310548 | F36: ='Tender - Waste Monitoring'!O109 -> 3938 | G36: ='Tender - Waste Monitoring'!P109 -> 328.16667 | H36: =F36/H16 -> 0.0038665804 | I36: ='Tender - Waste Monitoring'!O180 -> 4566 | J36: ='Tender - Waste Monitoring'!P180 -> 380.5 | K36: =I36/K16 -> 0.004362269 | L36: ='Tender - Waste Monitoring'!O250 -> 4590 | M36: ='Tender - Waste Monitoring'!P250 -> 382.5 | N36: =L36/N16 -> 0.0041614173 | O36: ='Tender - Waste Monitoring'!O322 -> 720 | P36: ='Tender - Waste Monitoring'!P322 -> 60 | Q36: =O36/Q16 -> 0.0029641267 | R36: ='Tender - Waste Monitoring'!O394 -> 0 | S36: ='Tender - Waste Monitoring'!P394 -> 0 | T36: =R36/T16 -> 0 | U36: =SUM(C36,F36,I36,L36,O36,R36) -> 19685 | V36: =U36/63 -> 312.46032 | W36: =U36/W16 -> 0.0039129495
B37: LDPE SOFT | C37: ='Tender - Waste Monitoring'!O37 -> 16897 | D37: ='Tender - Waste Monitoring'!P37 -> 1408.0833 | E37: =C37/E16 -> 0.015343014 | F37: ='Tender - Waste Monitoring'!O110 -> 21241 | G37: ='Tender - Waste Monitoring'!P110 -> 1770.0833 | H37: =F37/H16 -> 0.020855773 | I37: ='Tender - Waste Monitoring'!O181 -> 22102 | J37: ='Tender - Waste Monitoring'!P181 -> 1841.8333 | K37: =I37/K16 -> 0.021115828 | L37: ='Tender - Waste Monitoring'!O251 -> 16850 | M37: ='Tender - Waste Monitoring'!P251 -> 1404.1667 | N37: =L37/N16 -> 0.015276663 | O37: ='Tender - Waste Monitoring'!O323 -> 0 | P37: ='Tender - Waste Monitoring'!P323 -> 0 | Q37: =O37/Q16 -> 0 | R37: ='Tender - Waste Monitoring'!O395 -> 10142 | S37: ='Tender - Waste Monitoring'!P395 -> 845.16667 | T37: =R37/T16 -> 0.019564772 | U37: =SUM(C37,F37,I37,L37,O37,R37) -> 87232 | V37: =U37/63 -> 1384.6349 | W37: =U37/W16 -> 0.017339823
B38: HD | C38: ='Tender - Waste Monitoring'!O38 -> 0 | D38: ='Tender - Waste Monitoring'!P38 -> 0 | E38: =C38/E16 -> 0 | F38: ='Tender - Waste Monitoring'!O111 -> 3456 | G38: ='Tender - Waste Monitoring'!P111 -> 288 | H38: =F38/H16 -> 0.003393322 | I38: ='Tender - Waste Monitoring'!O182 -> 10768 | J38: ='Tender - Waste Monitoring'!P182 -> 897.33333 | K38: =I38/K16 -> 0.010287541 | L38: ='Tender - Waste Monitoring'!O252 -> 11710 | M38: ='Tender - Waste Monitoring'!P252 -> 975.83333 | N38: =L38/N16 -> 0.010616601 | O38: ='Tender - Waste Monitoring'!O324 -> 6540 | P38: ='Tender - Waste Monitoring'!P324 -> 545 | Q38: =O38/Q16 -> 0.02692415 | R38: ='Tender - Waste Monitoring'!O396 -> 3274 | S38: ='Tender - Waste Monitoring'!P396 -> 272.83333 | T38: =R38/T16 -> 0.0063158216 | U38: =SUM(C38,F38,I38,L38,O38,R38) -> 35748 | V38: =U38/63 -> 567.42857 | W38: =U38/W16 -> 0.0071059243
B39: PLASTIC PS | C39: ='Tender - Waste Monitoring'!O39 -> 0 | D39: ='Tender - Waste Monitoring'!P39 -> 0 | E39: =C39/E16 -> 0 | F39: ='Tender - Waste Monitoring'!O112 -> 1169 | G39: ='Tender - Waste Monitoring'!P112 -> 97.416667 | H39: =F39/H16 -> 0.001147799 | I39: ='Tender - Waste Monitoring'!O183 -> 2096 | J39: ='Tender - Waste Monitoring'!P183 -> 174.66667 | K39: =I39/K16 -> 0.0020024783 | L39: ='Tender - Waste Monitoring'!O253 -> 822 | M39: ='Tender - Waste Monitoring'!P253 -> 68.5 | N39: =L39/N16 -> 0.00074524728 | O39: ='Tender - Waste Monitoring'!O325 -> 0 | P39: ='Tender - Waste Monitoring'!P325 -> 0 | Q39: =O39/Q16 -> 0 | R39: ='Tender - Waste Monitoring'!O397 -> 0 | S39: ='Tender - Waste Monitoring'!P397 -> 0 | T39: =R39/T16 -> 0 | U39: =SUM(C39,F39,I39,L39,O39,R39) -> 4087 | V39: =U39/63 -> 64.873016 | W39: =U39/W16 -> 0.00081240664
B40: PLASTIC MIX | C40: ='Tender - Waste Monitoring'!O40 -> 0 | D40: ='Tender - Waste Monitoring'!P40 -> 0 | E40: =C40/E16 -> 0 | F40: ='Tender - Waste Monitoring'!O113 -> 2842 | G40: ='Tender - Waste Monitoring'!P113 -> 236.83333 | H40: =F40/H16 -> 0.0027904575 | I40: ='Tender - Waste Monitoring'!O184 -> 0 | J40: ='Tender - Waste Monitoring'!P184 -> 0 | K40: =I40/K16 -> 0 | L40: ='Tender - Waste Monitoring'!O254 -> 0 | M40: ='Tender - Waste Monitoring'!P254 -> 0 | N40: =L40/N16 -> 0 | O40: ='Tender - Waste Monitoring'!O326 -> 0 | P40: ='Tender - Waste Monitoring'!P326 -> 0 | Q40: =O40/Q16 -> 0 | R40: ='Tender - Waste Monitoring'!O398 -> 0 | S40: ='Tender - Waste Monitoring'!P398 -> 0 | T40: =R40/T16 -> 0 | U40: =SUM(C40,F40,I40,L40,O40,R40) -> 2842 | V40: =U40/63 -> 45.111111 | W40: =U40/W16 -> 0.00056492774
B41: BOPP | C41: ='Tender - Waste Monitoring'!O40 -> 0 | D41: ='Tender - Waste Monitoring'!P40 -> 0 | E41: =C41/E16 -> 0 | F41: ='Tender - Waste Monitoring'!O114 -> 251 | G41: ='Tender - Waste Monitoring'!P114 -> 20.916667 | H41: =F41/H16 -> 0.00024644786 | I41: ='Tender - Waste Monitoring'!O185 -> 18601 | J41: ='Tender - Waste Monitoring'!P185 -> 1550.0833 | K41: =I41/K16 -> 0.017771039 | L41: ='Tender - Waste Monitoring'!O255 -> 386 | M41: ='Tender - Waste Monitoring'!P255 -> 32.166667 | N41: =L41/N16 -> 0.00034995797 | O41: ='Tender - Waste Monitoring'!O327 -> 0 | P41: ='Tender - Waste Monitoring'!P327 -> 0 | Q41: =O41/Q16 -> 0 | R41: ='Tender - Waste Monitoring'!O399 -> 0 | S41: ='Tender - Waste Monitoring'!P399 -> 0 | T41: =R41/T16 -> 0 | U41: =SUM(C41,F41,I41,L41,O41,R41) -> 19238 | V41: =U41/63 -> 305.36508 | W41: =U41/W16 -> 0.0038240957
A42: SUB TOTAL | C42: =SUM(C34:C41) -> 39803 | D42: =SUM(D34:D41) -> 3316.9167 | F42: =SUM(F34:F41) -> 52688 | G42: =SUM(G34:G41) -> 4390.6667 | I42: =SUM(I34:I41) -> 82356 | J42: =SUM(J34:J41) -> 6863 | L42: =SUM(L34:L41) -> 57721 | M42: =SUM(M34:M41) -> 4810.0833 | O42: =SUM(O34:O41) -> 13160 | P42: =SUM(P34:P41) -> 1096.6667 | R42: =SUM(R34:R41) -> 25161 | S42: =SUM(S34:S41) -> 2096.75 | U42: =SUM(C42,F42,I42,L42,O42,R42) -> 270889 | V42: =U42/63 -> 4299.8254
A44: PAPER | B44: COMMON MIX WASTE | C44: ='Tender - Waste Monitoring'!O44 -> 178320 | D44: ='Tender - Waste Monitoring'!P44 -> 14860 | E44: =C44/E16 -> 0.16192023 | F44: ='Tender - Waste Monitoring'!O117 -> 60984 | G44: ='Tender - Waste Monitoring'!P117 -> 5082 | H44: =F44/H16 -> 0.059877994 | I44: ='Tender - Waste Monitoring'!O188 -> 24277 | J44: ='Tender - Waste Monitoring'!P188 -> 2023.0833 | K44: =I44/K16 -> 0.023193781 | L44: ='Tender - Waste Monitoring'!O258 -> 19280 | M44: ='Tender - Waste Monitoring'!P258 -> 1606.6667 | N44: =L44/N16 -> 0.017479766 | O44: ='Tender - Waste Monitoring'!O330 -> 1674 | P44: ='Tender - Waste Monitoring'!P330 -> 139.5 | Q44: =O44/Q16 -> 0.0068915945 | R44: ='Tender - Waste Monitoring'!O402 -> 10187 | S44: ='Tender - Waste Monitoring'!P402 -> 848.91667 | T44: =R44/T16 -> 0.01965158 | U44: =SUM(C44,F44,I44,L44,O44,R44) -> 294722 | V44: =U44/63 -> 4678.127 | W44: =U44/W16 -> 0.058584319
B45: NEWSPAPER | C45: ='Tender - Waste Monitoring'!O45 -> 34140 | D45: ='Tender - Waste Monitoring'!P45 -> 2845 | E45: =C45/E16 -> 0.031000206 | F45: ='Tender - Waste Monitoring'!O118 -> 101400 | G45: ='Tender - Waste Monitoring'!P118 -> 8450 | H45: =F45/H16 -> 0.099561009 | I45: ='Tender - Waste Monitoring'!O189 -> 130265 | J45: ='Tender - Waste Monitoring'!P189 -> 10855.417 | K45: =I45/K16 -> 0.12445269 | L45: ='Tender - Waste Monitoring'!O259 -> 109917 | M45: ='Tender - Waste Monitoring'!P259 -> 9159.75 | N45: =L45/N16 -> 0.099653705 | O45: ='Tender - Waste Monitoring'!O331 -> 14836 | P45: ='Tender - Waste Monitoring'!P331 -> 1236.3333 | Q45: =O45/Q16 -> 0.061077477 | R45: ='Tender - Waste Monitoring'!O403 -> 20066 | S45: ='Tender - Waste Monitoring'!P403 -> 1672.1667 | T45: =R45/T16 -> 0.038709003 | U45: =SUM(C45,F45,I45,L45,O45,R45) -> 410624 | V45: =U45/63 -> 6517.8413 | W45: =U45/W16 -> 0.081623113
B46: CARDBOARD | C46: ='Tender - Waste Monitoring'!O46 -> 66285 | D46: ='Tender - Waste Monitoring'!P46 -> 5523.75 | E46: =C46/E16 -> 0.060188889 | F46: ='Tender - Waste Monitoring'!O119 -> 63560 | G46: ='Tender - Waste Monitoring'!P119 -> 5296.6667 | H46: =F46/H16 -> 0.062407275 | I46: ='Tender - Waste Monitoring'!O190 -> 66848 | J46: ='Tender - Waste Monitoring'!P190 -> 5570.6667 | K46: =I46/K16 -> 0.063865299 | L46: ='Tender - Waste Monitoring'!O260 -> 68180 | M46: ='Tender - Waste Monitoring'!P260 -> 5681.6667 | N46: =L46/N16 -> 0.061813819 | O46: ='Tender - Waste Monitoring'!O332 -> 16047 | P46: ='Tender - Waste Monitoring'!P332 -> 1337.25 | Q46: =O46/Q16 -> 0.066062973 | R46: ='Tender - Waste Monitoring'!O404 -> 37239 | S46: ='Tender - Waste Monitoring'!P404 -> 3103.25 | T46: =R46/T16 -> 0.071837165 | U46: =SUM(C46,F46,I46,L46,O46,R46) -> 318159 | V46: =U46/63 -> 5050.1429 | W46: =U46/W16 -> 0.063243084
B47: WHITE OFFICE PAPER | C47: ='Tender - Waste Monitoring'!O47 -> 6561 | D47: ='Tender - Waste Monitoring'!P47 -> 546.75 | E47: =C47/E16 -> 0.0059575967 | F47: ='Tender - Waste Monitoring'!O120 -> 9691 | G47: ='Tender - Waste Monitoring'!P120 -> 807.58333 | H47: =F47/H16 -> 0.0095152439 | I47: ='Tender - Waste Monitoring'!O191 -> 16485 | J47: ='Tender - Waste Monitoring'!P191 -> 1373.75 | K47: =I47/K16 -> 0.015749453 | L47: ='Tender - Waste Monitoring'!O261 -> 10640 | M47: ='Tender - Waste Monitoring'!P261 -> 886.66667 | N47: =L47/N16 -> 0.0096465098 | O47: ='Tender - Waste Monitoring'!O333 -> 4640 | P47: ='Tender - Waste Monitoring'!P333 -> 386.66667 | Q47: =O47/Q16 -> 0.01910215 | R47: ='Tender - Waste Monitoring'!O405 -> 6937 | S47: ='Tender - Waste Monitoring'!P405 -> 578.08333 | T47: =R47/T16 -> 0.013382057 | U47: =SUM(C47,F47,I47,L47,O47,R47) -> 54954 | V47: =U47/63 -> 872.28571 | W47: =U47/W16 -> 0.010923659
A48: SUB TOTAL | C48: =SUM(C44:C47) -> 285306 | D48: =SUM(D44:D47) -> 23775.5 | F48: =SUM(F44:F47) -> 235635 | G48: =SUM(G44:G47) -> 19636.25 | I48: =SUM(I44:I47) -> 237875 | J48: =SUM(J44:J47) -> 19822.917 | L48: =SUM(L44:L47) -> 208017 | M48: =SUM(M44:M47) -> 17334.75 | O48: =SUM(O44:O47) -> 37197 | P48: =SUM(P44:P47) -> 3099.75 | R48: =SUM(R44:R47) -> 74429 | S48: =SUM(S44:S47) -> 6202.4167 | U48: =SUM(C48,F48,I48,L48,O48,R48) -> 1078459 | V48: =U48/63 -> 17118.397
A50: OIL | B50: MACHINE OIL | C50: ='Tender - Waste Monitoring'!O50 -> 0 | D50: ='Tender - Waste Monitoring'!P50 -> 0 | E50: =C50/E16 -> 0 | F50: ='Tender - Waste Monitoring'!O123 -> 0 | G50: ='Tender - Waste Monitoring'!P123 -> 0 | H50: =F50/H16 -> 0 | I50: ='Tender - Waste Monitoring'!O194 -> 0 | J50: ='Tender - Waste Monitoring'!P194 -> 0 | K50: =I50/K16 -> 0 | L50: ='Tender - Waste Monitoring'!O264 -> 0 | M50: ='Tender - Waste Monitoring'!P264 -> 0 | N50: =L50/N16 -> 0 | O50: ='Tender - Waste Monitoring'!O336 -> 0 | P50: ='Tender - Waste Monitoring'!P336 -> 0 | Q50: =O50/Q16 -> 0 | R50: ='Tender - Waste Monitoring'!O408 -> 0 | S50: ='Tender - Waste Monitoring'!P408 -> 0 | T50: =R50/T16 -> 0 | U50: =SUM(C50,F50,I50,L50,O50,R50) -> 0 | V50: =U50/63 -> 0 | W50: =U50/W16 -> 0
B51: FOOD GRADE OIL | C51: ='Tender - Waste Monitoring'!O51 -> 0 | D51: ='Tender - Waste Monitoring'!P51 -> 0 | E51: =C51/E16 -> 0 | F51: ='Tender - Waste Monitoring'!O124 -> 0 | G51: ='Tender - Waste Monitoring'!P124 -> 0 | H51: =F51/H16 -> 0 | I51: ='Tender - Waste Monitoring'!O195 -> 0 | J51: ='Tender - Waste Monitoring'!P195 -> 0 | K51: =I51/K16 -> 0 | L51: ='Tender - Waste Monitoring'!O265 -> 0 | M51: ='Tender - Waste Monitoring'!P265 -> 0 | N51: =L51/N16 -> 0 | O51: ='Tender - Waste Monitoring'!O337 -> 0 | P51: ='Tender - Waste Monitoring'!P337 -> 0 | Q51: =O51/Q16 -> 0 | R51: ='Tender - Waste Monitoring'!O409 -> 0 | S51: ='Tender - Waste Monitoring'!P409 -> 0 | T51: =R51/T16 -> 0 | U51: =SUM(C51,F51,I51,L51,O51,R51) -> 0 | V51: =U51/63 -> 0 | W51: =U51/W16 -> 0
A52: SUB TOTAL | C52: 0 | D52: 0 | F52: 0 | G52: 0 | I52: 0 | J52: 0 | L52: 0 | M52: 0 | O52: 0 | P52: 0 | R52: 0 | S52: 0 | U52: =SUM(C52,F52,I52,L52,O52,R52) -> 0 | V52: =U52/63 -> 0
A54: METAL | B54: SCRAP METAL | C54: ='Tender - Waste Monitoring'!O54 -> 960 | D54: ='Tender - Waste Monitoring'!P54 -> 80 | E54: =C54/E16 -> 0.00087171054 | F54: ='Tender - Waste Monitoring'!O127 -> 3720 | G54: ='Tender - Waste Monitoring'!P127 -> 310 | H54: =F54/H16 -> 0.003652534 | I54: ='Tender - Waste Monitoring'!O198 -> 0 | J54: ='Tender - Waste Monitoring'!P198 -> 0 | K54: =I54/K16 -> 0 | L54: ='Tender - Waste Monitoring'!O268 -> 760 | M54: ='Tender - Waste Monitoring'!P268 -> 63.333333 | N54: =L54/N16 -> 0.00068903642 | O54: ='Tender - Waste Monitoring'!O340 -> 971 | P54: ='Tender - Waste Monitoring'!P340 -> 80.916667 | Q54: =O54/Q16 -> 0.0039974541 | R54: ='Tender - Waste Monitoring'!O412 -> 0 | S54: ='Tender - Waste Monitoring'!P412 -> 0 | T54: =R54/T16 -> 0 | U54: =SUM(C54,F54,I54,L54,O54,R54) -> 6411 | V54: =U54/63 -> 101.7619 | W54: =U54/W16 -> 0.0012743673
B55: CANS | C55: ='Tender - Waste Monitoring'!O55 -> 11675 | D55: ='Tender - Waste Monitoring'!P55 -> 972.91667 | E55: =C55/E16 -> 0.010601271 | F55: ='Tender - Waste Monitoring'!O128 -> 11396 | G55: ='Tender - Waste Monitoring'!P128 -> 949.66667 | H55: =F55/H16 -> 0.011189322 | I55: ='Tender - Waste Monitoring'!O199 -> 13352 | J55: ='Tender - Waste Monitoring'!P199 -> 1112.6667 | K55: =I55/K16 -> 0.012756245 | L55: ='Tender - Waste Monitoring'!O269 -> 15349.7 | M55: ='Tender - Waste Monitoring'!P269 -> 1279.1417 | N55: =L55/N16 -> 0.01391645 | O55: ='Tender - Waste Monitoring'!O341 -> 1707.6 | P55: ='Tender - Waste Monitoring'!P341 -> 142.3 | Q55: =O55/Q16 -> 0.0070299204 | R55: ='Tender - Waste Monitoring'!O413 -> 5568.2 | S55: ='Tender - Waste Monitoring'!P413 -> 464.01667 | T55: =R55/T16 -> 0.010741526 | U55: =SUM(C55,F55,I55,L55,O55,R55) -> 59048.5 | V55: =U55/63 -> 937.27778 | W55: =U55/W16 -> 0.011737557
B56: FOIL | C56: ='Tender - Waste Monitoring'!O56 -> 277 | D56: ='Tender - Waste Monitoring'!P56 -> 23.083333 | E56: =C56/E16 -> 0.00025152481 | F56: ='Tender - Waste Monitoring'!O129 -> 860 | G56: ='Tender - Waste Monitoring'!P129 -> 71.666667 | H56: =F56/H16 -> 0.00084440303 | I56: ='Tender - Waste Monitoring'!O200 -> 268 | J56: ='Tender - Waste Monitoring'!P200 -> 22.333333 | K56: =I56/K16 -> 0.00025604207 | L56: ='Tender - Waste Monitoring'!O270 -> 480 | M56: ='Tender - Waste Monitoring'!P270 -> 40 | N56: =L56/N16 -> 0.00043518089 | O56: ='Tender - Waste Monitoring'!O342 -> 166 | P56: ='Tender - Waste Monitoring'!P342 -> 13.833333 | Q56: =O56/Q16 -> 0.00068339587 | R56: ='Tender - Waste Monitoring'!O414 -> 836 | S56: ='Tender - Waste Monitoring'!P414 -> 69.666667 | T56: =R56/T16 -> 0.0016127144 | U56: =SUM(C56,F56,I56,L56,O56,R56) -> 2887 | V56: =U56/63 -> 45.825397 | W56: =U56/W16 -> 0.00057387276
A57: SUB TOTAL | C57: =SUM(C54:C56) -> 12912 | D57: =SUM(D54:D56) -> 1076 | F57: =SUM(F54:F56) -> 15976 | G57: =SUM(G54:G56) -> 1331.3333 | I57: =SUM(I54:I56) -> 13620 | J57: =SUM(J54:J56) -> 1135 | L57: =SUM(L54:L56) -> 16589.7 | M57: =SUM(M54:M56) -> 1382.475 | O57: =SUM(O54:O56) -> 2844.6 | P57: =SUM(P54:P56) -> 237.05 | R57: =SUM(R54:R56) -> 6404.2 | S57: =SUM(S54:S56) -> 533.68333 | U57: =SUM(C57,F57,I57,L57,O57,R57) -> 68346.5 | V57: =U57/63 -> 1084.8651
A59: OTHER | B59: FLUORESCENT TUBES | C59: ='Tender - Waste Monitoring'!O59 -> 1038 | D59: ='Tender - Waste Monitoring'!P59 -> 86.5 | E59: =C59/E16 -> 0.00094253702 | F59: ='Tender - Waste Monitoring'!O132 -> 1530 | G59: ='Tender - Waste Monitoring'!P132 -> 127.5 | H59: =F59/H16 -> 0.0015022519 | I59: ='Tender - Waste Monitoring'!O203 -> 1482 | J59: ='Tender - Waste Monitoring'!P203 -> 123.5 | K59: =I59/K16 -> 0.0014158744 | L59: ='Tender - Waste Monitoring'!O273 -> 3296.4 | M59: ='Tender - Waste Monitoring'!P273 -> 274.7 | N59: =L59/N16 -> 0.0029886048 | O59: ='Tender - Waste Monitoring'!O345 -> 0 | P59: ='Tender - Waste Monitoring'!P345 -> 0 | Q59: =O59/Q16 -> 0 | R59: ='Tender - Waste Monitoring'!O417 -> 1236.5 | S59: ='Tender - Waste Monitoring'!P417 -> 103.04167 | T59: =R59/T16 -> 0.0023853126 | U59: =SUM(C59,F59,I59,L59,O59,R59) -> 8582.9 | V59: =U59/63 -> 136.23651 | W59: =U59/W16 -> 0.0017060937
B60: LAMP COMPONENTS | C60: ='Tender - Waste Monitoring'!O60 -> 0 | D60: ='Tender - Waste Monitoring'!P60 -> 0 | E60: =C60/E16 -> 0 | F60: ='Tender - Waste Monitoring'!O133 -> 3571 | G60: ='Tender - Waste Monitoring'!P133 -> 297.58333 | H60: =F60/H16 -> 0.0035062363 | I60: ='Tender - Waste Monitoring'!O204 -> 0 | J60: ='Tender - Waste Monitoring'!P204 -> 0 | K60: =I60/K16 -> 0 | L60: ='Tender - Waste Monitoring'!O274 -> 97.5 | M60: ='Tender - Waste Monitoring'!P274 -> 8.125 | N60: =L60/N16 -> 8.8396119e-05 | O60: ='Tender - Waste Monitoring'!O346 -> 0 | P60: ='Tender - Waste Monitoring'!P346 -> 0 | Q60: =O60/Q16 -> 0 | R60: ='Tender - Waste Monitoring'!O418 -> 0 | S60: ='Tender - Waste Monitoring'!P418 -> 0 | T60: =R60/T16 -> 0 | U60: =SUM(C60,F60,I60,L60,O60,R60) -> 3668.5 | V60: =U60/63 -> 58.230159 | W60: =U60/W16 -> 0.00072921795
B61: TETRA PAK | C61: ='Tender - Waste Monitoring'!O61 -> 3678 | D61: ='Tender - Waste Monitoring'!P61 -> 306.5 | E61: =C61/E16 -> 0.003339741 | F61: ='Tender - Waste Monitoring'!O134 -> 5088 | G61: ='Tender - Waste Monitoring'!P134 -> 424 | H61: =F61/H16 -> 0.004995724 | I61: ='Tender - Waste Monitoring'!O205 -> 4539 | J61: ='Tender - Waste Monitoring'!P205 -> 378.25 | K61: =I61/K16 -> 0.0043364737 | L61: ='Tender - Waste Monitoring'!O275 -> 4450 | M61: ='Tender - Waste Monitoring'!P275 -> 370.83333 | N61: =L61/N16 -> 0.0040344895 | O61: ='Tender - Waste Monitoring'!O347 -> 910 | P61: ='Tender - Waste Monitoring'!P347 -> 75.833333 | Q61: =O61/Q16 -> 0.0037463267 | R61: ='Tender - Waste Monitoring'!O419 -> 1560 | S61: ='Tender - Waste Monitoring'!P419 -> 130 | T61: =R61/T16 -> 0.0030093713 | U61: =SUM(C61,F61,I61,L61,O61,R61) -> 20225 | V61: =U61/63 -> 321.03175 | W61: =U61/W16 -> 0.0040202898
B62: GLASS | C62: ='Tender - Waste Monitoring'!O62 -> 45296 | D62: ='Tender - Waste Monitoring'!P62 -> 3774.6667 | E62: =C62/E16 -> 0.041130209 | F62: ='Tender - Waste Monitoring'!O135 -> 55130 | G62: ='Tender - Waste Monitoring'!P135 -> 4594.1667 | H62: =F62/H16 -> 0.054130162 | I62: ='Tender - Waste Monitoring'!O206 -> 60545 | J62: ='Tender - Waste Monitoring'!P206 -> 5045.4167 | K62: =I62/K16 -> 0.057843533 | L62: ='Tender - Waste Monitoring'!O276 -> 68399 | M62: ='Tender - Waste Monitoring'!P276 -> 5699.9167 | N62: =L62/N16 -> 0.062012371 | O62: ='Tender - Waste Monitoring'!O348 -> 13404 | P62: ='Tender - Waste Monitoring'!P348 -> 1117 | Q62: =O62/Q16 -> 0.055182158 | R62: ='Tender - Waste Monitoring'!O420 -> 28837 | S62: ='Tender - Waste Monitoring'!P420 -> 2403.0833 | T62: =R62/T16 -> 0.055629 | U62: =SUM(C62,F62,I62,L62,O62,R62) -> 271611 | V62: =U62/63 -> 4311.2857 | W62: =U62/W16 -> 0.053990355
B63: RE-USED DRUMS | C63: ='Tender - Waste Monitoring'!O63 -> 0 | D63: ='Tender - Waste Monitoring'!P63 -> 0 | E63: =C63/E16 -> 0 | F63: ='Tender - Waste Monitoring'!O136 -> 0 | G63: ='Tender - Waste Monitoring'!P136 -> 0 | H63: =F63/H16 -> 0 | I63: ='Tender - Waste Monitoring'!O207 -> 500 | J63: ='Tender - Waste Monitoring'!P207 -> 41.666667 | K63: =I63/K16 -> 0.00047769042 | L63: ='Tender - Waste Monitoring'!O277 -> 0 | M63: ='Tender - Waste Monitoring'!P277 -> 0 | N63: =L63/N16 -> 0 | O63: ='Tender - Waste Monitoring'!O349 -> 0 | P63: ='Tender - Waste Monitoring'!P349 -> 0 | Q63: =O63/Q16 -> 0 | R63: ='Tender - Waste Monitoring'!O421 -> 0 | S63: ='Tender - Waste Monitoring'!P421 -> 0 | T63: =R63/T16 -> 0 | U63: =SUM(C63,F63,I63,L63,O63,R63) -> 500 | V63: =U63/63 -> 7.9365079 | W63: =U63/W16 -> 9.9389117e-05
B64: PRINTER CARTRIDGES | C64: ='Tender - Waste Monitoring'!O64 -> 47 | D64: ='Tender - Waste Monitoring'!P64 -> 3.9166667 | E64: =C64/E16 -> 4.2677495e-05 | F64: ='Tender - Waste Monitoring'!O137 -> 74 | G64: ='Tender - Waste Monitoring'!P137 -> 6.1666667 | H64: =F64/H16 -> 7.2657935e-05 | I64: ='Tender - Waste Monitoring'!O208 -> 0 | J64: ='Tender - Waste Monitoring'!P208 -> 0 | K64: =I64/K16 -> 0 | L64: ='Tender - Waste Monitoring'!O278 -> 0 | M64: ='Tender - Waste Monitoring'!P278 -> 0 | N64: =L64/N16 -> 0 | O64: ='Tender - Waste Monitoring'!O350 -> 0 | P64: ='Tender - Waste Monitoring'!P350 -> 0 | Q64: =O64/Q16 -> 0 | R64: ='Tender - Waste Monitoring'!O422 -> 51 | S64: ='Tender - Waste Monitoring'!P422 -> 4.25 | T64: =R64/T16 -> 9.8383292e-05 | U64: =SUM(C64,F64,I64,L64,O64,R64) -> 172 | V64: =U64/63 -> 2.7301587 | W64: =U64/W16 -> 3.4189856e-05
B65: FOOD WASTE | C65: ='Tender - Waste Monitoring'!O65 -> 2243 | D65: ='Tender - Waste Monitoring'!P65 -> 186.91667 | E65: =C65/E16 -> 0.0020367154 | F65: ='Tender - Waste Monitoring'!O138 -> 57724 | G65: ='Tender - Waste Monitoring'!P138 -> 4810.3333 | H65: =F65/H16 -> 0.056677117 | I65: ='Tender - Waste Monitoring'!O209 -> 151876 | J65: ='Tender - Waste Monitoring'!P209 -> 12656.333 | K65: =I65/K16 -> 0.14509942 | L65: ='Tender - Waste Monitoring'!O279 -> 184980 | M65: ='Tender - Waste Monitoring'!P279 -> 15415 | N65: =L65/N16 -> 0.16770784 | O65: ='Tender - Waste Monitoring'!O351 -> 54276 | P65: ='Tender - Waste Monitoring'!P351 -> 4523 | Q65: =O65/Q16 -> 0.22344575 | R65: ='Tender - Waste Monitoring'!O423 -> 173182 | S65: ='Tender - Waste Monitoring'!P423 -> 14431.833 | T65: =R65/T16 -> 0.33408265 | U65: =SUM(C65,F65,I65,L65,O65,R65) -> 624281 | V65: =U65/63 -> 9909.2222 | W65: =U65/W16 -> 0.12409347
A66: SUB TOTAL | C66: =SUM(C59:C65) -> 52302 | D66: =SUM(D59:D65) -> 4358.5 | F66: =SUM(F59:F65) -> 123117 | G66: =SUM(G59:G65) -> 10259.75 | I66: =SUM(I59:I65) -> 218942 | J66: =SUM(J59:J65) -> 18245.167 | L66: =SUM(L59:L65) -> 261222.9 | M66: =SUM(M59:M65) -> 21768.575 | O66: =SUM(O59:O65) -> 68590 | P66: =SUM(P59:P65) -> 5715.8333 | R66: =SUM(R59:R65) -> 204866.5 | S66: =SUM(S59:S65) -> 17072.208 | U66: =SUM(C66,F66,I66,L66,O66,R66) -> 929040.4 | V66: =U66/63 -> 14746.673
A68: TOTAL WASTE RECYCLED | C68: =C66+C57+C52+C48+C42 -> 390323 | D68: =D66+D57+D52+D48+D42 -> 32526.917 | F68: =F66+F57+F52+F48+F42 -> 427416 | G68: =G66+G57+G52+G48+G42 -> 35618 | I68: =I66+I57+I52+I48+I42 -> 552793 | J68: =J66+J57+J52+J48+J42 -> 46066.083 | L68: =L66+L57+L52+L48+L42 -> 543550.6 | M68: =M66+M57+M52+M48+M42 -> 45295.883 | O68: =O66+O57+O52+O48+O42 -> 121791.6 | P68: =P66+P57+P52+P48+P42 -> 10149.3 | R68: =R66+R57+R52+R48+R42 -> 310860.7 | S68: =S66+S57+S52+S48+S42 -> 25905.058 | U68: =SUM(C68,F68,I68,L68,O68,R68) -> 2346734.9 | V68: =U68/63 -> 37249.76
A70: SUMMARY
A72: TOTAL WASTE GENERATED | C72: =C30+C68 -> 1101283 | D72: =D30+D68 -> 91773.583 | E72: =SUM(E19:E71) -> 1 | F72: =F30+F68 -> 1018471 | G72: =G30+G68 -> 84872.583 | H72: =SUM(H19:H71) -> 1 | I72: =I30+I68 -> 1046703 | J72: =J30+J68 -> 87225.25 | K72: =SUM(K19:K71) -> 1 | L72: =L30+L68 -> 1102989.6 | M72: =M30+M68 -> 91915.8 | N72: =SUM(N19:N71) -> 1 | O72: =O30+O68 -> 242904.6 | P72: =P30+P68 -> 20242.05 | Q72: =SUM(Q19:Q71) -> 1 | R72: =R30+R68 -> 518380.7 | S72: =S30+S68 -> 43198.392 | T72: =SUM(T19:T71) -> 1 | U72: =SUM(C72,F72,I72,L72,O72,R72) -> 5030731.9 | V72: =U72/63 -> 79852.887 | W72: =SUM(W19:W71) -> 1

Sheet Waste Monitoring - Return Proje
A1: KING SHAKA INTERNATIONAL AIRPORT
D10: 5 year - 60 months | E10: Over 60 months | F10: Price Evaluation Tool | I10: Note1: The form of offer tendered should not factor in returns, if the returns are not realised then based on low volumes of waste being generated we run the risk of depleting the BPA
C11: % Split | D11: Allocated Tonnage | E11: Monthly Allocation | F11: Bidders Rate | G11: Estimated Monthly Return | H11: Estimated 5 Year Return
A13: % WASTE RECYCLED / RE-USED | D13: =D68/D72 -> 0.46647982
A14: % WASTE LANDFILLED | D14: =D30/D16 -> 0.53352018
A16: TOTAL WASTE GENERATED | C16: ='Waste Monitoring - % Splits'!W16 -> 5030731.9 | D16: 3745 | E16: =D16/60 -> 62.416667
A18: WASTE TO LANDFILL (KG)
A20: NON HAZARDOUS
A21: GENERAL WASTE | C21: ='Waste Monitoring - % Splits'!W21 -> 0.47150475 | D21: =C21*D16 -> 1765.7853 | E21: =D21/60 -> 29.429755
A23: HAZARDOUS WASTE
A24: GALLEY WASTE | C24: ='Waste Monitoring - % Splits'!W24 -> 0.058810329 | D24: =C24*D16 -> 220.24468 | E24: =D24/60 -> 3.6707447
A25: EMPTY MOTOR OIL CANS | C25: ='Waste Monitoring - % Splits'!W25 -> 0.00014411422 | D25: =C25*D16 -> 0.53970775 | E25: =D25/60 -> 0.0089951292
A26: OTHER | C26: ='Waste Monitoring - % Splits'!W26 -> 0.0007871618 | D26: =C26*D16 -> 2.947921 | E26: =D26/60 -> 0.049132016
A27: AD-HOC (NOT INCL) | C27: ='Waste Monitoring - % Splits'!W27 -> 0.0022738242 | D27: =C27*D16 -> 8.5154717 | E27: =D27/60 -> 0.14192453
A28: TOTAL HAZARDOUS WASTE | D28: =SUM(D24:D27) -> 232.24778 | E28: =SUM(E24:E27) -> 3.8707964
A30: TOTAL WASTE TO LANDFILL | C30: ='Waste Monitoring - % Splits'!W30 -> 0 | D30: =SUM(D21,D28) -> 1998.0331 | E30: =SUM(E21,E28) -> 33.300551
A32: WASTE RECYCLED (KG)
A34: PLASTIC | B34: PET | C34: ='Waste Monitoring - % Splits'!W34 -> 0.02028671 | D34: =C34*D16 -> 75.97373 | E34: =D34/60 -> 1.2662288 | G34: =E34*F34 -> 0 | H34: =G34*60 -> 0
B35: PET MIXED | C35: ='Waste Monitoring - % Splits'!W35 -> 0 | D35: =C35*D16 -> 0 | E35: =D35/60 -> 0 | G35: =E35*F35 -> 0 | H35: =G35*60 -> 0
B36: PP | C36: ='Waste Monitoring - % Splits'!W36 -> 0.0039129495 | D36: =C36*D16 -> 14.653996 | E36: =D36/60 -> 0.24423327 | G36: =E36*F36 -> 0 | H36: =G36*60 -> 0
B37: LDPE SOFT | C37: ='Waste Monitoring - % Splits'!W37 -> 0.017339823 | D37: =C37*D16 -> 64.937637 | E37: =D37/60 -> 1.0822939 | G37: =E37*F37 -> 0 | H37: =G37*60 -> 0
B38: HD | C38: ='Waste Monitoring - % Splits'!W38 -> 0.0071059243 | D38: =C38*D16 -> 26.611686 | E38: =D38/60 -> 0.44352811 | G38: =E38*F38 -> 0 | H38: =G38*60 -> 0
B39: PLASTIC PS | C39: ='Waste Monitoring - % Splits'!W39 -> 0.00081240664 | D39: =C39*D16 -> 3.0424629 | E39: =D39/60 -> 0.050707714 | G39: =E39*F39 -> 0 | H39: =G39*60 -> 0
B40: PLASTIC MIX | C40: ='Waste Monitoring - % Splits'!W40 -> 0.00056492774 | D40: =C40*D16 -> 2.1156544 | E40: =D40/60 -> 0.035260906 | G40: =E40*F40 -> 0 | H40: =G40*60 -> 0
B41: BOPP | C41: ='Waste Monitoring - % Splits'!W41 -> 0.0038240957 | D41: =C41*D16 -> 14.321238 | E41: =D41/60 -> 0.2386873 | G41: =E41*F41 -> 0 | H41: =G41*60 -> 0
A42: SUB TOTAL | D42: =SUM(D34:D41) -> 201.6564 | E42: =SUM(E34:E41) -> 3.3609401
A44: PAPER | B44: COMMON MIX WASTE | C44: ='Waste Monitoring - % Splits'!W44 -> 0.058584319 | D44: =C44*D16 -> 219.39827 | E44: =D44/60 -> 3.6566379 | G44: =E44*F44 -> 0 | H44: =G44*60 -> 0
B45: NEWSPAPER | C45: ='Waste Monitoring - % Splits'!W45 -> 0.081623113 | D45: =C45*D16 -> 305.67856 | E45: =D45/60 -> 5.0946427 | G45: =E45*F45 -> 0 | H45: =G45*60 -> 0
B46: CARDBOARD | C46: ='Waste Monitoring - % Splits'!W46 -> 0.063243084 | D46: =C46*D16 -> 236.84535 | E46: =D46/60 -> 3.9474225 | G46: =E46*F46 -> 0 | H46: =G46*60 -> 0
B47: WHITE OFFICE PAPER | C47: ='Waste Monitoring - % Splits'!W47 -> 0.010923659 | D47: =C47*D16 -> 40.909103 | E47: =D47/60 -> 0.68181839 | G47: =E47*F47 -> 0 | H47: =G47*60 -> 0
A48: SUB TOTAL | D48: =SUM(D44:D47) -> 802.83128 | E48: =SUM(E44:E47) -> 13.380521
A50: OIL | B50: MACHINE OIL | C50: ='Waste Monitoring - % Splits'!W50 -> 0 | D50: =C50*D16 -> 0 | E50: =D50/60 -> 0 | G50: =E50*F50 -> 0 | H50: =G50*60 -> 0
B51: FOOD GRADE OIL | C51: ='Waste Monitoring - % Splits'!W51 -> 0 | D51: =C51*D16 -> 0 | E51: =D51/60 -> 0 | G51: =E51*F51 -> 0 | H51: =G51*60 -> 0
A52: SUB TOTAL | D52: =SUM(D50:D51) -> 0 | E52: =SUM(E50:E51) -> 0
A54: METAL | B54: SCRAP METAL | C54: ='Waste Monitoring - % Splits'!W54 -> 0.0012743673 | D54: =C54*D16 -> 4.7725054 | E54: =D54/60 -> 0.079541756 | G54: =E54*F54 -> 0 | H54: =G54*60 -> 0
B55: CANS | C55: ='Waste Monitoring - % Splits'!W55 -> 0.011737557 | D55: =C55*D16 -> 43.957149 | E55: =D55/60 -> 0.73261915 | G55: =E55*F55 -> 0 | H55: =G55*60 -> 0
B56: FOIL | C56: ='Waste Monitoring - % Splits'!W56 -> 0.00057387276 | D56: =C56*D16 -> 2.1491535 | E56: =D56/60 -> 0.035819225 | G56: =E56*F56 -> 0 | H56: =G56*60 -> 0
A57: SUB TOTAL | D57: =SUM(D54:D56) -> 50.878808 | E57: =SUM(E54:E56) -> 0.84798013
A59: OTHER | B59: FLUORESCENT TUBES | C59: ='Waste Monitoring - % Splits'!W59 -> 0.0017060937 | D59: =C59*D16 -> 6.3893209 | E59: =D59/60 -> 0.10648868 | G59: =E59*F59 -> 0 | H59: =G59*60 -> 0
B60: LAMP COMPONENTS | C60: ='Waste Monitoring - % Splits'!W60 -> 0.00072921795 | D60: =C60*D16 -> 2.7309212 | E60: =D60/60 -> 0.045515354 | G60: =E60*F60 -> 0 | H60: =G60*60 -> 0
B61: TETRA PAK | C61: ='Waste Monitoring - % Splits'!W61 -> 0.0040202898 | D61: =C61*D16 -> 15.055985 | E61: =D61/60 -> 0.25093309 | G61: =E61*F61 -> 0 | H61: =G61*60 -> 0
B62: GLASS | C62: ='Waste Monitoring - % Splits'!W62 -> 0.053990355 | D62: =C62*D16 -> 202.19388 | E62: =D62/60 -> 3.369898 | G62: =E62*F62 -> 0 | H62: =G62*60 -> 0
B63: RE-USED DRUMS | C63: ='Waste Monitoring - % Splits'!W63 -> 9.9389117e-05 | D63: =C63*D16 -> 0.37221224 | E63: =D63/60 -> 0.0062035374 | G63: =E63*F63 -> 0 | H63: =G63*60 -> 0
B64: PRINTER CARTRIDGES | C64: ='Waste Monitoring - % Splits'!W64 -> 3.4189856e-05 | D64: =C64*D16 -> 0.12804101 | E64: =D64/60 -> 0.0021340169 | G64: =E64*F64 -> 0 | H64: =G64*60 -> 0
B65: FOOD WASTE | C65: ='Waste Monitoring - % Splits'!W65 -> 0.12409347 | D65: =C65*D16 -> 464.73006 | E65: =D65/60 -> 7.745501 | G65: =E65*F65 -> 0 | H65: =G65*60 -> 0
A66: SUB TOTAL | D66: =SUM(D59:D65) -> 691.60042 | E66: =SUM(E59:E65) -> 11.526674
A68: TOTAL WASTE RECYCLED | D68: =SUM(D42,D48,D52,D57,D6+D66) -> 1746.9669 | E68: =SUM(E42,E48,E52,E57,E6+E66) -> 29.116115
A70: SUMMARY
A72: TOTAL WASTE GENERATED | C72: ='Waste Monitoring - % Splits'!W72 -> 1 | D72: =SUM(D68,D30) -> 3745 | E72: =SUM(E68,E30) -> 62.416667 | G72: =SUM(G12:G71) -> 0 | H72: =SUM(H12:H71) -> 0

Sheet Tender - Recycling Proj
B1: KING SHAKA INTERNATIONAL AIRPORT
B7: PROJECTED WASTE RECYCLING QUANTITIES
B11: WASTE RECYCLED (KG) | D11: PER MONTH (AVERAGE)
D12: UNIT | E12: QUANTITY
B15: PLASTIC | C15: PET | D15: ton | E15: ='Waste Monitoring - Return Proje'!E34 -> 1.2662288
C16: PET MIXED | D16: ton | E16: ='Waste Monitoring - Return Proje'!E35 -> 0
C17: PP | D17: ton | E17: ='Waste Monitoring - Return Proje'!E36 -> 0.24423327
C18: LDPE SOFT | D18: ton | E18: ='Waste Monitoring - Return Proje'!E37 -> 1.0822939
C19: HD | D19: ton | E19: ='Waste Monitoring - Return Proje'!E38 -> 0.44352811
C20: PLASTIC PS | D20: ton | E20: ='Waste Monitoring - Return Proje'!E39 -> 0.050707714
C21: PLASTIC MIX | D21: ton | E21: ='Waste Monitoring - Return Proje'!E40 -> 0.035260906
C22: BOPP | D22: ton | E22: ='Waste Monitoring - Return Proje'!E41 -> 0.2386873
B23: SUB TOTAL | E23: =SUM(E15:E22) -> 3.3609401
B25: PAPER | C25: COMMON MIX WASTE | D25: ton | E25: ='Waste Monitoring - Return Proje'!E44 -> 3.6566379
C26: NEWSPAPER | D26: ton | E26: ='Waste Monitoring - Return Proje'!E45 -> 5.0946427
C27: CARDBOARD | D27: ton | E27: ='Waste Monitoring - Return Proje'!E46 -> 3.9474225
C28: WHITE OFFICE PAPER | D28: ton | E28: ='Waste Monitoring - Return Proje'!E47 -> 0.68181839
B29: SUB TOTAL | E29: =SUM(E25:E28) -> 13.380521
B31: OIL | C31: MACHINE OIL | D31: litres | E31: ='Waste Monitoring - Return Proje'!E50 -> 0
C32: FOOD GRADE OIL | D32: litres | E32: ='Waste Monitoring - Return Proje'!E51 -> 0
B33: SUB TOTAL | E33: =SUM(E31:E32) -> 0
B35: METAL | C35: SCRAP METAL | D35: ton | E35: ='Waste Monitoring - Return Proje'!E54 -> 0.079541756
C36: CANS | D36: ton | E36: ='Waste Monitoring - Return Proje'!E55 -> 0.73261915
C37: FOIL | D37: ton | E37: ='Waste Monitoring - Return Proje'!E56 -> 0.035819225
B38: SUB TOTAL | E38: =SUM(E35:E37) -> 0.84798013
B40: OTHER | C40: FLUORESCENT TUBES | D40: ton | E40: ='Waste Monitoring - Return Proje'!E59 -> 0.10648868
C41: LAMP COMPONENTS | D41: ton | E41: ='Waste Monitoring - Return Proje'!E60 -> 0.045515354
C42: TETRA PAK | D42: ton | E42: ='Waste Monitoring - Return Proje'!E61 -> 0.25093309
C43: GLASS | D43: ton | E43: ='Waste Monitoring - Return Proje'!E62 -> 3.369898
C44: RE-USED DRUMS | D44: ton | E44: ='Waste Monitoring - Return Proje'!E63 -> 0.0062035374
C45: PRINTER CARTRIDGES | D45: ton | E45: ='Waste Monitoring - Return Proje'!E64 -> 0.0021340169
C46: FOOD WASTE | D46: ton | E46: ='Waste Monitoring - Return Proje'!E65 -> 7.745501
B47: SUB TOTAL | E47: =SUM(E40:E46) -> 11.526674
B49: TOTAL WASTE RECYCLED | E49: =SUM(E23,E29,E33,E38,E47) -> 29.116115 | F49: 500 | G49: =E49*F49 -> 14558.058

Sheet Sheet2
D5: Date | E5: Type of waste | F5: No | G5: Name
D6: 01/11/2015 | E6: PET | F6: 298 | G6: Bonisiwe Nxele | H6: =F6+F26+F79 -> 460
E7: HD | F7: 12 | H7: =F7+F44+F63 -> 17
E8: Mix Plastic | F8: 64 | H8: =F8+F27+F60+F62 -> 159
E9: Clear Plastic | F9: 101 | H9: =F9+F28+F45+F67 -> 185
E10: Brown Paper | F10: 16 | H10: =F10+F29+F46+F64 -> 23
E11: White Paper | F11: 320 | H11: =F11+F30+F47+F68 -> 462
E12: Tins | F12: 81 | H12: =F12+F31+F48+F73 -> 328
E13: Metal Cans | F13: 192 | H13: =F13+F32+F49+F76 -> 453
E14: Tissues | F14: 71 | H14: =F14+F36+F53+F66 -> 144
E15: PP Plastic | F15: 216 | H15: =F15+F51+F71 -> 452
E16: Pvc Trays | F16: 192 | H16: =F16+F35+F52+F70 -> 298
E17: Foil | F17: 52 | H17: =F17+F37+F54+F72 -> 131
E18: Common Paper | F18: 334 | H18: =F18+F33+F50+F69 -> 687
E19: IMW | F19: 97 | H19: =F19+F38+F55+F75 -> 192
E20: Plastic cups | F20: 30 | H20: =F20+F39+F57+F78 -> 69
E21: FN News Paper | F21: 610 | H21: =F21+F40+F56+F74 -> 1024
E22: Glass waste | F22: 8 | H22: =F22+F59+F65 -> 31
E23: Boxes (K4) | F23: 36 | H23: =F23+F41+F58+F77 -> 102
E24: Glue Plastics | F24: 2 | H24: =F24 -> 2
D25: 08/11/2015 | G25: Bonisiwe Nxele
E26: PET | F26: 56
E27: Mixed Plastic | F27: 25
E28: Clear Plastic | F28: 14
E29: Brown Paper | F29: 3
E30: White Paper | F30: 39
E31: Tins | F31: 62
E32: Metal cans | F32: 87
E33: Common paper | F33: 103
E34: PP Plastic | F34: 65
E35: Pvc Trays | F35: 46
E36: Tissues | F36: 39
E37: Foil | F37: 34
... E41: Boxes (K4) | F41: 21
D42: 12/11/2015 | G42: Bonisiwe Nxele
E43: PET | F43: 143
E44: HD | F44: 2
E45: Clear plastic | F45: 38
E46: Brown paper | F46: 2
E47: White paper | F47: 78
E48: Tins | F48: 155
E49: Metal Cans | F49: 95
E50: Common paper | F50: 174
E51: PP plastic | F51: 179
E52: Pvc trays | F52: 33
E53: Tissues | F53: 21
E54: Foil | F54: 25
... E60: Mixed plastic | F60: 44
D61: 15/11/2015 | G61: Bonisiwe Nxele
E62: Mixed plastic | F62: 26
E63: HD | F63: 3
E64: Brown Paper | F64: 2
E65: Glass | F65: 20
E66: Tissues | F66: 13
E67: Clear plastics | F67: 32
E68: White paper | F68: 25
E69: Common paper | F69: 76
E70: Pvc trays | F70: 27
E71: PP plastics | F71: 57
E72: Foil | F72: 20
E73: Tins | F73: 30
... E79: PET | F79: 106
