Workbook

Sheet Tender - Waste Monitoring
A4: KING SHAKA INTERNATIONAL AIRPORT
A6: APRIL 2016 - MARCH 2017
C11: 42475 | D11: 42505 | E11: 42536 | F11: 42566 | G11: 42597 | H11: 42628 | I11: 42658 | J11: 42689 | K11: 42719 | L11: 42750 | M11: 42781 | N11: 42809 | O11: Total | P11: Average
A13: % WASTE RECYCLED / RE-USED | C13: =C68/C72 -> 0.37429228 | D13: =D68/D72 -> 0.33344766 | E13: =E68/E72 -> 0.45419404 | F13: =F68/F72 -> 0.31344711 | G13: =G68/G72 -> 0.39960803 | H13: =H68/H72 -> 0.41170841 | I13: =I68/I72 -> 0.39488967 | J13: =J68/J72 -> 0.39808896 | ... N13: =N68/N72 -> 0.3398234 | O13: =AVERAGE(C13:N13) -> 0.35489559 | P13: =AVERAGE(C13:N13) -> 0.35489559
A14: % WASTE LANDFILLED | C14: =C30/C16 -> 0.62570772 | D14: =D30/D16 -> 0.66655234 | E14: =E30/E16 -> 0.54580596 | F14: =F30/F16 -> 0.68655289 | G14: =G30/G16 -> 0.60039197 | H14: =H30/H16 -> 0.58829159 | I14: =I30/I16 -> 0.60511033 | J14: =J30/J16 -> 0.60191104 | ... N14: =N30/N16 -> 0.6601766 | O14: =AVERAGE(C14:N14) -> 0.64510441 | P14: =AVERAGE(C14:N14) -> 0.64510441
A16: TOTAL WASTE GENERATED | C16: =C72 -> 92727 | D16: =D72 -> 93301 | E16: =E72 -> 84334 | F16: =F72 -> 100371 | G16: =G72 -> 90824 | H16: =H72 -> 94035 | I16: =I72 -> 105551 | J16: =J72 -> 89166 | ... N16: =N72 -> 81766 | O16: =SUM(C16:N16) -> 1101283 | P16: =O16/12 -> 91773.583
A18: WASTE TO LANDFILL (KG)
A20: NON HAZARDOUS
A21: GENERAL WASTE | C21: 49780 | D21: 54460 | E21: 40000 | F21: 61500 | G21: 47280 | H21: 46340 | I21: 56720 | J21: 48700 | K21: 64920 | L21: 55680 | M21: 51680 | N21: 48220 | O21: =SUM(C21:N21) -> 625280 | P21: =O21/12 -> 52106.667
A23: HAZARDOUS WASTE
A24: GALLEY WASTE | C24: 8240 | D24: 7730 | E24: 6030 | F24: 7410 | G24: 6850 | H24: 6890 | I24: 7150 | J24: 4970 | K24: 10570 | L24: 5700 | M24: 5890 | N24: 5760 | O24: =SUM(C24:N24) -> 83190 | P24: =O24/12 -> 6932.5
A25: EMPTY MOTOR OIL CANS | C25: 0 | D25: 0 | E25: 0 | F25: 0 | G25: 0 | H25: 0 | I25: 0 | J25: 0 | K25: 0 | L25: 0 | M25: 0 | N25: 0 | O25: =SUM(C25:N25) -> 0 | P25: =O25/12 -> 0
A26: OTHER | C26: 0 | D26: 0 | E26: 0 | F26: 0 | G26: 0 | H26: 0 | I26: 0 | J26: 0 | K26: 0 | L26: 0 | M26: 0 | N26: 0 | O26: =SUM(C26:N26) -> 0 | P26: =O26/12 -> 0
A27: AD-HOC (NOT INCL) | C27: 0 | D27: 0 | E27: 0 | F27: 0 | G27: 400 | H27: 2090 | I27: 0 | J27: 0 | K27: 0 | L27: 0 | M27: 0 | N27: 0 | O27: =SUM(C27:N27) -> 2490 | P27: =O27/12 -> 207.5
A28: TOTAL HAZARDOUS WASTE | C28: =SUM(C24:C27) -> 8240 | D28: =SUM(D24:D27) -> 7730 | E28: =SUM(E24:E27) -> 6030 | F28: =SUM(F24:F27) -> 7410 | G28: =SUM(G24:G27) -> 7250 | H28: =SUM(H24:H27) -> 8980 | I28: =SUM(I24:I27) -> 7150 | J28: =SUM(J24:J27) -> 4970 | ... N28: =SUM(N24:N27) -> 5760 | O28: =SUM(C28:N28) -> 85680 | P28: =O28/12 -> 7140
A30: TOTAL WASTE TO LANDFILL | C30: =C21+C28 -> 58020 | D30: =D21+D28 -> 62190 | E30: =E21+E28 -> 46030 | F30: =F21+F28 -> 68910 | G30: =G21+G28 -> 54530 | H30: =H21+H28 -> 55320 | I30: =I21+I28 -> 63870 | J30: =J21+J28 -> 53670 | ... N30: =N21+N28 -> 53980 | O30: =SUM(C30:N30) -> 710960 | P30: =O30/12 -> 59246.667
A32: WASTE RECYCLED (KG)
A34: PLASTIC | B34: PET | C34: 1285 | D34: 1283 | E34: 1357 | F34: 1347 | G34: 1715 | H34: 1627 | I34: 1350 | J34: 1545 | K34: 1520 | L34: 1118 | M34: 1087 | N34: 1801 | O34: =SUM(C34:N34) -> 17035 | P34: =O34/12 -> 1419.5833
B35: PET MIXED | C35: 0 | D35: 0 | E35: 0 | F35: 0 | G35: 0 | H35: 0 | I35: 0 | J35: 0 | K35: 0 | L35: 0 | M35: 0 | N35: 0 | O35: =SUM(C35:N35) -> 0 | P35: =O35/12 -> 0
B36: PP | C36: 457 | D36: 402 | E36: 537 | F36: 547 | G36: 495 | H36: 448 | I36: 596 | J36: 577 | K36: 469 | L36: 262 | M36: 360 | N36: 721 | O36: =SUM(C36:N36) -> 5871 | P36: =O36/12 -> 489.25
B37: LDPE SOFT | C37: 3700 | D37: 1000 | E37: 0 | F37: 0 | G37: 4591 | H37: 0 | I37: 3926 | J37: 0 | K37: 0 | L37: 0 | M37: 3680 | N37: 0 | O37: =SUM(C37:N37) -> 16897 | P37: =O37/12 -> 1408.0833
B38: HD | C38: 0 | D38: 0 | E38: 0 | F38: 0 | G38: 0 | H38: 0 | I38: 0 | J38: 0 | K38: 0 | L38: 0 | M38: 0 | N38: 0 | O38: =SUM(C38:N38) -> 0 | P38: =O38/12 -> 0
B39: PLASTIC PS | O39: =SUM(C39:N39) -> 0 | P39: =O39/12 -> 0
B40: PLASTIC MIX | O40: =SUM(C40:N40) -> 0 | P40: =O40/12 -> 0
B41: BOPP | O41: =SUM(C41:N41) -> 0 | P41: =O41/12 -> 0
A42: SUB TOTAL | C42: =SUM(C34:C41) -> 5442 | D42: =SUM(D34:D41) -> 2685 | E42: =SUM(E34:E41) -> 1894 | F42: =SUM(F34:F41) -> 1894 | G42: =SUM(G34:G41) -> 6801 | H42: =SUM(H34:H41) -> 2075 | I42: =SUM(I34:I41) -> 5872 | J42: =SUM(J34:J41) -> 2122 | ... N42: =SUM(N34:N41) -> 2522 | O42: =SUM(C42:N42) -> 39803 | P42: =O42/12 -> 3316.9167
A44: PAPER | B44: COMMON MIX WASTE | C44: 0 | D44: 0 | E44: 23400 | F44: 16920 | G44: 17900 | H44: 22020 | I44: 23280 | J44: 22580 | K44: 14640 | L44: 12060 | M44: 13240 | N44: 12280 | O44: =SUM(C44:N44) -> 178320 | P44: =O44/12 -> 14860
B45: NEWSPAPER | C45: 18220 | D45: 15920 | E45: 0 | F45: 0 | G45: 0 | H45: 0 | I45: 0 | J45: 0 | K45: 0 | L45: 0 | M45: 0 | N45: 0 | O45: =SUM(C45:N45) -> 34140 | P45: =O45/12 -> 2845
B46: CARDBOARD | C46: 5560 | D46: 6260 | E46: 6320 | F46: 6100 | G46: 6380 | H46: 5940 | I46: 6781 | J46: 4912 | K46: 5354 | L46: 3780 | M46: 3640 | N46: 5258 | O46: =SUM(C46:N46) -> 66285 | P46: =O46/12 -> 5523.75
B47: WHITE OFFICE PAPER | C47: 780 | D47: 1140 | E47: 927 | F47: 720 | G47: 1040 | H47: 840 | I47: 240 | J47: 460 | K47: 134 | L47: 0 | M47: 280 | N47: 0 | O47: =SUM(C47:N47) -> 6561 | P47: =O47/12 -> 546.75
A48: SUB TOTAL | C48: =SUM(C44:C47) -> 24560 | D48: =SUM(D44:D47) -> 23320 | E48: =SUM(E44:E47) -> 30647 | F48: =SUM(F44:F47) -> 23740 | G48: =SUM(G44:G47) -> 25320 | H48: =SUM(H44:H47) -> 28800 | I48: =SUM(I44:I47) -> 30301 | J48: =SUM(J44:J47) -> 27952 | ... N48: =SUM(N44:N47) -> 17538 | O48: =SUM(C48:N48) -> 285306 | P48: =O48/12 -> 23775.5
A50: OIL | B50: MACHINE OIL | C50: 0 | D50: 0 | E50: 0 | F50: 0 | G50: 0 | H50: 0 | I50: 0 | J50: 0 | K50: 0 | L50: 0 | M50: 0 | N50: 0 | O50: =SUM(C50:N50) -> 0 | P50: =O50/12 -> 0
B51: FOOD GRADE OIL | C51: 0 | D51: 0 | E51: 0 | F51: 0 | G51: 0 | H51: 0 | I51: 0 | J51: 0 | K51: 0 | L51: 0 | M51: 0 | N51: 0 | O51: =SUM(C51:N51) -> 0 | P51: =O51/12 -> 0
A52: SUB TOTAL | C52: =SUM(C50:C51) -> 0 | D52: =SUM(D50:D51) -> 0 | E52: =SUM(E50:E51) -> 0 | F52: =SUM(F50:F51) -> 0 | G52: =SUM(G50:G51) -> 0 | H52: =SUM(H50:H51) -> 0 | I52: =SUM(I50:I51) -> 0 | J52: =SUM(J50:J51) -> 0 | ... N52: =SUM(N50:N51) -> 0 | O52: =SUM(C52:N52) -> 0 | P52: =O52/12 -> 0
A54: METAL | B54: SCRAP METAL | C54: 0 | D54: 0 | E54: 0 | F54: 0 | G54: 0 | H54: 960 | I54: 0 | J54: 0 | K54: 0 | L54: 0 | M54: 0 | N54: 0 | O54: =SUM(C54:N54) -> 960 | P54: =O54/12 -> 80
B55: CANS | C55: 1440 | D55: 1078 | E55: 1598 | F55: 1200 | G55: 0 | H55: 1370 | I55: 905 | J55: 784 | K55: 0 | L55: 1720 | M55: 480 | N55: 1100 | O55: =SUM(C55:N55) -> 11675 | P55: =O55/12 -> 972.91667
B56: FOIL | C56: 0 | D56: 57 | E56: 80 | F56: 0 | G56: 0 | H56: 0 | I56: 140 | J56: 0 | K56: 0 | L56: 0 | M56: 0 | N56: 0 | O56: =SUM(C56:N56) -> 277 | P56: =O56/12 -> 23.083333
A57: SUB TOTAL | C57: =SUM(C54:C56) -> 1440 | D57: =SUM(D54:D56) -> 1135 | E57: =SUM(E54:E56) -> 1678 | F57: =SUM(F54:F56) -> 1200 | G57: =SUM(G54:G56) -> 0 | H57: =SUM(H54:H56) -> 2330 | I57: =SUM(I54:I56) -> 1045 | J57: =SUM(J54:J56) -> 784 | ... N57: =SUM(N54:N56) -> 1100 | O57: =SUM(C57:N57) -> 12912 | P57: =O57/12 -> 1076
A59: OTHER | B59: FLUORESCENT TUBES | C59: 0 | D59: 80 | E59: 174 | F59: 0 | G59: 175 | H59: 110 | I59: 71 | J59: 95 | K59: 0 | L59: 170 | M59: 163 | N59: 0 | O59: =SUM(C59:N59) -> 1038 | P59: =O59/12 -> 86.5
B60: LAMP COMPONENTS | O60: =SUM(C60:N60) -> 0 | P60: =O60/12 -> 0
...

Sheet Waste Monitoring - % Splits
A4: KING SHAKA INTERNATIONAL AIRPORT
D9: 1 | G9: 2 | J9: 3 | M9: 4 | P9: 5
C10: APRIL 2016 - MARCH 2017 | F10: APRIL 2017 - MARCH 2018 | I10: APRIL 2018 - MARCH 2019 | L10: APRIL 2019 - MARCH 2020 | O10: APRIL 2020 - MARCH 2021 | R10: APRIL 2021 - MARCH 2022
C11: Annual | D11: Month Avg | E11: % Split | F11: Annual | G11: Month Avg | H11: % Split | I11: Annual | J11: Month Avg | K11: % Split | L11: Annual | M11: Month Avg | N11: % Split | O11: Annual | P11: Month Avg | Q11: % Split | R11: Annual | S11: Month Avg | T11: % Split | U11: Total Tons | V11: Month Avg | W11: % Split
A13: % WASTE RECYCLED / RE-USED | C13: =C68/C72 -> 0.3544257 | D13: =D68/D72 -> 0.3544257 | F13: =F68/F72 -> 0.41966438 | G13: =G68/G72 -> 0.41966438 | I13: =I68/I72 -> 0.52812785 | J13: =J68/J72 -> 0.52812785 | L13: =L68/L72 -> 0.49279757 | M13: =M68/M72 -> 0.49279757 | O13: =O68/O72 -> 0.50139684 | P13: =P68/P72 -> 0.50139684 | R13: =R68/R72 -> 0.59967645 | S13: =S68/S72 -> 0.59967645 | U13: =U68/U72 -> 0.46647982 | V13: =V68/V72 -> 0.46647982
A14: % WASTE LANDFILLED | C14: =C30/C16 -> 0.6455743 | D14: =D30/D16 -> 0.6455743 | F14: =F30/F16 -> 0.58033562 | G14: =G30/G16 -> 0.58033562 | I14: =I30/I16 -> 0.47187215 | J14: =J30/J16 -> 0.47187215 | L14: =L30/L16 -> 0.50720243 | M14: =M30/M16 -> 0.50720243 | O14: =O30/O16 -> 0.49860316 | P14: =P30/P16 -> 0.49860316 | R14: =R30/R16 -> 0.40032355 | S14: =S30/S16 -> 0.40032355 | U14: =U30/U16 -> 0.53352018 | V14: =V30/V16 -> 0.53352018
A16: TOTAL WASTE GENERATED | C16: =C72 -> 1101283 | D16: =D72 -> 91773.583 | E16: =C16 -> 1101283 | F16: =F72 -> 1018471 | G16: =G72 -> 84872.583 | H16: =F16 -> 1018471 | I16: =I72 -> 1046703 | J16: =J72 -> 87225.25 | K16: =I16 -> 1046703 | L16: =L72 -> 1102989.6 | M16: =M72 -> 91915.8 | N16: =L16 -> 1102989.6 | O16: =O72 -> 242904.6 | P16: =P72 -> 20242.05 | Q16: =O16 -> 242904.6 | R16: =R72 -> 518380.7 | S16: =S72 -> 43198.392 | T16: =R16 -> 518380.7 | U16: =SUM(C16,F16,I16,L16,O16,R16) -> 5030731.9 | V16: =U16/63 -> 79852.887 | W16: =U16 -> 5030731.9 | X16: =U16/63 -> 79852.887
A18: WASTE TO LANDFILL (KG) | X18: =80155*63 -> 5049765
A20: NON HAZARDOUS
A21: GENERAL WASTE | C21: ='Tender - Waste Monitoring'!O21 -> 625280 | D21: ='Tender - Waste Monitoring'!P21 -> 52106.667 | E21: =C21/E16 -> 0.56777413 | F21: ='Tender - Waste Monitoring'!O94 -> 518690 | G21: ='Tender - Waste Monitoring'!P94 -> 43224.167 | H21: =F21/H16 -> 0.50928303 | I21: ='Tender - Waste Monitoring'!O165 -> 419660 | J21: ='Tender - Waste Monitoring'!P165 -> 34971.667 | K21: =I21/K16 -> 0.40093513 | L21: ='Tender - Waste Monitoring'!O235 -> 495030 | M21: ='Tender - Waste Monitoring'!P235 -> 41252.5 | N21: =L21/N16 -> 0.4488075 | O21: ='Tender - Waste Monitoring'!O307 -> 117134 | P21: ='Tender - Waste Monitoring'!P307 -> 9761.1667 | Q21: =O21/Q16 -> 0.48222224 | R21: ='Tender - Waste Monitoring'!O379 -> 196220 | S21: ='Tender - Waste Monitoring'!P379 -> 16351.667 | T21: =R21/T16 -> 0.37852489 | U21: =SUM(C21,F21,I21,L21,O21,R21) -> 2372014 | V21: =U21/63 -> 37651.016 | W21: =U21/W16 -> 0.47150475
A23: HAZARDOUS WASTE | I23: ='Tender - Waste Monitoring'!O167 -> 0 | L23: ='Tender - Waste Monitoring'!O237 -> 0 | O23: ='Tender - Waste Monitoring'!O309 -> 0 | R23: ='Tender - Waste Monitoring'!O381 -> 0
A24: GALLEY WASTE | C24: ='Tender - Waste Monitoring'!O24 -> 83190 | D24: ='Tender - Waste Monitoring'!P24 -> 6932.5 | E24: =C24/E16 -> 0.075539167 | F24: ='Tender - Waste Monitoring'!O97 -> 66740 | G24: ='Tender - Waste Monitoring'!P97 -> 5561.6667 | H24: =F24/H16 -> 0.065529603 | I24: ='Tender - Waste Monitoring'!O168 -> 70690 | J24: ='Tender - Waste Monitoring'!P168 -> 5890.8333 | K24: =I24/K16 -> 0.067535872 | L24: ='Tender - Waste Monitoring'!O238 -> 63469 | M24: ='Tender - Waste Monitoring'!P238 -> 5289.0833 | N24: =L24/N16 -> 0.0575427 | O24: ='Tender - Waste Monitoring'!O310 -> 3490 | P24: ='Tender - Waste Monitoring'!P310 -> 290.83333 | Q24: =O24/Q16 -> 0.014367781 | R24: ='Tender - Waste Monitoring'!O382 -> 8280 | S24: ='Tender - Waste Monitoring'!P382 -> 690 | T24: =R24/T16 -> 0.015972817 | U24: =SUM(C24,F24,I24,L24,O24,R24) -> 295859 | V24: =U24/63 -> 4696.1746 | W24: =U24/W16 -> 0.058810329
A25: EMPTY MOTOR OIL CANS | C25: ='Tender - Waste Monitoring'!O25 -> 0 | D25: ='Tender - Waste Monitoring'!P25 -> 0 | E25: =C25/E16 -> 0 | F25: ='Tender - Waste Monitoring'!O98 -> 225 | G25: ='Tender - Waste Monitoring'!P98 -> 18.75 | H25: =F25/H16 -> 0.0002209194 | I25: ='Tender - Waste Monitoring'!O169 -> 500 | J25: ='Tender - Waste Monitoring'!P169 -> 41.666667 | K25: =I25/K16 -> 0.00047769042 | L25: ='Tender - Waste Monitoring'!O239 -> 0 | M25: ='Tender - Waste Monitoring'!P239 -> 0 | N25: =L25/N16 -> 0 | O25: ='Tender - Waste Monitoring'!O311 -> 0 | P25: ='Tender - Waste Monitoring'!P311 -> 0 | Q25: =O25/Q16 -> 0 | R25: ='Tender - Waste Monitoring'!O383 -> 0 | S25: ='Tender - Waste Monitoring'!P383 -> 0 | T25: =R25/T16 -> 0 | U25: =SUM(C25,F25,I25,L25,O25,R25) -> 725 | V25: =U25/63 -> 11.507937 | W25: =U25/W16 -> 0.00014411422
A26: OTHER | C26: ='Tender - Waste Monitoring'!O26 -> 0 | D26: ='Tender - Waste Monitoring'!P26 -> 0 | E26: =C26/E16 -> 0 | F26: ='Tender - Waste Monitoring'!O99 -> 0 | G26: ='Tender - Waste Monitoring'!P99 -> 0 | H26: =F26/H16 -> 0 | I26: ='Tender - Waste Monitoring'!O170 -> 0 | J26: ='Tender - Waste Monitoring'!P170 -> 0 | K26: =I26/K16 -> 0 | L26: ='Tender - Waste Monitoring'!O240 -> 940 | M26: ='Tender - Waste Monitoring'!P240 -> 78.333333 | N26: =L26/N16 -> 0.00085222925 | O26: ='Tender - Waste Monitoring'!O312 -> 0 | P26: ='Tender - Waste Monitoring'!P312 -> 0 | Q26: =O26/Q16 -> 0 | R26: ='Tender - Waste Monitoring'!O384 -> 3020 | S26: ='Tender - Waste Monitoring'!P384 -> 251.66667 | T26: =R26/T16 -> 0.0058258342 | U26: =SUM(C26,F26,I26,L26,O26,R26) -> 3960 | V26: =U26/63 -> 62.857143 | W26: =U26/W16 -> 0.0007871618
A27: AD-HOC (NOT INCL) | C27: ='Tender - Waste Monitoring'!O27 -> 2490 | D27: ='Tender - Waste Monitoring'!P27 -> 207.5 | E27: =C27/E16 -> 0.0022609992 | F27: ='Tender - Waste Monitoring'!O100 -> 5400 | G27: ='Tender - Waste Monitoring'!P100 -> 450 | H27: =F27/H16 -> 0.0053020655 | I27: ='Tender - Waste Monitoring'!O171 -> 3060 | J27: ='Tender - Waste Monitoring'!P171 -> 255 | K27: =I27/K16 -> 0.0029234654 | L27: ='Tender - Waste Monitoring'!O241 -> 0 | M27: ='Tender - Waste Monitoring'!P241 -> 0 | N27: =L27/N16 -> 0 | O27: ='Tender - Waste Monitoring'!O313 -> 489 | P27: ='Tender - Waste Monitoring'!P313 -> 40.75 | Q27: =O27/Q16 -> 0.002013136 | R27: ='Tender - Waste Monitoring'!O385 -> 0 | S27: ='Tender - Waste Monitoring'!P385 -> 0 | T27: =R27/T16 -> 0 | U27: =SUM(C27,F27,I27,L27,O27,R27) -> 11439 | V27: =U27/63 -> 181.57143 | W27: =U27/W16 -> 0.0022738242
A28: TOTAL HAZARDOUS WASTE | C28: =SUM(C24:C27) -> 85680 | D28: =SUM(D24:D27) -> 7140 | F28: =SUM(F24:F27) -> 72365 | G28: =SUM(G24:G27) -> 6030.4167 | I28: =SUM(I24:I27) -> 74250 | J28: =SUM(J24:J27) -> 6187.5 | L28: =SUM(L24:L27) -> 64409 | M28: =SUM(M24:M27) -> 5367.4167 | O28: =SUM(O24:O27) -> 3979 | P28: =SUM(P24:P27) -> 331.58333 | R28: =SUM(R24:R27) -> 11300 | S28: =SUM(S24:S27) -> 941.66667 | U28: =SUM(C28,F28,I28,L28,O28,R28) -> 311983 | V28: =U28/63 -> 4952.1111
A30: TOTAL WASTE TO LANDFILL | C30: =C21+C28 -> 710960 | D30: =D21+D28 -> 59246.667 | F30: =F21+F28 -> 591055 | G30: =G21+G28 -> 49254.583 | I30: =I21+I28 -> 493910 | J30: =J21+J28 -> 41159.167 | L30: =L21+L28 -> 559439 | M30: =M21+M28 -> 46619.917 | O30: =O21+O28 -> 121113 | P30: =P21+P28 -> 10092.75 | R30: =R21+R28 -> 207520 | S30: =S21+S28 -> 17293.333 | U30: =SUM(C30,F30,I30,L30,O30,R30) -> 2683997 | V30: =U30/63 -> 42603.127
A32: WASTE RECYCLED (KG)
A34: PLASTIC | B34: PET | C34: ='Tender - Waste Monitoring'!O34 -> 17035 | D34: ='Tender - Waste Monitoring'!P34 -> 1419.5833 | E34: =C34/E16 -> 0.015468322 | F34: ='Tender - Waste Monitoring'!O107 -> 19791 | G34: ='Tender - Waste Monitoring'!P107 -> 1649.25 | H34: =F34/H16 -> 0.01943207 | I34: ='Tender - Waste Monitoring'!O178 -> 24223 | J34: ='Tender - Waste Monitoring'!P178 -> 2018.5833 | K34: =I34/K16 -> 0.02314219 | L34: ='Tender - Waste Monitoring'!O248 -> 23363 | M34: ='Tender - Waste Monitoring'!P248 -> 1946.9167 | N34: =L34/N16 -> 0.021181523 | O34: ='Tender - Waste Monitoring'!O320 -> 5900 | P34: ='Tender - Waste Monitoring'!P320 -> 491.66667 | Q34: =O34/Q16 -> 0.024289371 | R34: ='Tender - Waste Monitoring'!O392 -> 11745 | S34: ='Tender - Waste Monitoring'!P392 -> 978.75 | T34: =R34/T16 -> 0.022657094 | U34: =SUM(C34,F34,I34,L34,O34,R34) -> 102057 | V34: =U34/63 -> 1619.9524 | W34: =U34/W16 -> 0.02028671
B35: PET MIXED | C35: ='Tender - Waste Monitoring'!O35 -> 0 | D35: ='Tender - Waste Monitoring'!P35 -> 0 | E35: =C35/E16 -> 0 | F35: ='Tender - Waste Monitoring'!O108 -> 0 | G35: ='Tender - Waste Monitoring'!P108 -> 0 | H35: =F35/H16 -> 0 | I35: ='Tender - Waste Monitoring'!O179 -> 0 | J35: ='Tender - Waste Monitoring'!P179 -> 0 | K35: =I35/K16 -> 0 | L35: ='Tender - Waste Monitoring'!O249 -> 0 | M35: ='Tender - Waste Monitoring'!P249 -> 0 | N35: =L35/N16 -> 0 | O35: ='Tender - Waste Monitoring'!O321 -> 0 | P35: ='Tender - Waste Monitoring'!P321 -> 0 | Q35: =O35/Q16 -> 0 | R35: ='Tender - Waste Monitoring'!O393 -> 0 | S35: ='Tender - Waste Monitoring'!P393 -> 0 | T35: =R35/T16 -> 0 | U35: =SUM(C35,F35,I35,L35,O35,R35) -> 0 | V35: =U35/63 -> 0 | W35: =U35/W16 -> 0
B36: PP | C36: ='Tender - Waste Monitoring'!O36 -> 5871 | D36: ='Tender - Waste Monitoring'!P36 -> 489.25 | E36: =C36/E16 -> 0.0053310548 | F36: ='Tender - Waste Monitoring'!O109 -> 3938 | G36: ='Tender - Waste Monitoring'!P109 -> 328.16667 | H36: =F36/H16 -> 0.0038665804 | I36: ='Tender - Waste Monitoring'!O180 -> 4566 | J36: ='Tender - Waste Monitoring'!P180 -> 380.5 | K36: =I36/K16 -> 0.004362269 | L36: ='Tender - Waste Monitoring'!O250 -> 4590 | M36: ='Tender - Waste Monitoring'!P250 -> 382.5 | N36: =L36/N16 -> 0.0041614173 | O36: ='Tender - Waste Monitoring'!O322 -> 720 | P36: ='Tender - Waste Monitoring'!P322 -> 60 | Q36: =O36/Q16 -> 0.0029641267 | R36: ='Tender - Waste Monitoring'!O394 -> 0 | S36: ='Tender - Waste Monitoring'!P394 -> 0 | T36: =R36/T16 -> 0 | U36: =SUM(C36,F36,I36,L36,O36,R36) -> 19685 | V36: =U36/63 -> 312.46032 | W36: =U36/W16 -> 0.0039129495
B37: LDPE SOFT | C37: ='Tender - Waste Monitoring'!O37 -> 16897 | D37: ='Tender - Waste Monitoring'!P37 -> 1408.0833 | E37: =C37/E16 -> 0.015343014 | F37: ='Tender - Waste Monitoring'!O110 -> 21241 | G37: ='Tender - Waste Monitoring'!P110 -> 1770.0833 | H37: =F37/H16 -> 0.020855773 | I37: ='Tender - Waste Monitoring'!O181 -> 22102 | J37: ='Tender - Waste Monitoring'!P181 -> 1841.8333 | K37: =I37/K16 -> 0.021115828 | L37: ='Tender - Waste Monitoring'!O251 -> 16850 | M37: ='Tender - Waste Monitoring'!P251 -> 1404.1667 | N37: =L37/N16 -> 0.015276663 | O37: ='Tender - Waste Monitoring'!O323 -> 0 | P37: ='Tender - Waste Monitoring'!P323 -> 0 | Q37: =O37/Q16 -> 0 | R37: ='Tender - Waste Monitoring'!O395 -> 10142 | S37: ='Tender - Waste Monitoring'!P395 -> 845.16667 | T37: =R37/T16 -> 0.019564772 | U37: =SUM(C37,F37,I37,L37,O37,R37) -> 87232 | V37: =U37/63 -> 1384.6349 | W37: =U37/W16 -> 0.017339823
B38: HD | C38: ='Tender - Waste Monitoring'!O38 -> 0 | D38: ='Tender - Waste Monitoring'!P38 -> 0 | E38: =C38/E16 -> 0 | F38: ='Tender - Waste Monitoring'!O111 -> 3456 | G38: ='Tender - Waste Monitoring'!P111 -> 288 | H38: =F38/H16 -> 0.003393322 | I38: ='Tender - Waste Monitoring'!O182 -> 10768 | J38: ='Tender - Waste Monitoring'!P182 -> 897.33333 | K38: =I38/K16 -> 0.010287541 | L38: ='Tender - Waste Monitoring'!O252 -> 11710 | M38: ='Tender - Waste Monitoring'!P252 -> 975.83333 | N38: =L38/N16 -> 0.010616601 | O38: ='Tender - Waste Monitoring'!O324 -> 6540 | P38: ='Tender - Waste Monitoring'!P324 -> 545 | Q38: =O38/Q16 -> 0.02692415 | R38: ='Tender - Waste Monitoring'!O396 -> 3274 | S38: ='Tender - Waste Monitoring'!P396 -> 272.83333 | T38: =R38/T16 -> 0.0063158216 | U38: =SUM(C38,F38,I38,L38,O38,R38) -> 35748 | V38: =U38/63 -> 567.42857 | W38: =U38/W16 -> 0.0071059243
B39: PLASTIC PS | C39: ='Tender - Waste Monitoring'!O39 -> 0 | D39: ='Tender - Waste Monitoring'!P39 -> 0 | E39: =C39/E16 -> 0 | F39: ='Tender - Waste Monitoring'!O112 -> 1169 | G39: ='Tender - Waste Monitoring'!P112 -> 97.416667 | H39: =F39/H16 -> 0.001147799 | I39: ='Tender - Waste Monitoring'!O183 -> 2096 | J39: ='Tender - Waste Monitoring'!P183 -> 174.66667 | K39: =I39/K16 -> 0.0020024783 | L39: ='Tender - Waste Monitoring'!O253 -> 822 | M39: ='Tender - Waste Monitoring'!P253 -> 68.5 | N39: =L39/N16 -> 0.00074524728 | O39: ='Tender - Waste Monitoring'!O325 -> 0 | P39: ='Tender - Waste Monitoring'!P325 -> 0 | Q39: =O39/Q16 -> 0 | R39: ='Tender - Waste Monitoring'!O397 -> 0 | S39: ='Tender - Waste Monitoring'!P397 -> 0 | T39: =R39/T16 -> 0 | U39: =SUM(C39,F39,I39,L39,O39,R39) -> 4087 | V39: =U39/63 -> 64.873016 | W39: =U39/W16 -> 0.00081240664
B40: PLASTIC MIX | C40: ='Tender - Waste Monitoring'!O40 -> 0 | D40: ='Tender - Waste Monitoring'!P40 -> 0 | E40: =C40/E16 -> 0 | F40: ='Tender - Waste Monitoring'!O113 -> 2842 | G40: ='Tender - Waste Monitoring'!P113 -> 236.83333 | H40: =F40/H16 -> 0.0027904575 | I40: ='Tender - Waste Monitoring'!O184 -> 0 | J40: ='Tender - Waste Monitoring'!P184 -> 0 | K40: =I40/K16 -> 0 | L40: ='Tender - Waste Monitoring'!O254 -> 0 | M40: ='Tender - Waste Monitoring'!P254 -> 0 | N40: =L40/N16 -> 0 | O40: ='Tender - Waste Monitoring'!O326 -> 0 | P40: ='Tender - Waste Monitoring'!P326 -> 0 | Q40: =O40/Q16 -> 0 | R40: ='Tender - Waste Monitoring'!O398 -> 0 | S40: ='Tender - Waste Monitoring'!P398 -> 0 | T40: =R40/T16 -> 0 | U40: =SUM(C40,F40,I40,L40,O40,R40) -> 2842 | V40: =U40/63 -> 45.111111 | W40: =U40/W16 -> 0.00056492774
B41: BOPP | C41: ='Tender - Waste Monitoring'!O40 -> 0 | D41: ='Tender - Waste Monitoring'!P40 -> 0 | E41: =C41/E16 -> 0 | F41: ='Tender - Waste Monitoring'!O114 -> 251 | G41: ='Tender - Waste Monitoring'!P114 -> 20.916667 | H41: =F41/H16 -> 0.00024644786 | I41: ='Tender - Waste Monitoring'!O185 -> 18601 | J41: ='Tender - Waste Monitoring'!P185 -> 1550.0833 | K41: =I41/K16 -> 0.017771039 | L41: ='Tender - Waste Monitoring'!O255 -> 386 | M41: ='Tender - Waste Monitoring'!P255 -> 32.166667 | N41: =L41/N16 -> 0.00034995797 | O41: ='Tender - Waste Monitoring'!O327 -> 0 | P41: ='Tender - Waste Monitoring'!P327 -> 0 | Q41: =O41/Q16 -> 0 | R41: ='Tender - Waste Monitoring'!O399 -> 0 | S41: ='Tender - Waste Monitoring'!P399 -> 0 | T41: =R41/T16 -> 0 | U41: =SUM(C41,F41,I41,L41,O41,R41) -> 19238 | V41: =U41/63 -> 305.36508 | W41: =U41/W16 -> 0.0038240957
A42: SUB TOTAL | C42: =SUM(C34:C41) -> 39803 | D42: =SUM(D34:D41) -> 3316.9167 | F42: =SUM(F34:F41) -> 52688 | G42: =SUM(G34:G41) -> 4390.6667 | I42: =SUM(I34:I41) -> 82356 | J42: =SUM(J34:J41) -> 6863 | L42: =SUM(L34:L41) -> 57721 | M42: =SUM(M34:M41) -> 4810.0833 | O42: =SUM(O34:O41) -> 13160 | P42: =SUM(P34:P41) -> 1096.6667 | R42: =SUM(R34:R41) -> 25161 | S42: =SUM(S34:S41) -> 2096.75 | U42: =SUM(C42,F42,I42,L42,O42,R42) -> 270889 | V42: =U42/63 -> 4299.8254
A44: PAPER | B44: COMMON MIX WASTE | C44: ='Tender - Waste Monitoring'!O44 -> 178320 | D44: ='Tender - Waste Monitoring'!P44 -> 14860 | E44: =C44/E16 -> 0.16192023 | F44: ='Tender - Waste Monitoring'!O117 -> 60984 | G44: ='Tender - Waste Monitoring'!P117 -> 5082 | H44: =F44/H16 -> 0.059877994 | I44: ='Tender - Waste Monitoring'!O188 -> 24277 | J44: ='Tender - Waste Monitoring'!P188 -> 2023.0833 | K44: =I44/K16 -> 0.023193781 | L44: ='Tender - Waste Monitoring'!O258 -> 19280 | M44: ='Tender - Waste Monitoring'!P258 -> 1606.6667 | N44: =L44/N16 -> 0.017479766 | O44: ='Tender - Waste Monitoring'!O330 -> 1674 | P44: ='Tender - Waste Monitoring'!P330 -> 139.5 | Q44: =O44/Q16 -> 0.0068915945 | R44: ='Tender - Waste Monitoring'!O402 -> 10187 | S44: ='Tender - Waste Monitoring'!P402 -> 848.91667 | T44: =R44/T16 -> 0.01965158 | U44: =SUM(C44,F44,I44,L44,O44,R44) -> 294722 | V44: =U44/63 -> 4678.127 | W44: =U44/W16 -> 0.058584319
B45: NEWSPAPER | C45: ='Tender - Waste Monitoring'!O45 -> 34140 | D45: ='Tender - Waste Monitoring'!P45 -> 2845 | E45: =C45/E16 -> 0.031000206 | F45: ='Tender - Waste Monitoring'!O118 -> 101400 | G45: ='Tender - Waste Monitoring'!P118 -> 8450 | H45: =F45/H16 -> 0.099561009 | I45: ='Tender - Waste Monitoring'!O189 -> 130265 | J45: ='Tender - Waste Monitoring'!P189 -> 10855.417 | K45: =I45/K16 -> 0.12445269 | L45: ='Tender - Waste Monitoring'!O259 -> 109917 | M45: ='Tender - Waste Monitoring'!P259 -> 9159.75 | N45: =L45/N16 -> 0.099653705 | O45: ='Tender - Waste Monitoring'!O331 -> 14836 | P45: ='Tender - Waste Monitoring'!P331 -> 1236.3333 | Q45: =O45/Q16 -> 0.061077477 | R45: ='Tender - Waste Monitoring'!O403 -> 20066 | S45: ='Tender - Waste Monitoring'!P403 -> 1672.1667 | T45: =R45/T16 -> 0.038709003 | U45: =SUM(C45,F45,I45,L45,O45,R45) -> 410624 | V45: =U45/63 -> 6517.8413 | W45: =U45/W16 -> 0.081623113
B46: CARDBOARD | C46: ='Tender - Waste Monitoring'!O46 -> 66285 | D46: ='Tender - Waste Monitoring'!P46 -> 5523.75 | E46: =C46/E16 -> 0.060188889 | F46: ='Tender - Waste Monitoring'!O119 -> 63560 | G46: ='Tender - Waste Monitoring'!P119 -> 5296.6667 | H46: =F46/H16 -> 0.062407275 | I46: ='Tender - Waste Monitoring'!O190 -> 66848 | J46: ='Tender - Waste Monitoring'!P190 -> 5570.6667 | K46: =I46/K16 -> 0.063865299 | L46: ='Tender - Waste Monitoring'!O260 -> 68180 | M46: ='Tender - Waste Monitoring'!P260 -> 5681.6667 | N46: =L46/N16 -> 0.061813819 | O46: ='Tender - Waste Monitoring'!O332 -> 16047 | P46: ='Tender - Waste Monitoring'!P332 -> 1337.25 | Q46: =O46/Q16 -> 0.066062973 | R46: ='Tender - Waste Monitoring'!O404 -> 37239 | S46: ='Tender - Waste Monitoring'!P404 -> 3103.25 | T46: =R46/T16 -> 0.071837165 | U46: =SUM(C46,F46,I46,L46,O46,R46) -> 318159 | V46: =U46/63 -> 5050.1429 | W46: =U46/W16 -> 0.063243084
B47: WHITE OFFICE PAPER | C47: ='Tender - Waste Monitoring'!O47 -> 6561 | D47: ='Tender - Waste Monitoring'!P47 -> 546.75 | E47: =C47/E16 -> 0.0059575967 | F47: ='Tender - Waste Monitoring'!O120 -> 9691 | G47: ='Tender - Waste Monitoring'!P120 -> 807.58333 | H47: =F47/H16 -> 0.0095152439 | I47: ='Tender - Waste Monitoring'!O191 -> 16485 | J47: ='Tender - Waste Monitoring'!P191 -> 1373.75 | K47: =I47/K16 -> 0.015749453 | L47: ='Tender - Waste Monitoring'!O261 -> 10640 | M47: ='Tender - Waste Monitoring'!P261 -> 886.66667 | N47: =L47/N16 -> 0.0096465098 | O47: ='Tender - Waste Monitoring'!O333 -> 4640 | P47: ='Tender - Waste Monitoring'!P333 -> 386.66667 | Q47: =O47/Q16 -> 0.01910215 | R47: ='Tender - Waste Monitoring'!O405 -> 6937 | S47: ='Tender - Waste Monitoring'!P405 -> 578.08333 | T47: =R47/T16 -> 0.013382057 | U47: =SUM(C47,F47,I47,L47,O47,R47) -> 54954 | V47: =U47/63 -> 872.28571 | W47: =U47/W16 -> 0.010923659
A48: SUB TOTAL | C48: =SUM(C44:C47) -> 285306 | D48: =SUM(D44:D47) -> 23775.5 | F48: =SUM(F44:F47) -> 235635 | G48: =SUM(G44:G47) -> 19636.25 | I48: =SUM(I44:I47) -> 237875 | J48: =SUM(J44:J47) -> 19822.917 | L48: =SUM(L44:L47) -> 208017 | M48: =SUM(M44:M47) -> 17334.75 | O48: =SUM(O44:O47) -> 37197 | P48: =SUM(P44:P47) -> 3099.75 | R48: =SUM(R44:R47) -> 74429 | S48: =SUM(S44:S47) -> 6202.4167 | U48: =SUM(C48,F48,I48,L48,O48,R48) -> 1078459 | V48: =U48/63 -> 17118.397
A50: OIL | B50: MACHINE OIL | C50: ='Tender - Waste Monitoring'!O50 -> 0 | D50: ='Tender - Waste Monitoring'!P50 -> 0 | E50: =C50/E16 -> 0 | F50: ='Tender - Waste Monitoring'!O123 -> 0 | G50: ='Tender - Waste Monitoring'!P123 -> 0 | H50: =F50/H16 -> 0 | I50: ='Tender - Waste Monitoring'!O194 -> 0 | J50: ='Tender - Waste Monitoring'!P194 -> 0 | K50: =I50/K16 -> 0 | L50: ='Tender - Waste Monitoring'!O264 -> 0 | M50: ='Tender - Waste Monitoring'!P264 -> 0 | N50: =L50/N16 -> 0 | O50: ='Tender - Waste Monitoring'!O336 -> 0 | P50: ='Tender - Waste Monitoring'!P336 -> 0 | Q50: =O50/Q16 -> 0 | R50: ='Tender - Waste Monitoring'!O408 -> 0 | S50: ='Tender - Waste Monitoring'!P408 -> 0 | T50: =R50/T16 -> 0 | U50: =SUM(C50,F50,I50,L50,O50,R50) -> 0 | V50: =U50/63 -> 0 | W50: =U50/W16 -> 0
B51: FOOD GRADE OIL | C51: ='Tender - Waste Monitoring'!O51 -> 0 | D51: ='Tender - Waste Monitoring'!P51 -> 0 | E51: =C51/E16 -> 0 | F51: ='Tender - Waste Monitoring'!O124 -> 0 | G51: ='Tender - Waste Monitoring'!P124 -> 0 | H51: =F51/H16 -> 0 | I51: ='Tender - Waste Monitoring'!O195 -> 0 | J51: ='Tender - Waste Monitoring'!P195 -> 0 | K51: =I51/K16 -> 0 | L51: ='Tender - Waste Monitoring'!O265 -> 0 | M51: ='Tender - Waste Monitoring'!P265 -> 0 | N51: =L51/N16 -> 0 | O51: ='Tender - Waste Monitoring'!O337 -> 0 | P51: ='Tender - Waste Monitoring'!P337 -> 0 | Q51: =O51/Q16 -> 0 | R51: ='Tender - Waste Monitoring'!O409 -> 0 | S51: ='Tender - Waste Monitoring'!P409 -> 0 | T51: =R51/T16 -> 0 | U51: =SUM(C51,F51,I51,L51,O51,R51) -> 0 | V51: =U51/63 -> 0 | W51: =U51/W16 -> 0
A52: SUB TOTAL | C52: 0 | D52: 0 | F52: 0 | G52: 0 | I52: 0 | J52: 0 | L52: 0 | M52: 0 | O52: 0 | P52: 0 | R52: 0 | S52: 0 | U52: =SUM(C52,F52,I52,L52,O52,R52) -> 0 | V52: =U52/63 -> 0
A54: METAL | B54: SCRAP METAL | C54: ='Tender - Waste Monitoring'!O54 -> 960 | D54: ='Tender - Waste Monitoring'!P54 -> 80 | E54: =C54/E16 -> 0.00087171054 | F54: ='Tender - Waste Monitoring'!O127 -> 3720 | G54: ='Tender - Waste Monitoring'!P127 -> 310 | H54: =F54/H16 -> 0.003652534 | I54: ='Tender - Waste Monitoring'!O198 -> 0 | J54: ='Tender - Waste Monitoring'!P198 -> 0 | K54: =I54/K16 -> 0 | L54: ='Tender - Waste Monitoring'!O268 -> 760 | M54: ='Tender - Waste Monitoring'!P268 -> 63.333333 | N54: =L54/N16 -> 0.00068903642 | O54: ='Tender - Waste Monitoring'!O340 -> 971 | P54: ='Tender - Waste Monitoring'!P340 -> 80.916667 | Q54: =O54/Q16 -> 0.0039974541 | R54: ='Tender - Waste Monitoring'!O412 -> 0 | S54: ='Tender - Waste Monitoring'!P412 -> 0 | T54: =R54/T16 -> 0 | U54: =SUM(C54,F54,I54,L54,O54,R54) -> 6411 | V54: =U54/63 -> 101.7619 | W54: =U54/W16 -> 0.0012743673
B55: CANS | C55: ='Tender - Waste Monitoring'!O55 -> 11675 | D55: ='Tender - Waste Monitoring'!P55 -> 972.91667 | E55: =C55/E16 -> 0.010601271 | F55: ='Tender - Waste Monitoring'!O128 -> 11396 | G55: ='Tender - Waste Monitoring'!P128 -> 949.66667 | H55: =F55/H16 -> 0.011189322 | I55: ='Tender - Waste Monitoring'!O199 -> 13352 | J55: ='Tender - Waste Monitoring'!P199 -> 1112.6667 | K55: =I55/K16 -> 0.012756245 | L55: ='Tender - Waste Monitoring'!O269 -> 15349.7 | M55: ='Tender - Waste Monitoring'!P269 -> 1279.1417 | N55: =L55/N16 -> 0.01391645 | O55: ='Tender - Waste Monitoring'!O341 -> 1707.6 | P55: ='Tender - Waste Monitoring'!P341 -> 142.3 | Q55: =O55/Q16 -> 0.0070299204 | R55: ='Tender - Waste Monitoring'!O413 -> 5568.2 | S55: ='Tender - Waste Monitoring'!P413 -> 464.01667 | T55: =R55/T16 -> 0.010741526 | U55: =SUM(C55,F55,I55,L55,O55,R55) -> 59048.5 | V55: =U55/63 -> 937.27778 | W55: =U55/W16 -> 0.011737557
B56: FOIL | C56: ='Tender - Waste Monitoring'!O56 -> 277 | D56: ='Tender - Waste Monitoring'!P56 -> 23.083333 | E56: =C56/E16 -> 0.00025152481 | F56: ='Tender - Waste Monitoring'!O129 -> 860 | G56: ='Tender - Waste Monitoring'!P129 -> 71.666667 | H56: =F56/H16 -> 0.00084440303 | I56: ='Tender - Waste Monitoring'!O200 -> 268 | J56: ='Tender - Waste Monitoring'!P200 -> 22.333333 | K56: =I56/K16 -> 0.00025604207 | L56: ='Tender - Waste Monitoring'!O270 -> 480 | M56: ='Tender - Waste Monitoring'!P270 -> 40 | N56: =L56/N16 -> 0.00043518089 | O56: ='Tender - Waste Monitoring'!O342 -> 166 | P56: ='Tender - Waste Monitoring'!P342 -> 13.833333 | Q56: =O56/Q16 -> 0.00068339587 | R56: ='Tender - Waste Monitoring'!O414 -> 836 | S56: ='Tender - Waste Monitoring'!P414 -> 69.666667 | T56: =R56/T16 -> 0.0016127144 | U56: =SUM(C56,F56,I56,L56,O56,R56) -> 2887 | V56: =U56/63 -> 45.825397 | W56: =U56/W16 -> 0.00057387276
A57: SUB TOTAL | C57: =SUM(C54:C56) -> 12912 | D57: =SUM(D54:D56) -> 1076 | F57: =SUM(F54:F56) -> 15976 | G57: =SUM(G54:G56) -> 1331.3333 | I57: =SUM(I54:I56) -> 13620 | J57: =SUM(J54:J56) -> 1135 | L57: =SUM(L54:L56) -> 16589.7 | M57: =SUM(M54:M56) -> 1382.475 | O57: =SUM(O54:O56) -> 2844.6 | P57: =SUM(P54:P56) -> 237.05 | R57: =SUM(R54:R56) -> 6404.2 | S57: =SUM(S54:S56) -> 533.68333 | U57: =SUM(C57,F57,I57,L57,O57,R57) -> 68346.5 | V57: =U57/63 -> 1084.8651
A59: OTHER | B59: FLUORESCENT TUBES | C59: ='Tender - Waste Monitoring'!O59 -> 1038 | D59: ='Tender - Waste Monitoring'!P59 -> 86.5 | E59: =C59/E16 -> 0.00094253702 | F59: ='Tender - Waste Monitoring'!O132 -> 1530 | G59: ='Tender - Waste Monitoring'!P132 -> 127.5 | H59: =F59/H16 -> 0.0015022519 | I59: ='Tender - Waste Monitoring'!O203 -> 1482 | J59: ='Tender - Waste Monitoring'!P203 -> 123.5 | K59: =I59/K16 -> 0.0014158744 | L59: ='Tender - Waste Monitoring'!O273 -> 3296.4 | M59: ='Tender - Waste Monitoring'!P273 -> 274.7 | N59: =L59/N16 -> 0.0029886048 | O59: ='Tender - Waste Monitoring'!O345 -> 0 | P59: ='Tender - Waste Monitoring'!P345 -> 0 | Q59: =O59/Q16 -> 0 | R59: ='Tender - Waste Monitoring'!O417 -> 1236.5 | S59: ='Tender - Waste Monitoring'!P417 -> 103.04167 | T59: =R59/T16 -> 0.0023853126 | U59: =SUM(C59,F59,I59,L59,O59,R59) -> 8582.9 | V59: =U59/63 -> 136.23651 | W59: =U59/W16 -> 0.0017060937
...

Sheet Waste Monitoring - Return Proje
A1: KING SHAKA INTERNATIONAL AIRPORT
D10: 5 year - 60 months | E10: Over 60 months | F10: Price Evaluation Tool | I10: Note1: The form of offer tendered should not factor in returns, if the returns are not realised then based on low volumes of waste being generated we run the risk of depleting the BPA
C11: % Split | D11: Allocated Tonnage | E11: Monthly Allocation | F11: Bidders Rate | G11: Estimated Monthly Return | H11: Estimated 5 Year Return
A13: % WASTE RECYCLED / RE-USED | D13: =D68/D72 -> 0.46647982
A14: % WASTE LANDFILLED | D14: =D30/D16 -> 0.53352018
A16: TOTAL WASTE GENERATED | C16: ='Waste Monitoring - % Splits'!W16 -> 5030731.9 | D16: 3745 | E16: =D16/60 -> 62.416667
A18: WASTE TO LANDFILL (KG)
A20: NON HAZARDOUS
A21: GENERAL WASTE | C21: ='Waste Monitoring - % Splits'!W21 -> 0.47150475 | D21: =C21*D16 -> 1765.7853 | E21: =D21/60 -> 29.429755
A23: HAZARDOUS WASTE
A24: GALLEY WASTE | C24: ='Waste Monitoring - % Splits'!W24 -> 0.058810329 | D24: =C24*D16 -> 220.24468 | E24: =D24/60 -> 3.6707447
A25: EMPTY MOTOR OIL CANS | C25: ='Waste Monitoring - % Splits'!W25 -> 0.00014411422 | D25: =C25*D16 -> 0.53970775 | E25: =D25/60 -> 0.0089951292
A26: OTHER | C26: ='Waste Monitoring - % Splits'!W26 -> 0.0007871618 | D26: =C26*D16 -> 2.947921 | E26: =D26/60 -> 0.049132016
A27: AD-HOC (NOT INCL) | C27: ='Waste Monitoring - % Splits'!W27 -> 0.0022738242 | D27: =C27*D16 -> 8.5154717 | E27: =D27/60 -> 0.14192453
A28: TOTAL HAZARDOUS WASTE | D28: =SUM(D24:D27) -> 232.24778 | E28: =SUM(E24:E27) -> 3.8707964
A30: TOTAL WASTE TO LANDFILL | C30: ='Waste Monitoring - % Splits'!W30 -> 0 | D30: =SUM(D21,D28) -> 1998.0331 | E30: =SUM(E21,E28) -> 33.300551
A32: WASTE RECYCLED (KG)
A34: PLASTIC | B34: PET | C34: ='Waste Monitoring - % Splits'!W34 -> 0.02028671 | D34: =C34*D16 -> 75.97373 | E34: =D34/60 -> 1.2662288 | G34: =E34*F34 -> 0 | H34: =G34*60 -> 0
B35: PET MIXED | C35: ='Waste Monitoring - % Splits'!W35 -> 0 | D35: =C35*D16 -> 0 | E35: =D35/60 -> 0 | G35: =E35*F35 -> 0 | H35: =G35*60 -> 0
B36: PP | C36: ='Waste Monitoring - % Splits'!W36 -> 0.0039129495 | D36: =C36*D16 -> 14.653996 | E36: =D36/60 -> 0.24423327 | G36: =E36*F36 -> 0 | H36: =G36*60 -> 0
B37: LDPE SOFT | C37: ='Waste Monitoring - % Splits'!W37 -> 0.017339823 | D37: =C37*D16 -> 64.937637 | E37: =D37/60 -> 1.0822939 | G37: =E37*F37 -> 0 | H37: =G37*60 -> 0
B38: HD | C38: ='Waste Monitoring - % Splits'!W38 -> 0.0071059243 | D38: =C38*D16 -> 26.611686 | E38: =D38/60 -> 0.44352811 | G38: =E38*F38 -> 0 | H38: =G38*60 -> 0
B39: PLASTIC PS | C39: ='Waste Monitoring - % Splits'!W39 -> 0.00081240664 | D39: =C39*D16 -> 3.0424629 | E39: =D39/60 -> 0.050707714 | G39: =E39*F39 -> 0 | H39: =G39*60 -> 0
B40: PLASTIC MIX | C40: ='Waste Monitoring - % Splits'!W40 -> 0.00056492774 | D40: =C40*D16 -> 2.1156544 | E40: =D40/60 -> 0.035260906 | G40: =E40*F40 -> 0 | H40: =G40*60 -> 0
B41: BOPP | C41: ='Waste Monitoring - % Splits'!W41 -> 0.0038240957 | D41: =C41*D16 -> 14.321238 | E41: =D41/60 -> 0.2386873 | G41: =E41*F41 -> 0 | H41: =G41*60 -> 0
A42: SUB TOTAL | D42: =SUM(D34:D41) -> 201.6564 | E42: =SUM(E34:E41) -> 3.3609401
A44: PAPER | B44: COMMON MIX WASTE | C44: ='Waste Monitoring - % Splits'!W44 -> 0.058584319 | D44: =C44*D16 -> 219.39827 | E44: =D44/60 -> 3.6566379 | G44: =E44*F44 -> 0 | H44: =G44*60 -> 0
B45: NEWSPAPER | C45: ='Waste Monitoring - % Splits'!W45 -> 0.081623113 | D45: =C45*D16 -> 305.67856 | E45: =D45/60 -> 5.0946427 | G45: =E45*F45 -> 0 | H45: =G45*60 -> 0
B46: CARDBOARD | C46: ='Waste Monitoring - % Splits'!W46 -> 0.063243084 | D46: =C46*D16 -> 236.84535 | E46: =D46/60 -> 3.9474225 | G46: =E46*F46 -> 0 | H46: =G46*60 -> 0
B47: WHITE OFFICE PAPER | C47: ='Waste Monitoring - % Splits'!W47 -> 0.010923659 | D47: =C47*D16 -> 40.909103 | E47: =D47/60 -> 0.68181839 | G47: =E47*F47 -> 0 | H47: =G47*60 -> 0
A48: SUB TOTAL | D48: =SUM(D44:D47) -> 802.83128 | E48: =SUM(E44:E47) -> 13.380521
A50: OIL | B50: MACHINE OIL | C50: ='Waste Monitoring - % Splits'!W50 -> 0 | D50: =C50*D16 -> 0 | E50: =D50/60 -> 0 | G50: =E50*F50 -> 0 | H50: =G50*60 -> 0
B51: FOOD GRADE OIL | C51: ='Waste Monitoring - % Splits'!W51 -> 0 | D51: =C51*D16 -> 0 | E51: =D51/60 -> 0 | G51: =E51*F51 -> 0 | H51: =G51*60 -> 0
A52: SUB TOTAL | D52: =SUM(D50:D51) -> 0 | E52: =SUM(E50:E51) -> 0
A54: METAL | B54: SCRAP METAL | C54: ='Waste Monitoring - % Splits'!W54 -> 0.0012743673 | D54: =C54*D16 -> 4.7725054 | E54: =D54/60 -> 0.079541756 | G54: =E54*F54 -> 0 | H54: =G54*60 -> 0
B55: CANS | C55: ='Waste Monitoring - % Splits'!W55 -> 0.011737557 | D55: =C55*D16 -> 43.957149 | E55: =D55/60 -> 0.73261915 | G55: =E55*F55 -> 0 | H55: =G55*60 -> 0
B56: FOIL | C56: ='Waste Monitoring - % Splits'!W56 -> 0.00057387276 | D56: =C56*D16 -> 2.1491535 | E56: =D56/60 -> 0.035819225 | G56: =E56*F56 -> 0 | H56: =G56*60 -> 0
A57: SUB TOTAL | D57: =SUM(D54:D56) -> 50.878808 | E57: =SUM(E54:E56) -> 0.84798013
A59: OTHER | B59: FLUORESCENT TUBES | C59: ='Waste Monitoring - % Splits'!W59 -> 0.0017060937 | D59: =C59*D16 -> 6.3893209 | E59: =D59/60 -> 0.10648868 | G59: =E59*F59 -> 0 | H59: =G59*60 -> 0
B60: LAMP COMPONENTS | C60: ='Waste Monitoring - % Splits'!W60 -> 0.00072921795 | D60: =C60*D16 -> 2.7309212 | E60: =D60/60 -> 0.045515354 | G60: =E60*F60 -> 0 | H60: =G60*60 -> 0
...

Sheet Tender - Recycling Proj
B1: KING SHAKA INTERNATIONAL AIRPORT
B7: PROJECTED WASTE RECYCLING QUANTITIES
B11: WASTE RECYCLED (KG) | D11: PER MONTH (AVERAGE)
D12: UNIT | E12: QUANTITY
B15: PLASTIC | C15: PET | D15: ton | E15: ='Waste Monitoring - Return Proje'!E34 -> 1.2662288
C16: PET MIXED | D16: ton | E16: ='Waste Monitoring - Return Proje'!E35 -> 0
C17: PP | D17: ton | E17: ='Waste Monitoring - Return Proje'!E36 -> 0.24423327
C18: LDPE SOFT | D18: ton | E18: ='Waste Monitoring - Return Proje'!E37 -> 1.0822939
C19: HD | D19: ton | E19: ='Waste Monitoring - Return Proje'!E38 -> 0.44352811
C20: PLASTIC PS | D20: ton | E20: ='Waste Monitoring - Return Proje'!E39 -> 0.050707714
C21: PLASTIC MIX | D21: ton | E21: ='Waste Monitoring - Return Proje'!E40 -> 0.035260906
C22: BOPP | D22: ton | E22: ='Waste Monitoring - Return Proje'!E41 -> 0.2386873
B23: SUB TOTAL | E23: =SUM(E15:E22) -> 3.3609401
B25: PAPER | C25: COMMON MIX WASTE | D25: ton | E25: ='Waste Monitoring - Return Proje'!E44 -> 3.6566379
C26: NEWSPAPER | D26: ton | E26: ='Waste Monitoring - Return Proje'!E45 -> 5.0946427
C27: CARDBOARD | D27: ton | E27: ='Waste Monitoring - Return Proje'!E46 -> 3.9474225
C28: WHITE OFFICE PAPER | D28: ton | E28: ='Waste Monitoring - Return Proje'!E47 -> 0.68181839
B29: SUB TOTAL | E29: =SUM(E25:E28) -> 13.380521
B31: OIL | C31: MACHINE OIL | D31: litres | E31: ='Waste Monitoring - Return Proje'!E50 -> 0
C32: FOOD GRADE OIL | D32: litres | E32: ='Waste Monitoring - Return Proje'!E51 -> 0
B33: SUB TOTAL | E33: =SUM(E31:E32) -> 0
B35: METAL | C35: SCRAP METAL | D35: ton | E35: ='Waste Monitoring - Return Proje'!E54 -> 0.079541756
C36: CANS | D36: ton | E36: ='Waste Monitoring - Return Proje'!E55 -> 0.73261915
C37: FOIL | D37: ton | E37: ='Waste Monitoring - Return Proje'!E56 -> 0.035819225
B38: SUB TOTAL | E38: =SUM(E35:E37) -> 0.84798013
B40: OTHER | C40: FLUORESCENT TUBES | D40: ton | E40: ='Waste Monitoring - Return Proje'!E59 -> 0.10648868
C41: LAMP COMPONENTS | D41: ton | E41: ='Waste Monitoring - Return Proje'!E60 -> 0.045515354
C42: TETRA PAK | D42: ton | E42: ='Waste Monitoring - Return Proje'!E61 -> 0.25093309
C43: GLASS | D43: ton | E43: ='Waste Monitoring - Return Proje'!E62 -> 3.369898
C44: RE-USED DRUMS | D44: ton | E44: ='Waste Monitoring - Return Proje'!E63 -> 0.0062035374
C45: PRINTER CARTRIDGES | D45: ton | E45: ='Waste Monitoring - Return Proje'!E64 -> 0.0021340169
C46: FOOD WASTE | D46: ton | E46: ='Waste Monitoring - Return Proje'!E65 -> 7.745501
B47: SUB TOTAL | E47: =SUM(E40:E46) -> 11.526674
B49: TOTAL WASTE RECYCLED | E49: =SUM(E23,E29,E33,E38,E47) -> 29.116115 | F49: 500 | G49: =E49*F49 -> 14558.058

Sheet Sheet2
D5: Date | E5: Type of waste | F5: No | G5: Name
D6: 01/11/2015 | E6: PET | F6: 298 | G6: Bonisiwe Nxele | H6: =F6+F26+F79 -> 460
E7: HD | F7: 12 | H7: =F7+F44+F63 -> 17
E8: Mix Plastic | F8: 64 | H8: =F8+F27+F60+F62 -> 159
E9: Clear Plastic | F9: 101 | H9: =F9+F28+F45+F67 -> 185
E10: Brown Paper | F10: 16 | H10: =F10+F29+F46+F64 -> 23
E11: White Paper | F11: 320 | H11: =F11+F30+F47+F68 -> 462
E12: Tins | F12: 81 | H12: =F12+F31+F48+F73 -> 328
E13: Metal Cans | F13: 192 | H13: =F13+F32+F49+F76 -> 453
E14: Tissues | F14: 71 | H14: =F14+F36+F53+F66 -> 144
E15: PP Plastic | F15: 216 | H15: =F15+F51+F71 -> 452
E16: Pvc Trays | F16: 192 | H16: =F16+F35+F52+F70 -> 298
E17: Foil | F17: 52 | H17: =F17+F37+F54+F72 -> 131
E18: Common Paper | F18: 334 | H18: =F18+F33+F50+F69 -> 687
E19: IMW | F19: 97 | H19: =F19+F38+F55+F75 -> 192
E20: Plastic cups | F20: 30 | H20: =F20+F39+F57+F78 -> 69
E21: FN News Paper | F21: 610 | H21: =F21+F40+F56+F74 -> 1024
E22: Glass waste | F22: 8 | H22: =F22+F59+F65 -> 31
E23: Boxes (K4) | F23: 36 | H23: =F23+F41+F58+F77 -> 102
E24: Glue Plastics | F24: 2 | H24: =F24 -> 2
D25: 08/11/2015 | G25: Bonisiwe Nxele
E26: PET | F26: 56
E27: Mixed Plastic | F27: 25
E28: Clear Plastic | F28: 14
E29: Brown Paper | F29: 3
E30: White Paper | F30: 39
E31: Tins | F31: 62
E32: Metal cans | F32: 87
E33: Common paper | F33: 103
E34: PP Plastic | F34: 65
E35: Pvc Trays | F35: 46
E36: Tissues | F36: 39
E37: Foil | F37: 34
... E41: Boxes (K4) | F41: 21
D42: 12/11/2015 | G42: Bonisiwe Nxele
E43: PET | F43: 143
E44: HD | F44: 2
E45: Clear plastic | F45: 38
E46: Brown paper | F46: 2
E47: White paper | F47: 78
...
