Workbook
Name __CPA1: [0]!__CPA1
Name __CXX1: '[1]1'!$F$175:$F$182
Name __CXX2: '[1]2'!$F$175:$F$182
Name __CXX3: '[1]3'!$F$175:$F$182
Name __CXX4: '[1]4'!$F$175:$F$182
Name __CXX5: '[1]5'!$F$175:$F$182
Name __CXX6: '[1]6'!$F$175:$F$182
Name __CXX7: '[1]7'!$F$175:$F$182
Name __CXX8: '[1]8'!$F$175:$F$182
Name __CXX9: '[1]9'!$F$175:$F$182
Name __EXX1: '[1]1'!$F$129:$F$168
Name __EXX2: '[1]2'!$F$129:$F$168
Name __EXX3: '[1]3'!$F$129:$F$168
Name __EXX4: '[1]4'!$F$129:$F$168
Name __EXX5: '[1]5'!$F$129:$F$168
Name __EXX6: '[1]6'!$F$129:$F$168
Name __EXX7: '[1]7'!$F$129:$F$168
Name __EXX8: '[1]8'!$F$129:$F$168
Name __EXX9: '[1]9'!$F$129:$F$168
Name __MXX1: '[1]1'!$F$13:$F$64
Name __MXX2: '[1]2'!$F$13:$F$64
Name __MXX3: '[1]3'!$F$13:$F$64
Name __MXX4: '[1]4'!$F$13:$F$64
Name __MXX5: '[1]5'!$F$13:$F$64
Name __MXX6: '[1]6'!$F$13:$F$64
Name __MXX7: '[1]7'!$F$13:$F$64
Name __MXX8: '[1]8'!$F$13:$F$64
Name __MXX9: '[1]9'!$F$13:$F$64
Name __SXX1: '[1]1'!$F$71:$F$122
Name __SXX2: '[1]2'!$F$71:$F$122
Name __SXX3: '[1]3'!$F$71:$F$122
Name __SXX4: '[1]4'!$F$71:$F$122
Name __SXX5: '[1]5'!$F$71:$F$122
Name __SXX6: '[1]6'!$F$71:$F$122
Name __SXX7: '[1]7'!$F$71:$F$122
Name __SXX8: '[1]8'!$F$71:$F$122
Name __SXX9: '[1]9'!$F$71:$F$122
Name _CPA1: [0]!_CPA1
Name _CXX1: '[1]1'!$F$175:$F$182
Name _CXX2: '[1]2'!$F$175:$F$182
Name _CXX3: '[1]3'!$F$175:$F$182
Name _CXX4: '[1]4'!$F$175:$F$182
Name _CXX5: '[1]5'!$F$175:$F$182
Name _CXX6: '[1]6'!$F$175:$F$182
Name _CXX7: '[1]7'!$F$175:$F$182
Name _CXX8: '[1]8'!$F$175:$F$182
Name _CXX9: '[1]9'!$F$175:$F$182
Name _Eng1: #REF!
Name _Eng1: #REF!
Name _Eng13: #REF!
Name _Eng13: #REF!
Name _Eng15: #REF!
Name _Eng15: #REF!
Name _EXX1: '[1]1'!$F$129:$F$168
Name _EXX2: '[1]2'!$F$129:$F$168
Name _EXX3: '[1]3'!$F$129:$F$168
Name _EXX4: '[1]4'!$F$129:$F$168
Name _EXX5: '[1]5'!$F$129:$F$168
Name _EXX6: '[1]6'!$F$129:$F$168
Name _EXX7: '[1]7'!$F$129:$F$168

Sheet Cover
B14: *Where the word "Bill Of Quantities" is used it shall mean Price Schedule
B17: TENDER NUMBER | H17: :
B20: CONTRACTOR | H20: :
B23: TENDER OFFER | H23: : | I23: Not applicable
B24: (Excluding VAT) | I24: (Contract is rates based)
B27: AUTHORISED SIGNATORY NAME | H27: :
B30: DESIGNATION | H30: : | I30: PROJECT MANAGER
B33: AUTHORISED SIGNATURE | H33: :
B36: DATE | H36: :

Sheet BOQ
C2: Simmerpan Public Address System Phase 2
B4: ITEM NO | C4: DESCRIPTION | D4: UOM | E4: QTY | F4: RATE | G4: AMOUNT
C6: SECTION A: PRELIMINARIES AND GENERAL
C8: Establishment of Facilities on the Site for Contractor
C10: The sums stated for items under this heading shall cover the cost of providing, establishing and commissioning on the site the facilities adequately equipped to enable all the work to commence and to proceed to completion as required in terms of the contract. The Bill must be completed using the technical specification of the project.
C12: The works information is provided and no claims arising from brevity of description of items fully described in the said works information will be entertained
C14: Works Information/scope of work are incorporated to satisfy the requirements of this project. Such information shall take precedence
C16: The contractor's prices for all items throughout this document must take account of and include for all obligations, requirements and specifications given in the said works information/scope of work. No variation will be entertained on the items clearly listed in works information
C18: BILL NO : 1 PRELIMINARY AND GENERAL
C20: Fixed related P&Gs
C22: a) Nameboards | D22: Item | E22: 1
C24: Site Establishment | D24: Sum | E24: 1
C26: Construction and setting out of survey beacons (Including fiber line layout) | D26: Item | E26: 1
C28: Barricading | D28: Item | E28: 1
C30: Site De establishment | D30: Item | E30: 1
C32: Health and Safety
C34: Preparation of Health and Safety File | D34: Once off | E34: 1
C36: Pre-employment medical examination | D36: Per Person | E36: 1
C38: Exit -medical examination | D38: Per Person | E38: 1
C40: Personal Protective Clothing and Equipment (Overall, Hardhat, Gloves, Goggles, ect.) | D40: Per Person | E40: 1
C42: g) Provision of all signage in terms of latest revision legislation | D42: Item | E42: 1
C43: Police Clearance | D43: Per Person | E43: 1
C45: Training
C47: Training NTCSA Staff (Supervisors and Technicians) | D47: Sum | E47: 1
C49: TIME RELATED P&GS
C51: Project Management/Supervision | D51: Monthly | E51: 6
C53: Safety Personnel | D53: Monthly | E53: 6
C55: Transportation for workers | D55: Monthly | E55: 6
C57: Accommodation (Including meals) | D57: Monthly | E57: 6
C59: Consumables (Drills, bolts, cable ties, bolts and nuts) | D59: Monthly | E59: 6
C61: Fiber splicing tool/machine | D61: Monthly | E61: 6
C63: Section Summary carried Forward
C65: SECTION B
C67: BILL NO : 2 EARTHWORKS
C69: DEMOLITIONS AND SITE CLEARANCE
C71: Demolitions:
C73: Breaking up and removing surface concrete | D73: m² | E73: =3000*0.6 -> 1800
C75: Breaking up and removing road surface | D75: m² | E75: =3000*0.6 -> 1800
C77: Disposal of excavated material | D77: m³ | E77: =6000*0.6*0.075 -> 270
C79: Site Clearance:
...

Sheet Summary
A2: SIMMERPAN PUBLIC ADDRESS SYSTEM PHASE 2 FOR TRANSMISSION REAL ESTATE
A4: PROVISIONAL BILL OF QUANTITY SUMMARY
A7: BILL NO. | B7: DESCRIPTION | D7: TOTAL AMOUNT
A9: SECTION A
A10: BILL NO 1 | B10: PRELIMINARY AND GENERAL | D10: =BOQ!G63 -> 0
A12: SECTION B
A13: BILL NO 1 | B13: EARTHWORKS | D13: =BOQ!G109 -> 0
A14: BILL NO 2 | B14: CONCRETE, FORMWORK AND REINFORCEMENT | D14: =BOQ!G124 -> 0
A15: BILL NO 3 | B15: ELECTRICAL WORK | D15: =BOQ!G435 -> 0
A17: SECTION C | B17: EXTERNAL WORKS | D17: =BOQ!G501 -> 0
B19: SUB-TOTAL | D19: =SUM(D10:D18) -> 0
B20: ADD:
B21: 15% VAT | C21: 0.15 | D21: =D19*C21 -> 0
B23: TOTAL CARRIED TO FORM OF OFFER AND ACCEPTANCE | D23: =SUM(D19:D22) -> 0
