Workbook

Sheet Instructions
C3: BIDDER: | D3: ='Bidder Info'!C3 -> Bidder :
C4: Foreign Currency: | D4: ='Bidder Info'!D4 -> FC
C5: ROE: 1R= | D5: ='Bidder Info'!D5 -> 0.12345
C6: Date: | D6: ='Bidder Info'!D6 -> 45313
C7: RFP: | D7: ATNS/HO/TPQ/RFP049/FY23.24/ATFM REPLACEMENT SYSTEM
C8: Project Name: | D8: ATFM Replacement
C11: Bidders shall complete the required information on the "Bidder Info" sheet.
C12: All prices shall include Value Added Tax.
C13: All sheets shall be completed by the Bidder, except for "G1 SUMMARY" that will automatically update with the totals from the other sheets.
C14: Cells with a light grey background contains formulas and fixed information and should not be changed.
C15: Cells with a dark grey background contains fixed information, headings and formulas that must not be changed.
C17: This file contains the following sheets:
C18: Bidder Info | D18: Bidder supplied information to be used in subsequent sheets.
C19: G1 SUMMARY | D19: Summary of all sheets.
C20: G2_1 Software | D20: Softyware costs
C21: G2_2 EQ | D21: Equipment costs.
C22: G3 PMP | D22: Overall project management and associated costs.
C23: G4 ILS | D23: Overall logistic support and associated costs.
C24: G5_1 Spares | D24: Offered spares cost per equipment type
C25: G5_2 Test Equipment | D25: Test equipment cost
C26: G5_0 LRU List | D26: List of all LRU items and costs.
C27: G6 Miscellaneous | D27: All miscellaneous items costs
C28: G7 Options | D28: All optional items and proposals costs
C29: G8 Maintenance Contract | D29: Maintenance contract cost
C32: The total offered spares cost per equipment type shall be captured on "G5_1 Spares", while the details LRU (spares) list with costing shall be captured on "G5_0 Spares" for each equipment type.
C34: Complete columns D,E,I & J on the relevant sheets and the formula's will automatically calculate the totals.

Sheet Bidder Info
C3: Bidder : | D3: Bidder name | E3: "{Include name of Bidder}
C4: Foreign Currency: | D4: FC | E4: "{Include the foreign currency}
C5: ROE: 1R= | D5: 0.12345 | E5: "{Include the quoted exchange rate}
C6: Date: | D6: 45313 | E6: "{Include the bid submission date}
C9: Do not change cells with grey background.

Sheet G1 SUMMARY
A1: TENDER PRICE SCHEDULE: APPENDIX G1
A2: (INCLUDING VALUE ADDED TAX)
A3: BIDDER : | B3: ='Bidder Info'!D3 -> Bidder name
A4: RFP: | B4: =Instructions!D7 -> ATNS/HO/TPQ/RFP049/FY23.24/ATFM REPLACEMENT SYSTEM
A5: Project Name: | B5: =Instructions!$D$8 -> ATFM Replacement
C7: Overseas Items | F7: Local Items
A9: Schedule Item Number | B9: Description | C9: Foreign Amount Total Cost | D9: ="ROE: 1R = "&'Bidder Info'!$D$5 -> ROE: 1R = 0.12345 | E9: Total Foreign Cost in Rands | F9: Local Amount Total Cost | G9: Total Rands
A14: G2 | B14: SYSTEM
A15: G2.1 | B15: ='G2_1 Software'!B7 -> System Software | C15: ='G2_1 Software'!F63 -> 0 | D15: ='G2_1 Software'!B9 -> 0.12345 | E15: ='G2_1 Software'!H63 -> 0 | F15: ='G2_1 Software'!K63 -> 0 | G15: ='G2_1 Software'!L63 -> 0
A16: G2.2 | B16: ='G2_2 EQ'!B7 -> Equipment | C16: ='G2_2 EQ'!F63 -> 0 | D16: ='G2_2 EQ'!B9 -> 0.12345 | E16: ='G2_2 EQ'!H63 -> 0 | F16: ='G2_2 EQ'!K63 -> 0 | G16: ='G2_2 EQ'!L63 -> 0
B18: SERVICES
A19: G3 | B19: ='G3 PMP'!B7 -> Project Management | C19: ='G3 PMP'!F57 -> 0 | D19: ='G3 PMP'!G57 -> 0.12345 | E19: ='G3 PMP'!H57 -> 0 | F19: ='G3 PMP'!K57 -> 0 | G19: ='G3 PMP'!L57 -> 0
A20: G4 | B20: ='G4 ILS'!B7 -> Integrated Logistic Support | C20: ='G4 ILS'!F58 -> 0 | D20: ='G4 ILS'!G58 -> 0.12345 | E20: ='G4 ILS'!H58 -> 0 | F20: ='G4 ILS'!K58 -> 0 | G20: ='G4 ILS'!L58 -> 0
A22: G5 | B22: SPARES & TEST EQUIPMENT
A23: G5.1 | B23: ='G5_1 Spares'!B7 -> Offered Spares | C23: ='G5_1 Spares'!F56 -> 0 | D23: ='G5_1 Spares'!G56 -> 0.12345 | E23: ='G5_1 Spares'!H56 -> 0 | F23: ='G5_1 Spares'!K56 -> 0 | G23: ='G5_1 Spares'!L56 -> 0
A24: G5.2 | B24: ='G5_2 Test Equipment'!B7 -> Test Equipment | C24: ='G5_2 Test Equipment'!F43 -> 0 | D24: ='G5_2 Test Equipment'!G43 -> 0.12345 | E24: ='G5_2 Test Equipment'!H43 -> 0 | F24: ='G5_2 Test Equipment'!K43 -> 0 | G24: ='G5_2 Test Equipment'!L43 -> 0
A26: G6 | B26: MISCELLANEOUS | C26: ='G6 Miscellaneous'!F43 -> 0 | D26: ='G6 Miscellaneous'!G43 -> 0.12345 | E26: ='G6 Miscellaneous'!H43 -> 0 | F26: ='G6 Miscellaneous'!K43 -> 0 | G26: ='G6 Miscellaneous'!L43 -> 0
B28: TOTAL: | C28: =SUM(C12:C27) -> 0 | E28: =SUM(E12:E27) -> 0 | F28: =SUM(F12:F27) -> 0 | G28: =SUM(G12:G27) -> 0
A30: G8 | B30: MAINTENANCE CONTRACT | C30: ='G8 Maintenance Contract'!F42 -> 0 | D30: ='G8 Maintenance Contract'!G42 -> 0 | E30: ='G8 Maintenance Contract'!H42 -> 0 | F30: ='G8 Maintenance Contract'!K42 -> 0 | G30: ='G8 Maintenance Contract'!L42 -> 0
B32: GRAND TOTAL: | C32: =C28+C30 -> 0 | D32: =D28+D30 -> 0 | E32: =E28+E30 -> 0 | F32: =F28+F30 -> 0 | G32: =G28+G30 -> 0
A34: G7 | B34: OPTIONS
A35: G7.1 | B35: ='G7 Options'!B18 -> OTHER OPTIONS 1 | C35: ='G7 Options'!F18 -> 0 | D35: ='G7 Options'!G18 -> 0 | E35: ='G7 Options'!H18 -> 0 | F35: ='G7 Options'!K18 -> 0 | G35: ='G7 Options'!L18 -> 0
A36: G7.2 | B36: ='G7 Options'!B27 -> OTHER OPTIONS 2 | C36: ='G7 Options'!F27 -> 0 | D36: ='G7 Options'!G27 -> 0 | E36: ='G7 Options'!H27 -> 0 | F36: ='G7 Options'!K27 -> 0 | G36: ='G7 Options'!L27 -> 0
A37: G7.3 | B37: ='G7 Options'!B36 -> OTHER OPTIONS 3 | C37: ='G7 Options'!F36 -> 0 | D37: ='G7 Options'!G36 -> 0 | E37: ='G7 Options'!H36 -> 0 | F37: ='G7 Options'!K36 -> 0 | G37: ='G7 Options'!L36 -> 0
B39: Options Total | C39: ='G7 Options'!F$54 -> 0 | D39: ='G7 Options'!G$54 -> 0.12345 | E39: ='G7 Options'!H$54 -> 0 | F39: ='G7 Options'!K$54 -> 0 | G39: ='G7 Options'!L$54 -> 0
B42: GRAND TOTAL (Including Options): | C42: =C32+C39 -> 0 | E42: =E32+E39 -> 0 | F42: =F32+F39 -> 0 | G42: =G32+G39 -> 0

Sheet G2_1 Software
A1: TENDER PRICE SCHEDULE: VOLUME 1C
A2: (INCLUDING VALUE ADDED TAX)
A3: BIDDER : | B3: ='Bidder Info'!D3 -> Bidder name
A4: RFP: | B4: =Instructions!D7 -> ATNS/HO/TPQ/RFP049/FY23.24/ATFM REPLACEMENT SYSTEM
A5: PROJECT : | B5: =Instructions!$D$8 -> ATFM Replacement
A6: Item Nr: | B6: G2.1
A7: Item Description: | B7: System Software
A8: Foreign Currancy | B8: ='Bidder Info'!D4 -> FC
A9: ROE: 1R = | B9: ='Bidder Info'!D5 -> 0.12345
C11: Overseas Items | I11: Local Items
A13: Schedule Item Number | B13: Description | C13: Foreign Currency | D13: Quantity | E13: Foreign Amount Unit Cost | F13: Foreign Amount Total Cost | G13: ="ROE: 1R = "&'Bidder Info'!$D$5 -> ROE: 1R = 0.12345 | H13: Total Foreign Cost in Rands | I13: Quantity | J13: Local Amount Unit Cost | K13: Local Amount Total Cost | L13: Total Rands
A16: =$B$6&".1" -> G2.1.1 | B16: Main System
B17: Operating Software | C17: =$B$8 -> FC | F17: =D17*E17 -> 0 | G17: =$B$9 -> 0.12345 | H17: =IF(G17<>0,F17/G17,0) -> 0 | K17: =I17*J17 -> 0 | L17: =IF(OR(J17>0,H17>0),H17+K17,0) -> 0
B18: Application Software | C18: =$B$8 -> FC | F18: =D18*E18 -> 0 | G18: =$B$9 -> 0.12345 | H18: =IF(G18<>0,F18/G18,0) -> 0 | K18: =I18*J18 -> 0 | L18: =IF(OR(J18>0,H18>0),H18+K18,0) -> 0
B19: ..list other. | C19: =$B$8 -> FC | F19: =D19*E19 -> 0 | G19: =$B$9 -> 0.12345 | H19: =IF(G19<>0,F19/G19,0) -> 0 | K19: =I19*J19 -> 0 | L19: =IF(OR(J19>0,H19>0),H19+K19,0) -> 0
C20: =$B$8 -> FC | F20: =D20*E20 -> 0 | G20: =$B$9 -> 0.12345 | H20: =IF(G20<>0,F20/G20,0) -> 0 | K20: =I20*J20 -> 0 | L20: =IF(OR(J20>0,H20>0),H20+K20,0) -> 0
C21: =$B$8 -> FC | F21: =D21*E21 -> 0 | G21: =$B$9 -> 0.12345 | H21: =IF(G21<>0,F21/G21,0) -> 0 | K21: =I21*J21 -> 0 | L21: =IF(OR(J21>0,H21>0),H21+K21,0) -> 0
C22: =$B$8 -> FC | F22: =D22*E22 -> 0 | G22: =$B$9 -> 0.12345 | H22: =IF(G22<>0,F22/G22,0) -> 0 | K22: =I22*J22 -> 0 | L22: =IF(OR(J22>0,H22>0),H22+K22,0) -> 0
C23: =$B$8 -> FC | F23: =D23*E23 -> 0 | G23: =$B$9 -> 0.12345 | H23: =IF(G23<>0,F23/G23,0) -> 0 | K23: =I23*J23 -> 0 | L23: =IF(OR(J23>0,H23>0),H23+K23,0) -> 0
A24: =$B$6&".2" -> G2.1.2 | B24: Operator and User Software
B25: Operating Software | C25: =$B$8 -> FC | F25: =D25*E25 -> 0 | G25: =$B$9 -> 0.12345 | H25: =IF(G25<>0,F25/G25,0) -> 0 | K25: =I25*J25 -> 0 | L25: =IF(OR(J25>0,H25>0),H25+K25,0) -> 0
B26: Application Software | C26: =$B$8 -> FC | F26: =D26*E26 -> 0 | G26: =$B$9 -> 0.12345 | H26: =IF(G26<>0,F26/G26,0) -> 0 | K26: =I26*J26 -> 0 | L26: =IF(OR(J26>0,H26>0),H26+K26,0) -> 0
B27: ..list other. | C27: =$B$8 -> FC | F27: =D27*E27 -> 0 | G27: =$B$9 -> 0.12345 | H27: =IF(G27<>0,F27/G27,0) -> 0 | K27: =I27*J27 -> 0 | L27: =IF(OR(J27>0,H27>0),H27+K27,0) -> 0
C28: =$B$8 -> FC | F28: =D28*E28 -> 0 | G28: =$B$9 -> 0.12345 | H28: =IF(G28<>0,F28/G28,0) -> 0 | K28: =I28*J28 -> 0 | L28: =IF(OR(J28>0,H28>0),H28+K28,0) -> 0
C29: =$B$8 -> FC | F29: =D29*E29 -> 0 | G29: =$B$9 -> 0.12345 | H29: =IF(G29<>0,F29/G29,0) -> 0 | K29: =I29*J29 -> 0 | L29: =IF(OR(J29>0,H29>0),H29+K29,0) -> 0
C30: =$B$8 -> FC | F30: =D30*E30 -> 0 | G30: =$B$9 -> 0.12345 | H30: =IF(G30<>0,F30/G30,0) -> 0 | K30: =I30*J30 -> 0 | L30: =IF(OR(J30>0,H30>0),H30+K30,0) -> 0
C31: =$B$8 -> FC | F31: =D31*E31 -> 0 | G31: =$B$9 -> 0.12345 | H31: =IF(G31<>0,F31/G31,0) -> 0 | K31: =I31*J31 -> 0 | L31: =IF(OR(J31>0,H31>0),H31+K31,0) -> 0
A32: =$B$6&".3" -> G2.1.3 | B32: Training and Evaluation System
B33: Operating Software | C33: =$B$8 -> FC | F33: =D33*E33 -> 0 | G33: =$B$9 -> 0.12345 | H33: =IF(G33<>0,F33/G33,0) -> 0 | K33: =I33*J33 -> 0 | L33: =IF(OR(J33>0,H33>0),H33+K33,0) -> 0
B34: Application Software | C34: =$B$8 -> FC | F34: =D34*E34 -> 0 | G34: =$B$9 -> 0.12345 | H34: =IF(G34<>0,F34/G34,0) -> 0 | K34: =I34*J34 -> 0 | L34: =IF(OR(J34>0,H34>0),H34+K34,0) -> 0
B35: ..list other. | C35: =$B$8 -> FC | F35: =D35*E35 -> 0 | G35: =$B$9 -> 0.12345 | H35: =IF(G35<>0,F35/G35,0) -> 0 | K35: =I35*J35 -> 0 | L35: =IF(OR(J35>0,H35>0),H35+K35,0) -> 0
C36: =$B$8 -> FC | F36: =D36*E36 -> 0 | G36: =$B$9 -> 0.12345 | H36: =IF(G36<>0,F36/G36,0) -> 0 | K36: =I36*J36 -> 0 | L36: =IF(OR(J36>0,H36>0),H36+K36,0) -> 0
C37: =$B$8 -> FC | F37: =D37*E37 -> 0 | G37: =$B$9 -> 0.12345 | H37: =IF(G37<>0,F37/G37,0) -> 0 | K37: =I37*J37 -> 0 | L37: =IF(OR(J37>0,H37>0),H37+K37,0) -> 0
C38: =$B$8 -> FC | F38: =D38*E38 -> 0 | G38: =$B$9 -> 0.12345 | H38: =IF(G38<>0,F38/G38,0) -> 0 | K38: =I38*J38 -> 0 | L38: =IF(OR(J38>0,H38>0),H38+K38,0) -> 0
C39: =$B$8 -> FC | F39: =D39*E39 -> 0 | G39: =$B$9 -> 0.12345 | H39: =IF(G39<>0,F39/G39,0) -> 0 | K39: =I39*J39 -> 0 | L39: =IF(OR(J39>0,H39>0),H39+K39,0) -> 0
A40: =$B$6&".4" -> G2.1.4 | B40: Other
B41: ..list other. | C41: =$B$8 -> FC | F41: =D41*E41 -> 0 | G41: =$B$9 -> 0.12345 | H41: =IF(G41<>0,F41/G41,0) -> 0 | K41: =I41*J41 -> 0 | L41: =IF(OR(J41>0,H41>0),H41+K41,0) -> 0
C42: =$B$8 -> FC | F42: =D42*E42 -> 0 | G42: =$B$9 -> 0.12345 | H42: =IF(G42<>0,F42/G42,0) -> 0 | K42: =I42*J42 -> 0 | L42: =IF(OR(J42>0,H42>0),H42+K42,0) -> 0
C43: =$B$8 -> FC | F43: =D43*E43 -> 0 | G43: =$B$9 -> 0.12345 | H43: =IF(G43<>0,F43/G43,0) -> 0 | K43: =I43*J43 -> 0 | L43: =IF(OR(J43>0,H43>0),H43+K43,0) -> 0
C44: =$B$8 -> FC | F44: =D44*E44 -> 0 | G44: =$B$9 -> 0.12345 | H44: =IF(G44<>0,F44/G44,0) -> 0 | K44: =I44*J44 -> 0 | L44: =IF(OR(J44>0,H44>0),H44+K44,0) -> 0
C45: =$B$8 -> FC | F45: =D45*E45 -> 0 | G45: =$B$9 -> 0.12345 | H45: =IF(G45<>0,F45/G45,0) -> 0 | K45: =I45*J45 -> 0 | L45: =IF(OR(J45>0,H45>0),H45+K45,0) -> 0
C46: =$B$8 -> FC | F46: =D46*E46 -> 0 | G46: =$B$9 -> 0.12345 | H46: =IF(G46<>0,F46/G46,0) -> 0 | K46: =I46*J46 -> 0 | L46: =IF(OR(J46>0,H46>0),H46+K46,0) -> 0
C47: =$B$8 -> FC | F47: =D47*E47 -> 0 | G47: =$B$9 -> 0.12345 | H47: =IF(G47<>0,F47/G47,0) -> 0 | K47: =I47*J47 -> 0 | L47: =IF(OR(J47>0,H47>0),H47+K47,0) -> 0
C48: =$B$8 -> FC | F48: =D48*E48 -> 0 | G48: =$B$9 -> 0.12345 | H48: =IF(G48<>0,F48/G48,0) -> 0 | K48: =I48*J48 -> 0 | L48: =IF(OR(J48>0,H48>0),H48+K48,0) -> 0
C49: =$B$8 -> FC | F49: =D49*E49 -> 0 | G49: =$B$9 -> 0.12345 | H49: =IF(G49<>0,F49/G49,0) -> 0 | K49: =I49*J49 -> 0 | L49: =IF(OR(J49>0,H49>0),H49+K49,0) -> 0
C50: =$B$8 -> FC | F50: =D50*E50 -> 0 | G50: =$B$9 -> 0.12345 | H50: =IF(G50<>0,F50/G50,0) -> 0 | K50: =I50*J50 -> 0 | L50: =IF(OR(J50>0,H50>0),H50+K50,0) -> 0
C51: =$B$8 -> FC | F51: =D51*E51 -> 0 | G51: =$B$9 -> 0.12345 | H51: =IF(G51<>0,F51/G51,0) -> 0 | K51: =I51*J51 -> 0 | L51: =IF(OR(J51>0,H51>0),H51+K51,0) -> 0
C52: =$B$8 -> FC | F52: =D52*E52 -> 0 | G52: =$B$9 -> 0.12345 | H52: =IF(G52<>0,F52/G52,0) -> 0 | K52: =I52*J52 -> 0 | L52: =IF(OR(J52>0,H52>0),H52+K52,0) -> 0
C53: =$B$8 -> FC | F53: =D53*E53 -> 0 | G53: =$B$9 -> 0.12345 | H53: =IF(G53<>0,F53/G53,0) -> 0 | K53: =I53*J53 -> 0 | L53: =IF(OR(J53>0,H53>0),H53+K53,0) -> 0
... C61: =$B$8 -> FC | F61: =D61*E61 -> 0 | G61: =$B$9 -> 0.12345 | H61: =IF(G61<>0,F61/G61,0) -> 0 | K61: =I61*J61 -> 0 | L61: =IF(OR(J61>0,H61>0),H61+K61,0) -> 0
B63: =+"SUB-TOTAL: "&B6 -> SUB-TOTAL: G2.1 | F63: =SUM(F16:F62) -> 0 | H63: =SUM(H16:H62) -> 0 | K63: =SUM(K16:K62) -> 0 | L63: =SUM(L16:L62) -> 0

Sheet G2_2 EQ
A1: TENDER PRICE SCHEDULE: VOLUME 1C
A2: (INCLUDING VALUE ADDED TAX)
A3: BIDDER : | B3: ='Bidder Info'!D3 -> Bidder name
A4: RFP: | B4: =Instructions!D7 -> ATNS/HO/TPQ/RFP049/FY23.24/ATFM REPLACEMENT SYSTEM
A5: PROJECT : | B5: =Instructions!$D$8 -> ATFM Replacement
A6: Item Nr: | B6: G2.2
A7: Item Description: | B7: Equipment
A8: Foreign Currancy | B8: ='Bidder Info'!D4 -> FC
A9: ROE: 1R = | B9: ='Bidder Info'!D5 -> 0.12345
C11: Overseas Items | I11: Local Items
A13: Schedule Item Number | B13: Description | C13: Foreign Currency | D13: Quantity | E13: Foreign Amount Unit Cost | F13: Foreign Amount Total Cost | G13: ="ROE: 1R = "&'Bidder Info'!$D$5 -> ROE: 1R = 0.12345 | H13: Total Foreign Cost in Rands | I13: Quantity | J13: Local Amount Unit Cost | K13: Local Amount Total Cost | L13: Total Rands
A16: =$B$6&".1" -> G2.2.1 | B16: Main System
B17: Servers | C17: =$B$8 -> FC | F17: =D17*E17 -> 0 | G17: =$B$9 -> 0.12345 | H17: =IF(G17<>0,F17/G17,0) -> 0 | K17: =I17*J17 -> 0 | L17: =IF(OR(J17>0,H17>0),H17+K17,0) -> 0
B18: Cabinets | C18: =$B$8 -> FC | F18: =D18*E18 -> 0 | G18: =$B$9 -> 0.12345 | H18: =IF(G18<>0,F18/G18,0) -> 0 | K18: =I18*J18 -> 0 | L18: =IF(OR(J18>0,H18>0),H18+K18,0) -> 0
B19: Operator Workstations | C19: =$B$8 -> FC | F19: =D19*E19 -> 0 | G19: =$B$9 -> 0.12345 | H19: =IF(G19<>0,F19/G19,0) -> 0 | K19: =I19*J19 -> 0 | L19: =IF(OR(J19>0,H19>0),H19+K19,0) -> 0
B20: Auxillary (Keyboard, mouse etc.) | C20: =$B$8 -> FC | F20: =D20*E20 -> 0 | G20: =$B$9 -> 0.12345 | H20: =IF(G20<>0,F20/G20,0) -> 0 | K20: =I20*J20 -> 0 | L20: =IF(OR(J20>0,H20>0),H20+K20,0) -> 0
B21: Installation material | C21: =$B$8 -> FC | F21: =D21*E21 -> 0 | G21: =$B$9 -> 0.12345 | H21: =IF(G21<>0,F21/G21,0) -> 0 | K21: =I21*J21 -> 0 | L21: =IF(OR(J21>0,H21>0),H21+K21,0) -> 0
C22: =$B$8 -> FC | F22: =D22*E22 -> 0 | G22: =$B$9 -> 0.12345 | H22: =IF(G22<>0,F22/G22,0) -> 0 | K22: =I22*J22 -> 0 | L22: =IF(OR(J22>0,H22>0),H22+K22,0) -> 0
C23: =$B$8 -> FC | F23: =D23*E23 -> 0 | G23: =$B$9 -> 0.12345 | H23: =IF(G23<>0,F23/G23,0) -> 0 | K23: =I23*J23 -> 0 | L23: =IF(OR(J23>0,H23>0),H23+K23,0) -> 0
A24: =$B$6&".2" -> G2.2.2 | B24: D&R System
B25: Servers | C25: =$B$8 -> FC | F25: =D25*E25 -> 0 | G25: =$B$9 -> 0.12345 | H25: =IF(G25<>0,F25/G25,0) -> 0 | K25: =I25*J25 -> 0 | L25: =IF(OR(J25>0,H25>0),H25+K25,0) -> 0
B26: Cabinets | C26: =$B$8 -> FC | F26: =D26*E26 -> 0 | G26: =$B$9 -> 0.12345 | H26: =IF(G26<>0,F26/G26,0) -> 0 | K26: =I26*J26 -> 0 | L26: =IF(OR(J26>0,H26>0),H26+K26,0) -> 0
B27: Operator Workstations | C27: =$B$8 -> FC | F27: =D27*E27 -> 0 | G27: =$B$9 -> 0.12345 | H27: =IF(G27<>0,F27/G27,0) -> 0 | K27: =I27*J27 -> 0 | L27: =IF(OR(J27>0,H27>0),H27+K27,0) -> 0
B28: Auxillary (Keyboard, mouse etc.) | C28: =$B$8 -> FC | F28: =D28*E28 -> 0 | G28: =$B$9 -> 0.12345 | H28: =IF(G28<>0,F28/G28,0) -> 0 | K28: =I28*J28 -> 0 | L28: =IF(OR(J28>0,H28>0),H28+K28,0) -> 0
B29: Installation material | C29: =$B$8 -> FC | F29: =D29*E29 -> 0 | G29: =$B$9 -> 0.12345 | H29: =IF(G29<>0,F29/G29,0) -> 0 | K29: =I29*J29 -> 0 | L29: =IF(OR(J29>0,H29>0),H29+K29,0) -> 0
C30: =$B$8 -> FC | F30: =D30*E30 -> 0 | G30: =$B$9 -> 0.12345 | H30: =IF(G30<>0,F30/G30,0) -> 0 | K30: =I30*J30 -> 0 | L30: =IF(OR(J30>0,H30>0),H30+K30,0) -> 0
C31: =$B$8 -> FC | F31: =D31*E31 -> 0 | G31: =$B$9 -> 0.12345 | H31: =IF(G31<>0,F31/G31,0) -> 0 | K31: =I31*J31 -> 0 | L31: =IF(OR(J31>0,H31>0),H31+K31,0) -> 0
A32: =$B$6&".3" -> G2.2.3 | B32: Training and Evaluation System
B33: Servers | C33: =$B$8 -> FC | F33: =D33*E33 -> 0 | G33: =$B$9 -> 0.12345 | H33: =IF(G33<>0,F33/G33,0) -> 0 | K33: =I33*J33 -> 0 | L33: =IF(OR(J33>0,H33>0),H33+K33,0) -> 0
B34: Cabinets | C34: =$B$8 -> FC | F34: =D34*E34 -> 0 | G34: =$B$9 -> 0.12345 | H34: =IF(G34<>0,F34/G34,0) -> 0 | K34: =I34*J34 -> 0 | L34: =IF(OR(J34>0,H34>0),H34+K34,0) -> 0
B35: Operator Workstations | C35: =$B$8 -> FC | F35: =D35*E35 -> 0 | G35: =$B$9 -> 0.12345 | H35: =IF(G35<>0,F35/G35,0) -> 0 | K35: =I35*J35 -> 0 | L35: =IF(OR(J35>0,H35>0),H35+K35,0) -> 0
B36: Auxillary (Keyboard, mouse etc.) | C36: =$B$8 -> FC | F36: =D36*E36 -> 0 | G36: =$B$9 -> 0.12345 | H36: =IF(G36<>0,F36/G36,0) -> 0 | K36: =I36*J36 -> 0 | L36: =IF(OR(J36>0,H36>0),H36+K36,0) -> 0
B37: Installation material | C37: =$B$8 -> FC | F37: =D37*E37 -> 0 | G37: =$B$9 -> 0.12345 | H37: =IF(G37<>0,F37/G37,0) -> 0 | K37: =I37*J37 -> 0 | L37: =IF(OR(J37>0,H37>0),H37+K37,0) -> 0
C38: =$B$8 -> FC | F38: =D38*E38 -> 0 | G38: =$B$9 -> 0.12345 | H38: =IF(G38<>0,F38/G38,0) -> 0 | K38: =I38*J38 -> 0 | L38: =IF(OR(J38>0,H38>0),H38+K38,0) -> 0
C39: =$B$8 -> FC | F39: =D39*E39 -> 0 | G39: =$B$9 -> 0.12345 | H39: =IF(G39<>0,F39/G39,0) -> 0 | K39: =I39*J39 -> 0 | L39: =IF(OR(J39>0,H39>0),H39+K39,0) -> 0
A40: =$B$6&".4" -> G2.2.4 | B40: Other System
B41: Backup SAN | C41: =$B$8 -> FC | F41: =D41*E41 -> 0 | G41: =$B$9 -> 0.12345 | H41: =IF(G41<>0,F41/G41,0) -> 0 | K41: =I41*J41 -> 0 | L41: =IF(OR(J41>0,H41>0),H41+K41,0) -> 0
B42: NTP Server | C42: =$B$8 -> FC | F42: =D42*E42 -> 0 | G42: =$B$9 -> 0.12345 | H42: =IF(G42<>0,F42/G42,0) -> 0 | K42: =I42*J42 -> 0 | L42: =IF(OR(J42>0,H42>0),H42+K42,0) -> 0
B43: Network Switches and Routers | C43: =$B$8 -> FC | F43: =D43*E43 -> 0 | G43: =$B$9 -> 0.12345 | H43: =IF(G43<>0,F43/G43,0) -> 0 | K43: =I43*J43 -> 0 | L43: =IF(OR(J43>0,H43>0),H43+K43,0) -> 0
B44: Installation material | C44: =$B$8 -> FC | F44: =D44*E44 -> 0 | G44: =$B$9 -> 0.12345 | H44: =IF(G44<>0,F44/G44,0) -> 0 | K44: =I44*J44 -> 0 | L44: =IF(OR(J44>0,H44>0),H44+K44,0) -> 0
B45: Virtual Environment | C45: =$B$8 -> FC | F45: =D45*E45 -> 0 | G45: =$B$9 -> 0.12345 | H45: =IF(G45<>0,F45/G45,0) -> 0 | K45: =I45*J45 -> 0 | L45: =IF(OR(J45>0,H45>0),H45+K45,0) -> 0
C46: =$B$8 -> FC | F46: =D46*E46 -> 0 | G46: =$B$9 -> 0.12345 | H46: =IF(G46<>0,F46/G46,0) -> 0 | K46: =I46*J46 -> 0 | L46: =IF(OR(J46>0,H46>0),H46+K46,0) -> 0
C47: =$B$8 -> FC | F47: =D47*E47 -> 0 | G47: =$B$9 -> 0.12345 | H47: =IF(G47<>0,F47/G47,0) -> 0 | K47: =I47*J47 -> 0 | L47: =IF(OR(J47>0,H47>0),H47+K47,0) -> 0
A48: =$B$6&".5" -> G2.2.5 | B48: User Workstations
B49: Workstation | C49: =$B$8 -> FC | F49: =D49*E49 -> 0 | G49: =$B$9 -> 0.12345 | H49: =IF(G49<>0,F49/G49,0) -> 0 | K49: =I49*J49 -> 0 | L49: =IF(OR(J49>0,H49>0),H49+K49,0) -> 0
B50: Monitor | C50: =$B$8 -> FC | F50: =D50*E50 -> 0 | G50: =$B$9 -> 0.12345 | H50: =IF(G50<>0,F50/G50,0) -> 0 | K50: =I50*J50 -> 0 | L50: =IF(OR(J50>0,H50>0),H50+K50,0) -> 0
B51: Operator Workstations | C51: =$B$8 -> FC | F51: =D51*E51 -> 0 | G51: =$B$9 -> 0.12345 | H51: =IF(G51<>0,F51/G51,0) -> 0 | K51: =I51*J51 -> 0 | L51: =IF(OR(J51>0,H51>0),H51+K51,0) -> 0
B52: Auxillary (Keyboard, mouse etc.) | C52: =$B$8 -> FC | F52: =D52*E52 -> 0 | G52: =$B$9 -> 0.12345 | H52: =IF(G52<>0,F52/G52,0) -> 0 | K52: =I52*J52 -> 0 | L52: =IF(OR(J52>0,H52>0),H52+K52,0) -> 0
B53: Installation material | C53: =$B$8 -> FC | F53: =D53*E53 -> 0 | G53: =$B$9 -> 0.12345 | H53: =IF(G53<>0,F53/G53,0) -> 0 | K53: =I53*J53 -> 0 | L53: =IF(OR(J53>0,H53>0),H53+K53,0) -> 0
C54: =$B$8 -> FC | F54: =D54*E54 -> 0 | G54: =$B$9 -> 0.12345 | H54: =IF(G54<>0,F54/G54,0) -> 0 | K54: =I54*J54 -> 0 | L54: =IF(OR(J54>0,H54>0),H54+K54,0) -> 0
C55: =$B$8 -> FC | F55: =D55*E55 -> 0 | G55: =$B$9 -> 0.12345 | H55: =IF(G55<>0,F55/G55,0) -> 0 | K55: =I55*J55 -> 0 | L55: =IF(OR(J55>0,H55>0),H55+K55,0) -> 0
C56: =$B$8 -> FC | F56: =D56*E56 -> 0 | G56: =$B$9 -> 0.12345 | H56: =IF(G56<>0,F56/G56,0) -> 0 | K56: =I56*J56 -> 0 | L56: =IF(OR(J56>0,H56>0),H56+K56,0) -> 0
C57: =$B$8 -> FC | F57: =D57*E57 -> 0 | G57: =$B$9 -> 0.12345 | H57: =IF(G57<>0,F57/G57,0) -> 0 | K57: =I57*J57 -> 0 | L57: =IF(OR(J57>0,H57>0),H57+K57,0) -> 0
C58: =$B$8 -> FC | F58: =D58*E58 -> 0 | G58: =$B$9 -> 0.12345 | H58: =IF(G58<>0,F58/G58,0) -> 0 | K58: =I58*J58 -> 0 | L58: =IF(OR(J58>0,H58>0),H58+K58,0) -> 0
C59: =$B$8 -> FC | F59: =D59*E59 -> 0 | G59: =$B$9 -> 0.12345 | H59: =IF(G59<>0,F59/G59,0) -> 0 | K59: =I59*J59 -> 0 | L59: =IF(OR(J59>0,H59>0),H59+K59,0) -> 0
C60: =$B$8 -> FC | F60: =D60*E60 -> 0 | G60: =$B$9 -> 0.12345 | H60: =IF(G60<>0,F60/G60,0) -> 0 | K60: =I60*J60 -> 0 | L60: =IF(OR(J60>0,H60>0),H60+K60,0) -> 0
C61: =$B$8 -> FC | F61: =D61*E61 -> 0 | G61: =$B$9 -> 0.12345 | H61: =IF(G61<>0,F61/G61,0) -> 0 | K61: =I61*J61 -> 0 | L61: =IF(OR(J61>0,H61>0),H61+K61,0) -> 0
B63: =+"SUB-TOTAL: "&B6 -> SUB-TOTAL: G2.2 | F63: =SUM(F16:F62) -> 0 | H63: =SUM(H16:H62) -> 0 | K63: =SUM(K16:K62) -> 0 | L63: =SUM(L16:L62) -> 0

Sheet G3 PMP
A1: TENDER PRICE SCHEDULE: VOLUME 1C
A2: (INCLUDING VALUE ADDED TAX)
A3: BIDDER : | B3: ='Bidder Info'!D3 -> Bidder name
A4: RFP: | B4: =Instructions!D7 -> ATNS/HO/TPQ/RFP049/FY23.24/ATFM REPLACEMENT SYSTEM
A5: PROJECT : | B5: =Instructions!$D$8 -> ATFM Replacement
A6: Item Nr: | B6: G3
A7: Item Description: | B7: Project Management
A8: Foreign Currancy | B8: ='Bidder Info'!D4 -> FC
A9: ROE: 1R = | B9: ='Bidder Info'!D5 -> 0.12345
C11: Overseas Items | I11: Local Items
A13: Schedule Item Number | B13: Description | C13: Foreign Currency | D13: Quantity | E13: Foreign Amount Unit Cost | F13: Foreign Amount Total Cost | G13: ="ROE: 1R = "&'Bidder Info'!$D$5 -> ROE: 1R = 0.12345 | H13: Total Foreign Cost in Rands | I13: Quantity | J13: Local Amount Unit Cost | K13: Local Amount Total Cost | L13: Total Rands
A16: =B6 -> G3 | B16: =B7 -> Project Management
B17: {All project Management items, with at least the following items}
A19: 3.1 | B19: Documents
B20: Project Management Plan | C20: =$B$8 -> FC | F20: =D20*E20 -> 0 | G20: =$B$9 -> 0.12345 | H20: =IF(G20<>0,F20/G20,0) -> 0 | K20: =I20*J20 -> 0 | L20: =IF(OR(J20>0,H20>0),H20+K20,0) -> 0
B21: Test and Evaluation Master Plan | C21: =$B$8 -> FC | F21: =D21*E21 -> 0 | G21: =$B$9 -> 0.12345 | H21: =IF(G21<>0,F21/G21,0) -> 0 | K21: =I21*J21 -> 0 | L21: =IF(OR(J21>0,H21>0),H21+K21,0) -> 0
B22: Installation, Transition and Commissioning Plan | C22: =$B$8 -> FC | F22: =D22*E22 -> 0 | G22: =$B$9 -> 0.12345 | H22: =IF(G22<>0,F22/G22,0) -> 0 | K22: =I22*J22 -> 0 | L22: =IF(OR(J22>0,H22>0),H22+K22,0) -> 0
B23: Risk Management Plan | C23: =$B$8 -> FC | F23: =D23*E23 -> 0 | G23: =$B$9 -> 0.12345 | H23: =IF(G23<>0,F23/G23,0) -> 0 | K23: =I23*J23 -> 0 | L23: =IF(OR(J23>0,H23>0),H23+K23,0) -> 0
B24: Quality Assurance Plan | C24: =$B$8 -> FC | F24: =D24*E24 -> 0 | G24: =$B$9 -> 0.12345 | H24: =IF(G24<>0,F24/G24,0) -> 0 | K24: =I24*J24 -> 0 | L24: =IF(OR(J24>0,H24>0),H24+K24,0) -> 0
B25: Resource Allocation Plan | C25: =$B$8 -> FC | F25: =D25*E25 -> 0 | G25: =$B$9 -> 0.12345 | H25: =IF(G25<>0,F25/G25,0) -> 0 | K25: =I25*J25 -> 0 | L25: =IF(OR(J25>0,H25>0),H25+K25,0) -> 0
C26: =$B$8 -> FC | F26: =D26*E26 -> 0 | G26: =$B$9 -> 0.12345 | H26: =IF(G26<>0,F26/G26,0) -> 0 | K26: =I26*J26 -> 0 | L26: =IF(OR(J26>0,H26>0),H26+K26,0) -> 0
C27: =$B$8 -> FC | F27: =D27*E27 -> 0 | G27: =$B$9 -> 0.12345 | H27: =IF(G27<>0,F27/G27,0) -> 0 | K27: =I27*J27 -> 0 | L27: =IF(OR(J27>0,H27>0),H27+K27,0) -> 0
C28: =$B$8 -> FC | F28: =D28*E28 -> 0 | G28: =$B$9 -> 0.12345 | H28: =IF(G28<>0,F28/G28,0) -> 0 | K28: =I28*J28 -> 0 | L28: =IF(OR(J28>0,H28>0),H28+K28,0) -> 0
C29: =$B$8 -> FC | F29: =D29*E29 -> 0 | G29: =$B$9 -> 0.12345 | H29: =IF(G29<>0,F29/G29,0) -> 0 | K29: =I29*J29 -> 0 | L29: =IF(OR(J29>0,H29>0),H29+K29,0) -> 0
C30: =$B$8 -> FC | F30: =D30*E30 -> 0 | G30: =$B$9 -> 0.12345 | H30: =IF(G30<>0,F30/G30,0) -> 0 | K30: =I30*J30 -> 0 | L30: =IF(OR(J30>0,H30>0),H30+K30,0) -> 0
C31: =$B$8 -> FC | F31: =D31*E31 -> 0 | G31: =$B$9 -> 0.12345 | H31: =IF(G31<>0,F31/G31,0) -> 0 | K31: =I31*J31 -> 0 | L31: =IF(OR(J31>0,H31>0),H31+K31,0) -> 0
A32: 3.2 | B32: Acceptance Tests | F32: =D32*E32 -> 0
B33: Factory Acceptance Test | C33: =$B$8 -> FC | F33: =D33*E33 -> 0 | G33: =$B$9 -> 0.12345 | H33: =IF(G33<>0,F33/G33,0) -> 0 | K33: =I33*J33 -> 0 | L33: =IF(OR(J33>0,H33>0),H33+K33,0) -> 0
B34: Site Acceptance Test | C34: =$B$8 -> FC | F34: =D34*E34 -> 0 | G34: =$B$9 -> 0.12345 | H34: =IF(G34<>0,F34/G34,0) -> 0 | K34: =I34*J34 -> 0 | L34: =IF(OR(J34>0,H34>0),H34+K34,0) -> 0
C35: =$B$8 -> FC | F35: =D35*E35 -> 0 | G35: =$B$9 -> 0.12345 | H35: =IF(G35<>0,F35/G35,0) -> 0 | K35: =I35*J35 -> 0 | L35: =IF(OR(J35>0,H35>0),H35+K35,0) -> 0
C36: =$B$8 -> FC | F36: =D36*E36 -> 0 | G36: =$B$9 -> 0.12345 | H36: =IF(G36<>0,F36/G36,0) -> 0 | K36: =I36*J36 -> 0 | L36: =IF(OR(J36>0,H36>0),H36+K36,0) -> 0
C37: =$B$8 -> FC | F37: =D37*E37 -> 0 | G37: =$B$9 -> 0.12345 | H37: =IF(G37<>0,F37/G37,0) -> 0 | K37: =I37*J37 -> 0 | L37: =IF(OR(J37>0,H37>0),H37+K37,0) -> 0
C38: =$B$8 -> FC | F38: =D38*E38 -> 0 | G38: =$B$9 -> 0.12345 | H38: =IF(G38<>0,F38/G38,0) -> 0 | K38: =I38*J38 -> 0 | L38: =IF(OR(J38>0,H38>0),H38+K38,0) -> 0
C39: =$B$8 -> FC | F39: =D39*E39 -> 0 | G39: =$B$9 -> 0.12345 | H39: =IF(G39<>0,F39/G39,0) -> 0 | K39: =I39*J39 -> 0 | L39: =IF(OR(J39>0,H39>0),H39+K39,0) -> 0
C40: =$B$8 -> FC | F40: =D40*E40 -> 0 | G40: =$B$9 -> 0.12345 | H40: =IF(G40<>0,F40/G40,0) -> 0 | K40: =I40*J40 -> 0 | L40: =IF(OR(J40>0,H40>0),H40+K40,0) -> 0
C41: =$B$8 -> FC | F41: =D41*E41 -> 0 | G41: =$B$9 -> 0.12345 | H41: =IF(G41<>0,F41/G41,0) -> 0 | K41: =I41*J41 -> 0 | L41: =IF(OR(J41>0,H41>0),H41+K41,0) -> 0
A42: 3.3 | B42: Project Management Services | F42: =D42*E42 -> 0
B43: Services | C43: =$B$8 -> FC | F43: =D43*E43 -> 0 | G43: =$B$9 -> 0.12345 | H43: =IF(G43<>0,F43/G43,0) -> 0 | K43: =I43*J43 -> 0 | L43: =IF(OR(J43>0,H43>0),H43+K43,0) -> 0
B44: Installation Services | C44: =$B$8 -> FC | F44: =D44*E44 -> 0 | G44: =$B$9 -> 0.12345 | H44: =IF(G44<>0,F44/G44,0) -> 0 | K44: =I44*J44 -> 0 | L44: =IF(OR(J44>0,H44>0),H44+K44,0) -> 0
B45: Site Survey & Report | C45: =$B$8 -> FC | F45: =D45*E45 -> 0 | G45: =$B$9 -> 0.12345 | H45: =IF(G45<>0,F45/G45,0) -> 0 | K45: =I45*J45 -> 0 | L45: =IF(OR(J45>0,H45>0),H45+K45,0) -> 0
B46: Critical Design Review | C46: =$B$8 -> FC | F46: =D46*E46 -> 0 | G46: =$B$9 -> 0.12345 | H46: =IF(G46<>0,F46/G46,0) -> 0 | K46: =I46*J46 -> 0 | L46: =IF(OR(J46>0,H46>0),H46+K46,0) -> 0
C47: =$B$8 -> FC | F47: =D47*E47 -> 0 | G47: =$B$9 -> 0.12345 | H47: =IF(G47<>0,F47/G47,0) -> 0 | K47: =I47*J47 -> 0 | L47: =IF(OR(J47>0,H47>0),H47+K47,0) -> 0
C48: =$B$8 -> FC | F48: =D48*E48 -> 0 | G48: =$B$9 -> 0.12345 | H48: =IF(G48<>0,F48/G48,0) -> 0 | K48: =I48*J48 -> 0 | L48: =IF(OR(J48>0,H48>0),H48+K48,0) -> 0
A49: 3.4 | B49: Shipping, Insurance & Associated costs
B50: Shipping | C50: =$B$8 -> FC | F50: =D50*E50 -> 0 | G50: =$B$9 -> 0.12345 | H50: =IF(G50<>0,F50/G50,0) -> 0 | K50: =I50*J50 -> 0 | L50: =IF(OR(J50>0,H50>0),H50+K50,0) -> 0
B51: Insurance | C51: =$B$8 -> FC | F51: =D51*E51 -> 0 | G51: =$B$9 -> 0.12345 | H51: =IF(G51<>0,F51/G51,0) -> 0 | K51: =I51*J51 -> 0 | L51: =IF(OR(J51>0,H51>0),H51+K51,0) -> 0
C52: =$B$8 -> FC | F52: =D52*E52 -> 0 | G52: =$B$9 -> 0.12345 | H52: =IF(G52<>0,F52/G52,0) -> 0 | K52: =I52*J52 -> 0 | L52: =IF(OR(J52>0,H52>0),H52+K52,0) -> 0
C53: =$B$8 -> FC | F53: =D53*E53 -> 0 | G53: =$B$9 -> 0.12345 | H53: =IF(G53<>0,F53/G53,0) -> 0 | K53: =I53*J53 -> 0 | L53: =IF(OR(J53>0,H53>0),H53+K53,0) -> 0
C54: =$B$8 -> FC | F54: =D54*E54 -> 0 | G54: =$B$9 -> 0.12345 | H54: =IF(G54<>0,F54/G54,0) -> 0 | K54: =I54*J54 -> 0 | L54: =IF(OR(J54>0,H54>0),H54+K54,0) -> 0
C55: =$B$8 -> FC | F55: =D55*E55 -> 0 | G55: =$B$9 -> 0.12345 | H55: =IF(G55<>0,F55/G55,0) -> 0 | K55: =I55*J55 -> 0 | L55: =IF(OR(J55>0,H55>0),H55+K55,0) -> 0
B57: =+"SUB-TOTAL: "&A16 -> SUB-TOTAL: G3 | F57: =SUM(F16:F56) -> 0 | G57: =$B$9 -> 0.12345 | H57: =SUM(H16:H56) -> 0 | K57: =SUM(K16:K56) -> 0 | L57: =SUM(L16:L56) -> 0

Sheet G4 ILS
A1: TENDER PRICE SCHEDULE: VOLUME 1C
A2: (INCLUDING VALUE ADDED TAX)
A3: BIDDER : | B3: ='Bidder Info'!D3 -> Bidder name
A4: RFP: | B4: =Instructions!D7 -> ATNS/HO/TPQ/RFP049/FY23.24/ATFM REPLACEMENT SYSTEM
A5: PROJECT : | B5: =Instructions!$D$8 -> ATFM Replacement
A6: Item Nr: | B6: G4
A7: Item Description: | B7: Integrated Logistic Support
A8: Foreign Currancy | B8: ='Bidder Info'!D4 -> FC
A9: ROE: 1R = | B9: ='Bidder Info'!D5 -> 0.12345
C11: Overseas Items | I11: Local Items
A13: Schedule Item Number | B13: Description | C13: Foreign Currency | D13: Quantity | E13: Foreign Amount Unit Cost | F13: Foreign Amount Total Cost | G13: ="ROE: 1R = "&'Bidder Info'!$D$5 -> ROE: 1R = 0.12345 | H13: Total Foreign Cost in Rands | I13: Quantity | J13: Local Amount Unit Cost | K13: Local Amount Total Cost | L13: Total Rands
A16: =B6 -> G4 | B16: =B7 -> Integrated Logistic Support
B17: { All logistic support items with at least the following items}
A19: 4.1 | B19: Logistic Support Services
B20: {Any other services costs} | C20: =$B$8 -> FC | F20: =D20*E20 -> 0 | G20: =$B$9 -> 0.12345 | H20: =IF(G20<>0,F20/G20,0) -> 0 | K20: =I20*J20 -> 0 | L20: =IF(OR(J20>0,H20>0),H20+K20,0) -> 0
C21: =$B$8 -> FC | F21: =D21*E21 -> 0 | G21: =$B$9 -> 0.12345 | H21: =IF(G21<>0,F21/G21,0) -> 0 | K21: =I21*J21 -> 0 | L21: =IF(OR(J21>0,H21>0),H21+K21,0) -> 0
C22: =$B$8 -> FC | F22: =D22*E22 -> 0 | G22: =$B$9 -> 0.12345 | H22: =IF(G22<>0,F22/G22,0) -> 0 | K22: =I22*J22 -> 0 | L22: =IF(OR(J22>0,H22>0),H22+K22,0) -> 0
C23: =$B$8 -> FC | F23: =D23*E23 -> 0 | G23: =$B$9 -> 0.12345 | H23: =IF(G23<>0,F23/G23,0) -> 0 | K23: =I23*J23 -> 0 | L23: =IF(OR(J23>0,H23>0),H23+K23,0) -> 0
C24: =$B$8 -> FC | F24: =D24*E24 -> 0 | G24: =$B$9 -> 0.12345 | H24: =IF(G24<>0,F24/G24,0) -> 0 | K24: =I24*J24 -> 0 | L24: =IF(OR(J24>0,H24>0),H24+K24,0) -> 0
C25: =$B$8 -> FC | F25: =D25*E25 -> 0 | G25: =$B$9 -> 0.12345 | H25: =IF(G25<>0,F25/G25,0) -> 0 | K25: =I25*J25 -> 0 | L25: =IF(OR(J25>0,H25>0),H25+K25,0) -> 0
C26: =$B$8 -> FC | F26: =D26*E26 -> 0 | G26: =$B$9 -> 0.12345 | H26: =IF(G26<>0,F26/G26,0) -> 0 | K26: =I26*J26 -> 0 | L26: =IF(OR(J26>0,H26>0),H26+K26,0) -> 0
A27: 4.2 | B27: Training
B28: OEM Training | C28: =$B$8 -> FC | F28: =D28*E28 -> 0 | G28: =$B$9 -> 0.12345 | H28: =IF(G28<>0,F28/G28,0) -> 0 | K28: =I28*J28 -> 0 | L28: =IF(OR(J28>0,H28>0),H28+K28,0) -> 0
B29: Training Manuals | C29: =$B$8 -> FC | F29: =D29*E29 -> 0 | G29: =$B$9 -> 0.12345 | H29: =IF(G29<>0,F29/G29,0) -> 0 | K29: =I29*J29 -> 0 | L29: =IF(OR(J29>0,H29>0),H29+K29,0) -> 0
C30: =$B$8 -> FC | F30: =D30*E30 -> 0 | G30: =$B$9 -> 0.12345 | H30: =IF(G30<>0,F30/G30,0) -> 0 | K30: =I30*J30 -> 0 | L30: =IF(OR(J30>0,H30>0),H30+K30,0) -> 0
C31: =$B$8 -> FC | F31: =D31*E31 -> 0 | G31: =$B$9 -> 0.12345 | H31: =IF(G31<>0,F31/G31,0) -> 0 | K31: =I31*J31 -> 0 | L31: =IF(OR(J31>0,H31>0),H31+K31,0) -> 0
C32: =$B$8 -> FC | F32: =D32*E32 -> 0 | G32: =$B$9 -> 0.12345 | H32: =IF(G32<>0,F32/G32,0) -> 0 | K32: =I32*J32 -> 0 | L32: =IF(OR(J32>0,H32>0),H32+K32,0) -> 0
C33: =$B$8 -> FC | F33: =D33*E33 -> 0 | G33: =$B$9 -> 0.12345 | H33: =IF(G33<>0,F33/G33,0) -> 0 | K33: =I33*J33 -> 0 | L33: =IF(OR(J33>0,H33>0),H33+K33,0) -> 0
C34: =$B$8 -> FC | F34: =D34*E34 -> 0 | G34: =$B$9 -> 0.12345 | H34: =IF(G34<>0,F34/G34,0) -> 0 | K34: =I34*J34 -> 0 | L34: =IF(OR(J34>0,H34>0),H34+K34,0) -> 0
C35: =$B$8 -> FC | F35: =D35*E35 -> 0 | G35: =$B$9 -> 0.12345 | H35: =IF(G35<>0,F35/G35,0) -> 0 | K35: =I35*J35 -> 0 | L35: =IF(OR(J35>0,H35>0),H35+K35,0) -> 0
A36: 4.3 | B36: Documents
B37: Integrated Logistic Support Plan | C37: =$B$8 -> FC | F37: =D37*E37 -> 0 | G37: =$B$9 -> 0.12345 | H37: =IF(G37<>0,F37/G37,0) -> 0 | K37: =I37*J37 -> 0 | L37: =IF(OR(J37>0,H37>0),H37+K37,0) -> 0
B38: Configuration Management Plan | C38: =$B$8 -> FC | F38: =D38*E38 -> 0 | G38: =$B$9 -> 0.12345 | H38: =IF(G38<>0,F38/G38,0) -> 0 | K38: =I38*J38 -> 0 | L38: =IF(OR(J38>0,H38>0),H38+K38,0) -> 0
B39: Factory Acceptance Test Procedures | C39: =$B$8 -> FC | F39: =D39*E39 -> 0 | G39: =$B$9 -> 0.12345 | H39: =IF(G39<>0,F39/G39,0) -> 0 | K39: =I39*J39 -> 0 | L39: =IF(OR(J39>0,H39>0),H39+K39,0) -> 0
B40: Site Acceptance Test Procedures | C40: =$B$8 -> FC | F40: =D40*E40 -> 0 | G40: =$B$9 -> 0.12345 | H40: =IF(G40<>0,F40/G40,0) -> 0 | K40: =I40*J40 -> 0 | L40: =IF(OR(J40>0,H40>0),H40+K40,0) -> 0
C41: =$B$8 -> FC | F41: =D41*E41 -> 0 | G41: =$B$9 -> 0.12345 | H41: =IF(G41<>0,F41/G41,0) -> 0 | K41: =I41*J41 -> 0 | L41: =IF(OR(J41>0,H41>0),H41+K41,0) -> 0
C42: =$B$8 -> FC | F42: =D42*E42 -> 0 | G42: =$B$9 -> 0.12345 | H42: =IF(G42<>0,F42/G42,0) -> 0 | K42: =I42*J42 -> 0 | L42: =IF(OR(J42>0,H42>0),H42+K42,0) -> 0
C43: =$B$8 -> FC | F43: =D43*E43 -> 0 | G43: =$B$9 -> 0.12345 | H43: =IF(G43<>0,F43/G43,0) -> 0 | K43: =I43*J43 -> 0 | L43: =IF(OR(J43>0,H43>0),H43+K43,0) -> 0
C44: =$B$8 -> FC | F44: =D44*E44 -> 0 | G44: =$B$9 -> 0.12345 | H44: =IF(G44<>0,F44/G44,0) -> 0 | K44: =I44*J44 -> 0 | L44: =IF(OR(J44>0,H44>0),H44+K44,0) -> 0
C45: =$B$8 -> FC | F45: =D45*E45 -> 0 | G45: =$B$9 -> 0.12345 | H45: =IF(G45<>0,F45/G45,0) -> 0 | K45: =I45*J45 -> 0 | L45: =IF(OR(J45>0,H45>0),H45+K45,0) -> 0
C46: =$B$8 -> FC | F46: =D46*E46 -> 0 | G46: =$B$9 -> 0.12345 | H46: =IF(G46<>0,F46/G46,0) -> 0 | K46: =I46*J46 -> 0 | L46: =IF(OR(J46>0,H46>0),H46+K46,0) -> 0
C47: =$B$8 -> FC | F47: =D47*E47 -> 0 | G47: =$B$9 -> 0.12345 | H47: =IF(G47<>0,F47/G47,0) -> 0 | K47: =I47*J47 -> 0 | L47: =IF(OR(J47>0,H47>0),H47+K47,0) -> 0
A48: 4.4 | B48: Logistic Support Cost during PBU
C49: =$B$8 -> FC | F49: =D49*E49 -> 0 | G49: =$B$9 -> 0.12345 | H49: =IF(G49<>0,F49/G49,0) -> 0 | K49: =I49*J49 -> 0 | L49: =IF(OR(J49>0,H49>0),H49+K49,0) -> 0
C50: =$B$8 -> FC | F50: =D50*E50 -> 0 | G50: =$B$9 -> 0.12345 | H50: =IF(G50<>0,F50/G50,0) -> 0 | K50: =I50*J50 -> 0 | L50: =IF(OR(J50>0,H50>0),H50+K50,0) -> 0
C51: =$B$8 -> FC | F51: =D51*E51 -> 0 | G51: =$B$9 -> 0.12345 | H51: =IF(G51<>0,F51/G51,0) -> 0 | K51: =I51*J51 -> 0 | L51: =IF(OR(J51>0,H51>0),H51+K51,0) -> 0
C52: =$B$8 -> FC | F52: =D52*E52 -> 0 | G52: =$B$9 -> 0.12345 | H52: =IF(G52<>0,F52/G52,0) -> 0 | K52: =I52*J52 -> 0 | L52: =IF(OR(J52>0,H52>0),H52+K52,0) -> 0
C53: =$B$8 -> FC | F53: =D53*E53 -> 0 | G53: =$B$9 -> 0.12345 | H53: =IF(G53<>0,F53/G53,0) -> 0 | K53: =I53*J53 -> 0 | L53: =IF(OR(J53>0,H53>0),H53+K53,0) -> 0
C54: =$B$8 -> FC | F54: =D54*E54 -> 0 | G54: =$B$9 -> 0.12345 | H54: =IF(G54<>0,F54/G54,0) -> 0 | K54: =I54*J54 -> 0 | L54: =IF(OR(J54>0,H54>0),H54+K54,0) -> 0
C55: =$B$8 -> FC | F55: =D55*E55 -> 0 | G55: =$B$9 -> 0.12345 | H55: =IF(G55<>0,F55/G55,0) -> 0 | K55: =I55*J55 -> 0 | L55: =IF(OR(J55>0,H55>0),H55+K55,0) -> 0
C56: =$B$8 -> FC | F56: =D56*E56 -> 0 | G56: =$B$9 -> 0.12345 | H56: =IF(G56<>0,F56/G56,0) -> 0 | K56: =I56*J56 -> 0 | L56: =IF(OR(J56>0,H56>0),H56+K56,0) -> 0
B58: =+"SUB-TOTAL: "&A16 -> SUB-TOTAL: G4 | F58: =SUM(F16:F57) -> 0 | G58: =$B$9 -> 0.12345 | H58: =SUM(H16:H57) -> 0 | K58: =SUM(K16:K57) -> 0 | L58: =SUM(L16:L57) -> 0

Sheet G5_1 Spares
A1: TENDER PRICE SCHEDULE: VOLUME 1C
A2: (INCLUDING VALUE ADDED TAX)
A3: BIDDER : | B3: ='Bidder Info'!D3 -> Bidder name
A4: RFP: | B4: =Instructions!D7 -> ATNS/HO/TPQ/RFP049/FY23.24/ATFM REPLACEMENT SYSTEM
A5: PROJECT : | B5: =Instructions!$D$8 -> ATFM Replacement
A6: Item Nr: | B6: G5_1
A7: Item Description: | B7: Offered Spares
A8: Foreign Currancy | B8: ='Bidder Info'!D4 -> FC
A9: ROE: 1R = | B9: ='Bidder Info'!D5 -> 0.12345
C11: Overseas Items | I11: Local Items
A13: Schedule Item Number | B13: Description | C13: Foreign Currency | D13: Quantity | E13: Foreign Amount Unit Cost | F13: Foreign Amount Total Cost | G13: ="ROE: 1R = "&'Bidder Info'!$D$5 -> ROE: 1R = 0.12345 | H13: Total Foreign Cost in Rands | I13: Quantity | J13: Local Amount Unit Cost | K13: Local Amount Total Cost | L13: Total Rands
A16: =B6 -> G5_1 | B16: =B7 -> Offered Spares
B17: {The list of the spares and detailed price list shall be provided separately on "G5_0 LRU List".}
A19: 5.1.1 | B19: Main System (OR Tambo)
B20: Main System | C20: =$B$8 -> FC | F20: =D20*E20 -> 0 | G20: =$B$9 -> 0.12345 | H20: =IF(G20<>0,F20/G20,0) -> 0 | K20: =I20*J20 -> 0 | L20: =IF(OR(J20>0,H20>0),H20+K20,0) -> 0
B21: D&R System | C21: =$B$8 -> FC | F21: =D21*E21 -> 0 | G21: =$B$9 -> 0.12345 | H21: =IF(G21<>0,F21/G21,0) -> 0 | K21: =I21*J21 -> 0 | L21: =IF(OR(J21>0,H21>0),H21+K21,0) -> 0
B22: Training and Evaluation System | C22: =$B$8 -> FC | F22: =D22*E22 -> 0 | G22: =$B$9 -> 0.12345 | H22: =IF(G22<>0,F22/G22,0) -> 0 | K22: =I22*J22 -> 0 | L22: =IF(OR(J22>0,H22>0),H22+K22,0) -> 0
B23: Operator Workstations | C23: =$B$8 -> FC | F23: =D23*E23 -> 0 | G23: =$B$9 -> 0.12345 | H23: =IF(G23<>0,F23/G23,0) -> 0 | K23: =I23*J23 -> 0 | L23: =IF(OR(J23>0,H23>0),H23+K23,0) -> 0
B24: User Workstations | C24: =$B$8 -> FC | F24: =D24*E24 -> 0 | G24: =$B$9 -> 0.12345 | H24: =IF(G24<>0,F24/G24,0) -> 0 | K24: =I24*J24 -> 0 | L24: =IF(OR(J24>0,H24>0),H24+K24,0) -> 0
B25: Backup SAN | C25: =$B$8 -> FC | F25: =D25*E25 -> 0 | G25: =$B$9 -> 0.12345 | H25: =IF(G25<>0,F25/G25,0) -> 0 | K25: =I25*J25 -> 0 | L25: =IF(OR(J25>0,H25>0),H25+K25,0) -> 0
B26: NTP Server | C26: =$B$8 -> FC | F26: =D26*E26 -> 0 | G26: =$B$9 -> 0.12345 | H26: =IF(G26<>0,F26/G26,0) -> 0 | K26: =I26*J26 -> 0 | L26: =IF(OR(J26>0,H26>0),H26+K26,0) -> 0
B27: Network Switches and Routers | C27: =$B$8 -> FC | F27: =D27*E27 -> 0 | G27: =$B$9 -> 0.12345 | H27: =IF(G27<>0,F27/G27,0) -> 0 | K27: =I27*J27 -> 0 | L27: =IF(OR(J27>0,H27>0),H27+K27,0) -> 0
C28: =$B$8 -> FC | F28: =D28*E28 -> 0 | G28: =$B$9 -> 0.12345 | H28: =IF(G28<>0,F28/G28,0) -> 0 | K28: =I28*J28 -> 0 | L28: =IF(OR(J28>0,H28>0),H28+K28,0) -> 0
C29: =$B$8 -> FC | F29: =D29*E29 -> 0 | G29: =$B$9 -> 0.12345 | H29: =IF(G29<>0,F29/G29,0) -> 0 | K29: =I29*J29 -> 0 | L29: =IF(OR(J29>0,H29>0),H29+K29,0) -> 0
C30: =$B$8 -> FC | F30: =D30*E30 -> 0 | G30: =$B$9 -> 0.12345 | H30: =IF(G30<>0,F30/G30,0) -> 0 | K30: =I30*J30 -> 0 | L30: =IF(OR(J30>0,H30>0),H30+K30,0) -> 0
C31: =$B$8 -> FC | F31: =D31*E31 -> 0 | G31: =$B$9 -> 0.12345 | H31: =IF(G31<>0,F31/G31,0) -> 0 | K31: =I31*J31 -> 0 | L31: =IF(OR(J31>0,H31>0),H31+K31,0) -> 0
C32: =$B$8 -> FC | F32: =D32*E32 -> 0 | G32: =$B$9 -> 0.12345 | H32: =IF(G32<>0,F32/G32,0) -> 0 | K32: =I32*J32 -> 0 | L32: =IF(OR(J32>0,H32>0),H32+K32,0) -> 0
C33: =$B$8 -> FC | F33: =D33*E33 -> 0 | G33: =$B$9 -> 0.12345 | H33: =IF(G33<>0,F33/G33,0) -> 0 | K33: =I33*J33 -> 0 | L33: =IF(OR(J33>0,H33>0),H33+K33,0) -> 0
A34: 5.2 | B34: Other
B35: User Workstations | C35: =$B$8 -> FC | F35: =D35*E35 -> 0 | G35: =$B$9 -> 0.12345 | H35: =IF(G35<>0,F35/G35,0) -> 0 | K35: =I35*J35 -> 0 | L35: =IF(OR(J35>0,H35>0),H35+K35,0) -> 0
B36: Virtual Environment | C36: =$B$8 -> FC | F36: =D36*E36 -> 0 | G36: =$B$9 -> 0.12345 | H36: =IF(G36<>0,F36/G36,0) -> 0 | K36: =I36*J36 -> 0 | L36: =IF(OR(J36>0,H36>0),H36+K36,0) -> 0
C37: =$B$8 -> FC | F37: =D37*E37 -> 0 | G37: =$B$9 -> 0.12345 | H37: =IF(G37<>0,F37/G37,0) -> 0 | K37: =I37*J37 -> 0 | L37: =IF(OR(J37>0,H37>0),H37+K37,0) -> 0
C38: =$B$8 -> FC | F38: =D38*E38 -> 0 | G38: =$B$9 -> 0.12345 | H38: =IF(G38<>0,F38/G38,0) -> 0 | K38: =I38*J38 -> 0 | L38: =IF(OR(J38>0,H38>0),H38+K38,0) -> 0
C39: =$B$8 -> FC | F39: =D39*E39 -> 0 | G39: =$B$9 -> 0.12345 | H39: =IF(G39<>0,F39/G39,0) -> 0 | K39: =I39*J39 -> 0 | L39: =IF(OR(J39>0,H39>0),H39+K39,0) -> 0
C40: =$B$8 -> FC | F40: =D40*E40 -> 0 | G40: =$B$9 -> 0.12345 | H40: =IF(G40<>0,F40/G40,0) -> 0 | K40: =I40*J40 -> 0 | L40: =IF(OR(J40>0,H40>0),H40+K40,0) -> 0
C41: =$B$8 -> FC | F41: =D41*E41 -> 0 | G41: =$B$9 -> 0.12345 | H41: =IF(G41<>0,F41/G41,0) -> 0 | K41: =I41*J41 -> 0 | L41: =IF(OR(J41>0,H41>0),H41+K41,0) -> 0
C42: =$B$8 -> FC | F42: =D42*E42 -> 0 | G42: =$B$9 -> 0.12345 | H42: =IF(G42<>0,F42/G42,0) -> 0 | K42: =I42*J42 -> 0 | L42: =IF(OR(J42>0,H42>0),H42+K42,0) -> 0
C43: =$B$8 -> FC | F43: =D43*E43 -> 0 | G43: =$B$9 -> 0.12345 | H43: =IF(G43<>0,F43/G43,0) -> 0 | K43: =I43*J43 -> 0 | L43: =IF(OR(J43>0,H43>0),H43+K43,0) -> 0
C44: =$B$8 -> FC | F44: =D44*E44 -> 0 | G44: =$B$9 -> 0.12345 | H44: =IF(G44<>0,F44/G44,0) -> 0 | K44: =I44*J44 -> 0 | L44: =IF(OR(J44>0,H44>0),H44+K44,0) -> 0
C45: =$B$8 -> FC | F45: =D45*E45 -> 0 | G45: =$B$9 -> 0.12345 | H45: =IF(G45<>0,F45/G45,0) -> 0 | K45: =I45*J45 -> 0 | L45: =IF(OR(J45>0,H45>0),H45+K45,0) -> 0
C46: =$B$8 -> FC | F46: =D46*E46 -> 0 | G46: =$B$9 -> 0.12345 | H46: =IF(G46<>0,F46/G46,0) -> 0 | K46: =I46*J46 -> 0 | L46: =IF(OR(J46>0,H46>0),H46+K46,0) -> 0
C47: =$B$8 -> FC | F47: =D47*E47 -> 0 | G47: =$B$9 -> 0.12345 | H47: =IF(G47<>0,F47/G47,0) -> 0 | K47: =I47*J47 -> 0 | L47: =IF(OR(J47>0,H47>0),H47+K47,0) -> 0
C48: =$B$8 -> FC | F48: =D48*E48 -> 0 | G48: =$B$9 -> 0.12345 | H48: =IF(G48<>0,F48/G48,0) -> 0 | K48: =I48*J48 -> 0 | L48: =IF(OR(J48>0,H48>0),H48+K48,0) -> 0
... C54: =$B$8 -> FC | F54: =D54*E54 -> 0 | G54: =$B$9 -> 0.12345 | H54: =IF(G54<>0,F54/G54,0) -> 0 | K54: =I54*J54 -> 0 | L54: =IF(OR(J54>0,H54>0),H54+K54,0) -> 0
B56: =+"SUB-TOTAL: "&A16 -> SUB-TOTAL: G5_1 | F56: =SUM(F16:F55) -> 0 | G56: =$B$9 -> 0.12345 | H56: =SUM(H16:H55) -> 0 | K56: =SUM(K16:K55) -> 0 | L56: =SUM(L16:L55) -> 0

Sheet G5_2 Test Equipment
A1: TENDER PRICE SCHEDULE: VOLUME 1C
A2: (INCLUDING VALUE ADDED TAX)
A3: BIDDER : | B3: ='Bidder Info'!D3 -> Bidder name
A4: RFP: | B4: =Instructions!D7 -> ATNS/HO/TPQ/RFP049/FY23.24/ATFM REPLACEMENT SYSTEM
A5: PROJECT : | B5: =Instructions!$D$8 -> ATFM Replacement
A6: Item Nr: | B6: G5.2
A7: Item Description: | B7: Test Equipment
A8: Foreign Currancy | B8: ='Bidder Info'!D4 -> FC
A9: ROE: 1R = | B9: ='Bidder Info'!D5 -> 0.12345
C11: Overseas Items | I11: Local Items
A13: Schedule Item Number | B13: Description | C13: Foreign Currency | D13: Quantity | E13: Foreign Amount Unit Cost | F13: Foreign Amount Total Cost | G13: ="ROE: 1R = "&'Bidder Info'!$D$5 -> ROE: 1R = 0.12345 | H13: Total Foreign Cost in Rands | I13: Quantity | J13: Local Amount Unit Cost | K13: Local Amount Total Cost | L13: Total Rands
A16: =B6 -> G5.2 | B16: =B7 -> Test Equipment
A17: 5.2.1 | B17: Installation Test Equipment
B18: {List of the test equipment shall be provided.} | C18: =$B$8 -> FC | F18: =D18*E18 -> 0 | G18: =$B$9 -> 0.12345 | H18: =IF(G18<>0,F18/G18,0) -> 0 | K18: =I18*J18 -> 0 | L18: =IF(OR(J18>0,H18>0),H18+K18,0) -> 0
C19: =$B$8 -> FC | F19: =D19*E19 -> 0 | G19: =$B$9 -> 0.12345 | H19: =IF(G19<>0,F19/G19,0) -> 0 | K19: =I19*J19 -> 0 | L19: =IF(OR(J19>0,H19>0),H19+K19,0) -> 0
C20: =$B$8 -> FC | F20: =D20*E20 -> 0 | G20: =$B$9 -> 0.12345 | H20: =IF(G20<>0,F20/G20,0) -> 0 | K20: =I20*J20 -> 0 | L20: =IF(OR(J20>0,H20>0),H20+K20,0) -> 0
C21: =$B$8 -> FC | F21: =D21*E21 -> 0 | G21: =$B$9 -> 0.12345 | H21: =IF(G21<>0,F21/G21,0) -> 0 | K21: =I21*J21 -> 0 | L21: =IF(OR(J21>0,H21>0),H21+K21,0) -> 0
C22: =$B$8 -> FC | F22: =D22*E22 -> 0 | G22: =$B$9 -> 0.12345 | H22: =IF(G22<>0,F22/G22,0) -> 0 | K22: =I22*J22 -> 0 | L22: =IF(OR(J22>0,H22>0),H22+K22,0) -> 0
C23: =$B$8 -> FC | F23: =D23*E23 -> 0 | G23: =$B$9 -> 0.12345 | H23: =IF(G23<>0,F23/G23,0) -> 0 | K23: =I23*J23 -> 0 | L23: =IF(OR(J23>0,H23>0),H23+K23,0) -> 0
C24: =$B$8 -> FC | F24: =D24*E24 -> 0 | G24: =$B$9 -> 0.12345 | H24: =IF(G24<>0,F24/G24,0) -> 0 | K24: =I24*J24 -> 0 | L24: =IF(OR(J24>0,H24>0),H24+K24,0) -> 0
C25: =$B$8 -> FC | F25: =D25*E25 -> 0 | G25: =$B$9 -> 0.12345 | H25: =IF(G25<>0,F25/G25,0) -> 0 | K25: =I25*J25 -> 0 | L25: =IF(OR(J25>0,H25>0),H25+K25,0) -> 0
C26: =$B$8 -> FC | F26: =D26*E26 -> 0 | G26: =$B$9 -> 0.12345 | H26: =IF(G26<>0,F26/G26,0) -> 0 | K26: =I26*J26 -> 0 | L26: =IF(OR(J26>0,H26>0),H26+K26,0) -> 0
A27: 5.3.2 | B27: Maintenance Test Equipment
B28: {List of the test equipment shall be provided.} | C28: =$B$8 -> FC | F28: =D28*E28 -> 0 | G28: =$B$9 -> 0.12345 | H28: =IF(G28<>0,F28/G28,0) -> 0 | K28: =I28*J28 -> 0 | L28: =IF(OR(J28>0,H28>0),H28+K28,0) -> 0
C29: =$B$8 -> FC | F29: =D29*E29 -> 0 | G29: =$B$9 -> 0.12345 | H29: =IF(G29<>0,F29/G29,0) -> 0 | K29: =I29*J29 -> 0 | L29: =IF(OR(J29>0,H29>0),H29+K29,0) -> 0
C30: =$B$8 -> FC | F30: =D30*E30 -> 0 | G30: =$B$9 -> 0.12345 | H30: =IF(G30<>0,F30/G30,0) -> 0 | K30: =I30*J30 -> 0 | L30: =IF(OR(J30>0,H30>0),H30+K30,0) -> 0
C31: =$B$8 -> FC | F31: =D31*E31 -> 0 | G31: =$B$9 -> 0.12345 | H31: =IF(G31<>0,F31/G31,0) -> 0 | K31: =I31*J31 -> 0 | L31: =IF(OR(J31>0,H31>0),H31+K31,0) -> 0
C32: =$B$8 -> FC | F32: =D32*E32 -> 0 | G32: =$B$9 -> 0.12345 | H32: =IF(G32<>0,F32/G32,0) -> 0 | K32: =I32*J32 -> 0 | L32: =IF(OR(J32>0,H32>0),H32+K32,0) -> 0
C33: =$B$8 -> FC | F33: =D33*E33 -> 0 | G33: =$B$9 -> 0.12345 | H33: =IF(G33<>0,F33/G33,0) -> 0 | K33: =I33*J33 -> 0 | L33: =IF(OR(J33>0,H33>0),H33+K33,0) -> 0
C34: =$B$8 -> FC | F34: =D34*E34 -> 0 | G34: =$B$9 -> 0.12345 | H34: =IF(G34<>0,F34/G34,0) -> 0 | K34: =I34*J34 -> 0 | L34: =IF(OR(J34>0,H34>0),H34+K34,0) -> 0
C35: =$B$8 -> FC | F35: =D35*E35 -> 0 | G35: =$B$9 -> 0.12345 | H35: =IF(G35<>0,F35/G35,0) -> 0 | K35: =I35*J35 -> 0 | L35: =IF(OR(J35>0,H35>0),H35+K35,0) -> 0
C36: =$B$8 -> FC | F36: =D36*E36 -> 0 | G36: =$B$9 -> 0.12345 | H36: =IF(G36<>0,F36/G36,0) -> 0 | K36: =I36*J36 -> 0 | L36: =IF(OR(J36>0,H36>0),H36+K36,0) -> 0
C37: =$B$8 -> FC | F37: =D37*E37 -> 0 | G37: =$B$9 -> 0.12345 | H37: =IF(G37<>0,F37/G37,0) -> 0 | K37: =I37*J37 -> 0 | L37: =IF(OR(J37>0,H37>0),H37+K37,0) -> 0
C38: =$B$8 -> FC | F38: =D38*E38 -> 0 | G38: =$B$9 -> 0.12345 | H38: =IF(G38<>0,F38/G38,0) -> 0 | K38: =I38*J38 -> 0 | L38: =IF(OR(J38>0,H38>0),H38+K38,0) -> 0
C39: =$B$8 -> FC | F39: =D39*E39 -> 0 | G39: =$B$9 -> 0.12345 | H39: =IF(G39<>0,F39/G39,0) -> 0 | K39: =I39*J39 -> 0 | L39: =IF(OR(J39>0,H39>0),H39+K39,0) -> 0
C40: =$B$8 -> FC | F40: =D40*E40 -> 0 | G40: =$B$9 -> 0.12345 | H40: =IF(G40<>0,F40/G40,0) -> 0 | K40: =I40*J40 -> 0 | L40: =IF(OR(J40>0,H40>0),H40+K40,0) -> 0
C41: =$B$8 -> FC | F41: =D41*E41 -> 0 | G41: =$B$9 -> 0.12345 | H41: =IF(G41<>0,F41/G41,0) -> 0 | K41: =I41*J41 -> 0 | L41: =IF(OR(J41>0,H41>0),H41+K41,0) -> 0
B43: =+"SUB-TOTAL: "&A16 -> SUB-TOTAL: G5.2 | F43: =SUM(F16:F42) -> 0 | G43: =$B$9 -> 0.12345 | H43: =SUM(H16:H42) -> 0 | K43: =SUM(K16:K42) -> 0 | L43: =SUM(L16:L42) -> 0

Sheet G5_0 LRU List
A1: TENDER PRICE SCHEDULE: VOLUME 1C
A2: (INCLUDING VALUE ADDED TAX)
A3: BIDDER : | B3: ='Bidder Info'!D3 -> Bidder name
A4: RFP: | B4: =Instructions!D7 -> ATNS/HO/TPQ/RFP049/FY23.24/ATFM REPLACEMENT SYSTEM
A5: PROJECT : | B5: =Instructions!$D$8 -> ATFM Replacement
A6: Item Nr: | B6: G5_0
A7: Item Description: | B7: Equipment LRU List
A8: Foreign Currancy | B8: ='Bidder Info'!D4 -> FC
A9: ROE: 1R = | B9: ='Bidder Info'!D5 -> 0.12345
C11: Overseas Items | I11: Local Items
A13: Schedule Item Number | B13: Description | C13: Foreign Currency | D13: Quantity | E13: Foreign Amount Unit Cost | F13: Foreign Amount Total Cost | G13: ="ROE: 1R = "&'Bidder Info'!$D$5 -> ROE: 1R = 0.12345 | H13: Total Foreign Cost in Rands | I13: Quantity | J13: Local Amount Unit Cost | K13: Local Amount Total Cost | L13: Total Rands
A16: =B6 -> G5_0 | B16: =B7 -> Equipment LRU List
B17: {List of the spares shall be provided in the tender response.}
A19: 5.0.1 | B19: Main System | F19: =SUM(F20:F30) -> 0 | G19: =$B$9 -> 0.12345 | H19: =SUM(H20:H30) -> 0 | K19: =SUM(K20:K30) -> 0 | L19: =SUM(L20:L30) -> 0
A20: 1 | C20: =$B$8 -> FC | F20: =D20*E20 -> 0 | G20: =$B$9 -> 0.12345 | H20: =IF(G20<>0,F20/G20,0) -> 0 | K20: =I20*J20 -> 0 | L20: =K20+H20 -> 0
A21: 2 | C21: =$B$8 -> FC | F21: =D21*E21 -> 0 | G21: =$B$9 -> 0.12345 | H21: =IF(G21<>0,F21/G21,0) -> 0 | K21: =I21*J21 -> 0 | L21: =K21+H21 -> 0
A22: 3 | C22: =$B$8 -> FC | F22: =D22*E22 -> 0 | G22: =$B$9 -> 0.12345 | H22: =IF(G22<>0,F22/G22,0) -> 0 | K22: =I22*J22 -> 0 | L22: =K22+H22 -> 0
A23: 4 | C23: =$B$8 -> FC | F23: =D23*E23 -> 0 | G23: =$B$9 -> 0.12345 | H23: =IF(G23<>0,F23/G23,0) -> 0 | K23: =I23*J23 -> 0 | L23: =K23+H23 -> 0
A24: 5 | C24: =$B$8 -> FC | F24: =D24*E24 -> 0 | G24: =$B$9 -> 0.12345 | H24: =IF(G24<>0,F24/G24,0) -> 0 | K24: =I24*J24 -> 0 | L24: =K24+H24 -> 0
A25: 6 | C25: =$B$8 -> FC | F25: =D25*E25 -> 0 | G25: =$B$9 -> 0.12345 | H25: =IF(G25<>0,F25/G25,0) -> 0 | K25: =I25*J25 -> 0 | L25: =K25+H25 -> 0
A26: 7 | C26: =$B$8 -> FC | F26: =D26*E26 -> 0 | G26: =$B$9 -> 0.12345 | H26: =IF(G26<>0,F26/G26,0) -> 0 | K26: =I26*J26 -> 0 | L26: =K26+H26 -> 0
A27: 8 | C27: =$B$8 -> FC | F27: =D27*E27 -> 0 | G27: =$B$9 -> 0.12345 | H27: =IF(G27<>0,F27/G27,0) -> 0 | K27: =I27*J27 -> 0 | L27: =K27+H27 -> 0
A28: 9 | C28: =$B$8 -> FC | F28: =D28*E28 -> 0 | G28: =$B$9 -> 0.12345 | H28: =IF(G28<>0,F28/G28,0) -> 0 | K28: =I28*J28 -> 0 | L28: =K28+H28 -> 0
A29: 10 | C29: =$B$8 -> FC | F29: =D29*E29 -> 0 | G29: =$B$9 -> 0.12345 | H29: =IF(G29<>0,F29/G29,0) -> 0 | K29: =I29*J29 -> 0 | L29: =K29+H29 -> 0
A31: 5.0.2 | B31: D&R System | F31: =SUM(F32:F42) -> 0 | G31: =$B$9 -> 0.12345 | H31: =SUM(H32:H42) -> 0 | K31: =SUM(K32:K42) -> 0 | L31: =SUM(L32:L42) -> 0
A32: 1 | C32: =$B$8 -> FC | F32: =D32*E32 -> 0 | G32: =$B$9 -> 0.12345 | H32: =IF(G32<>0,F32/G32,0) -> 0 | K32: =I32*J32 -> 0 | L32: =K32+H32 -> 0
A33: 2 | C33: =$B$8 -> FC | F33: =D33*E33 -> 0 | G33: =$B$9 -> 0.12345 | H33: =IF(G33<>0,F33/G33,0) -> 0 | K33: =I33*J33 -> 0 | L33: =K33+H33 -> 0
A34: 3 | C34: =$B$8 -> FC | F34: =D34*E34 -> 0 | G34: =$B$9 -> 0.12345 | H34: =IF(G34<>0,F34/G34,0) -> 0 | K34: =I34*J34 -> 0 | L34: =K34+H34 -> 0
A35: 4 | C35: =$B$8 -> FC | F35: =D35*E35 -> 0 | G35: =$B$9 -> 0.12345 | H35: =IF(G35<>0,F35/G35,0) -> 0 | K35: =I35*J35 -> 0 | L35: =K35+H35 -> 0
A36: 5 | C36: =$B$8 -> FC | F36: =D36*E36 -> 0 | G36: =$B$9 -> 0.12345 | H36: =IF(G36<>0,F36/G36,0) -> 0 | K36: =I36*J36 -> 0 | L36: =K36+H36 -> 0
A37: 6 | C37: =$B$8 -> FC | F37: =D37*E37 -> 0 | G37: =$B$9 -> 0.12345 | H37: =IF(G37<>0,F37/G37,0) -> 0 | K37: =I37*J37 -> 0 | L37: =K37+H37 -> 0
A38: 7 | C38: =$B$8 -> FC | F38: =D38*E38 -> 0 | G38: =$B$9 -> 0.12345 | H38: =IF(G38<>0,F38/G38,0) -> 0 | K38: =I38*J38 -> 0 | L38: =K38+H38 -> 0
A39: 8 | C39: =$B$8 -> FC | F39: =D39*E39 -> 0 | G39: =$B$9 -> 0.12345 | H39: =IF(G39<>0,F39/G39,0) -> 0 | K39: =I39*J39 -> 0 | L39: =K39+H39 -> 0
A40: 9 | C40: =$B$8 -> FC | F40: =D40*E40 -> 0 | G40: =$B$9 -> 0.12345 | H40: =IF(G40<>0,F40/G40,0) -> 0 | K40: =I40*J40 -> 0 | L40: =K40+H40 -> 0
A41: 10 | C41: =$B$8 -> FC | F41: =D41*E41 -> 0 | G41: =$B$9 -> 0.12345 | H41: =IF(G41<>0,F41/G41,0) -> 0 | K41: =I41*J41 -> 0 | L41: =K41+H41 -> 0
A43: 5.0.3 | B43: Training System | F43: =SUM(F44:F54) -> 0 | G43: =$B$9 -> 0.12345 | H43: =SUM(H44:H54) -> 0 | K43: =SUM(K44:K54) -> 0 | L43: =SUM(L44:L54) -> 0
A44: 1 | C44: =$B$8 -> FC | F44: =D44*E44 -> 0 | G44: =$B$9 -> 0.12345 | H44: =IF(G44<>0,F44/G44,0) -> 0 | K44: =I44*J44 -> 0 | L44: =K44+H44 -> 0
A45: 2 | C45: =$B$8 -> FC | F45: =D45*E45 -> 0 | G45: =$B$9 -> 0.12345 | H45: =IF(G45<>0,F45/G45,0) -> 0 | K45: =I45*J45 -> 0 | L45: =K45+H45 -> 0
A46: 3 | C46: =$B$8 -> FC | F46: =D46*E46 -> 0 | G46: =$B$9 -> 0.12345 | H46: =IF(G46<>0,F46/G46,0) -> 0 | K46: =I46*J46 -> 0 | L46: =K46+H46 -> 0
A47: 4 | C47: =$B$8 -> FC | F47: =D47*E47 -> 0 | G47: =$B$9 -> 0.12345 | H47: =IF(G47<>0,F47/G47,0) -> 0 | K47: =I47*J47 -> 0 | L47: =K47+H47 -> 0
A48: 5 | C48: =$B$8 -> FC | F48: =D48*E48 -> 0 | G48: =$B$9 -> 0.12345 | H48: =IF(G48<>0,F48/G48,0) -> 0 | K48: =I48*J48 -> 0 | L48: =K48+H48 -> 0
A49: 6 | C49: =$B$8 -> FC | F49: =D49*E49 -> 0 | G49: =$B$9 -> 0.12345 | H49: =IF(G49<>0,F49/G49,0) -> 0 | K49: =I49*J49 -> 0 | L49: =K49+H49 -> 0
A50: 7 | C50: =$B$8 -> FC | F50: =D50*E50 -> 0 | G50: =$B$9 -> 0.12345 | H50: =IF(G50<>0,F50/G50,0) -> 0 | K50: =I50*J50 -> 0 | L50: =K50+H50 -> 0
A51: 8 | C51: =$B$8 -> FC | F51: =D51*E51 -> 0 | G51: =$B$9 -> 0.12345 | H51: =IF(G51<>0,F51/G51,0) -> 0 | K51: =I51*J51 -> 0 | L51: =K51+H51 -> 0
A52: 9 | C52: =$B$8 -> FC | F52: =D52*E52 -> 0 | G52: =$B$9 -> 0.12345 | H52: =IF(G52<>0,F52/G52,0) -> 0 | K52: =I52*J52 -> 0 | L52: =K52+H52 -> 0
A53: 10 | C53: =$B$8 -> FC | F53: =D53*E53 -> 0 | G53: =$B$9 -> 0.12345 | H53: =IF(G53<>0,F53/G53,0) -> 0 | K53: =I53*J53 -> 0 | L53: =K53+H53 -> 0
A55: 5.0.4 | B55: Workstations | F55: =SUM(F56:F66) -> 0 | G55: =$B$9 -> 0.12345 | H55: =SUM(H56:H66) -> 0 | K55: =SUM(K56:K66) -> 0 | L55: =SUM(L56:L66) -> 0
A56: 1 | C56: =$B$8 -> FC | F56: =D56*E56 -> 0 | G56: =$B$9 -> 0.12345 | H56: =IF(G56<>0,F56/G56,0) -> 0 | K56: =I56*J56 -> 0 | L56: =K56+H56 -> 0
A57: 2 | C57: =$B$8 -> FC | F57: =D57*E57 -> 0 | G57: =$B$9 -> 0.12345 | H57: =IF(G57<>0,F57/G57,0) -> 0 | K57: =I57*J57 -> 0 | L57: =K57+H57 -> 0
A58: 3 | C58: =$B$8 -> FC | F58: =D58*E58 -> 0 | G58: =$B$9 -> 0.12345 | H58: =IF(G58<>0,F58/G58,0) -> 0 | K58: =I58*J58 -> 0 | L58: =K58+H58 -> 0
A59: 4 | C59: =$B$8 -> FC | F59: =D59*E59 -> 0 | G59: =$B$9 -> 0.12345 | H59: =IF(G59<>0,F59/G59,0) -> 0 | K59: =I59*J59 -> 0 | L59: =K59+H59 -> 0
A60: 5 | C60: =$B$8 -> FC | F60: =D60*E60 -> 0 | G60: =$B$9 -> 0.12345 | H60: =IF(G60<>0,F60/G60,0) -> 0 | K60: =I60*J60 -> 0 | L60: =K60+H60 -> 0
A61: 6 | C61: =$B$8 -> FC | F61: =D61*E61 -> 0 | G61: =$B$9 -> 0.12345 | H61: =IF(G61<>0,F61/G61,0) -> 0 | K61: =I61*J61 -> 0 | L61: =K61+H61 -> 0
A62: 7 | C62: =$B$8 -> FC | F62: =D62*E62 -> 0 | G62: =$B$9 -> 0.12345 | H62: =IF(G62<>0,F62/G62,0) -> 0 | K62: =I62*J62 -> 0 | L62: =K62+H62 -> 0
A63: 8 | C63: =$B$8 -> FC | F63: =D63*E63 -> 0 | G63: =$B$9 -> 0.12345 | H63: =IF(G63<>0,F63/G63,0) -> 0 | K63: =I63*J63 -> 0 | L63: =K63+H63 -> 0
A64: 9 | C64: =$B$8 -> FC | F64: =D64*E64 -> 0 | G64: =$B$9 -> 0.12345 | H64: =IF(G64<>0,F64/G64,0) -> 0 | K64: =I64*J64 -> 0 | L64: =K64+H64 -> 0
A65: 10 | C65: =$B$8 -> FC | F65: =D65*E65 -> 0 | G65: =$B$9 -> 0.12345 | H65: =IF(G65<>0,F65/G65,0) -> 0 | K65: =I65*J65 -> 0 | L65: =K65+H65 -> 0
A67: 5.0.5 | B67: Backup SAN | F67: =SUM(F68:F78) -> 0 | G67: =$B$9 -> 0.12345 | H67: =SUM(H68:H78) -> 0 | K67: =SUM(K68:K78) -> 0 | L67: =SUM(L68:L78) -> 0
A68: 1 | C68: =$B$8 -> FC | F68: =D68*E68 -> 0 | G68: =$B$9 -> 0.12345 | H68: =IF(G68<>0,F68/G68,0) -> 0 | K68: =I68*J68 -> 0 | L68: =K68+H68 -> 0
A69: 2 | C69: =$B$8 -> FC | F69: =D69*E69 -> 0 | G69: =$B$9 -> 0.12345 | H69: =IF(G69<>0,F69/G69,0) -> 0 | K69: =I69*J69 -> 0 | L69: =K69+H69 -> 0
A70: 3 | C70: =$B$8 -> FC | F70: =D70*E70 -> 0 | G70: =$B$9 -> 0.12345 | H70: =IF(G70<>0,F70/G70,0) -> 0 | K70: =I70*J70 -> 0 | L70: =K70+H70 -> 0
A71: 4 | C71: =$B$8 -> FC | F71: =D71*E71 -> 0 | G71: =$B$9 -> 0.12345 | H71: =IF(G71<>0,F71/G71,0) -> 0 | K71: =I71*J71 -> 0 | L71: =K71+H71 -> 0
A72: 5 | C72: =$B$8 -> FC | F72: =D72*E72 -> 0 | G72: =$B$9 -> 0.12345 | H72: =IF(G72<>0,F72/G72,0) -> 0 | K72: =I72*J72 -> 0 | L72: =K72+H72 -> 0
A73: 6 | C73: =$B$8 -> FC | F73: =D73*E73 -> 0 | G73: =$B$9 -> 0.12345 | H73: =IF(G73<>0,F73/G73,0) -> 0 | K73: =I73*J73 -> 0 | L73: =K73+H73 -> 0
A74: 7 | C74: =$B$8 -> FC | F74: =D74*E74 -> 0 | G74: =$B$9 -> 0.12345 | H74: =IF(G74<>0,F74/G74,0) -> 0 | K74: =I74*J74 -> 0 | L74: =K74+H74 -> 0
A75: 8 | C75: =$B$8 -> FC | F75: =D75*E75 -> 0 | G75: =$B$9 -> 0.12345 | H75: =IF(G75<>0,F75/G75,0) -> 0 | K75: =I75*J75 -> 0 | L75: =K75+H75 -> 0
A76: 9 | C76: =$B$8 -> FC | F76: =D76*E76 -> 0 | G76: =$B$9 -> 0.12345 | H76: =IF(G76<>0,F76/G76,0) -> 0 | K76: =I76*J76 -> 0 | L76: =K76+H76 -> 0
A77: 10 | C77: =$B$8 -> FC | F77: =D77*E77 -> 0 | G77: =$B$9 -> 0.12345 | H77: =IF(G77<>0,F77/G77,0) -> 0 | K77: =I77*J77 -> 0 | L77: =K77+H77 -> 0
A79: 5.0.6 | B79: NTP Server | F79: =SUM(F80:F90) -> 0 | G79: =$B$9 -> 0.12345 | H79: =SUM(H80:H90) -> 0 | K79: =SUM(K80:K90) -> 0 | L79: =SUM(L80:L90) -> 0
A80: 1 | C80: =$B$8 -> FC | F80: =D80*E80 -> 0 | G80: =$B$9 -> 0.12345 | H80: =IF(G80<>0,F80/G80,0) -> 0 | K80: =I80*J80 -> 0 | L80: =K80+H80 -> 0
A81: 2 | C81: =$B$8 -> FC | F81: =D81*E81 -> 0 | G81: =$B$9 -> 0.12345 | H81: =IF(G81<>0,F81/G81,0) -> 0 | K81: =I81*J81 -> 0 | L81: =K81+H81 -> 0
A82: 3 | C82: =$B$8 -> FC | F82: =D82*E82 -> 0 | G82: =$B$9 -> 0.12345 | H82: =IF(G82<>0,F82/G82,0) -> 0 | K82: =I82*J82 -> 0 | L82: =K82+H82 -> 0
A83: 4 | C83: =$B$8 -> FC | F83: =D83*E83 -> 0 | G83: =$B$9 -> 0.12345 | H83: =IF(G83<>0,F83/G83,0) -> 0 | K83: =I83*J83 -> 0 | L83: =K83+H83 -> 0
A84: 5 | C84: =$B$8 -> FC | F84: =D84*E84 -> 0 | G84: =$B$9 -> 0.12345 | H84: =IF(G84<>0,F84/G84,0) -> 0 | K84: =I84*J84 -> 0 | L84: =K84+H84 -> 0
A85: 6 | C85: =$B$8 -> FC | F85: =D85*E85 -> 0 | G85: =$B$9 -> 0.12345 | H85: =IF(G85<>0,F85/G85,0) -> 0 | K85: =I85*J85 -> 0 | L85: =K85+H85 -> 0
A86: 7 | C86: =$B$8 -> FC | F86: =D86*E86 -> 0 | G86: =$B$9 -> 0.12345 | H86: =IF(G86<>0,F86/G86,0) -> 0 | K86: =I86*J86 -> 0 | L86: =K86+H86 -> 0
A87: 8 | C87: =$B$8 -> FC | F87: =D87*E87 -> 0 | G87: =$B$9 -> 0.12345 | H87: =IF(G87<>0,F87/G87,0) -> 0 | K87: =I87*J87 -> 0 | L87: =K87+H87 -> 0
A88: 9 | C88: =$B$8 -> FC | F88: =D88*E88 -> 0 | G88: =$B$9 -> 0.12345 | H88: =IF(G88<>0,F88/G88,0) -> 0 | K88: =I88*J88 -> 0 | L88: =K88+H88 -> 0
A89: 10 | C89: =$B$8 -> FC | F89: =D89*E89 -> 0 | G89: =$B$9 -> 0.12345 | H89: =IF(G89<>0,F89/G89,0) -> 0 | K89: =I89*J89 -> 0 | L89: =K89+H89 -> 0
A91: 5.0.7 | B91: Switches, Routers and Devices | F91: =SUM(F92:F102) -> 0 | G91: =$B$9 -> 0.12345 | H91: =SUM(H92:H102) -> 0 | K91: =SUM(K92:K102) -> 0 | L91: =SUM(L92:L102) -> 0
A92: 1 | C92: =$B$8 -> FC | F92: =D92*E92 -> 0 | G92: =$B$9 -> 0.12345 | H92: =IF(G92<>0,F92/G92,0) -> 0 | K92: =I92*J92 -> 0 | L92: =K92+H92 -> 0
A93: 2 | C93: =$B$8 -> FC | F93: =D93*E93 -> 0 | G93: =$B$9 -> 0.12345 | H93: =IF(G93<>0,F93/G93,0) -> 0 | K93: =I93*J93 -> 0 | L93: =K93+H93 -> 0
A94: 3 | C94: =$B$8 -> FC | F94: =D94*E94 -> 0 | G94: =$B$9 -> 0.12345 | H94: =IF(G94<>0,F94/G94,0) -> 0 | K94: =I94*J94 -> 0 | L94: =K94+H94 -> 0
A95: 4 | C95: =$B$8 -> FC | F95: =D95*E95 -> 0 | G95: =$B$9 -> 0.12345 | H95: =IF(G95<>0,F95/G95,0) -> 0 | K95: =I95*J95 -> 0 | L95: =K95+H95 -> 0
A96: 5 | C96: =$B$8 -> FC | F96: =D96*E96 -> 0 | G96: =$B$9 -> 0.12345 | H96: =IF(G96<>0,F96/G96,0) -> 0 | K96: =I96*J96 -> 0 | L96: =K96+H96 -> 0
A97: 6 | C97: =$B$8 -> FC | F97: =D97*E97 -> 0 | G97: =$B$9 -> 0.12345 | H97: =IF(G97<>0,F97/G97,0) -> 0 | K97: =I97*J97 -> 0 | L97: =K97+H97 -> 0
A98: 7 | C98: =$B$8 -> FC | F98: =D98*E98 -> 0 | G98: =$B$9 -> 0.12345 | H98: =IF(G98<>0,F98/G98,0) -> 0 | K98: =I98*J98 -> 0 | L98: =K98+H98 -> 0
A99: 8 | C99: =$B$8 -> FC | F99: =D99*E99 -> 0 | G99: =$B$9 -> 0.12345 | H99: =IF(G99<>0,F99/G99,0) -> 0 | K99: =I99*J99 -> 0 | L99: =K99+H99 -> 0
A100: 9 | C100: =$B$8 -> FC | F100: =D100*E100 -> 0 | G100: =$B$9 -> 0.12345 | H100: =IF(G100<>0,F100/G100,0) -> 0 | K100: =I100*J100 -> 0 | L100: =K100+H100 -> 0
A101: 10 | C101: =$B$8 -> FC | F101: =D101*E101 -> 0 | G101: =$B$9 -> 0.12345 | H101: =IF(G101<>0,F101/G101,0) -> 0 | K101: =I101*J101 -> 0 | L101: =K101+H101 -> 0
A103: 5.0.8 | F103: =SUM(F104:F114) -> 0 | G103: =$B$9 -> 0.12345 | H103: =SUM(H104:H114) -> 0 | K103: =SUM(K104:K114) -> 0 | L103: =SUM(L104:L114) -> 0
A104: 1 | C104: =$B$8 -> FC | F104: =D104*E104 -> 0 | G104: =$B$9 -> 0.12345 | H104: =IF(G104<>0,F104/G104,0) -> 0 | K104: =I104*J104 -> 0 | L104: =K104+H104 -> 0
A105: 2 | C105: =$B$8 -> FC | F105: =D105*E105 -> 0 | G105: =$B$9 -> 0.12345 | H105: =IF(G105<>0,F105/G105,0) -> 0 | K105: =I105*J105 -> 0 | L105: =K105+H105 -> 0
A106: 3 | C106: =$B$8 -> FC | F106: =D106*E106 -> 0 | G106: =$B$9 -> 0.12345 | H106: =IF(G106<>0,F106/G106,0) -> 0 | K106: =I106*J106 -> 0 | L106: =K106+H106 -> 0
A107: 4 | C107: =$B$8 -> FC | F107: =D107*E107 -> 0 | G107: =$B$9 -> 0.12345 | H107: =IF(G107<>0,F107/G107,0) -> 0 | K107: =I107*J107 -> 0 | L107: =K107+H107 -> 0
A108: 5 | C108: =$B$8 -> FC | F108: =D108*E108 -> 0 | G108: =$B$9 -> 0.12345 | H108: =IF(G108<>0,F108/G108,0) -> 0 | K108: =I108*J108 -> 0 | L108: =K108+H108 -> 0
A109: 6 | C109: =$B$8 -> FC | F109: =D109*E109 -> 0 | G109: =$B$9 -> 0.12345 | H109: =IF(G109<>0,F109/G109,0) -> 0 | K109: =I109*J109 -> 0 | L109: =K109+H109 -> 0
A110: 7 | C110: =$B$8 -> FC | F110: =D110*E110 -> 0 | G110: =$B$9 -> 0.12345 | H110: =IF(G110<>0,F110/G110,0) -> 0 | K110: =I110*J110 -> 0 | L110: =K110+H110 -> 0
A111: 8 | C111: =$B$8 -> FC | F111: =D111*E111 -> 0 | G111: =$B$9 -> 0.12345 | H111: =IF(G111<>0,F111/G111,0) -> 0 | K111: =I111*J111 -> 0 | L111: =K111+H111 -> 0
A112: 9 | C112: =$B$8 -> FC | F112: =D112*E112 -> 0 | G112: =$B$9 -> 0.12345 | H112: =IF(G112<>0,F112/G112,0) -> 0 | K112: =I112*J112 -> 0 | L112: =K112+H112 -> 0
...

Sheet G6 Miscellaneous
A1: TENDER PRICE SCHEDULE: VOLUME 1C
A2: (INCLUDING VALUE ADDED TAX)
A3: BIDDER : | B3: ='Bidder Info'!D3 -> Bidder name
A4: RFP: | B4: =Instructions!D7 -> ATNS/HO/TPQ/RFP049/FY23.24/ATFM REPLACEMENT SYSTEM
A5: PROJECT : | B5: =Instructions!$D$8 -> ATFM Replacement
A6: Item Nr: | B6: G6
A7: Item Description: | B7: MISCELLANEOUS
A8: Foreign Currancy | B8: ='Bidder Info'!D4 -> FC
A9: ROE: 1R = | B9: ='Bidder Info'!D5 -> 0.12345
C11: Overseas Items | I11: Local Items
A13: Schedule Item Number | B13: Description | C13: Foreign Currency | D13: Quantity | E13: Foreign Amount Unit Cost | F13: Foreign Amount Total Cost | G13: ="ROE: 1R = "&'Bidder Info'!$D$5 -> ROE: 1R = 0.12345 | H13: Total Foreign Cost in Rands | I13: Quantity | J13: Local Amount Unit Cost | K13: Local Amount Total Cost | L13: Total Rands
A16: =B6 -> G6 | B16: =B7 -> MISCELLANEOUS
B17: (Items and services necessary for the installation, commissioning, operation and maintenance of the system and not included elsewhere.)
B18: (To be individually itemized and priced.)
C19: =$B$8 -> FC | F19: =D19*E19 -> 0 | G19: =$B$9 -> 0.12345 | H19: =IF(G19<>0,F19/G19,0) -> 0 | K19: =I19*J19 -> 0 | L19: =IF(OR(J19>0,H19>0),H19+K19,0) -> 0
C20: =$B$8 -> FC | F20: =D20*E20 -> 0 | G20: =$B$9 -> 0.12345 | H20: =IF(G20<>0,F20/G20,0) -> 0 | K20: =I20*J20 -> 0 | L20: =IF(OR(J20>0,H20>0),H20+K20,0) -> 0
C21: =$B$8 -> FC | F21: =D21*E21 -> 0 | G21: =$B$9 -> 0.12345 | H21: =IF(G21<>0,F21/G21,0) -> 0 | K21: =I21*J21 -> 0 | L21: =IF(OR(J21>0,H21>0),H21+K21,0) -> 0
C22: =$B$8 -> FC | F22: =D22*E22 -> 0 | G22: =$B$9 -> 0.12345 | H22: =IF(G22<>0,F22/G22,0) -> 0 | K22: =I22*J22 -> 0 | L22: =IF(OR(J22>0,H22>0),H22+K22,0) -> 0
C23: =$B$8 -> FC | F23: =D23*E23 -> 0 | G23: =$B$9 -> 0.12345 | H23: =IF(G23<>0,F23/G23,0) -> 0 | K23: =I23*J23 -> 0 | L23: =IF(OR(J23>0,H23>0),H23+K23,0) -> 0
C24: =$B$8 -> FC | F24: =D24*E24 -> 0 | G24: =$B$9 -> 0.12345 | H24: =IF(G24<>0,F24/G24,0) -> 0 | K24: =I24*J24 -> 0 | L24: =IF(OR(J24>0,H24>0),H24+K24,0) -> 0
C25: =$B$8 -> FC | F25: =D25*E25 -> 0 | G25: =$B$9 -> 0.12345 | H25: =IF(G25<>0,F25/G25,0) -> 0 | K25: =I25*J25 -> 0 | L25: =IF(OR(J25>0,H25>0),H25+K25,0) -> 0
C26: =$B$8 -> FC | F26: =D26*E26 -> 0 | G26: =$B$9 -> 0.12345 | H26: =IF(G26<>0,F26/G26,0) -> 0 | K26: =I26*J26 -> 0 | L26: =IF(OR(J26>0,H26>0),H26+K26,0) -> 0
C27: =$B$8 -> FC | F27: =D27*E27 -> 0 | G27: =$B$9 -> 0.12345 | H27: =IF(G27<>0,F27/G27,0) -> 0 | K27: =I27*J27 -> 0 | L27: =IF(OR(J27>0,H27>0),H27+K27,0) -> 0
C28: =$B$8 -> FC | F28: =D28*E28 -> 0 | G28: =$B$9 -> 0.12345 | H28: =IF(G28<>0,F28/G28,0) -> 0 | K28: =I28*J28 -> 0 | L28: =IF(OR(J28>0,H28>0),H28+K28,0) -> 0
C29: =$B$8 -> FC | F29: =D29*E29 -> 0 | G29: =$B$9 -> 0.12345 | H29: =IF(G29<>0,F29/G29,0) -> 0 | K29: =I29*J29 -> 0 | L29: =IF(OR(J29>0,H29>0),H29+K29,0) -> 0
C30: =$B$8 -> FC | F30: =D30*E30 -> 0 | G30: =$B$9 -> 0.12345 | H30: =IF(G30<>0,F30/G30,0) -> 0 | K30: =I30*J30 -> 0 | L30: =IF(OR(J30>0,H30>0),H30+K30,0) -> 0
... C41: =$B$8 -> FC | F41: =D41*E41 -> 0 | G41: =$B$9 -> 0.12345 | H41: =IF(G41<>0,F41/G41,0) -> 0 | K41: =I41*J41 -> 0 | L41: =IF(OR(J41>0,H41>0),H41+K41,0) -> 0
B43: =+"SUB-TOTAL: "&A16 -> SUB-TOTAL: G6 | F43: =SUM(F16:F42) -> 0 | G43: =$B$9 -> 0.12345 | H43: =SUM(H16:H42) -> 0 | K43: =SUM(K16:K42) -> 0 | L43: =SUM(L16:L42) -> 0

Sheet G7 Options
A1: TENDER PRICE SCHEDULE: VOLUME 1C
A2: (INCLUDING VALUE ADDED TAX)
A3: BIDDER : | B3: ='Bidder Info'!D3 -> Bidder name
A4: RFP: | B4: =Instructions!D7 -> ATNS/HO/TPQ/RFP049/FY23.24/ATFM REPLACEMENT SYSTEM
A5: PROJECT : | B5: =Instructions!$D$8 -> ATFM Replacement
A6: Item Nr: | B6: G7
A7: Item Description: | B7: OPTIONS
A8: Foreign Currancy | B8: ='Bidder Info'!D4 -> FC
A9: ROE: 1R = | B9: ='Bidder Info'!D5 -> 0.12345
C11: Overseas Items | I11: Local Items
A13: Schedule Item Number | B13: Description | C13: Foreign Currency | D13: Quantity | E13: Foreign Amount Unit Cost | F13: Foreign Amount Total Cost | G13: ="ROE: 1R = "&'Bidder Info'!$D$5 -> ROE: 1R = 0.12345 | H13: Total Foreign Cost in Rands | I13: Quantity | J13: Local Amount Unit Cost | K13: Local Amount Total Cost | L13: Total Rands
A16: =B6 -> G7 | B16: =B7 -> OPTIONS
A18: G7.1 | B18: OTHER OPTIONS 1 | F18: =SUM(F19:F25) -> 0 | H18: =SUM(H19:H25) -> 0 | K18: =SUM(K19:K25) -> 0 | L18: =SUM(L19:L25) -> 0
C19: =$B$8 -> FC | F19: =D19*E19 -> 0 | G19: =$B$9 -> 0.12345 | H19: =IF(G19<>0,F19/G19,0) -> 0 | K19: =I19*J19 -> 0 | L19: =IF(OR(J19>0,H19>0),H19+K19,0) -> 0
C20: =$B$8 -> FC | F20: =D20*E20 -> 0 | G20: =$B$9 -> 0.12345 | H20: =IF(G20<>0,F20/G20,0) -> 0 | K20: =I20*J20 -> 0 | L20: =IF(OR(J20>0,H20>0),H20+K20,0) -> 0
C21: =$B$8 -> FC | F21: =D21*E21 -> 0 | G21: =$B$9 -> 0.12345 | H21: =IF(G21<>0,F21/G21,0) -> 0 | K21: =I21*J21 -> 0 | L21: =IF(OR(J21>0,H21>0),H21+K21,0) -> 0
C22: =$B$8 -> FC | F22: =D22*E22 -> 0 | G22: =$B$9 -> 0.12345 | H22: =IF(G22<>0,F22/G22,0) -> 0 | K22: =I22*J22 -> 0 | L22: =IF(OR(J22>0,H22>0),H22+K22,0) -> 0
C23: =$B$8 -> FC | F23: =D23*E23 -> 0 | G23: =$B$9 -> 0.12345 | H23: =IF(G23<>0,F23/G23,0) -> 0 | K23: =I23*J23 -> 0 | L23: =IF(OR(J23>0,H23>0),H23+K23,0) -> 0
C24: =$B$8 -> FC | F24: =D24*E24 -> 0 | G24: =$B$9 -> 0.12345 | H24: =IF(G24<>0,F24/G24,0) -> 0 | K24: =I24*J24 -> 0 | L24: =IF(OR(J24>0,H24>0),H24+K24,0) -> 0
C25: =$B$8 -> FC | F25: =D25*E25 -> 0 | G25: =$B$9 -> 0.12345 | H25: =IF(G25<>0,F25/G25,0) -> 0 | K25: =I25*J25 -> 0 | L25: =IF(OR(J25>0,H25>0),H25+K25,0) -> 0
A27: G7.2 | B27: OTHER OPTIONS 2 | F27: =SUM(F28:F35) -> 0 | H27: =SUM(H28:H35) -> 0 | K27: =SUM(K28:K35) -> 0 | L27: =SUM(L28:L35) -> 0
C28: =$B$8 -> FC | F28: =D28*E28 -> 0 | G28: =$B$9 -> 0.12345 | H28: =IF(G28<>0,F28/G28,0) -> 0 | K28: =I28*J28 -> 0 | L28: =IF(OR(J28>0,H28>0),H28+K28,0) -> 0
C29: =$B$8 -> FC | F29: =D29*E29 -> 0 | G29: =$B$9 -> 0.12345 | H29: =IF(G29<>0,F29/G29,0) -> 0 | K29: =I29*J29 -> 0 | L29: =IF(OR(J29>0,H29>0),H29+K29,0) -> 0
C30: =$B$8 -> FC | F30: =D30*E30 -> 0 | G30: =$B$9 -> 0.12345 | H30: =IF(G30<>0,F30/G30,0) -> 0 | K30: =I30*J30 -> 0 | L30: =IF(OR(J30>0,H30>0),H30+K30,0) -> 0
C31: =$B$8 -> FC | F31: =D31*E31 -> 0 | G31: =$B$9 -> 0.12345 | H31: =IF(G31<>0,F31/G31,0) -> 0 | K31: =I31*J31 -> 0 | L31: =IF(OR(J31>0,H31>0),H31+K31,0) -> 0
C32: =$B$8 -> FC | F32: =D32*E32 -> 0 | G32: =$B$9 -> 0.12345 | H32: =IF(G32<>0,F32/G32,0) -> 0 | K32: =I32*J32 -> 0 | L32: =IF(OR(J32>0,H32>0),H32+K32,0) -> 0
C33: =$B$8 -> FC | F33: =D33*E33 -> 0 | G33: =$B$9 -> 0.12345 | H33: =IF(G33<>0,F33/G33,0) -> 0 | K33: =I33*J33 -> 0 | L33: =IF(OR(J33>0,H33>0),H33+K33,0) -> 0
C34: =$B$8 -> FC | F34: =D34*E34 -> 0 | G34: =$B$9 -> 0.12345 | H34: =IF(G34<>0,F34/G34,0) -> 0 | K34: =I34*J34 -> 0 | L34: =IF(OR(J34>0,H34>0),H34+K34,0) -> 0
A36: G7.3 | B36: OTHER OPTIONS 3 | F36: =SUM(F37:F44) -> 0 | H36: =SUM(H37:H44) -> 0 | K36: =SUM(K37:K44) -> 0 | L36: =SUM(L37:L44) -> 0
C37: =$B$8 -> FC | F37: =D37*E37 -> 0 | G37: =$B$9 -> 0.12345 | H37: =IF(G37<>0,F37/G37,0) -> 0 | K37: =I37*J37 -> 0 | L37: =IF(OR(J37>0,H37>0),H37+K37,0) -> 0
C38: =$B$8 -> FC | F38: =D38*E38 -> 0 | G38: =$B$9 -> 0.12345 | H38: =IF(G38<>0,F38/G38,0) -> 0 | K38: =I38*J38 -> 0 | L38: =IF(OR(J38>0,H38>0),H38+K38,0) -> 0
C39: =$B$8 -> FC | F39: =D39*E39 -> 0 | G39: =$B$9 -> 0.12345 | H39: =IF(G39<>0,F39/G39,0) -> 0 | K39: =I39*J39 -> 0 | L39: =IF(OR(J39>0,H39>0),H39+K39,0) -> 0
C40: =$B$8 -> FC | F40: =D40*E40 -> 0 | G40: =$B$9 -> 0.12345 | H40: =IF(G40<>0,F40/G40,0) -> 0 | K40: =I40*J40 -> 0 | L40: =IF(OR(J40>0,H40>0),H40+K40,0) -> 0
C41: =$B$8 -> FC | F41: =D41*E41 -> 0 | G41: =$B$9 -> 0.12345 | H41: =IF(G41<>0,F41/G41,0) -> 0 | K41: =I41*J41 -> 0 | L41: =IF(OR(J41>0,H41>0),H41+K41,0) -> 0
C42: =$B$8 -> FC | F42: =D42*E42 -> 0 | G42: =$B$9 -> 0.12345 | H42: =IF(G42<>0,F42/G42,0) -> 0 | K42: =I42*J42 -> 0 | L42: =IF(OR(J42>0,H42>0),H42+K42,0) -> 0
C43: =$B$8 -> FC | F43: =D43*E43 -> 0 | G43: =$B$9 -> 0.12345 | H43: =IF(G43<>0,F43/G43,0) -> 0 | K43: =I43*J43 -> 0 | L43: =IF(OR(J43>0,H43>0),H43+K43,0) -> 0
A45: G9.4 | B45: OTHER OPTIONS 4 | F45: =SUM(F46:F53) -> 0 | H45: =SUM(H46:H53) -> 0 | K45: =SUM(K46:K53) -> 0 | L45: =SUM(L46:L53) -> 0
C46: =$B$8 -> FC | F46: =D46*E46 -> 0 | G46: =$B$9 -> 0.12345 | H46: =IF(G46<>0,F46/G46,0) -> 0 | K46: =I46*J46 -> 0 | L46: =IF(OR(J46>0,H46>0),H46+K46,0) -> 0
C47: =$B$8 -> FC | F47: =D47*E47 -> 0 | G47: =$B$9 -> 0.12345 | H47: =IF(G47<>0,F47/G47,0) -> 0 | K47: =I47*J47 -> 0 | L47: =IF(OR(J47>0,H47>0),H47+K47,0) -> 0
C48: =$B$8 -> FC | F48: =D48*E48 -> 0 | G48: =$B$9 -> 0.12345 | H48: =IF(G48<>0,F48/G48,0) -> 0 | K48: =I48*J48 -> 0 | L48: =IF(OR(J48>0,H48>0),H48+K48,0) -> 0
C49: =$B$8 -> FC | F49: =D49*E49 -> 0 | G49: =$B$9 -> 0.12345 | H49: =IF(G49<>0,F49/G49,0) -> 0 | K49: =I49*J49 -> 0 | L49: =IF(OR(J49>0,H49>0),H49+K49,0) -> 0
C50: =$B$8 -> FC | F50: =D50*E50 -> 0 | G50: =$B$9 -> 0.12345 | H50: =IF(G50<>0,F50/G50,0) -> 0 | K50: =I50*J50 -> 0 | L50: =IF(OR(J50>0,H50>0),H50+K50,0) -> 0
C51: =$B$8 -> FC | F51: =D51*E51 -> 0 | G51: =$B$9 -> 0.12345 | H51: =IF(G51<>0,F51/G51,0) -> 0 | K51: =I51*J51 -> 0 | L51: =IF(OR(J51>0,H51>0),H51+K51,0) -> 0
C52: =$B$8 -> FC | F52: =D52*E52 -> 0 | G52: =$B$9 -> 0.12345 | H52: =IF(G52<>0,F52/G52,0) -> 0 | K52: =I52*J52 -> 0 | L52: =IF(OR(J52>0,H52>0),H52+K52,0) -> 0
B54: =+"SUB-TOTAL: "&A16 -> SUB-TOTAL: G7 | F54: =F18+F27+F36+F45 -> 0 | G54: =$B$9 -> 0.12345 | H54: =H18+H27+H36+H45 -> 0 | K54: =K18+K27+K36+K45 -> 0 | L54: =L18+L27+L36+L45 -> 0

Sheet G8 Maintenance Contract
A1: TENDER PRICE SCHEDULE: VOLUME 1C
A2: (INCLUDING VALUE ADDED TAX)
A3: BIDDER: | B3: ='Bidder Info'!D3 -> Bidder name
A4: RFP: | B4: =Instructions!D7 -> ATNS/HO/TPQ/RFP049/FY23.24/ATFM REPLACEMENT SYSTEM
A5: PROJECT : | B5: =Instructions!$D$8 -> ATFM Replacement
A6: Item Nr: | B6: G8
A7: Item Description: | B7: Support Maintenance Contract
A8: Foreign Currancy | B8: ='Bidder Info'!D4 -> FC
A9: ROE: 1R = | B9: ='Bidder Info'!D5 -> 0.12345
C11: Overseas Items | I11: Local Items
A13: Schedule Item Number | B13: Description | C13: Foreign Currency | D13: Quantity | E13: Foreign Amount Unit Cost | F13: Foreign Amount Total Cost | G13: ="ROE: 1R = "&'Bidder Info'!$D$5 -> ROE: 1R = 0.12345 | H13: Total Foreign Cost in Rands | I13: Quantity | J13: Local Amount Unit Cost | K13: Local Amount Total Cost | L13: Total Rands
A16: =B6 -> G8 | B16: =B7 -> Support Maintenance Contract
B17: {Details of the proposed maintenance contract must be included on this price schedule}
A18: Year 1 | C18: =$B$8 -> FC | F18: =D18*E18 -> 0 | G18: =$B$9 -> 0.12345 | H18: =IF(G18<>0,F18/G18,0) -> 0 | K18: =I18*J18 -> 0 | L18: =IF(OR(J18>0,H18>0),H18+K18,0) -> 0
A19: Year 2 | C19: =$B$8 -> FC | F19: =D19*E19 -> 0 | G19: =$B$9 -> 0.12345 | H19: =IF(G19<>0,F19/G19,0) -> 0 | K19: =I19*J19 -> 0 | L19: =IF(OR(J19>0,H19>0),H19+K19,0) -> 0
A20: Year 3 | C20: =$B$8 -> FC | F20: =D20*E20 -> 0 | G20: =$B$9 -> 0.12345 | H20: =IF(G20<>0,F20/G20,0) -> 0 | K20: =I20*J20 -> 0 | L20: =IF(OR(J20>0,H20>0),H20+K20,0) -> 0
A21: Year 4 | C21: =$B$8 -> FC | F21: =D21*E21 -> 0 | G21: =$B$9 -> 0.12345 | H21: =IF(G21<>0,F21/G21,0) -> 0 | K21: =I21*J21 -> 0 | L21: =IF(OR(J21>0,H21>0),H21+K21,0) -> 0
A22: Year 5 | C22: =$B$8 -> FC | F22: =D22*E22 -> 0 | G22: =$B$9 -> 0.12345 | H22: =IF(G22<>0,F22/G22,0) -> 0 | K22: =I22*J22 -> 0 | L22: =IF(OR(J22>0,H22>0),H22+K22,0) -> 0
A23: Year 6 | C23: =$B$8 -> FC | F23: =D23*E23 -> 0 | G23: =$B$9 -> 0.12345 | H23: =IF(G23<>0,F23/G23,0) -> 0 | K23: =I23*J23 -> 0 | L23: =IF(OR(J23>0,H23>0),H23+K23,0) -> 0
A24: Year 7 | C24: =$B$8 -> FC | F24: =D24*E24 -> 0 | G24: =$B$9 -> 0.12345 | H24: =IF(G24<>0,F24/G24,0) -> 0 | K24: =I24*J24 -> 0 | L24: =IF(OR(J24>0,H24>0),H24+K24,0) -> 0
A25: Year 8 | C25: =$B$8 -> FC | F25: =D25*E25 -> 0 | G25: =$B$9 -> 0.12345 | H25: =IF(G25<>0,F25/G25,0) -> 0 | K25: =I25*J25 -> 0 | L25: =IF(OR(J25>0,H25>0),H25+K25,0) -> 0
A26: Year 9 | C26: =$B$8 -> FC | F26: =D26*E26 -> 0 | G26: =$B$9 -> 0.12345 | H26: =IF(G26<>0,F26/G26,0) -> 0 | K26: =I26*J26 -> 0 | L26: =IF(OR(J26>0,H26>0),H26+K26,0) -> 0
A27: Year 10 | C27: =$B$8 -> FC | F27: =D27*E27 -> 0 | G27: =$B$9 -> 0.12345 | H27: =IF(G27<>0,F27/G27,0) -> 0 | K27: =I27*J27 -> 0 | L27: =IF(OR(J27>0,H27>0),H27+K27,0) -> 0
C28: =$B$8 -> FC | F28: =D28*E28 -> 0 | G28: =$B$9 -> 0.12345 | H28: =IF(G28<>0,F28/G28,0) -> 0 | K28: =I28*J28 -> 0 | L28: =IF(OR(J28>0,H28>0),H28+K28,0) -> 0
C29: =$B$8 -> FC | F29: =D29*E29 -> 0 | G29: =$B$9 -> 0.12345 | H29: =IF(G29<>0,F29/G29,0) -> 0 | K29: =I29*J29 -> 0 | L29: =IF(OR(J29>0,H29>0),H29+K29,0) -> 0
C30: =$B$8 -> FC | F30: =D30*E30 -> 0 | G30: =$B$9 -> 0.12345 | H30: =IF(G30<>0,F30/G30,0) -> 0 | K30: =I30*J30 -> 0 | L30: =IF(OR(J30>0,H30>0),H30+K30,0) -> 0
C31: =$B$8 -> FC | F31: =D31*E31 -> 0 | G31: =$B$9 -> 0.12345 | H31: =IF(G31<>0,F31/G31,0) -> 0 | K31: =I31*J31 -> 0 | L31: =IF(OR(J31>0,H31>0),H31+K31,0) -> 0
C32: =$B$8 -> FC | F32: =D32*E32 -> 0 | G32: =$B$9 -> 0.12345 | H32: =IF(G32<>0,F32/G32,0) -> 0 | K32: =I32*J32 -> 0 | L32: =IF(OR(J32>0,H32>0),H32+K32,0) -> 0
C33: =$B$8 -> FC | F33: =D33*E33 -> 0 | G33: =$B$9 -> 0.12345 | H33: =IF(G33<>0,F33/G33,0) -> 0 | K33: =I33*J33 -> 0 | L33: =IF(OR(J33>0,H33>0),H33+K33,0) -> 0
C34: =$B$8 -> FC | F34: =D34*E34 -> 0 | G34: =$B$9 -> 0.12345 | H34: =IF(G34<>0,F34/G34,0) -> 0 | K34: =I34*J34 -> 0 | L34: =IF(OR(J34>0,H34>0),H34+K34,0) -> 0
C35: =$B$8 -> FC | F35: =D35*E35 -> 0 | G35: =$B$9 -> 0.12345 | H35: =IF(G35<>0,F35/G35,0) -> 0 | K35: =I35*J35 -> 0 | L35: =IF(OR(J35>0,H35>0),H35+K35,0) -> 0
C36: =$B$8 -> FC | F36: =D36*E36 -> 0 | G36: =$B$9 -> 0.12345 | H36: =IF(G36<>0,F36/G36,0) -> 0 | K36: =I36*J36 -> 0 | L36: =IF(OR(J36>0,H36>0),H36+K36,0) -> 0
C37: =$B$8 -> FC | F37: =D37*E37 -> 0 | G37: =$B$9 -> 0.12345 | H37: =IF(G37<>0,F37/G37,0) -> 0 | K37: =I37*J37 -> 0 | L37: =IF(OR(J37>0,H37>0),H37+K37,0) -> 0
C38: =$B$8 -> FC | F38: =D38*E38 -> 0 | G38: =$B$9 -> 0.12345 | H38: =IF(G38<>0,F38/G38,0) -> 0 | K38: =I38*J38 -> 0 | L38: =IF(OR(J38>0,H38>0),H38+K38,0) -> 0
C39: =$B$8 -> FC | F39: =D39*E39 -> 0 | G39: =$B$9 -> 0.12345 | H39: =IF(G39<>0,F39/G39,0) -> 0 | K39: =I39*J39 -> 0 | L39: =IF(OR(J39>0,H39>0),H39+K39,0) -> 0
C40: =$B$8 -> FC | F40: =D40*E40 -> 0 | G40: =$B$9 -> 0.12345 | H40: =IF(G40<>0,F40/G40,0) -> 0 | K40: =I40*J40 -> 0 | L40: =IF(OR(J40>0,H40>0),H40+K40,0) -> 0
B42: =+"SUB-TOTAL: "&A16 -> SUB-TOTAL: G8 | F42: =SUM(F16:F41) -> 0 | H42: =SUM(H16:H41) -> 0 | K42: =SUM(K16:K41) -> 0 | L42: =SUM(L16:L41) -> 0
