Workbook

Sheet Instructions
C3: BIDDER: | D3: ='Bidder Info'!C3 -> Bidder :
C4: Foreign Currency: | D4: ='Bidder Info'!D4 -> FC
C5: ROE: 1R= | D5: ='Bidder Info'!D5 -> 0.12345
C6: Date: | D6: ='Bidder Info'!D6 -> 45313
C7: RFP: | D7: ATNS/HO/TPQ/RFP049/FY23.24/ATFM REPLACEMENT SYSTEM
C8: Project Name: | D8: ATFM Replacement
C11: Bidders shall complete the required information on the "Bidder Info" sheet.
C12: All prices shall include Value Added Tax.
C13: All sheets shall be completed by the Bidder, except for "G1 SUMMARY" that will automatically update with the totals from the other sheets.
C14: Cells with a light grey background contains formulas and fixed information and should not be changed.
C15: Cells with a dark grey background contains fixed information, headings and formulas that must not be changed.
C17: This file contains the following sheets:
C18: Bidder Info | D18: Bidder supplied information to be used in subsequent sheets.
C19: G1 SUMMARY | D19: Summary of all sheets.
C20: G2_1 Software | D20: Softyware costs
C21: G2_2 EQ | D21: Equipment costs.
C22: G3 PMP | D22: Overall project management and associated costs.
C23: G4 ILS | D23: Overall logistic support and associated costs.
C24: G5_1 Spares | D24: Offered spares cost per equipment type
C25: G5_2 Test Equipment | D25: Test equipment cost
C26: G5_0 LRU List | D26: List of all LRU items and costs.
C27: G6 Miscellaneous | D27: All miscellaneous items costs
C28: G7 Options | D28: All optional items and proposals costs
C29: G8 Maintenance Contract | D29: Maintenance contract cost
C32: The total offered spares cost per equipment type shall be captured on "G5_1 Spares", while the details LRU (spares) list with costing shall be captured on "G5_0 Spares" for each equipment type.
C34: Complete columns D,E,I & J on the relevant sheets and the formula's will automatically calculate the totals.

Sheet Bidder Info
C3: Bidder : | D3: Bidder name | E3: "{Include name of Bidder}
C4: Foreign Currency: | D4: FC | E4: "{Include the foreign currency}
C5: ROE: 1R= | D5: 0.12345 | E5: "{Include the quoted exchange rate}
C6: Date: | D6: 45313 | E6: "{Include the bid submission date}
C9: Do not change cells with grey background.

Sheet G1 SUMMARY
A1: TENDER PRICE SCHEDULE: APPENDIX G1
A2: (INCLUDING VALUE ADDED TAX)
A3: BIDDER : | B3: ='Bidder Info'!D3 -> Bidder name
A4: RFP: | B4: =Instructions!D7 -> ATNS/HO/TPQ/RFP049/FY23.24/ATFM REPLACEMENT SYSTEM
A5: Project Name: | B5: =Instructions!$D$8 -> ATFM Replacement
C7: Overseas Items | F7: Local Items
A9: Schedule Item Number | B9: Description | C9: Foreign Amount Total Cost | D9: ="ROE: 1R = "&'Bidder Info'!$D$5 -> ROE: 1R = 0.12345 | E9: Total Foreign Cost in Rands | F9: Local Amount Total Cost | G9: Total Rands
A14: G2 | B14: SYSTEM
A15: G2.1 | B15: ='G2_1 Software'!B7 -> System Software | C15: ='G2_1 Software'!F63 -> 0 | D15: ='G2_1 Software'!B9 -> 0.12345 | E15: ='G2_1 Software'!H63 -> 0 | F15: ='G2_1 Software'!K63 -> 0 | G15: ='G2_1 Software'!L63 -> 0
A16: G2.2 | B16: ='G2_2 EQ'!B7 -> Equipment | C16: ='G2_2 EQ'!F63 -> 0 | D16: ='G2_2 EQ'!B9 -> 0.12345 | E16: ='G2_2 EQ'!H63 -> 0 | F16: ='G2_2 EQ'!K63 -> 0 | G16: ='G2_2 EQ'!L63 -> 0
B18: SERVICES
A19: G3 | B19: ='G3 PMP'!B7 -> Project Management | C19: ='G3 PMP'!F57 -> 0 | D19: ='G3 PMP'!G57 -> 0.12345 | E19: ='G3 PMP'!H57 -> 0 | F19: ='G3 PMP'!K57 -> 0 | G19: ='G3 PMP'!L57 -> 0
A20: G4 | B20: ='G4 ILS'!B7 -> Integrated Logistic Support | C20: ='G4 ILS'!F58 -> 0 | D20: ='G4 ILS'!G58 -> 0.12345 | E20: ='G4 ILS'!H58 -> 0 | F20: ='G4 ILS'!K58 -> 0 | G20: ='G4 ILS'!L58 -> 0
A22: G5 | B22: SPARES & TEST EQUIPMENT
A23: G5.1 | B23: ='G5_1 Spares'!B7 -> Offered Spares | C23: ='G5_1 Spares'!F56 -> 0 | D23: ='G5_1 Spares'!G56 -> 0.12345 | E23: ='G5_1 Spares'!H56 -> 0 | F23: ='G5_1 Spares'!K56 -> 0 | G23: ='G5_1 Spares'!L56 -> 0
A24: G5.2 | B24: ='G5_2 Test Equipment'!B7 -> Test Equipment | C24: ='G5_2 Test Equipment'!F43 -> 0 | D24: ='G5_2 Test Equipment'!G43 -> 0.12345 | E24: ='G5_2 Test Equipment'!H43 -> 0 | F24: ='G5_2 Test Equipment'!K43 -> 0 | G24: ='G5_2 Test Equipment'!L43 -> 0
A26: G6 | B26: MISCELLANEOUS | C26: ='G6 Miscellaneous'!F43 -> 0 | D26: ='G6 Miscellaneous'!G43 -> 0.12345 | E26: ='G6 Miscellaneous'!H43 -> 0 | F26: ='G6 Miscellaneous'!K43 -> 0 | G26: ='G6 Miscellaneous'!L43 -> 0
B28: TOTAL: | C28: =SUM(C12:C27) -> 0 | E28: =SUM(E12:E27) -> 0 | F28: =SUM(F12:F27) -> 0 | G28: =SUM(G12:G27) -> 0
A30: G8 | B30: MAINTENANCE CONTRACT | C30: ='G8 Maintenance Contract'!F42 -> 0 | D30: ='G8 Maintenance Contract'!G42 -> 0 | E30: ='G8 Maintenance Contract'!H42 -> 0 | F30: ='G8 Maintenance Contract'!K42 -> 0 | G30: ='G8 Maintenance Contract'!L42 -> 0
B32: GRAND TOTAL: | C32: =C28+C30 -> 0 | D32: =D28+D30 -> 0 | E32: =E28+E30 -> 0 | F32: =F28+F30 -> 0 | G32: =G28+G30 -> 0
A34: G7 | B34: OPTIONS
A35: G7.1 | B35: ='G7 Options'!B18 -> OTHER OPTIONS 1 | C35: ='G7 Options'!F18 -> 0 | D35: ='G7 Options'!G18 -> 0 | E35: ='G7 Options'!H18 -> 0 | F35: ='G7 Options'!K18 -> 0 | G35: ='G7 Options'!L18 -> 0
A36: G7.2 | B36: ='G7 Options'!B27 -> OTHER OPTIONS 2 | C36: ='G7 Options'!F27 -> 0 | D36: ='G7 Options'!G27 -> 0 | E36: ='G7 Options'!H27 -> 0 | F36: ='G7 Options'!K27 -> 0 | G36: ='G7 Options'!L27 -> 0
A37: G7.3 | B37: ='G7 Options'!B36 -> OTHER OPTIONS 3 | C37: ='G7 Options'!F36 -> 0 | D37: ='G7 Options'!G36 -> 0 | E37: ='G7 Options'!H36 -> 0 | F37: ='G7 Options'!K36 -> 0 | G37: ='G7 Options'!L36 -> 0
B39: Options Total | C39: ='G7 Options'!F$54 -> 0 | D39: ='G7 Options'!G$54 -> 0.12345 | E39: ='G7 Options'!H$54 -> 0 | F39: ='G7 Options'!K$54 -> 0 | G39: ='G7 Options'!L$54 -> 0
B42: GRAND TOTAL (Including Options): | C42: =C32+C39 -> 0 | E42: =E32+E39 -> 0 | F42: =F32+F39 -> 0 | G42: =G32+G39 -> 0

Sheet G2_1 Software
A1: TENDER PRICE SCHEDULE: VOLUME 1C
A2: (INCLUDING VALUE ADDED TAX)
A3: BIDDER : | B3: ='Bidder Info'!D3 -> Bidder name
A4: RFP: | B4: =Instructions!D7 -> ATNS/HO/TPQ/RFP049/FY23.24/ATFM REPLACEMENT SYSTEM
A5: PROJECT : | B5: =Instructions!$D$8 -> ATFM Replacement
A6: Item Nr: | B6: G2.1
A7: Item Description: | B7: System Software
A8: Foreign Currancy | B8: ='Bidder Info'!D4 -> FC
A9: ROE: 1R = | B9: ='Bidder Info'!D5 -> 0.12345
C11: Overseas Items | I11: Local Items
A13: Schedule Item Number | B13: Description | C13: Foreign Currency | D13: Quantity | E13: Foreign Amount Unit Cost | F13: Foreign Amount Total Cost | G13: ="ROE: 1R = "&'Bidder Info'!$D$5 -> ROE: 1R = 0.12345 | H13: Total Foreign Cost in Rands | I13: Quantity | J13: Local Amount Unit Cost | K13: Local Amount Total Cost | L13: Total Rands
A16: =$B$6&".1" -> G2.1.1 | B16: Main System
B17: Operating Software | C17: =$B$8 -> FC | F17: =D17*E17 -> 0 | G17: =$B$9 -> 0.12345 | H17: =IF(G17<>0,F17/G17,0) -> 0 | K17: =I17*J17 -> 0 | L17: =IF(OR(J17>0,H17>0),H17+K17,0) -> 0
B18: Application Software | C18: =$B$8 -> FC | F18: =D18*E18 -> 0 | G18: =$B$9 -> 0.12345 | H18: =IF(G18<>0,F18/G18,0) -> 0 | K18: =I18*J18 -> 0 | L18: =IF(OR(J18>0,H18>0),H18+K18,0) -> 0
B19: ..list other. | C19: =$B$8 -> FC | F19: =D19*E19 -> 0 | G19: =$B$9 -> 0.12345 | H19: =IF(G19<>0,F19/G19,0) -> 0 | K19: =I19*J19 -> 0 | L19: =IF(OR(J19>0,H19>0),H19+K19,0) -> 0
C20: =$B$8 -> FC | F20: =D20*E20 -> 0 | G20: =$B$9 -> 0.12345 | H20: =IF(G20<>0,F20/G20,0) -> 0 | K20: =I20*J20 -> 0 | L20: =IF(OR(J20>0,H20>0),H20+K20,0) -> 0
C21: =$B$8 -> FC | F21: =D21*E21 -> 0 | G21: =$B$9 -> 0.12345 | H21: =IF(G21<>0,F21/G21,0) -> 0 | K21: =I21*J21 -> 0 | L21: =IF(OR(J21>0,H21>0),H21+K21,0) -> 0
C22: =$B$8 -> FC | F22: =D22*E22 -> 0 | G22: =$B$9 -> 0.12345 | H22: =IF(G22<>0,F22/G22,0) -> 0 | K22: =I22*J22 -> 0 | L22: =IF(OR(J22>0,H22>0),H22+K22,0) -> 0
C23: =$B$8 -> FC | F23: =D23*E23 -> 0 | G23: =$B$9 -> 0.12345 | H23: =IF(G23<>0,F23/G23,0) -> 0 | K23: =I23*J23 -> 0 | L23: =IF(OR(J23>0,H23>0),H23+K23,0) -> 0
A24: =$B$6&".2" -> G2.1.2 | B24: Operator and User Software
B25: Operating Software | C25: =$B$8 -> FC | F25: =D25*E25 -> 0 | G25: =$B$9 -> 0.12345 | H25: =IF(G25<>0,F25/G25,0) -> 0 | K25: =I25*J25 -> 0 | L25: =IF(OR(J25>0,H25>0),H25+K25,0) -> 0
B26: Application Software | C26: =$B$8 -> FC | F26: =D26*E26 -> 0 | G26: =$B$9 -> 0.12345 | H26: =IF(G26<>0,F26/G26,0) -> 0 | K26: =I26*J26 -> 0 | L26: =IF(OR(J26>0,H26>0),H26+K26,0) -> 0
B27: ..list other. | C27: =$B$8 -> FC | F27: =D27*E27 -> 0 | G27: =$B$9 -> 0.12345 | H27: =IF(G27<>0,F27/G27,0) -> 0 | K27: =I27*J27 -> 0 | L27: =IF(OR(J27>0,H27>0),H27+K27,0) -> 0
C28: =$B$8 -> FC | F28: =D28*E28 -> 0 | G28: =$B$9 -> 0.12345 | H28: =IF(G28<>0,F28/G28,0) -> 0 | K28: =I28*J28 -> 0 | L28: =IF(OR(J28>0,H28>0),H28+K28,0) -> 0
C29: =$B$8 -> FC | F29: =D29*E29 -> 0 | G29: =$B$9 -> 0.12345 | H29: =IF(G29<>0,F29/G29,0) -> 0 | K29: =I29*J29 -> 0 | L29: =IF(OR(J29>0,H29>0),H29+K29,0) -> 0
C30: =$B$8 -> FC | F30: =D30*E30 -> 0 | G30: =$B$9 -> 0.12345 | H30: =IF(G30<>0,F30/G30,0) -> 0 | K30: =I30*J30 -> 0 | L30: =IF(OR(J30>0,H30>0),H30+K30,0) -> 0
C31: =$B$8 -> FC | F31: =D31*E31 -> 0 | G31: =$B$9 -> 0.12345 | H31: =IF(G31<>0,F31/G31,0) -> 0 | K31: =I31*J31 -> 0 | L31: =IF(OR(J31>0,H31>0),H31+K31,0) -> 0
A32: =$B$6&".3" -> G2.1.3 | B32: Training and Evaluation System
B33: Operating Software | C33: =$B$8 -> FC | F33: =D33*E33 -> 0 | G33: =$B$9 -> 0.12345 | H33: =IF(G33<>0,F33/G33,0) -> 0 | K33: =I33*J33 -> 0 | L33: =IF(OR(J33>0,H33>0),H33+K33,0) -> 0
B34: Application Software | C34: =$B$8 -> FC | F34: =D34*E34 -> 0 | G34: =$B$9 -> 0.12345 | H34: =IF(G34<>0,F34/G34,0) -> 0 | K34: =I34*J34 -> 0 | L34: =IF(OR(J34>0,H34>0),H34+K34,0) -> 0
B35: ..list other. | C35: =$B$8 -> FC | F35: =D35*E35 -> 0 | G35: =$B$9 -> 0.12345 | H35: =IF(G35<>0,F35/G35,0) -> 0 | K35: =I35*J35 -> 0 | L35: =IF(OR(J35>0,H35>0),H35+K35,0) -> 0
C36: =$B$8 -> FC | F36: =D36*E36 -> 0 | G36: =$B$9 -> 0.12345 | H36: =IF(G36<>0,F36/G36,0) -> 0 | K36: =I36*J36 -> 0 | L36: =IF(OR(J36>0,H36>0),H36+K36,0) -> 0
C37: =$B$8 -> FC | F37: =D37*E37 -> 0 | G37: =$B$9 -> 0.12345 | H37: =IF(G37<>0,F37/G37,0) -> 0 | K37: =I37*J37 -> 0 | L37: =IF(OR(J37>0,H37>0),H37+K37,0) -> 0
C38: =$B$8 -> FC | F38: =D38*E38 -> 0 | G38: =$B$9 -> 0.12345 | H38: =IF(G38<>0,F38/G38,0) -> 0 | K38: =I38*J38 -> 0 | L38: =IF(OR(J38>0,H38>0),H38+K38,0) -> 0
C39: =$B$8 -> FC | F39: =D39*E39 -> 0 | G39: =$B$9 -> 0.12345 | H39: =IF(G39<>0,F39/G39,0) -> 0 | K39: =I39*J39 -> 0 | L39: =IF(OR(J39>0,H39>0),H39+K39,0) -> 0
A40: =$B$6&".4" -> G2.1.4 | B40: Other
B41: ..list other. | C41: =$B$8 -> FC | F41: =D41*E41 -> 0 | G41: =$B$9 -> 0.12345 | H41: =IF(G41<>0,F41/G41,0) -> 0 | K41: =I41*J41 -> 0 | L41: =IF(OR(J41>0,H41>0),H41+K41,0) -> 0
C42: =$B$8 -> FC | F42: =D42*E42 -> 0 | G42: =$B$9 -> 0.12345 | H42: =IF(G42<>0,F42/G42,0) -> 0 | K42: =I42*J42 -> 0 | L42: =IF(OR(J42>0,H42>0),H42+K42,0) -> 0
C43: =$B$8 -> FC | F43: =D43*E43 -> 0 | G43: =$B$9 -> 0.12345 | H43: =IF(G43<>0,F43/G43,0) -> 0 | K43: =I43*J43 -> 0 | L43: =IF(OR(J43>0,H43>0),H43+K43,0) -> 0
C44: =$B$8 -> FC | F44: =D44*E44 -> 0 | G44: =$B$9 -> 0.12345 | H44: =IF(G44<>0,F44/G44,0) -> 0 | K44: =I44*J44 -> 0 | L44: =IF(OR(J44>0,H44>0),H44+K44,0) -> 0
...

Sheet G2_2 EQ
A1: TENDER PRICE SCHEDULE: VOLUME 1C
A2: (INCLUDING VALUE ADDED TAX)
A3: BIDDER : | B3: ='Bidder Info'!D3 -> Bidder name
A4: RFP: | B4: =Instructions!D7 -> ATNS/HO/TPQ/RFP049/FY23.24/ATFM REPLACEMENT SYSTEM
A5: PROJECT : | B5: =Instructions!$D$8 -> ATFM Replacement
A6: Item Nr: | B6: G2.2
A7: Item Description: | B7: Equipment
A8: Foreign Currancy | B8: ='Bidder Info'!D4 -> FC
A9: ROE: 1R = | B9: ='Bidder Info'!D5 -> 0.12345
C11: Overseas Items | I11: Local Items
A13: Schedule Item Number | B13: Description | C13: Foreign Currency | D13: Quantity | E13: Foreign Amount Unit Cost | F13: Foreign Amount Total Cost | G13: ="ROE: 1R = "&'Bidder Info'!$D$5 -> ROE: 1R = 0.12345 | H13: Total Foreign Cost in Rands | I13: Quantity | J13: Local Amount Unit Cost | K13: Local Amount Total Cost | L13: Total Rands
A16: =$B$6&".1" -> G2.2.1 | B16: Main System
B17: Servers | C17: =$B$8 -> FC | F17: =D17*E17 -> 0 | G17: =$B$9 -> 0.12345 | H17: =IF(G17<>0,F17/G17,0) -> 0 | K17: =I17*J17 -> 0 | L17: =IF(OR(J17>0,H17>0),H17+K17,0) -> 0
B18: Cabinets | C18: =$B$8 -> FC | F18: =D18*E18 -> 0 | G18: =$B$9 -> 0.12345 | H18: =IF(G18<>0,F18/G18,0) -> 0 | K18: =I18*J18 -> 0 | L18: =IF(OR(J18>0,H18>0),H18+K18,0) -> 0
B19: Operator Workstations | C19: =$B$8 -> FC | F19: =D19*E19 -> 0 | G19: =$B$9 -> 0.12345 | H19: =IF(G19<>0,F19/G19,0) -> 0 | K19: =I19*J19 -> 0 | L19: =IF(OR(J19>0,H19>0),H19+K19,0) -> 0
B20: Auxillary (Keyboard, mouse etc.) | C20: =$B$8 -> FC | F20: =D20*E20 -> 0 | G20: =$B$9 -> 0.12345 | H20: =IF(G20<>0,F20/G20,0) -> 0 | K20: =I20*J20 -> 0 | L20: =IF(OR(J20>0,H20>0),H20+K20,0) -> 0
B21: Installation material | C21: =$B$8 -> FC | F21: =D21*E21 -> 0 | G21: =$B$9 -> 0.12345 | H21: =IF(G21<>0,F21/G21,0) -> 0 | K21: =I21*J21 -> 0 | L21: =IF(OR(J21>0,H21>0),H21+K21,0) -> 0
C22: =$B$8 -> FC | F22: =D22*E22 -> 0 | G22: =$B$9 -> 0.12345 | H22: =IF(G22<>0,F22/G22,0) -> 0 | K22: =I22*J22 -> 0 | L22: =IF(OR(J22>0,H22>0),H22+K22,0) -> 0
C23: =$B$8 -> FC | F23: =D23*E23 -> 0 | G23: =$B$9 -> 0.12345 | H23: =IF(G23<>0,F23/G23,0) -> 0 | K23: =I23*J23 -> 0 | L23: =IF(OR(J23>0,H23>0),H23+K23,0) -> 0
A24: =$B$6&".2" -> G2.2.2 | B24: D&R System
B25: Servers | C25: =$B$8 -> FC | F25: =D25*E25 -> 0 | G25: =$B$9 -> 0.12345 | H25: =IF(G25<>0,F25/G25,0) -> 0 | K25: =I25*J25 -> 0 | L25: =IF(OR(J25>0,H25>0),H25+K25,0) -> 0
B26: Cabinets | C26: =$B$8 -> FC | F26: =D26*E26 -> 0 | G26: =$B$9 -> 0.12345 | H26: =IF(G26<>0,F26/G26,0) -> 0 | K26: =I26*J26 -> 0 | L26: =IF(OR(J26>0,H26>0),H26+K26,0) -> 0
B27: Operator Workstations | C27: =$B$8 -> FC | F27: =D27*E27 -> 0 | G27: =$B$9 -> 0.12345 | H27: =IF(G27<>0,F27/G27,0) -> 0 | K27: =I27*J27 -> 0 | L27: =IF(OR(J27>0,H27>0),H27+K27,0) -> 0
B28: Auxillary (Keyboard, mouse etc.) | C28: =$B$8 -> FC | F28: =D28*E28 -> 0 | G28: =$B$9 -> 0.12345 | H28: =IF(G28<>0,F28/G28,0) -> 0 | K28: =I28*J28 -> 0 | L28: =IF(OR(J28>0,H28>0),H28+K28,0) -> 0
B29: Installation material | C29: =$B$8 -> FC | F29: =D29*E29 -> 0 | G29: =$B$9 -> 0.12345 | H29: =IF(G29<>0,F29/G29,0) -> 0 | K29: =I29*J29 -> 0 | L29: =IF(OR(J29>0,H29>0),H29+K29,0) -> 0
C30: =$B$8 -> FC | F30: =D30*E30 -> 0 | G30: =$B$9 -> 0.12345 | H30: =IF(G30<>0,F30/G30,0) -> 0 | K30: =I30*J30 -> 0 | L30: =IF(OR(J30>0,H30>0),H30+K30,0) -> 0
C31: =$B$8 -> FC | F31: =D31*E31 -> 0 | G31: =$B$9 -> 0.12345 | H31: =IF(G31<>0,F31/G31,0) -> 0 | K31: =I31*J31 -> 0 | L31: =IF(OR(J31>0,H31>0),H31+K31,0) -> 0
A32: =$B$6&".3" -> G2.2.3 | B32: Training and Evaluation System
B33: Servers | C33: =$B$8 -> FC | F33: =D33*E33 -> 0 | G33: =$B$9 -> 0.12345 | H33: =IF(G33<>0,F33/G33,0) -> 0 | K33: =I33*J33 -> 0 | L33: =IF(OR(J33>0,H33>0),H33+K33,0) -> 0
B34: Cabinets | C34: =$B$8 -> FC | F34: =D34*E34 -> 0 | G34: =$B$9 -> 0.12345 | H34: =IF(G34<>0,F34/G34,0) -> 0 | K34: =I34*J34 -> 0 | L34: =IF(OR(J34>0,H34>0),H34+K34,0) -> 0
B35: Operator Workstations | C35: =$B$8 -> FC | F35: =D35*E35 -> 0 | G35: =$B$9 -> 0.12345 | H35: =IF(G35<>0,F35/G35,0) -> 0 | K35: =I35*J35 -> 0 | L35: =IF(OR(J35>0,H35>0),H35+K35,0) -> 0
B36: Auxillary (Keyboard, mouse etc.) | C36: =$B$8 -> FC | F36: =D36*E36 -> 0 | G36: =$B$9 -> 0.12345 | H36: =IF(G36<>0,F36/G36,0) -> 0 | K36: =I36*J36 -> 0 | L36: =IF(OR(J36>0,H36>0),H36+K36,0) -> 0
B37: Installation material | C37: =$B$8 -> FC | F37: =D37*E37 -> 0 | G37: =$B$9 -> 0.12345 | H37: =IF(G37<>0,F37/G37,0) -> 0 | K37: =I37*J37 -> 0 | L37: =IF(OR(J37>0,H37>0),H37+K37,0) -> 0
C38: =$B$8 -> FC | F38: =D38*E38 -> 0 | G38: =$B$9 -> 0.12345 | H38: =IF(G38<>0,F38/G38,0) -> 0 | K38: =I38*J38 -> 0 | L38: =IF(OR(J38>0,H38>0),H38+K38,0) -> 0
C39: =$B$8 -> FC | F39: =D39*E39 -> 0 | G39: =$B$9 -> 0.12345 | H39: =IF(G39<>0,F39/G39,0) -> 0 | K39: =I39*J39 -> 0 | L39: =IF(OR(J39>0,H39>0),H39+K39,0) -> 0
A40: =$B$6&".4" -> G2.2.4 | B40: Other System
B41: Backup SAN | C41: =$B$8 -> FC | F41: =D41*E41 -> 0 | G41: =$B$9 -> 0.12345 | H41: =IF(G41<>0,F41/G41,0) -> 0 | K41: =I41*J41 -> 0 | L41: =IF(OR(J41>0,H41>0),H41+K41,0) -> 0
B42: NTP Server | C42: =$B$8 -> FC | F42: =D42*E42 -> 0 | G42: =$B$9 -> 0.12345 | H42: =IF(G42<>0,F42/G42,0) -> 0 | K42: =I42*J42 -> 0 | L42: =IF(OR(J42>0,H42>0),H42+K42,0) -> 0
B43: Network Switches and Routers | C43: =$B$8 -> FC | F43: =D43*E43 -> 0 | G43: =$B$9 -> 0.12345 | H43: =IF(G43<>0,F43/G43,0) -> 0 | K43: =I43*J43 -> 0 | L43: =IF(OR(J43>0,H43>0),H43+K43,0) -> 0
B44: Installation material | C44: =$B$8 -> FC | F44: =D44*E44 -> 0 | G44: =$B$9 -> 0.12345 | H44: =IF(G44<>0,F44/G44,0) -> 0 | K44: =I44*J44 -> 0 | L44: =IF(OR(J44>0,H44>0),H44+K44,0) -> 0
...

Sheet G3 PMP
A1: TENDER PRICE SCHEDULE: VOLUME 1C
A2: (INCLUDING VALUE ADDED TAX)
A3: BIDDER : | B3: ='Bidder Info'!D3 -> Bidder name
A4: RFP: | B4: =Instructions!D7 -> ATNS/HO/TPQ/RFP049/FY23.24/ATFM REPLACEMENT SYSTEM
A5: PROJECT : | B5: =Instructions!$D$8 -> ATFM Replacement
A6: Item Nr: | B6: G3
A7: Item Description: | B7: Project Management
A8: Foreign Currancy | B8: ='Bidder Info'!D4 -> FC
A9: ROE: 1R = | B9: ='Bidder Info'!D5 -> 0.12345
C11: Overseas Items | I11: Local Items
A13: Schedule Item Number | B13: Description | C13: Foreign Currency | D13: Quantity | E13: Foreign Amount Unit Cost | F13: Foreign Amount Total Cost | G13: ="ROE: 1R = "&'Bidder Info'!$D$5 -> ROE: 1R = 0.12345 | H13: Total Foreign Cost in Rands | I13: Quantity | J13: Local Amount Unit Cost | K13: Local Amount Total Cost | L13: Total Rands
A16: =B6 -> G3 | B16: =B7 -> Project Management
B17: {All project Management items, with at least the following items}
A19: 3.1 | B19: Documents
B20: Project Management Plan | C20: =$B$8 -> FC | F20: =D20*E20 -> 0 | G20: =$B$9 -> 0.12345 | H20: =IF(G20<>0,F20/G20,0) -> 0 | K20: =I20*J20 -> 0 | L20: =IF(OR(J20>0,H20>0),H20+K20,0) -> 0
B21: Test and Evaluation Master Plan | C21: =$B$8 -> FC | F21: =D21*E21 -> 0 | G21: =$B$9 -> 0.12345 | H21: =IF(G21<>0,F21/G21,0) -> 0 | K21: =I21*J21 -> 0 | L21: =IF(OR(J21>0,H21>0),H21+K21,0) -> 0
B22: Installation, Transition and Commissioning Plan | C22: =$B$8 -> FC | F22: =D22*E22 -> 0 | G22: =$B$9 -> 0.12345 | H22: =IF(G22<>0,F22/G22,0) -> 0 | K22: =I22*J22 -> 0 | L22: =IF(OR(J22>0,H22>0),H22+K22,0) -> 0
B23: Risk Management Plan | C23: =$B$8 -> FC | F23: =D23*E23 -> 0 | G23: =$B$9 -> 0.12345 | H23: =IF(G23<>0,F23/G23,0) -> 0 | K23: =I23*J23 -> 0 | L23: =IF(OR(J23>0,H23>0),H23+K23,0) -> 0
B24: Quality Assurance Plan | C24: =$B$8 -> FC | F24: =D24*E24 -> 0 | G24: =$B$9 -> 0.12345 | H24: =IF(G24<>0,F24/G24,0) -> 0 | K24: =I24*J24 -> 0 | L24: =IF(OR(J24>0,H24>0),H24+K24,0) -> 0
B25: Resource Allocation Plan | C25: =$B$8 -> FC | F25: =D25*E25 -> 0 | G25: =$B$9 -> 0.12345 | H25: =IF(G25<>0,F25/G25,0) -> 0 | K25: =I25*J25 -> 0 | L25: =IF(OR(J25>0,H25>0),H25+K25,0) -> 0
C26: =$B$8 -> FC | F26: =D26*E26 -> 0 | G26: =$B$9 -> 0.12345 | H26: =IF(G26<>0,F26/G26,0) -> 0 | K26: =I26*J26 -> 0 | L26: =IF(OR(J26>0,H26>0),H26+K26,0) -> 0
C27: =$B$8 -> FC | F27: =D27*E27 -> 0 | G27: =$B$9 -> 0.12345 | H27: =IF(G27<>0,F27/G27,0) -> 0 | K27: =I27*J27 -> 0 | L27: =IF(OR(J27>0,H27>0),H27+K27,0) -> 0
C28: =$B$8 -> FC | F28: =D28*E28 -> 0 | G28: =$B$9 -> 0.12345 | H28: =IF(G28<>0,F28/G28,0) -> 0 | K28: =I28*J28 -> 0 | L28: =IF(OR(J28>0,H28>0),H28+K28,0) -> 0
C29: =$B$8 -> FC | F29: =D29*E29 -> 0 | G29: =$B$9 -> 0.12345 | H29: =IF(G29<>0,F29/G29,0) -> 0 | K29: =I29*J29 -> 0 | L29: =IF(OR(J29>0,H29>0),H29+K29,0) -> 0
C30: =$B$8 -> FC | F30: =D30*E30 -> 0 | G30: =$B$9 -> 0.12345 | H30: =IF(G30<>0,F30/G30,0) -> 0 | K30: =I30*J30 -> 0 | L30: =IF(OR(J30>0,H30>0),H30+K30,0) -> 0
C31: =$B$8 -> FC | F31: =D31*E31 -> 0 | G31: =$B$9 -> 0.12345 | H31: =IF(G31<>0,F31/G31,0) -> 0 | K31: =I31*J31 -> 0 | L31: =IF(OR(J31>0,H31>0),H31+K31,0) -> 0
A32: 3.2 | B32: Acceptance Tests | F32: =D32*E32 -> 0
B33: Factory Acceptance Test | C33: =$B$8 -> FC | F33: =D33*E33 -> 0 | G33: =$B$9 -> 0.12345 | H33: =IF(G33<>0,F33/G33,0) -> 0 | K33: =I33*J33 -> 0 | L33: =IF(OR(J33>0,H33>0),H33+K33,0) -> 0
B34: Site Acceptance Test | C34: =$B$8 -> FC | F34: =D34*E34 -> 0 | G34: =$B$9 -> 0.12345 | H34: =IF(G34<>0,F34/G34,0) -> 0 | K34: =I34*J34 -> 0 | L34: =IF(OR(J34>0,H34>0),H34+K34,0) -> 0
C35: =$B$8 -> FC | F35: =D35*E35 -> 0 | G35: =$B$9 -> 0.12345 | H35: =IF(G35<>0,F35/G35,0) -> 0 | K35: =I35*J35 -> 0 | L35: =IF(OR(J35>0,H35>0),H35+K35,0) -> 0
C36: =$B$8 -> FC | F36: =D36*E36 -> 0 | G36: =$B$9 -> 0.12345 | H36: =IF(G36<>0,F36/G36,0) -> 0 | K36: =I36*J36 -> 0 | L36: =IF(OR(J36>0,H36>0),H36+K36,0) -> 0
C37: =$B$8 -> FC | F37: =D37*E37 -> 0 | G37: =$B$9 -> 0.12345 | H37: =IF(G37<>0,F37/G37,0) -> 0 | K37: =I37*J37 -> 0 | L37: =IF(OR(J37>0,H37>0),H37+K37,0) -> 0
C38: =$B$8 -> FC | F38: =D38*E38 -> 0 | G38: =$B$9 -> 0.12345 | H38: =IF(G38<>0,F38/G38,0) -> 0 | K38: =I38*J38 -> 0 | L38: =IF(OR(J38>0,H38>0),H38+K38,0) -> 0
C39: =$B$8 -> FC | F39: =D39*E39 -> 0 | G39: =$B$9 -> 0.12345 | H39: =IF(G39<>0,F39/G39,0) -> 0 | K39: =I39*J39 -> 0 | L39: =IF(OR(J39>0,H39>0),H39+K39,0) -> 0
C40: =$B$8 -> FC | F40: =D40*E40 -> 0 | G40: =$B$9 -> 0.12345 | H40: =IF(G40<>0,F40/G40,0) -> 0 | K40: =I40*J40 -> 0 | L40: =IF(OR(J40>0,H40>0),H40+K40,0) -> 0
C41: =$B$8 -> FC | F41: =D41*E41 -> 0 | G41: =$B$9 -> 0.12345 | H41: =IF(G41<>0,F41/G41,0) -> 0 | K41: =I41*J41 -> 0 | L41: =IF(OR(J41>0,H41>0),H41+K41,0) -> 0
A42: 3.3 | B42: Project Management Services | F42: =D42*E42 -> 0
B43: Services | C43: =$B$8 -> FC | F43: =D43*E43 -> 0 | G43: =$B$9 -> 0.12345 | H43: =IF(G43<>0,F43/G43,0) -> 0 | K43: =I43*J43 -> 0 | L43: =IF(OR(J43>0,H43>0),H43+K43,0) -> 0
B44: Installation Services | C44: =$B$8 -> FC | F44: =D44*E44 -> 0 | G44: =$B$9 -> 0.12345 | H44: =IF(G44<>0,F44/G44,0) -> 0 | K44: =I44*J44 -> 0 | L44: =IF(OR(J44>0,H44>0),H44+K44,0) -> 0
B45: Site Survey & Report | C45: =$B$8 -> FC | F45: =D45*E45 -> 0 | G45: =$B$9 -> 0.12345 | H45: =IF(G45<>0,F45/G45,0) -> 0 | K45: =I45*J45 -> 0 | L45: =IF(OR(J45>0,H45>0),H45+K45,0) -> 0
...

Sheet G4 ILS
A1: TENDER PRICE SCHEDULE: VOLUME 1C
A2: (INCLUDING VALUE ADDED TAX)
A3: BIDDER : | B3: ='Bidder Info'!D3 -> Bidder name
A4: RFP: | B4: =Instructions!D7 -> ATNS/HO/TPQ/RFP049/FY23.24/ATFM REPLACEMENT SYSTEM
A5: PROJECT : | B5: =Instructions!$D$8 -> ATFM Replacement
A6: Item Nr: | B6: G4
A7: Item Description: | B7: Integrated Logistic Support
A8: Foreign Currancy | B8: ='Bidder Info'!D4 -> FC
A9: ROE: 1R = | B9: ='Bidder Info'!D5 -> 0.12345
C11: Overseas Items | I11: Local Items
A13: Schedule Item Number | B13: Description | C13: Foreign Currency | D13: Quantity | E13: Foreign Amount Unit Cost | F13: Foreign Amount Total Cost | G13: ="ROE: 1R = "&'Bidder Info'!$D$5 -> ROE: 1R = 0.12345 | H13: Total Foreign Cost in Rands | I13: Quantity | J13: Local Amount Unit Cost | K13: Local Amount Total Cost | L13: Total Rands
A16: =B6 -> G4 | B16: =B7 -> Integrated Logistic Support
B17: { All logistic support items with at least the following items}
A19: 4.1 | B19: Logistic Support Services
B20: {Any other services costs} | C20: =$B$8 -> FC | F20: =D20*E20 -> 0 | G20: =$B$9 -> 0.12345 | H20: =IF(G20<>0,F20/G20,0) -> 0 | K20: =I20*J20 -> 0 | L20: =IF(OR(J20>0,H20>0),H20+K20,0) -> 0
C21: =$B$8 -> FC | F21: =D21*E21 -> 0 | G21: =$B$9 -> 0.12345 | H21: =IF(G21<>0,F21/G21,0) -> 0 | K21: =I21*J21 -> 0 | L21: =IF(OR(J21>0,H21>0),H21+K21,0) -> 0
C22: =$B$8 -> FC | F22: =D22*E22 -> 0 | G22: =$B$9 -> 0.12345 | H22: =IF(G22<>0,F22/G22,0) -> 0 | K22: =I22*J22 -> 0 | L22: =IF(OR(J22>0,H22>0),H22+K22,0) -> 0
C23: =$B$8 -> FC | F23: =D23*E23 -> 0 | G23: =$B$9 -> 0.12345 | H23: =IF(G23<>0,F23/G23,0) -> 0 | K23: =I23*J23 -> 0 | L23: =IF(OR(J23>0,H23>0),H23+K23,0) -> 0
C24: =$B$8 -> FC | F24: =D24*E24 -> 0 | G24: =$B$9 -> 0.12345 | H24: =IF(G24<>0,F24/G24,0) -> 0 | K24: =I24*J24 -> 0 | L24: =IF(OR(J24>0,H24>0),H24+K24,0) -> 0
C25: =$B$8 -> FC | F25: =D25*E25 -> 0 | G25: =$B$9 -> 0.12345 | H25: =IF(G25<>0,F25/G25,0) -> 0 | K25: =I25*J25 -> 0 | L25: =IF(OR(J25>0,H25>0),H25+K25,0) -> 0
C26: =$B$8 -> FC | F26: =D26*E26 -> 0 | G26: =$B$9 -> 0.12345 | H26: =IF(G26<>0,F26/G26,0) -> 0 | K26: =I26*J26 -> 0 | L26: =IF(OR(J26>0,H26>0),H26+K26,0) -> 0
A27: 4.2 | B27: Training
B28: OEM Training | C28: =$B$8 -> FC | F28: =D28*E28 -> 0 | G28: =$B$9 -> 0.12345 | H28: =IF(G28<>0,F28/G28,0) -> 0 | K28: =I28*J28 -> 0 | L28: =IF(OR(J28>0,H28>0),H28+K28,0) -> 0
B29: Training Manuals | C29: =$B$8 -> FC | F29: =D29*E29 -> 0 | G29: =$B$9 -> 0.12345 | H29: =IF(G29<>0,F29/G29,0) -> 0 | K29: =I29*J29 -> 0 | L29: =IF(OR(J29>0,H29>0),H29+K29,0) -> 0
C30: =$B$8 -> FC | F30: =D30*E30 -> 0 | G30: =$B$9 -> 0.12345 | H30: =IF(G30<>0,F30/G30,0) -> 0 | K30: =I30*J30 -> 0 | L30: =IF(OR(J30>0,H30>0),H30+K30,0) -> 0
C31: =$B$8 -> FC | F31: =D31*E31 -> 0 | G31: =$B$9 -> 0.12345 | H31: =IF(G31<>0,F31/G31,0) -> 0 | K31: =I31*J31 -> 0 | L31: =IF(OR(J31>0,H31>0),H31+K31,0) -> 0
C32: =$B$8 -> FC | F32: =D32*E32 -> 0 | G32: =$B$9 -> 0.12345 | H32: =IF(G32<>0,F32/G32,0) -> 0 | K32: =I32*J32 -> 0 | L32: =IF(OR(J32>0,H32>0),H32+K32,0) -> 0
C33: =$B$8 -> FC | F33: =D33*E33 -> 0 | G33: =$B$9 -> 0.12345 | H33: =IF(G33<>0,F33/G33,0) -> 0 | K33: =I33*J33 -> 0 | L33: =IF(OR(J33>0,H33>0),H33+K33,0) -> 0
C34: =$B$8 -> FC | F34: =D34*E34 -> 0 | G34: =$B$9 -> 0.12345 | H34: =IF(G34<>0,F34/G34,0) -> 0 | K34: =I34*J34 -> 0 | L34: =IF(OR(J34>0,H34>0),H34+K34,0) -> 0
C35: =$B$8 -> FC | F35: =D35*E35 -> 0 | G35: =$B$9 -> 0.12345 | H35: =IF(G35<>0,F35/G35,0) -> 0 | K35: =I35*J35 -> 0 | L35: =IF(OR(J35>0,H35>0),H35+K35,0) -> 0
A36: 4.3 | B36: Documents
B37: Integrated Logistic Support Plan | C37: =$B$8 -> FC | F37: =D37*E37 -> 0 | G37: =$B$9 -> 0.12345 | H37: =IF(G37<>0,F37/G37,0) -> 0 | K37: =I37*J37 -> 0 | L37: =IF(OR(J37>0,H37>0),H37+K37,0) -> 0
B38: Configuration Management Plan | C38: =$B$8 -> FC | F38: =D38*E38 -> 0 | G38: =$B$9 -> 0.12345 | H38: =IF(G38<>0,F38/G38,0) -> 0 | K38: =I38*J38 -> 0 | L38: =IF(OR(J38>0,H38>0),H38+K38,0) -> 0
B39: Factory Acceptance Test Procedures | C39: =$B$8 -> FC | F39: =D39*E39 -> 0 | G39: =$B$9 -> 0.12345 | H39: =IF(G39<>0,F39/G39,0) -> 0 | K39: =I39*J39 -> 0 | L39: =IF(OR(J39>0,H39>0),H39+K39,0) -> 0
B40: Site Acceptance Test Procedures | C40: =$B$8 -> FC | F40: =D40*E40 -> 0 | G40: =$B$9 -> 0.12345 | H40: =IF(G40<>0,F40/G40,0) -> 0 | K40: =I40*J40 -> 0 | L40: =IF(OR(J40>0,H40>0),H40+K40,0) -> 0
C41: =$B$8 -> FC | F41: =D41*E41 -> 0 | G41: =$B$9 -> 0.12345 | H41: =IF(G41<>0,F41/G41,0) -> 0 | K41: =I41*J41 -> 0 | L41: =IF(OR(J41>0,H41>0),H41+K41,0) -> 0
C42: =$B$8 -> FC | F42: =D42*E42 -> 0 | G42: =$B$9 -> 0.12345 | H42: =IF(G42<>0,F42/G42,0) -> 0 | K42: =I42*J42 -> 0 | L42: =IF(OR(J42>0,H42>0),H42+K42,0) -> 0
C43: =$B$8 -> FC | F43: =D43*E43 -> 0 | G43: =$B$9 -> 0.12345 | H43: =IF(G43<>0,F43/G43,0) -> 0 | K43: =I43*J43 -> 0 | L43: =IF(OR(J43>0,H43>0),H43+K43,0) -> 0
C44: =$B$8 -> FC | F44: =D44*E44 -> 0 | G44: =$B$9 -> 0.12345 | H44: =IF(G44<>0,F44/G44,0) -> 0 | K44: =I44*J44 -> 0 | L44: =IF(OR(J44>0,H44>0),H44+K44,0) -> 0
C45: =$B$8 -> FC | F45: =D45*E45 -> 0 | G45: =$B$9 -> 0.12345 | H45: =IF(G45<>0,F45/G45,0) -> 0 | K45: =I45*J45 -> 0 | L45: =IF(OR(J45>0,H45>0),H45+K45,0) -> 0
...

Sheet G5_1 Spares
A1: TENDER PRICE SCHEDULE: VOLUME 1C
A2: (INCLUDING VALUE ADDED TAX)
A3: BIDDER : | B3: ='Bidder Info'!D3 -> Bidder name
A4: RFP: | B4: =Instructions!D7 -> ATNS/HO/TPQ/RFP049/FY23.24/ATFM REPLACEMENT SYSTEM
A5: PROJECT : | B5: =Instructions!$D$8 -> ATFM Replacement
A6: Item Nr: | B6: G5_1
A7: Item Description: | B7: Offered Spares
A8: Foreign Currancy | B8: ='Bidder Info'!D4 -> FC
A9: ROE: 1R = | B9: ='Bidder Info'!D5 -> 0.12345
C11: Overseas Items | I11: Local Items
A13: Schedule Item Number | B13: Description | C13: Foreign Currency | D13: Quantity | E13: Foreign Amount Unit Cost | F13: Foreign Amount Total Cost | G13: ="ROE: 1R = "&'Bidder Info'!$D$5 -> ROE: 1R = 0.12345 | H13: Total Foreign Cost in Rands | I13: Quantity | J13: Local Amount Unit Cost | K13: Local Amount Total Cost | L13: Total Rands
A16: =B6 -> G5_1 | B16: =B7 -> Offered Spares
B17: {The list of the spares and detailed price list shall be provided separately on "G5_0 LRU List".}
A19: 5.1.1 | B19: Main System (OR Tambo)
B20: Main System | C20: =$B$8 -> FC | F20: =D20*E20 -> 0 | G20: =$B$9 -> 0.12345 | H20: =IF(G20<>0,F20/G20,0) -> 0 | K20: =I20*J20 -> 0 | L20: =IF(OR(J20>0,H20>0),H20+K20,0) -> 0
B21: D&R System | C21: =$B$8 -> FC | F21: =D21*E21 -> 0 | G21: =$B$9 -> 0.12345 | H21: =IF(G21<>0,F21/G21,0) -> 0 | K21: =I21*J21 -> 0 | L21: =IF(OR(J21>0,H21>0),H21+K21,0) -> 0
B22: Training and Evaluation System | C22: =$B$8 -> FC | F22: =D22*E22 -> 0 | G22: =$B$9 -> 0.12345 | H22: =IF(G22<>0,F22/G22,0) -> 0 | K22: =I22*J22 -> 0 | L22: =IF(OR(J22>0,H22>0),H22+K22,0) -> 0
B23: Operator Workstations | C23: =$B$8 -> FC | F23: =D23*E23 -> 0 | G23: =$B$9 -> 0.12345 | H23: =IF(G23<>0,F23/G23,0) -> 0 | K23: =I23*J23 -> 0 | L23: =IF(OR(J23>0,H23>0),H23+K23,0) -> 0
B24: User Workstations | C24: =$B$8 -> FC | F24: =D24*E24 -> 0 | G24: =$B$9 -> 0.12345 | H24: =IF(G24<>0,F24/G24,0) -> 0 | K24: =I24*J24 -> 0 | L24: =IF(OR(J24>0,H24>0),H24+K24,0) -> 0
B25: Backup SAN | C25: =$B$8 -> FC | F25: =D25*E25 -> 0 | G25: =$B$9 -> 0.12345 | H25: =IF(G25<>0,F25/G25,0) -> 0 | K25: =I25*J25 -> 0 | L25: =IF(OR(J25>0,H25>0),H25+K25,0) -> 0
B26: NTP Server | C26: =$B$8 -> FC | F26: =D26*E26 -> 0 | G26: =$B$9 -> 0.12345 | H26: =IF(G26<>0,F26/G26,0) -> 0 | K26: =I26*J26 -> 0 | L26: =IF(OR(J26>0,H26>0),H26+K26,0) -> 0
B27: Network Switches and Routers | C27: =$B$8 -> FC | F27: =D27*E27 -> 0 | G27: =$B$9 -> 0.12345 | H27: =IF(G27<>0,F27/G27,0) -> 0 | K27: =I27*J27 -> 0 | L27: =IF(OR(J27>0,H27>0),H27+K27,0) -> 0
C28: =$B$8 -> FC | F28: =D28*E28 -> 0 | G28: =$B$9 -> 0.12345 | H28: =IF(G28<>0,F28/G28,0) -> 0 | K28: =I28*J28 -> 0 | L28: =IF(OR(J28>0,H28>0),H28+K28,0) -> 0
C29: =$B$8 -> FC | F29: =D29*E29 -> 0 | G29: =$B$9 -> 0.12345 | H29: =IF(G29<>0,F29/G29,0) -> 0 | K29: =I29*J29 -> 0 | L29: =IF(OR(J29>0,H29>0),H29+K29,0) -> 0
C30: =$B$8 -> FC | F30: =D30*E30 -> 0 | G30: =$B$9 -> 0.12345 | H30: =IF(G30<>0,F30/G30,0) -> 0 | K30: =I30*J30 -> 0 | L30: =IF(OR(J30>0,H30>0),H30+K30,0) -> 0
C31: =$B$8 -> FC | F31: =D31*E31 -> 0 | G31: =$B$9 -> 0.12345 | H31: =IF(G31<>0,F31/G31,0) -> 0 | K31: =I31*J31 -> 0 | L31: =IF(OR(J31>0,H31>0),H31+K31,0) -> 0
C32: =$B$8 -> FC | F32: =D32*E32 -> 0 | G32: =$B$9 -> 0.12345 | H32: =IF(G32<>0,F32/G32,0) -> 0 | K32: =I32*J32 -> 0 | L32: =IF(OR(J32>0,H32>0),H32+K32,0) -> 0
C33: =$B$8 -> FC | F33: =D33*E33 -> 0 | G33: =$B$9 -> 0.12345 | H33: =IF(G33<>0,F33/G33,0) -> 0 | K33: =I33*J33 -> 0 | L33: =IF(OR(J33>0,H33>0),H33+K33,0) -> 0
A34: 5.2 | B34: Other
B35: User Workstations | C35: =$B$8 -> FC | F35: =D35*E35 -> 0 | G35: =$B$9 -> 0.12345 | H35: =IF(G35<>0,F35/G35,0) -> 0 | K35: =I35*J35 -> 0 | L35: =IF(OR(J35>0,H35>0),H35+K35,0) -> 0
B36: Virtual Environment | C36: =$B$8 -> FC | F36: =D36*E36 -> 0 | G36: =$B$9 -> 0.12345 | H36: =IF(G36<>0,F36/G36,0) -> 0 | K36: =I36*J36 -> 0 | L36: =IF(OR(J36>0,H36>0),H36+K36,0) -> 0
C37: =$B$8 -> FC | F37: =D37*E37 -> 0 | G37: =$B$9 -> 0.12345 | H37: =IF(G37<>0,F37/G37,0) -> 0 | K37: =I37*J37 -> 0 | L37: =IF(OR(J37>0,H37>0),H37+K37,0) -> 0
C38: =$B$8 -> FC | F38: =D38*E38 -> 0 | G38: =$B$9 -> 0.12345 | H38: =IF(G38<>0,F38/G38,0) -> 0 | K38: =I38*J38 -> 0 | L38: =IF(OR(J38>0,H38>0),H38+K38,0) -> 0
C39: =$B$8 -> FC | F39: =D39*E39 -> 0 | G39: =$B$9 -> 0.12345 | H39: =IF(G39<>0,F39/G39,0) -> 0 | K39: =I39*J39 -> 0 | L39: =IF(OR(J39>0,H39>0),H39+K39,0) -> 0
C40: =$B$8 -> FC | F40: =D40*E40 -> 0 | G40: =$B$9 -> 0.12345 | H40: =IF(G40<>0,F40/G40,0) -> 0 | K40: =I40*J40 -> 0 | L40: =IF(OR(J40>0,H40>0),H40+K40,0) -> 0
C41: =$B$8 -> FC | F41: =D41*E41 -> 0 | G41: =$B$9 -> 0.12345 | H41: =IF(G41<>0,F41/G41,0) -> 0 | K41: =I41*J41 -> 0 | L41: =IF(OR(J41>0,H41>0),H41+K41,0) -> 0
C42: =$B$8 -> FC | F42: =D42*E42 -> 0 | G42: =$B$9 -> 0.12345 | H42: =IF(G42<>0,F42/G42,0) -> 0 | K42: =I42*J42 -> 0 | L42: =IF(OR(J42>0,H42>0),H42+K42,0) -> 0
C43: =$B$8 -> FC | F43: =D43*E43 -> 0 | G43: =$B$9 -> 0.12345 | H43: =IF(G43<>0,F43/G43,0) -> 0 | K43: =I43*J43 -> 0 | L43: =IF(OR(J43>0,H43>0),H43+K43,0) -> 0
C44: =$B$8 -> FC | F44: =D44*E44 -> 0 | G44: =$B$9 -> 0.12345 | H44: =IF(G44<>0,F44/G44,0) -> 0 | K44: =I44*J44 -> 0 | L44: =IF(OR(J44>0,H44>0),H44+K44,0) -> 0
C45: =$B$8 -> FC | F45: =D45*E45 -> 0 | G45: =$B$9 -> 0.12345 | H45: =IF(G45<>0,F45/G45,0) -> 0 | K45: =I45*J45 -> 0 | L45: =IF(OR(J45>0,H45>0),H45+K45,0) -> 0
...

Sheet G5_2 Test Equipment
A1: TENDER PRICE SCHEDULE: VOLUME 1C
A2: (INCLUDING VALUE ADDED TAX)
A3: BIDDER : | B3: ='Bidder Info'!D3 -> Bidder name
A4: RFP: | B4: =Instructions!D7 -> ATNS/HO/TPQ/RFP049/FY23.24/ATFM REPLACEMENT SYSTEM
A5: PROJECT : | B5: =Instructions!$D$8 -> ATFM Replacement
A6: Item Nr: | B6: G5.2
A7: Item Description: | B7: Test Equipment
A8: Foreign Currancy | B8: ='Bidder Info'!D4 -> FC
A9: ROE: 1R = | B9: ='Bidder Info'!D5 -> 0.12345
C11: Overseas Items | I11: Local Items
A13: Schedule Item Number | B13: Description | C13: Foreign Currency | D13: Quantity | E13: Foreign Amount Unit Cost | F13: Foreign Amount Total Cost | G13: ="ROE: 1R = "&'Bidder Info'!$D$5 -> ROE: 1R = 0.12345 | H13: Total Foreign Cost in Rands | I13: Quantity | J13: Local Amount Unit Cost | K13: Local Amount Total Cost | L13: Total Rands
A16: =B6 -> G5.2 | B16: =B7 -> Test Equipment
A17: 5.2.1 | B17: Installation Test Equipment
B18: {List of the test equipment shall be provided.} | C18: =$B$8 -> FC | F18: =D18*E18 -> 0 | G18: =$B$9 -> 0.12345 | H18: =IF(G18<>0,F18/G18,0) -> 0 | K18: =I18*J18 -> 0 | L18: =IF(OR(J18>0,H18>0),H18+K18,0) -> 0
C19: =$B$8 -> FC | F19: =D19*E19 -> 0 | G19: =$B$9 -> 0.12345 | H19: =IF(G19<>0,F19/G19,0) -> 0 | K19: =I19*J19 -> 0 | L19: =IF(OR(J19>0,H19>0),H19+K19,0) -> 0
C20: =$B$8 -> FC | F20: =D20*E20 -> 0 | G20: =$B$9 -> 0.12345 | H20: =IF(G20<>0,F20/G20,0) -> 0 | K20: =I20*J20 -> 0 | L20: =IF(OR(J20>0,H20>0),H20+K20,0) -> 0
C21: =$B$8 -> FC | F21: =D21*E21 -> 0 | G21: =$B$9 -> 0.12345 | H21: =IF(G21<>0,F21/G21,0) -> 0 | K21: =I21*J21 -> 0 | L21: =IF(OR(J21>0,H21>0),H21+K21,0) -> 0
C22: =$B$8 -> FC | F22: =D22*E22 -> 0 | G22: =$B$9 -> 0.12345 | H22: =IF(G22<>0,F22/G22,0) -> 0 | K22: =I22*J22 -> 0 | L22: =IF(OR(J22>0,H22>0),H22+K22,0) -> 0
C23: =$B$8 -> FC | F23: =D23*E23 -> 0 | G23: =$B$9 -> 0.12345 | H23: =IF(G23<>0,F23/G23,0) -> 0 | K23: =I23*J23 -> 0 | L23: =IF(OR(J23>0,H23>0),H23+K23,0) -> 0
C24: =$B$8 -> FC | F24: =D24*E24 -> 0 | G24: =$B$9 -> 0.12345 | H24: =IF(G24<>0,F24/G24,0) -> 0 | K24: =I24*J24 -> 0 | L24: =IF(OR(J24>0,H24>0),H24+K24,0) -> 0
C25: =$B$8 -> FC | F25: =D25*E25 -> 0 | G25: =$B$9 -> 0.12345 | H25: =IF(G25<>0,F25/G25,0) -> 0 | K25: =I25*J25 -> 0 | L25: =IF(OR(J25>0,H25>0),H25+K25,0) -> 0
C26: =$B$8 -> FC | F26: =D26*E26 -> 0 | G26: =$B$9 -> 0.12345 | H26: =IF(G26<>0,F26/G26,0) -> 0 | K26: =I26*J26 -> 0 | L26: =IF(OR(J26>0,H26>0),H26+K26,0) -> 0
A27: 5.3.2 | B27: Maintenance Test Equipment
B28: {List of the test equipment shall be provided.} | C28: =$B$8 -> FC | F28: =D28*E28 -> 0 | G28: =$B$9 -> 0.12345 | H28: =IF(G28<>0,F28/G28,0) -> 0 | K28: =I28*J28 -> 0 | L28: =IF(OR(J28>0,H28>0),H28+K28,0) -> 0
C29: =$B$8 -> FC | F29: =D29*E29 -> 0 | G29: =$B$9 -> 0.12345 | H29: =IF(G29<>0,F29/G29,0) -> 0 | K29: =I29*J29 -> 0 | L29: =IF(OR(J29>0,H29>0),H29+K29,0) -> 0
C30: =$B$8 -> FC | F30: =D30*E30 -> 0 | G30: =$B$9 -> 0.12345 | H30: =IF(G30<>0,F30/G30,0) -> 0 | K30: =I30*J30 -> 0 | L30: =IF(OR(J30>0,H30>0),H30+K30,0) -> 0
C31: =$B$8 -> FC | F31: =D31*E31 -> 0 | G31: =$B$9 -> 0.12345 | H31: =IF(G31<>0,F31/G31,0) -> 0 | K31: =I31*J31 -> 0 | L31: =IF(OR(J31>0,H31>0),H31+K31,0) -> 0
C32: =$B$8 -> FC | F32: =D32*E32 -> 0 | G32: =$B$9 -> 0.12345 | H32: =IF(G32<>0,F32/G32,0) -> 0 | K32: =I32*J32 -> 0 | L32: =IF(OR(J32>0,H32>0),H32+K32,0) -> 0
C33: =$B$8 -> FC | F33: =D33*E33 -> 0 | G33: =$B$9 -> 0.12345 | H33: =IF(G33<>0,F33/G33,0) -> 0 | K33: =I33*J33 -> 0 | L33: =IF(OR(J33>0,H33>0),H33+K33,0) -> 0
C34: =$B$8 -> FC | F34: =D34*E34 -> 0 | G34: =$B$9 -> 0.12345 | H34: =IF(G34<>0,F34/G34,0) -> 0 | K34: =I34*J34 -> 0 | L34: =IF(OR(J34>0,H34>0),H34+K34,0) -> 0
C35: =$B$8 -> FC | F35: =D35*E35 -> 0 | G35: =$B$9 -> 0.12345 | H35: =IF(G35<>0,F35/G35,0) -> 0 | K35: =I35*J35 -> 0 | L35: =IF(OR(J35>0,H35>0),H35+K35,0) -> 0
C36: =$B$8 -> FC | F36: =D36*E36 -> 0 | G36: =$B$9 -> 0.12345 | H36: =IF(G36<>0,F36/G36,0) -> 0 | K36: =I36*J36 -> 0 | L36: =IF(OR(J36>0,H36>0),H36+K36,0) -> 0
C37: =$B$8 -> FC | F37: =D37*E37 -> 0 | G37: =$B$9 -> 0.12345 | H37: =IF(G37<>0,F37/G37,0) -> 0 | K37: =I37*J37 -> 0 | L37: =IF(OR(J37>0,H37>0),H37+K37,0) -> 0
C38: =$B$8 -> FC | F38: =D38*E38 -> 0 | G38: =$B$9 -> 0.12345 | H38: =IF(G38<>0,F38/G38,0) -> 0 | K38: =I38*J38 -> 0 | L38: =IF(OR(J38>0,H38>0),H38+K38,0) -> 0
C39: =$B$8 -> FC | F39: =D39*E39 -> 0 | G39: =$B$9 -> 0.12345 | H39: =IF(G39<>0,F39/G39,0) -> 0 | K39: =I39*J39 -> 0 | L39: =IF(OR(J39>0,H39>0),H39+K39,0) -> 0
C40: =$B$8 -> FC | F40: =D40*E40 -> 0 | G40: =$B$9 -> 0.12345 | H40: =IF(G40<>0,F40/G40,0) -> 0 | K40: =I40*J40 -> 0 | L40: =IF(OR(J40>0,H40>0),H40+K40,0) -> 0
C41: =$B$8 -> FC | F41: =D41*E41 -> 0 | G41: =$B$9 -> 0.12345 | H41: =IF(G41<>0,F41/G41,0) -> 0 | K41: =I41*J41 -> 0 | L41: =IF(OR(J41>0,H41>0),H41+K41,0) -> 0
B43: =+"SUB-TOTAL: "&A16 -> SUB-TOTAL: G5.2 | F43: =SUM(F16:F42) -> 0 | G43: =$B$9 -> 0.12345 | H43: =SUM(H16:H42) -> 0 | K43: =SUM(K16:K42) -> 0 | L43: =SUM(L16:L42) -> 0

Sheet G5_0 LRU List
A1: TENDER PRICE SCHEDULE: VOLUME 1C
A2: (INCLUDING VALUE ADDED TAX)
A3: BIDDER : | B3: ='Bidder Info'!D3 -> Bidder name
A4: RFP: | B4: =Instructions!D7 -> ATNS/HO/TPQ/RFP049/FY23.24/ATFM REPLACEMENT SYSTEM
A5: PROJECT : | B5: =Instructions!$D$8 -> ATFM Replacement
A6: Item Nr: | B6: G5_0
A7: Item Description: | B7: Equipment LRU List
A8: Foreign Currancy | B8: ='Bidder Info'!D4 -> FC
A9: ROE: 1R = | B9: ='Bidder Info'!D5 -> 0.12345
C11: Overseas Items | I11: Local Items
A13: Schedule Item Number | B13: Description | C13: Foreign Currency | D13: Quantity | E13: Foreign Amount Unit Cost | F13: Foreign Amount Total Cost | G13: ="ROE: 1R = "&'Bidder Info'!$D$5 -> ROE: 1R = 0.12345 | H13: Total Foreign Cost in Rands | I13: Quantity | J13: Local Amount Unit Cost | K13: Local Amount Total Cost | L13: Total Rands
A16: =B6 -> G5_0 | B16: =B7 -> Equipment LRU List
B17: {List of the spares shall be provided in the tender response.}
A19: 5.0.1 | B19: Main System | F19: =SUM(F20:F30) -> 0 | G19: =$B$9 -> 0.12345 | H19: =SUM(H20:H30) -> 0 | K19: =SUM(K20:K30) -> 0 | L19: =SUM(L20:L30) -> 0
A20: 1 | C20: =$B$8 -> FC | F20: =D20*E20 -> 0 | G20: =$B$9 -> 0.12345 | H20: =IF(G20<>0,F20/G20,0) -> 0 | K20: =I20*J20 -> 0 | L20: =K20+H20 -> 0
A21: 2 | C21: =$B$8 -> FC | F21: =D21*E21 -> 0 | G21: =$B$9 -> 0.12345 | H21: =IF(G21<>0,F21/G21,0) -> 0 | K21: =I21*J21 -> 0 | L21: =K21+H21 -> 0
A22: 3 | C22: =$B$8 -> FC | F22: =D22*E22 -> 0 | G22: =$B$9 -> 0.12345 | H22: =IF(G22<>0,F22/G22,0) -> 0 | K22: =I22*J22 -> 0 | L22: =K22+H22 -> 0
A23: 4 | C23: =$B$8 -> FC | F23: =D23*E23 -> 0 | G23: =$B$9 -> 0.12345 | H23: =IF(G23<>0,F23/G23,0) -> 0 | K23: =I23*J23 -> 0 | L23: =K23+H23 -> 0
A24: 5 | C24: =$B$8 -> FC | F24: =D24*E24 -> 0 | G24: =$B$9 -> 0.12345 | H24: =IF(G24<>0,F24/G24,0) -> 0 | K24: =I24*J24 -> 0 | L24: =K24+H24 -> 0
A25: 6 | C25: =$B$8 -> FC | F25: =D25*E25 -> 0 | G25: =$B$9 -> 0.12345 | H25: =IF(G25<>0,F25/G25,0) -> 0 | K25: =I25*J25 -> 0 | L25: =K25+H25 -> 0
A26: 7 | C26: =$B$8 -> FC | F26: =D26*E26 -> 0 | G26: =$B$9 -> 0.12345 | H26: =IF(G26<>0,F26/G26,0) -> 0 | K26: =I26*J26 -> 0 | L26: =K26+H26 -> 0
A27: 8 | C27: =$B$8 -> FC | F27: =D27*E27 -> 0 | G27: =$B$9 -> 0.12345 | H27: =IF(G27<>0,F27/G27,0) -> 0 | K27: =I27*J27 -> 0 | L27: =K27+H27 -> 0
A28: 9 | C28: =$B$8 -> FC | F28: =D28*E28 -> 0 | G28: =$B$9 -> 0.12345 | H28: =IF(G28<>0,F28/G28,0) -> 0 | K28: =I28*J28 -> 0 | L28: =K28+H28 -> 0
A29: 10 | C29: =$B$8 -> FC | F29: =D29*E29 -> 0 | G29: =$B$9 -> 0.12345 | H29: =IF(G29<>0,F29/G29,0) -> 0 | K29: =I29*J29 -> 0 | L29: =K29+H29 -> 0
A31: 5.0.2 | B31: D&R System | F31: =SUM(F32:F42) -> 0 | G31: =$B$9 -> 0.12345 | H31: =SUM(H32:H42) -> 0 | K31: =SUM(K32:K42) -> 0 | L31: =SUM(L32:L42) -> 0
A32: 1 | C32: =$B$8 -> FC | F32: =D32*E32 -> 0 | G32: =$B$9 -> 0.12345 | H32: =IF(G32<>0,F32/G32,0) -> 0 | K32: =I32*J32 -> 0 | L32: =K32+H32 -> 0
A33: 2 | C33: =$B$8 -> FC | F33: =D33*E33 -> 0 | G33: =$B$9 -> 0.12345 | H33: =IF(G33<>0,F33/G33,0) -> 0 | K33: =I33*J33 -> 0 | L33: =K33+H33 -> 0
A34: 3 | C34: =$B$8 -> FC | F34: =D34*E34 -> 0 | G34: =$B$9 -> 0.12345 | H34: =IF(G34<>0,F34/G34,0) -> 0 | K34: =I34*J34 -> 0 | L34: =K34+H34 -> 0
A35: 4 | C35: =$B$8 -> FC | F35: =D35*E35 -> 0 | G35: =$B$9 -> 0.12345 | H35: =IF(G35<>0,F35/G35,0) -> 0 | K35: =I35*J35 -> 0 | L35: =K35+H35 -> 0
A36: 5 | C36: =$B$8 -> FC | F36: =D36*E36 -> 0 | G36: =$B$9 -> 0.12345 | H36: =IF(G36<>0,F36/G36,0) -> 0 | K36: =I36*J36 -> 0 | L36: =K36+H36 -> 0
A37: 6 | C37: =$B$8 -> FC | F37: =D37*E37 -> 0 | G37: =$B$9 -> 0.12345 | H37: =IF(G37<>0,F37/G37,0) -> 0 | K37: =I37*J37 -> 0 | L37: =K37+H37 -> 0
A38: 7 | C38: =$B$8 -> FC | F38: =D38*E38 -> 0 | G38: =$B$9 -> 0.12345 | H38: =IF(G38<>0,F38/G38,0) -> 0 | K38: =I38*J38 -> 0 | L38: =K38+H38 -> 0
A39: 8 | C39: =$B$8 -> FC | F39: =D39*E39 -> 0 | G39: =$B$9 -> 0.12345 | H39: =IF(G39<>0,F39/G39,0) -> 0 | K39: =I39*J39 -> 0 | L39: =K39+H39 -> 0
A40: 9 | C40: =$B$8 -> FC | F40: =D40*E40 -> 0 | G40: =$B$9 -> 0.12345 | H40: =IF(G40<>0,F40/G40,0) -> 0 | K40: =I40*J40 -> 0 | L40: =K40+H40 -> 0
A41: 10 | C41: =$B$8 -> FC | F41: =D41*E41 -> 0 | G41: =$B$9 -> 0.12345 | H41: =IF(G41<>0,F41/G41,0) -> 0 | K41: =I41*J41 -> 0 | L41: =K41+H41 -> 0
A43: 5.0.3 | B43: Training System | F43: =SUM(F44:F54) -> 0 | G43: =$B$9 -> 0.12345 | H43: =SUM(H44:H54) -> 0 | K43: =SUM(K44:K54) -> 0 | L43: =SUM(L44:L54) -> 0
A44: 1 | C44: =$B$8 -> FC | F44: =D44*E44 -> 0 | G44: =$B$9 -> 0.12345 | H44: =IF(G44<>0,F44/G44,0) -> 0 | K44: =I44*J44 -> 0 | L44: =K44+H44 -> 0
A45: 2 | C45: =$B$8 -> FC | F45: =D45*E45 -> 0 | G45: =$B$9 -> 0.12345 | H45: =IF(G45<>0,F45/G45,0) -> 0 | K45: =I45*J45 -> 0 | L45: =K45+H45 -> 0
A46: 3 | C46: =$B$8 -> FC | F46: =D46*E46 -> 0 | G46: =$B$9 -> 0.12345 | H46: =IF(G46<>0,F46/G46,0) -> 0 | K46: =I46*J46 -> 0 | L46: =K46+H46 -> 0
A47: 4 | C47: =$B$8 -> FC | F47: =D47*E47 -> 0 | G47: =$B$9 -> 0.12345 | H47: =IF(G47<>0,F47/G47,0) -> 0 | K47: =I47*J47 -> 0 | L47: =K47+H47 -> 0
...

Sheet G6 Miscellaneous
A1: TENDER PRICE SCHEDULE: VOLUME 1C
A2: (INCLUDING VALUE ADDED TAX)
A3: BIDDER : | B3: ='Bidder Info'!D3 -> Bidder name
A4: RFP: | B4: =Instructions!D7 -> ATNS/HO/TPQ/RFP049/FY23.24/ATFM REPLACEMENT SYSTEM
A5: PROJECT : | B5: =Instructions!$D$8 -> ATFM Replacement
A6: Item Nr: | B6: G6
A7: Item Description: | B7: MISCELLANEOUS
A8: Foreign Currancy | B8: ='Bidder Info'!D4 -> FC
A9: ROE: 1R = | B9: ='Bidder Info'!D5 -> 0.12345
C11: Overseas Items | I11: Local Items
A13: Schedule Item Number | B13: Description | C13: Foreign Currency | D13: Quantity | E13: Foreign Amount Unit Cost | F13: Foreign Amount Total Cost | G13: ="ROE: 1R = "&'Bidder Info'!$D$5 -> ROE: 1R = 0.12345 | H13: Total Foreign Cost in Rands | I13: Quantity | J13: Local Amount Unit Cost | K13: Local Amount Total Cost | L13: Total Rands
A16: =B6 -> G6 | B16: =B7 -> MISCELLANEOUS
B17: (Items and services necessary for the installation, commissioning, operation and maintenance of the system and not included elsewhere.)
B18: (To be individually itemized and priced.)
C19: =$B$8 -> FC | F19: =D19*E19 -> 0 | G19: =$B$9 -> 0.12345 | H19: =IF(G19<>0,F19/G19,0) -> 0 | K19: =I19*J19 -> 0 | L19: =IF(OR(J19>0,H19>0),H19+K19,0) -> 0
C20: =$B$8 -> FC | F20: =D20*E20 -> 0 | G20: =$B$9 -> 0.12345 | H20: =IF(G20<>0,F20/G20,0) -> 0 | K20: =I20*J20 -> 0 | L20: =IF(OR(J20>0,H20>0),H20+K20,0) -> 0
C21: =$B$8 -> FC | F21: =D21*E21 -> 0 | G21: =$B$9 -> 0.12345 | H21: =IF(G21<>0,F21/G21,0) -> 0 | K21: =I21*J21 -> 0 | L21: =IF(OR(J21>0,H21>0),H21+K21,0) -> 0
C22: =$B$8 -> FC | F22: =D22*E22 -> 0 | G22: =$B$9 -> 0.12345 | H22: =IF(G22<>0,F22/G22,0) -> 0 | K22: =I22*J22 -> 0 | L22: =IF(OR(J22>0,H22>0),H22+K22,0) -> 0
C23: =$B$8 -> FC | F23: =D23*E23 -> 0 | G23: =$B$9 -> 0.12345 | H23: =IF(G23<>0,F23/G23,0) -> 0 | K23: =I23*J23 -> 0 | L23: =IF(OR(J23>0,H23>0),H23+K23,0) -> 0
C24: =$B$8 -> FC | F24: =D24*E24 -> 0 | G24: =$B$9 -> 0.12345 | H24: =IF(G24<>0,F24/G24,0) -> 0 | K24: =I24*J24 -> 0 | L24: =IF(OR(J24>0,H24>0),H24+K24,0) -> 0
C25: =$B$8 -> FC | F25: =D25*E25 -> 0 | G25: =$B$9 -> 0.12345 | H25: =IF(G25<>0,F25/G25,0) -> 0 | K25: =I25*J25 -> 0 | L25: =IF(OR(J25>0,H25>0),H25+K25,0) -> 0
C26: =$B$8 -> FC | F26: =D26*E26 -> 0 | G26: =$B$9 -> 0.12345 | H26: =IF(G26<>0,F26/G26,0) -> 0 | K26: =I26*J26 -> 0 | L26: =IF(OR(J26>0,H26>0),H26+K26,0) -> 0
C27: =$B$8 -> FC | F27: =D27*E27 -> 0 | G27: =$B$9 -> 0.12345 | H27: =IF(G27<>0,F27/G27,0) -> 0 | K27: =I27*J27 -> 0 | L27: =IF(OR(J27>0,H27>0),H27+K27,0) -> 0
C28: =$B$8 -> FC | F28: =D28*E28 -> 0 | G28: =$B$9 -> 0.12345 | H28: =IF(G28<>0,F28/G28,0) -> 0 | K28: =I28*J28 -> 0 | L28: =IF(OR(J28>0,H28>0),H28+K28,0) -> 0
C29: =$B$8 -> FC | F29: =D29*E29 -> 0 | G29: =$B$9 -> 0.12345 | H29: =IF(G29<>0,F29/G29,0) -> 0 | K29: =I29*J29 -> 0 | L29: =IF(OR(J29>0,H29>0),H29+K29,0) -> 0
C30: =$B$8 -> FC | F30: =D30*E30 -> 0 | G30: =$B$9 -> 0.12345 | H30: =IF(G30<>0,F30/G30,0) -> 0 | K30: =I30*J30 -> 0 | L30: =IF(OR(J30>0,H30>0),H30+K30,0) -> 0
... C41: =$B$8 -> FC | F41: =D41*E41 -> 0 | G41: =$B$9 -> 0.12345 | H41: =IF(G41<>0,F41/G41,0) -> 0 | K41: =I41*J41 -> 0 | L41: =IF(OR(J41>0,H41>0),H41+K41,0) -> 0
B43: =+"SUB-TOTAL: "&A16 -> SUB-TOTAL: G6 | F43: =SUM(F16:F42) -> 0 | G43: =$B$9 -> 0.12345 | H43: =SUM(H16:H42) -> 0 | K43: =SUM(K16:K42) -> 0 | L43: =SUM(L16:L42) -> 0

Sheet G7 Options
A1: TENDER PRICE SCHEDULE: VOLUME 1C
A2: (INCLUDING VALUE ADDED TAX)
A3: BIDDER : | B3: ='Bidder Info'!D3 -> Bidder name
A4: RFP: | B4: =Instructions!D7 -> ATNS/HO/TPQ/RFP049/FY23.24/ATFM REPLACEMENT SYSTEM
A5: PROJECT : | B5: =Instructions!$D$8 -> ATFM Replacement
A6: Item Nr: | B6: G7
A7: Item Description: | B7: OPTIONS
A8: Foreign Currancy | B8: ='Bidder Info'!D4 -> FC
A9: ROE: 1R = | B9: ='Bidder Info'!D5 -> 0.12345
C11: Overseas Items | I11: Local Items
A13: Schedule Item Number | B13: Description | C13: Foreign Currency | D13: Quantity | E13: Foreign Amount Unit Cost | F13: Foreign Amount Total Cost | G13: ="ROE: 1R = "&'Bidder Info'!$D$5 -> ROE: 1R = 0.12345 | H13: Total Foreign Cost in Rands | I13: Quantity | J13: Local Amount Unit Cost | K13: Local Amount Total Cost | L13: Total Rands
A16: =B6 -> G7 | B16: =B7 -> OPTIONS
A18: G7.1 | B18: OTHER OPTIONS 1 | F18: =SUM(F19:F25) -> 0 | H18: =SUM(H19:H25) -> 0 | K18: =SUM(K19:K25) -> 0 | L18: =SUM(L19:L25) -> 0
C19: =$B$8 -> FC | F19: =D19*E19 -> 0 | G19: =$B$9 -> 0.12345 | H19: =IF(G19<>0,F19/G19,0) -> 0 | K19: =I19*J19 -> 0 | L19: =IF(OR(J19>0,H19>0),H19+K19,0) -> 0
C20: =$B$8 -> FC | F20: =D20*E20 -> 0 | G20: =$B$9 -> 0.12345 | H20: =IF(G20<>0,F20/G20,0) -> 0 | K20: =I20*J20 -> 0 | L20: =IF(OR(J20>0,H20>0),H20+K20,0) -> 0
C21: =$B$8 -> FC | F21: =D21*E21 -> 0 | G21: =$B$9 -> 0.12345 | H21: =IF(G21<>0,F21/G21,0) -> 0 | K21: =I21*J21 -> 0 | L21: =IF(OR(J21>0,H21>0),H21+K21,0) -> 0
C22: =$B$8 -> FC | F22: =D22*E22 -> 0 | G22: =$B$9 -> 0.12345 | H22: =IF(G22<>0,F22/G22,0) -> 0 | K22: =I22*J22 -> 0 | L22: =IF(OR(J22>0,H22>0),H22+K22,0) -> 0
C23: =$B$8 -> FC | F23: =D23*E23 -> 0 | G23: =$B$9 -> 0.12345 | H23: =IF(G23<>0,F23/G23,0) -> 0 | K23: =I23*J23 -> 0 | L23: =IF(OR(J23>0,H23>0),H23+K23,0) -> 0
C24: =$B$8 -> FC | F24: =D24*E24 -> 0 | G24: =$B$9 -> 0.12345 | H24: =IF(G24<>0,F24/G24,0) -> 0 | K24: =I24*J24 -> 0 | L24: =IF(OR(J24>0,H24>0),H24+K24,0) -> 0
C25: =$B$8 -> FC | F25: =D25*E25 -> 0 | G25: =$B$9 -> 0.12345 | H25: =IF(G25<>0,F25/G25,0) -> 0 | K25: =I25*J25 -> 0 | L25: =IF(OR(J25>0,H25>0),H25+K25,0) -> 0
A27: G7.2 | B27: OTHER OPTIONS 2 | F27: =SUM(F28:F35) -> 0 | H27: =SUM(H28:H35) -> 0 | K27: =SUM(K28:K35) -> 0 | L27: =SUM(L28:L35) -> 0
C28: =$B$8 -> FC | F28: =D28*E28 -> 0 | G28: =$B$9 -> 0.12345 | H28: =IF(G28<>0,F28/G28,0) -> 0 | K28: =I28*J28 -> 0 | L28: =IF(OR(J28>0,H28>0),H28+K28,0) -> 0
C29: =$B$8 -> FC | F29: =D29*E29 -> 0 | G29: =$B$9 -> 0.12345 | H29: =IF(G29<>0,F29/G29,0) -> 0 | K29: =I29*J29 -> 0 | L29: =IF(OR(J29>0,H29>0),H29+K29,0) -> 0
C30: =$B$8 -> FC | F30: =D30*E30 -> 0 | G30: =$B$9 -> 0.12345 | H30: =IF(G30<>0,F30/G30,0) -> 0 | K30: =I30*J30 -> 0 | L30: =IF(OR(J30>0,H30>0),H30+K30,0) -> 0
C31: =$B$8 -> FC | F31: =D31*E31 -> 0 | G31: =$B$9 -> 0.12345 | H31: =IF(G31<>0,F31/G31,0) -> 0 | K31: =I31*J31 -> 0 | L31: =IF(OR(J31>0,H31>0),H31+K31,0) -> 0
C32: =$B$8 -> FC | F32: =D32*E32 -> 0 | G32: =$B$9 -> 0.12345 | H32: =IF(G32<>0,F32/G32,0) -> 0 | K32: =I32*J32 -> 0 | L32: =IF(OR(J32>0,H32>0),H32+K32,0) -> 0
C33: =$B$8 -> FC | F33: =D33*E33 -> 0 | G33: =$B$9 -> 0.12345 | H33: =IF(G33<>0,F33/G33,0) -> 0 | K33: =I33*J33 -> 0 | L33: =IF(OR(J33>0,H33>0),H33+K33,0) -> 0
C34: =$B$8 -> FC | F34: =D34*E34 -> 0 | G34: =$B$9 -> 0.12345 | H34: =IF(G34<>0,F34/G34,0) -> 0 | K34: =I34*J34 -> 0 | L34: =IF(OR(J34>0,H34>0),H34+K34,0) -> 0
A36: G7.3 | B36: OTHER OPTIONS 3 | F36: =SUM(F37:F44) -> 0 | H36: =SUM(H37:H44) -> 0 | K36: =SUM(K37:K44) -> 0 | L36: =SUM(L37:L44) -> 0
C37: =$B$8 -> FC | F37: =D37*E37 -> 0 | G37: =$B$9 -> 0.12345 | H37: =IF(G37<>0,F37/G37,0) -> 0 | K37: =I37*J37 -> 0 | L37: =IF(OR(J37>0,H37>0),H37+K37,0) -> 0
C38: =$B$8 -> FC | F38: =D38*E38 -> 0 | G38: =$B$9 -> 0.12345 | H38: =IF(G38<>0,F38/G38,0) -> 0 | K38: =I38*J38 -> 0 | L38: =IF(OR(J38>0,H38>0),H38+K38,0) -> 0
C39: =$B$8 -> FC | F39: =D39*E39 -> 0 | G39: =$B$9 -> 0.12345 | H39: =IF(G39<>0,F39/G39,0) -> 0 | K39: =I39*J39 -> 0 | L39: =IF(OR(J39>0,H39>0),H39+K39,0) -> 0
C40: =$B$8 -> FC | F40: =D40*E40 -> 0 | G40: =$B$9 -> 0.12345 | H40: =IF(G40<>0,F40/G40,0) -> 0 | K40: =I40*J40 -> 0 | L40: =IF(OR(J40>0,H40>0),H40+K40,0) -> 0
C41: =$B$8 -> FC | F41: =D41*E41 -> 0 | G41: =$B$9 -> 0.12345 | H41: =IF(G41<>0,F41/G41,0) -> 0 | K41: =I41*J41 -> 0 | L41: =IF(OR(J41>0,H41>0),H41+K41,0) -> 0
C42: =$B$8 -> FC | F42: =D42*E42 -> 0 | G42: =$B$9 -> 0.12345 | H42: =IF(G42<>0,F42/G42,0) -> 0 | K42: =I42*J42 -> 0 | L42: =IF(OR(J42>0,H42>0),H42+K42,0) -> 0
C43: =$B$8 -> FC | F43: =D43*E43 -> 0 | G43: =$B$9 -> 0.12345 | H43: =IF(G43<>0,F43/G43,0) -> 0 | K43: =I43*J43 -> 0 | L43: =IF(OR(J43>0,H43>0),H43+K43,0) -> 0
A45: G9.4 | B45: OTHER OPTIONS 4 | F45: =SUM(F46:F53) -> 0 | H45: =SUM(H46:H53) -> 0 | K45: =SUM(K46:K53) -> 0 | L45: =SUM(L46:L53) -> 0
C46: =$B$8 -> FC | F46: =D46*E46 -> 0 | G46: =$B$9 -> 0.12345 | H46: =IF(G46<>0,F46/G46,0) -> 0 | K46: =I46*J46 -> 0 | L46: =IF(OR(J46>0,H46>0),H46+K46,0) -> 0
C47: =$B$8 -> FC | F47: =D47*E47 -> 0 | G47: =$B$9 -> 0.12345 | H47: =IF(G47<>0,F47/G47,0) -> 0 | K47: =I47*J47 -> 0 | L47: =IF(OR(J47>0,H47>0),H47+K47,0) -> 0
C48: =$B$8 -> FC | F48: =D48*E48 -> 0 | G48: =$B$9 -> 0.12345 | H48: =IF(G48<>0,F48/G48,0) -> 0 | K48: =I48*J48 -> 0 | L48: =IF(OR(J48>0,H48>0),H48+K48,0) -> 0
...

Sheet G8 Maintenance Contract
A1: TENDER PRICE SCHEDULE: VOLUME 1C
A2: (INCLUDING VALUE ADDED TAX)
A3: BIDDER: | B3: ='Bidder Info'!D3 -> Bidder name
A4: RFP: | B4: =Instructions!D7 -> ATNS/HO/TPQ/RFP049/FY23.24/ATFM REPLACEMENT SYSTEM
A5: PROJECT : | B5: =Instructions!$D$8 -> ATFM Replacement
A6: Item Nr: | B6: G8
A7: Item Description: | B7: Support Maintenance Contract
A8: Foreign Currancy | B8: ='Bidder Info'!D4 -> FC
A9: ROE: 1R = | B9: ='Bidder Info'!D5 -> 0.12345
C11: Overseas Items | I11: Local Items
A13: Schedule Item Number | B13: Description | C13: Foreign Currency | D13: Quantity | E13: Foreign Amount Unit Cost | F13: Foreign Amount Total Cost | G13: ="ROE: 1R = "&'Bidder Info'!$D$5 -> ROE: 1R = 0.12345 | H13: Total Foreign Cost in Rands | I13: Quantity | J13: Local Amount Unit Cost | K13: Local Amount Total Cost | L13: Total Rands
A16: =B6 -> G8 | B16: =B7 -> Support Maintenance Contract
B17: {Details of the proposed maintenance contract must be included on this price schedule}
A18: Year 1 | C18: =$B$8 -> FC | F18: =D18*E18 -> 0 | G18: =$B$9 -> 0.12345 | H18: =IF(G18<>0,F18/G18,0) -> 0 | K18: =I18*J18 -> 0 | L18: =IF(OR(J18>0,H18>0),H18+K18,0) -> 0
A19: Year 2 | C19: =$B$8 -> FC | F19: =D19*E19 -> 0 | G19: =$B$9 -> 0.12345 | H19: =IF(G19<>0,F19/G19,0) -> 0 | K19: =I19*J19 -> 0 | L19: =IF(OR(J19>0,H19>0),H19+K19,0) -> 0
A20: Year 3 | C20: =$B$8 -> FC | F20: =D20*E20 -> 0 | G20: =$B$9 -> 0.12345 | H20: =IF(G20<>0,F20/G20,0) -> 0 | K20: =I20*J20 -> 0 | L20: =IF(OR(J20>0,H20>0),H20+K20,0) -> 0
A21: Year 4 | C21: =$B$8 -> FC | F21: =D21*E21 -> 0 | G21: =$B$9 -> 0.12345 | H21: =IF(G21<>0,F21/G21,0) -> 0 | K21: =I21*J21 -> 0 | L21: =IF(OR(J21>0,H21>0),H21+K21,0) -> 0
A22: Year 5 | C22: =$B$8 -> FC | F22: =D22*E22 -> 0 | G22: =$B$9 -> 0.12345 | H22: =IF(G22<>0,F22/G22,0) -> 0 | K22: =I22*J22 -> 0 | L22: =IF(OR(J22>0,H22>0),H22+K22,0) -> 0
A23: Year 6 | C23: =$B$8 -> FC | F23: =D23*E23 -> 0 | G23: =$B$9 -> 0.12345 | H23: =IF(G23<>0,F23/G23,0) -> 0 | K23: =I23*J23 -> 0 | L23: =IF(OR(J23>0,H23>0),H23+K23,0) -> 0
A24: Year 7 | C24: =$B$8 -> FC | F24: =D24*E24 -> 0 | G24: =$B$9 -> 0.12345 | H24: =IF(G24<>0,F24/G24,0) -> 0 | K24: =I24*J24 -> 0 | L24: =IF(OR(J24>0,H24>0),H24+K24,0) -> 0
A25: Year 8 | C25: =$B$8 -> FC | F25: =D25*E25 -> 0 | G25: =$B$9 -> 0.12345 | H25: =IF(G25<>0,F25/G25,0) -> 0 | K25: =I25*J25 -> 0 | L25: =IF(OR(J25>0,H25>0),H25+K25,0) -> 0
A26: Year 9 | C26: =$B$8 -> FC | F26: =D26*E26 -> 0 | G26: =$B$9 -> 0.12345 | H26: =IF(G26<>0,F26/G26,0) -> 0 | K26: =I26*J26 -> 0 | L26: =IF(OR(J26>0,H26>0),H26+K26,0) -> 0
A27: Year 10 | C27: =$B$8 -> FC | F27: =D27*E27 -> 0 | G27: =$B$9 -> 0.12345 | H27: =IF(G27<>0,F27/G27,0) -> 0 | K27: =I27*J27 -> 0 | L27: =IF(OR(J27>0,H27>0),H27+K27,0) -> 0
C28: =$B$8 -> FC | F28: =D28*E28 -> 0 | G28: =$B$9 -> 0.12345 | H28: =IF(G28<>0,F28/G28,0) -> 0 | K28: =I28*J28 -> 0 | L28: =IF(OR(J28>0,H28>0),H28+K28,0) -> 0
C29: =$B$8 -> FC | F29: =D29*E29 -> 0 | G29: =$B$9 -> 0.12345 | H29: =IF(G29<>0,F29/G29,0) -> 0 | K29: =I29*J29 -> 0 | L29: =IF(OR(J29>0,H29>0),H29+K29,0) -> 0
C30: =$B$8 -> FC | F30: =D30*E30 -> 0 | G30: =$B$9 -> 0.12345 | H30: =IF(G30<>0,F30/G30,0) -> 0 | K30: =I30*J30 -> 0 | L30: =IF(OR(J30>0,H30>0),H30+K30,0) -> 0
C31: =$B$8 -> FC | F31: =D31*E31 -> 0 | G31: =$B$9 -> 0.12345 | H31: =IF(G31<>0,F31/G31,0) -> 0 | K31: =I31*J31 -> 0 | L31: =IF(OR(J31>0,H31>0),H31+K31,0) -> 0
C32: =$B$8 -> FC | F32: =D32*E32 -> 0 | G32: =$B$9 -> 0.12345 | H32: =IF(G32<>0,F32/G32,0) -> 0 | K32: =I32*J32 -> 0 | L32: =IF(OR(J32>0,H32>0),H32+K32,0) -> 0
C33: =$B$8 -> FC | F33: =D33*E33 -> 0 | G33: =$B$9 -> 0.12345 | H33: =IF(G33<>0,F33/G33,0) -> 0 | K33: =I33*J33 -> 0 | L33: =IF(OR(J33>0,H33>0),H33+K33,0) -> 0
C34: =$B$8 -> FC | F34: =D34*E34 -> 0 | G34: =$B$9 -> 0.12345 | H34: =IF(G34<>0,F34/G34,0) -> 0 | K34: =I34*J34 -> 0 | L34: =IF(OR(J34>0,H34>0),H34+K34,0) -> 0
C35: =$B$8 -> FC | F35: =D35*E35 -> 0 | G35: =$B$9 -> 0.12345 | H35: =IF(G35<>0,F35/G35,0) -> 0 | K35: =I35*J35 -> 0 | L35: =IF(OR(J35>0,H35>0),H35+K35,0) -> 0
C36: =$B$8 -> FC | F36: =D36*E36 -> 0 | G36: =$B$9 -> 0.12345 | H36: =IF(G36<>0,F36/G36,0) -> 0 | K36: =I36*J36 -> 0 | L36: =IF(OR(J36>0,H36>0),H36+K36,0) -> 0
C37: =$B$8 -> FC | F37: =D37*E37 -> 0 | G37: =$B$9 -> 0.12345 | H37: =IF(G37<>0,F37/G37,0) -> 0 | K37: =I37*J37 -> 0 | L37: =IF(OR(J37>0,H37>0),H37+K37,0) -> 0
C38: =$B$8 -> FC | F38: =D38*E38 -> 0 | G38: =$B$9 -> 0.12345 | H38: =IF(G38<>0,F38/G38,0) -> 0 | K38: =I38*J38 -> 0 | L38: =IF(OR(J38>0,H38>0),H38+K38,0) -> 0
C39: =$B$8 -> FC | F39: =D39*E39 -> 0 | G39: =$B$9 -> 0.12345 | H39: =IF(G39<>0,F39/G39,0) -> 0 | K39: =I39*J39 -> 0 | L39: =IF(OR(J39>0,H39>0),H39+K39,0) -> 0
C40: =$B$8 -> FC | F40: =D40*E40 -> 0 | G40: =$B$9 -> 0.12345 | H40: =IF(G40<>0,F40/G40,0) -> 0 | K40: =I40*J40 -> 0 | L40: =IF(OR(J40>0,H40>0),H40+K40,0) -> 0
B42: =+"SUB-TOTAL: "&A16 -> SUB-TOTAL: G8 | F42: =SUM(F16:F41) -> 0 | H42: =SUM(H16:H41) -> 0 | K42: =SUM(K16:K41) -> 0 | L42: =SUM(L16:L41) -> 0
