Workbook

Sheet works
A1: KGETLENGRIVIER LOCAL MUNICIPALITY | F1: Date : | G1: 44803
A2: Swartruggens Borolelo Extension
A3: Sectional Steel Ground Reservoir - 500 kℓ
A7: Bill of Quantities
A14: This schedule of quantities is based on CEQ73 (Civil Engineering Quantities 1973) with References to SANS 1200 & SANS 0120 & additional information in CESMM3 (Civil Engineering Standard Method of Measurement)
A20: Descriptions in this Schedule of Quantities are abbreviated and the Schedule has been drawn up generally in accordance with the latest issue of Civil Engineering Quantities. Should any requirement of the measurement and payment clause of the applicable standardized specifications, or the project specifications, or particular specifications conflict with the terms of the schedule or, relevant civil engineering quantities, the requirements of the standardized, project, or particular specification, as applicable, shall prevail.
A29: In this bill of quantities all items are to be supplied, manufactured, transported, installed/erected as per the relevant specifications in the tender document/drawings or as specified by the manufacturer | B29: In this bill of quantities all items are to be supplied, manufactured, transported, installed/erected as per the relevant specifications in the tender document/drawings or as specified by the manufacturer | C29: In this bill of quantities all items are to be supplied, manufactured, transported, installed/erected as per the relevant specifications in the tender document/drawings or as specified by the manufacturer | D29: In this bill of quantities all items are to be supplied, manufactured, transported, installed/erected as per the relevant specifications in the tender document/drawings or as specified by the manufacturer | E29: In this bill of quantities all items are to be supplied, manufactured, transported, installed/erected as per the relevant specifications in the tender document/drawings or as specified by the manufacturer | F29: In this bill of quantities all items are to be supplied, manufactured, transported, installed/erected as per the relevant specifications in the tender document/drawings or as specified by the manufacturer | G29: In this bill of quantities all items are to be supplied, manufactured, transported, installed/erected as per the relevant specifications in the tender document/drawings or as specified by the manufacturer
A30: In this bill of quantities all items are to be supplied, manufactured, transported, installed/erected as per the relevant specifications in the tender document/drawings or as specified by the manufacturer | B30: In this bill of quantities all items are to be supplied, manufactured, transported, installed/erected as per the relevant specifications in the tender document/drawings or as specified by the manufacturer | C30: In this bill of quantities all items are to be supplied, manufactured, transported, installed/erected as per the relevant specifications in the tender document/drawings or as specified by the manufacturer | D30: In this bill of quantities all items are to be supplied, manufactured, transported, installed/erected as per the relevant specifications in the tender document/drawings or as specified by the manufacturer | E30: In this bill of quantities all items are to be supplied, manufactured, transported, installed/erected as per the relevant specifications in the tender document/drawings or as specified by the manufacturer | F30: In this bill of quantities all items are to be supplied, manufactured, transported, installed/erected as per the relevant specifications in the tender document/drawings or as specified by the manufacturer | G30: In this bill of quantities all items are to be supplied, manufactured, transported, installed/erected as per the relevant specifications in the tender document/drawings or as specified by the manufacturer
A31: In this bill of quantities all items are to be supplied, manufactured, transported, installed/erected as per the relevant specifications in the tender document/drawings or as specified by the manufacturer | B31: In this bill of quantities all items are to be supplied, manufactured, transported, installed/erected as per the relevant specifications in the tender document/drawings or as specified by the manufacturer | C31: In this bill of quantities all items are to be supplied, manufactured, transported, installed/erected as per the relevant specifications in the tender document/drawings or as specified by the manufacturer | D31: In this bill of quantities all items are to be supplied, manufactured, transported, installed/erected as per the relevant specifications in the tender document/drawings or as specified by the manufacturer | E31: In this bill of quantities all items are to be supplied, manufactured, transported, installed/erected as per the relevant specifications in the tender document/drawings or as specified by the manufacturer | F31: In this bill of quantities all items are to be supplied, manufactured, transported, installed/erected as per the relevant specifications in the tender document/drawings or as specified by the manufacturer | G31: In this bill of quantities all items are to be supplied, manufactured, transported, installed/erected as per the relevant specifications in the tender document/drawings or as specified by the manufacturer
A32: In this bill of quantities all items are to be supplied, manufactured, transported, installed/erected as per the relevant specifications in the tender document/drawings or as specified by the manufacturer | B32: In this bill of quantities all items are to be supplied, manufactured, transported, installed/erected as per the relevant specifications in the tender document/drawings or as specified by the manufacturer | C32: In this bill of quantities all items are to be supplied, manufactured, transported, installed/erected as per the relevant specifications in the tender document/drawings or as specified by the manufacturer | D32: In this bill of quantities all items are to be supplied, manufactured, transported, installed/erected as per the relevant specifications in the tender document/drawings or as specified by the manufacturer | E32: In this bill of quantities all items are to be supplied, manufactured, transported, installed/erected as per the relevant specifications in the tender document/drawings or as specified by the manufacturer | F32: In this bill of quantities all items are to be supplied, manufactured, transported, installed/erected as per the relevant specifications in the tender document/drawings or as specified by the manufacturer | G32: In this bill of quantities all items are to be supplied, manufactured, transported, installed/erected as per the relevant specifications in the tender document/drawings or as specified by the manufacturer
A35: All scheduled structural steel items are to be supplied, manufactured, transported, erected, painted & finished according to the relevant specifications stated in the SANS 1200 Schedule H (1990), HA (1990), HB (1985), HC (1988), SANS 2001:CS1 2005 Edition 1 including all relevant Normative references and drawings, unless otherwise stated by the Engineer in charge of the project. The rates given by the Contractor should cater for all these activities as well as for shop drawings. | B35: All scheduled structural steel items are to be supplied, manufactured, transported, erected, painted & finished according to the relevant specifications stated in the SANS 1200 Schedule H (1990), HA (1990), HB (1985), HC (1988), SANS 2001:CS1 2005 Edition 1 including all relevant normative references and drawings, unless otherwise stated by the Engineer in charge of the project. The rates given by the Contractor should cater for all these activities as well as for shop drawings. | C35: All scheduled structural steel items are to be supplied, manufactured, transported, erected, painted & finished according to the relevant specifications stated in the SANS 1200 Schedule H (1990), HA (1990), HB (1985), HC (1988), SANS 2001:CS1 2005 Edition 1 including all relevant normative references and drawings, unless otherwise stated by the Engineer in charge of the project. The rates given by the Contractor should cater for all these activities as well as for shop drawings. | D35: All scheduled structural steel items are to be supplied, manufactured, transported, erected, painted & finished according to the relevant specifications stated in the SANS 1200 Schedule H (1990), HA (1990), HB (1985), HC (1988), SANS 2001:CS1 2005 Edition 1 including all relevant normative references and drawings, unless otherwise stated by the Engineer in charge of the project. The rates given by the Contractor should cater for all these activities as well as for shop drawings. | E35: All scheduled structural steel items are to be supplied, manufactured, transported, erected, painted & finished according to the relevant specifications stated in the SANS 1200 Schedule H (1990), HA (1990), HB (1985), HC (1988), SANS 2001:CS1 2005 Edition 1 including all relevant normative references and drawings, unless otherwise stated by the Engineer in charge of the project. The rates given by the Contractor should cater for all these activities as well as for shop drawings. | F35: All scheduled structural steel items are to be supplied, manufactured, transported, erected, painted & finished according to the relevant specifications stated in the SANS 1200 Schedule H (1990), HA (1990), HB (1985), HC (1988), SANS 2001:CS1 2005 Edition 1 including all relevant normative references and drawings, unless otherwise stated by the Engineer in charge of the project. The rates given by the Contractor should cater for all these activities as well as for shop drawings. | G35: All scheduled structural steel items are to be supplied, manufactured, transported, erected, painted & finished according to the relevant specifications stated in the SANS 1200 Schedule H (1990), HA (1990), HB (1985), HC (1988), SANS 2001:CS1 2005 Edition 1 including all relevant normative references and drawings, unless otherwise stated by the Engineer in charge of the project. The rates given by the Contractor should cater for all these activities as well as for shop drawings.
A36: All scheduled structural steel items are to be supplied, manufactured, transported, erected, painted & finished according to the relevant specifications stated in the SANS 1200 Schedule H (1990), HA (1990), HB (1985), HC (1988), SANS 2001:CS1 2005 Edition 1 including all relevant normative references and drawings, unless otherwise stated by the Engineer in charge of the project. The rates given by the Contractor should cater for all these activities as well as for shop drawings. | B36: All scheduled structural steel items are to be supplied, manufactured, transported, erected, painted & finished according to the relevant specifications stated in the SANS 1200 Schedule H (1990), HA (1990), HB (1985), HC (1988), SANS 2001:CS1 2005 Edition 1 including all relevant normative references and drawings, unless otherwise stated by the Engineer in charge of the project. The rates given by the Contractor should cater for all these activities as well as for shop drawings. | C36: All scheduled structural steel items are to be supplied, manufactured, transported, erected, painted & finished according to the relevant specifications stated in the SANS 1200 Schedule H (1990), HA (1990), HB (1985), HC (1988), SANS 2001:CS1 2005 Edition 1 including all relevant normative references and drawings, unless otherwise stated by the Engineer in charge of the project. The rates given by the Contractor should cater for all these activities as well as for shop drawings. | D36: All scheduled structural steel items are to be supplied, manufactured, transported, erected, painted & finished according to the relevant specifications stated in the SANS 1200 Schedule H (1990), HA (1990), HB (1985), HC (1988), SANS 2001:CS1 2005 Edition 1 including all relevant normative references and drawings, unless otherwise stated by the Engineer in charge of the project. The rates given by the Contractor should cater for all these activities as well as for shop drawings. | E36: All scheduled structural steel items are to be supplied, manufactured, transported, erected, painted & finished according to the relevant specifications stated in the SANS 1200 Schedule H (1990), HA (1990), HB (1985), HC (1988), SANS 2001:CS1 2005 Edition 1 including all relevant normative references and drawings, unless otherwise stated by the Engineer in charge of the project. The rates given by the Contractor should cater for all these activities as well as for shop drawings. | F36: All scheduled structural steel items are to be supplied, manufactured, transported, erected, painted & finished according to the relevant specifications stated in the SANS 1200 Schedule H (1990), HA (1990), HB (1985), HC (1988), SANS 2001:CS1 2005 Edition 1 including all relevant normative references and drawings, unless otherwise stated by the Engineer in charge of the project. The rates given by the Contractor should cater for all these activities as well as for shop drawings. | G36: All scheduled structural steel items are to be supplied, manufactured, transported, erected, painted & finished according to the relevant specifications stated in the SANS 1200 Schedule H (1990), HA (1990), HB (1985), HC (1988), SANS 2001:CS1 2005 Edition 1 including all relevant normative references and drawings, unless otherwise stated by the Engineer in charge of the project. The rates given by the Contractor should cater for all these activities as well as for shop drawings.
A37: All scheduled structural steel items are to be supplied, manufactured, transported, erected, painted & finished according to the relevant specifications stated in the SANS 1200 Schedule H (1990), HA (1990), HB (1985), HC (1988), SANS 2001:CS1 2005 Edition 1 including all relevant normative references and drawings, unless otherwise stated by the Engineer in charge of the project. The rates given by the Contractor should cater for all these activities as well as for shop drawings. | B37: All scheduled structural steel items are to be supplied, manufactured, transported, erected, painted & finished according to the relevant specifications stated in the SANS 1200 Schedule H (1990), HA (1990), HB (1985), HC (1988), SANS 2001:CS1 2005 Edition 1 including all relevant normative references and drawings, unless otherwise stated by the Engineer in charge of the project. The rates given by the Contractor should cater for all these activities as well as for shop drawings. | C37: All scheduled structural steel items are to be supplied, manufactured, transported, erected, painted & finished according to the relevant specifications stated in the SANS 1200 Schedule H (1990), HA (1990), HB (1985), HC (1988), SANS 2001:CS1 2005 Edition 1 including all relevant normative references and drawings, unless otherwise stated by the Engineer in charge of the project. The rates given by the Contractor should cater for all these activities as well as for shop drawings. | D37: All scheduled structural steel items are to be supplied, manufactured, transported, erected, painted & finished according to the relevant specifications stated in the SANS 1200 Schedule H (1990), HA (1990), HB (1985), HC (1988), SANS 2001:CS1 2005 Edition 1 including all relevant normative references and drawings, unless otherwise stated by the Engineer in charge of the project. The rates given by the Contractor should cater for all these activities as well as for shop drawings. | E37: All scheduled structural steel items are to be supplied, manufactured, transported, erected, painted & finished according to the relevant specifications stated in the SANS 1200 Schedule H (1990), HA (1990), HB (1985), HC (1988), SANS 2001:CS1 2005 Edition 1 including all relevant normative references and drawings, unless otherwise stated by the Engineer in charge of the project. The rates given by the Contractor should cater for all these activities as well as for shop drawings. | F37: All scheduled structural steel items are to be supplied, manufactured, transported, erected, painted & finished according to the relevant specifications stated in the SANS 1200 Schedule H (1990), HA (1990), HB (1985), HC (1988), SANS 2001:CS1 2005 Edition 1 including all relevant normative references and drawings, unless otherwise stated by the Engineer in charge of the project. The rates given by the Contractor should cater for all these activities as well as for shop drawings. | G37: All scheduled structural steel items are to be supplied, manufactured, transported, erected, painted & finished according to the relevant specifications stated in the SANS 1200 Schedule H (1990), HA (1990), HB (1985), HC (1988), SANS 2001:CS1 2005 Edition 1 including all relevant normative references and drawings, unless otherwise stated by the Engineer in charge of the project. The rates given by the Contractor should cater for all these activities as well as for shop drawings.
A38: All scheduled structural steel items are to be supplied, manufactured, transported, erected, painted & finished according to the relevant specifications stated in the SANS 1200 Schedule H (1990), HA (1990), HB (1985), HC (1988), SANS 2001:CS1 2005 Edition 1 including all relevant normative references and drawings, unless otherwise stated by the Engineer in charge of the project. The rates given by the Contractor should cater for all these activities as well as for shop drawings. | B38: All scheduled structural steel items are to be supplied, manufactured, transported, erected, painted & finished according to the relevant specifications stated in the SANS 1200 Schedule H (1990), HA (1990), HB (1985), HC (1988), SANS 2001:CS1 2005 Edition 1 including all relevant normative references and drawings, unless otherwise stated by the Engineer in charge of the project. The rates given by the Contractor should cater for all these activities as well as for shop drawings. | C38: All scheduled structural steel items are to be supplied, manufactured, transported, erected, painted & finished according to the relevant specifications stated in the SANS 1200 Schedule H (1990), HA (1990), HB (1985), HC (1988), SANS 2001:CS1 2005 Edition 1 including all relevant normative references and drawings, unless otherwise stated by the Engineer in charge of the project. The rates given by the Contractor should cater for all these activities as well as for shop drawings. | D38: All scheduled structural steel items are to be supplied, manufactured, transported, erected, painted & finished according to the relevant specifications stated in the SANS 1200 Schedule H (1990), HA (1990), HB (1985), HC (1988), SANS 2001:CS1 2005 Edition 1 including all relevant normative references and drawings, unless otherwise stated by the Engineer in charge of the project. The rates given by the Contractor should cater for all these activities as well as for shop drawings. | E38: All scheduled structural steel items are to be supplied, manufactured, transported, erected, painted & finished according to the relevant specifications stated in the SANS 1200 Schedule H (1990), HA (1990), HB (1985), HC (1988), SANS 2001:CS1 2005 Edition 1 including all relevant normative references and drawings, unless otherwise stated by the Engineer in charge of the project. The rates given by the Contractor should cater for all these activities as well as for shop drawings. | F38: All scheduled structural steel items are to be supplied, manufactured, transported, erected, painted & finished according to the relevant specifications stated in the SANS 1200 Schedule H (1990), HA (1990), HB (1985), HC (1988), SANS 2001:CS1 2005 Edition 1 including all relevant normative references and drawings, unless otherwise stated by the Engineer in charge of the project. The rates given by the Contractor should cater for all these activities as well as for shop drawings. | G38: All scheduled structural steel items are to be supplied, manufactured, transported, erected, painted & finished according to the relevant specifications stated in the SANS 1200 Schedule H (1990), HA (1990), HB (1985), HC (1988), SANS 2001:CS1 2005 Edition 1 including all relevant normative references and drawings, unless otherwise stated by the Engineer in charge of the project. The rates given by the Contractor should cater for all these activities as well as for shop drawings.
A39: All scheduled structural steel items are to be supplied, manufactured, transported, erected, painted & finished according to the relevant specifications stated in the SANS 1200 Schedule H (1990), HA (1990), HB (1985), HC (1988), SANS 2001:CS1 2005 Edition 1 including all relevant normative references and drawings, unless otherwise stated by the Engineer in charge of the project. The rates given by the Contractor should cater for all these activities as well as for shop drawings. | B39: All scheduled structural steel items are to be supplied, manufactured, transported, erected, painted & finished according to the relevant specifications stated in the SANS 1200 Schedule H (1990), HA (1990), HB (1985), HC (1988), SANS 2001:CS1 2005 Edition 1 including all relevant normative references and drawings, unless otherwise stated by the Engineer in charge of the project. The rates given by the Contractor should cater for all these activities as well as for shop drawings. | C39: All scheduled structural steel items are to be supplied, manufactured, transported, erected, painted & finished according to the relevant specifications stated in the SANS 1200 Schedule H (1990), HA (1990), HB (1985), HC (1988), SANS 2001:CS1 2005 Edition 1 including all relevant normative references and drawings, unless otherwise stated by the Engineer in charge of the project. The rates given by the Contractor should cater for all these activities as well as for shop drawings. | D39: All scheduled structural steel items are to be supplied, manufactured, transported, erected, painted & finished according to the relevant specifications stated in the SANS 1200 Schedule H (1990), HA (1990), HB (1985), HC (1988), SANS 2001:CS1 2005 Edition 1 including all relevant normative references and drawings, unless otherwise stated by the Engineer in charge of the project. The rates given by the Contractor should cater for all these activities as well as for shop drawings. | E39: All scheduled structural steel items are to be supplied, manufactured, transported, erected, painted & finished according to the relevant specifications stated in the SANS 1200 Schedule H (1990), HA (1990), HB (1985), HC (1988), SANS 2001:CS1 2005 Edition 1 including all relevant normative references and drawings, unless otherwise stated by the Engineer in charge of the project. The rates given by the Contractor should cater for all these activities as well as for shop drawings. | F39: All scheduled structural steel items are to be supplied, manufactured, transported, erected, painted & finished according to the relevant specifications stated in the SANS 1200 Schedule H (1990), HA (1990), HB (1985), HC (1988), SANS 2001:CS1 2005 Edition 1 including all relevant normative references and drawings, unless otherwise stated by the Engineer in charge of the project. The rates given by the Contractor should cater for all these activities as well as for shop drawings. | G39: All scheduled structural steel items are to be supplied, manufactured, transported, erected, painted & finished according to the relevant specifications stated in the SANS 1200 Schedule H (1990), HA (1990), HB (1985), HC (1988), SANS 2001:CS1 2005 Edition 1 including all relevant normative references and drawings, unless otherwise stated by the Engineer in charge of the project. The rates given by the Contractor should cater for all these activities as well as for shop drawings.
A40: All scheduled structural steel items are to be supplied, manufactured, transported, erected, painted & finished according to the relevant specifications stated in the SANS 1200 Schedule H (1990), HA (1990), HB (1985), HC (1988), SANS 2001:CS1 2005 Edition 1 including all relevant normative references and drawings, unless otherwise stated by the Engineer in charge of the project. The rates given by the Contractor should cater for all these activities as well as for shop drawings. | B40: All scheduled structural steel items are to be supplied, manufactured, transported, erected, painted & finished according to the relevant specifications stated in the SANS 1200 Schedule H (1990), HA (1990), HB (1985), HC (1988), SANS 2001:CS1 2005 Edition 1 including all relevant normative references and drawings, unless otherwise stated by the Engineer in charge of the project. The rates given by the Contractor should cater for all these activities as well as for shop drawings. | C40: All scheduled structural steel items are to be supplied, manufactured, transported, erected, painted & finished according to the relevant specifications stated in the SANS 1200 Schedule H (1990), HA (1990), HB (1985), HC (1988), SANS 2001:CS1 2005 Edition 1 including all relevant normative references and drawings, unless otherwise stated by the Engineer in charge of the project. The rates given by the Contractor should cater for all these activities as well as for shop drawings. | D40: All scheduled structural steel items are to be supplied, manufactured, transported, erected, painted & finished according to the relevant specifications stated in the SANS 1200 Schedule H (1990), HA (1990), HB (1985), HC (1988), SANS 2001:CS1 2005 Edition 1 including all relevant normative references and drawings, unless otherwise stated by the Engineer in charge of the project. The rates given by the Contractor should cater for all these activities as well as for shop drawings. | E40: All scheduled structural steel items are to be supplied, manufactured, transported, erected, painted & finished according to the relevant specifications stated in the SANS 1200 Schedule H (1990), HA (1990), HB (1985), HC (1988), SANS 2001:CS1 2005 Edition 1 including all relevant normative references and drawings, unless otherwise stated by the Engineer in charge of the project. The rates given by the Contractor should cater for all these activities as well as for shop drawings. | F40: All scheduled structural steel items are to be supplied, manufactured, transported, erected, painted & finished according to the relevant specifications stated in the SANS 1200 Schedule H (1990), HA (1990), HB (1985), HC (1988), SANS 2001:CS1 2005 Edition 1 including all relevant normative references and drawings, unless otherwise stated by the Engineer in charge of the project. The rates given by the Contractor should cater for all these activities as well as for shop drawings. | G40: All scheduled structural steel items are to be supplied, manufactured, transported, erected, painted & finished according to the relevant specifications stated in the SANS 1200 Schedule H (1990), HA (1990), HB (1985), HC (1988), SANS 2001:CS1 2005 Edition 1 including all relevant normative references and drawings, unless otherwise stated by the Engineer in charge of the project. The rates given by the Contractor should cater for all these activities as well as for shop drawings.
A45: TOTAL BROUGHT FORWARD FROM SUMMARY (VAT Included) | F45: =Summary!C42 -> 183425
A55: 1

Sheet pg1
A1: =+works!A1 -> KGETLENGRIVIER LOCAL MUNICIPALITY | F1: =+works!F1 -> Date : | G1: =works!G1 -> 44803
A2: =+works!A2 -> Swartruggens Borolelo Extension
A3: =works!A3 -> Sectional Steel Ground Reservoir - 500 kℓ
A5: Item | B5: Payment | C5: Item Description | D5: Unit | E5: Quantities | F5: Rate | G5: Amount
A6: number | B6: reference | G6: Rands.cents
B7: SANS | C7: Schedule 1
B8: 1200 | C8: Preliminary and general
A10: 1.1 | C10: Fixed charge items
A12: 1.1.1 | B12: A8.3.1 | C12: Contractual requirements affecting the Contractor | D12: Sum | E12: 1 | G12: =F12*E12 -> 0
B13: A8.3.2 | C13: The Contractor to provide the following items or as amended in the Tender Document:
A14: 1.1.2 | B14: PSA8.3.2.1a | C14: Furnished office for the Employers Agent | D14: Sum | E14: 1 | G14: =F14*E14 -> 0
A15: 1.1.3 | B15: PSA8.3.2.1c | C15: Name boards as specified in the Tender Document | D15: No | E15: 2 | G15: =F15*E15 -> 0
A16: 1.1.4 | B16: A8.3.2.2a | C16: Offices & storage facilities for the Contractor | D16: Sum | E16: 1 | G16: =F16*E16 -> 0
A17: 1.1.5 | B17: A8.3.2.2b | C17: Workshops for the Contractor as required by The Contract | D17: Sum | E17: 1 | G17: =F17*E17 -> 0
A18: 1.1.6 | B18: A8.3.2.2d | C18: Living accommodations for the Contractor's personnel | D18: Sum | E18: 1 | G18: =F18*E18 -> 0
A19: 1.1.7 | B19: A8.3.2.2e | C19: Ablution & latrine facilities for the Contractor's personnel | D19: Sum | E19: 1 | G19: =F19*E19 -> 0
A20: 1.1.8 | B20: A8.3.2.2f | C20: Supply tools & equipments as required by The Contract | D20: Sum | E20: 1 | G20: =F20*E20 -> 0
A21: 1.1.9 | B21: PSA8.3.2.2g | C21: Water, electricity & communications as required by The Contract | D21: Sum | E21: 1 | G21: =F21*E21 -> 0
C22: Other obligations by the Contractor :
A23: 1.1.10 | B23: A8.3.2.2h | C23: Deal with rain and/or ground water in all type of excavations on site as described in SANS 1 200 A section 5.5 | D23: Sum | E23: 1 | G23: =F23*E23 -> 0
A24: 1.1.11 | B24: A8.8.1 | C24: Establish access road to site where necessary | D24: Sum | E24: 1 | G24: =F24*E24 -> 0
A25: 1.1.12 | B25: A8.3.3 | C25: Other fixed charge obligations by the Contractor | D25: Sum | E25: 1 | G25: =F25*E25 -> 0
A26: 1.1.13 | B26: A8.3.4 | C26: De-establisment of site | D26: Sum | E26: 1 | G26: =F26*E26 -> 0
A27: 1.1.14 | B27: PSA8.4.6.2 | C27: Security Services | D27: Sum | E27: 1 | G27: =F27*E27 -> 0
A29: 1.2 | C29: Time related items
A31: 1.2.1 | B31: A8.4.1 | C31: Contractual requirements on a time bases affecting the Contractor | D31: Sum | E31: 1 | G31: =F31*E31 -> 0
C32: The Contractor to maintain the following items or as amended in the Tender Document - for the duration of the Contract:
A33: 1.2.2 | B33: A8.4.2.1 | C33: All facilities on the site for the Employers Agent | D33: Sum | E33: 1 | G33: =+E33*F33 -> 0
A34: 1.2.3 | B34: A8.4.2.2 | C34: All facilities on the site for the Contractor | D34: Sum | E34: 1 | G34: =+E34*F34 -> 0
C35: Other obligations by the Contractor on a time bases for the duration of the Contract:
A36: 1.2.4 | B36: A8.4.3 | C36: Full time supervision of the site as specified in the Tender Document | D36: Sum | E36: 1 | G36: =+E36*F36 -> 0
A37: 1.2.5 | B37: A8.4.4 | C37: Company & head office administration costs pertaining to the Contract | D37: Sum | E37: 1 | G37: =+E37*F37 -> 0
A38: 1.2.6 | B38: A8.4.5 | C38: Other time related obligations by the Contractor including Cell phone cost incured by the engineer ons site | D38: Sum | E38: 1 | G38: =+E38*F38 -> 0
A40: 1.3 | C40: Provisional sums by the Engineer
A42: 1.3.1 | B42: PSA8.5.ii | C42: Provisional sum for various tests requested by the Employers Agent | D42: Prov | E42: 1 | F42: 20000 | G42: =+E42*F42 -> 20000
A43: 1.3.2 | B43: A8.8.1 | C43: Establish access road to site where it is necessary & maintain during construction | D43: Sum | E43: 0 | F43: 0 | G43: =+E43*F43 -> 0
A44: 1.3.3 | B44: A8.8.2 | C44: Provision for traffic control as requested by the Employers Agent | D44: mnth | E44: 4 | F44: 5000 | G44: =+E44*F44 -> 20000
A45: 1.3.4 | B45: PSA8.4.6.3 | C45: Provisional sum for community involvement / CLO & PSC members | D45: mnth | E45: 4 | F45: 20000 | G45: =+E45*F45 -> 80000
A46: 1.3.5 | B46: PSA8.4.6.5 | C46: Provisional sum for accredited training of local labour by specialist | D46: Prov | E46: 1 | F46: 0 | G46: =+E46*F46 -> 0
A47: 1.3.6 | C47: Site inspections by geologist as requested by employers agent | D47: Prov | E47: 12 | F47: 0 | G47: =+E47*F47 -> 0
...

Sheet ohs1
A1: =works!A1 -> KGETLENGRIVIER LOCAL MUNICIPALITY | F1: =+works!F1 -> Date : | G1: =works!G1 -> 44803
A2: =+works!A2 -> Swartruggens Borolelo Extension
A3: =works!A3 -> Sectional Steel Ground Reservoir - 500 kℓ
A5: Item | B5: Payment | C5: Item Description | D5: Unit | E5: Quantities | F5: Rate | G5: Amount
A6: number | B6: reference | E6: tender | G6: Rands.cents
B7: SANS | C7: Schedule 2
B8: 1 200 | C8: Occupational health and safety requirements
A10: 2.1 | C10: Notification of construction work
C12: Quantities are re-measurable - proof shall be supplied by the Contractor of the quantities claimed
A13: 2.1.1 | B13: PSA8.3.5.2 | C13: Notification of Construction work to the Provincial Director as requested by the Employers Agent under the Construction Regulations of the Occupational Health & Safety (Regulation 4) Act no. 85/1993 | D13: sum | E13: 1 | G13: =+E13*F13 -> 0
A15: 2.2 | C15: Health and safety plan
A17: 2.2.1 | B17: PSA8.3.5.2 | C17: Setting up a job and site specific Health and Safety Plan by the representative of the Contractor and approved by the Employers Agent as required under the Construction Regulations (Regulation 75) of the Occupational Health & Safety Act no. 85/1993 | D17: sum | E17: 1 | G17: =+E17*F17 -> 0
A19: 2.3 | C19: Health and safety main file
A21: 2.3.1 | B21: PSA8.3.5.2 | C21: Setting up a job and site specific Health & Safety Main file as requested by the Employers Agent under the Construction Regulations (Regulation 5) of the Occupational Health & Safety Act no. 85/1993 | D21: sum | E21: 1 | G21: =+E21*F21 -> 0
C23: NOT TO BE REMOVED FROM SITE
C24: File to be a lever arch file with original colour document of acceptable standards including dividers. Emergency telephone numbers to be displayed on back of file. The file will be expanded during the project as and when required by the Client
C25: The file to include the following:
C26: Copy of H&S Act
C27: Proof of registration with COID Insurer
C28: Notification of construction work
C29: Mandatory Agreement
C30: H&S Specifications provided by client
C31: Copy of tender document, drawings etc
C32: Company Safety Policy to be signed by CEO
C33: Company organogram with respect to H&S on specific site
C34: Letters of appointment for specific site
... C42: Minutes of H&S meetings
A44: 2.4 | C44: Health & safety register file
A46: 2.4.1 | B46: PSA8.4.6.1 | C46: Setting up a job and site specific Health & Safety Register File as requested by the Employers Agent under the Construction Regulations (Regulation 5) of the Occupational Health & Safety Act no. 85/1993 | D46: sum | E46: 1 | G46: =+E46*F46 -> 0
C47: File to be a lever arch file with original colour document of acceptable standards including dividers.
C48: NOT TO BE REMOVED FROM SITE
A50: =+'ohs2'!A54:G54 -> 4 | G50: =+SUM(G10:G49) -> 0
A52: ='pg1'!A59:G59+1 -> 3

Sheet ohs2
A1: =+works!A1 -> KGETLENGRIVIER LOCAL MUNICIPALITY | F1: =+works!F1 -> Date : | G1: =works!G1 -> 44803
A2: =+works!A2 -> Swartruggens Borolelo Extension
A3: =works!A3 -> Sectional Steel Ground Reservoir - 500 kℓ
A5: Item | B5: Payment | C5: Item Description | D5: Unit | E5: Quantities | F5: Rate | G5: Amount
A6: number | B6: reference | E6: tender | G6: Rands.cents
B7: SANS | C7: Schedule 2 continued
B8: 1 200 | C8: =+'ohs1'!C8 -> Occupational health and safety requirements
A10: =+'ohs1'!A52:G52 -> 3 | G10: =+'ohs1'!G50 -> 0
A13: 2.5 | C13: Health & Safety training file
A15: 2.5.1 | B15: PSA8.3.5.2 | C15: Setting up a job and site specific Health & Safety Training File as requested by the Employers Agent under the Construction Regulations (Regulation 7) of the Occupational Health & Safety Act no. 85/1993 | D15: sum | E15: 1 | G15: =+E15*F15 -> 0
C16: File to be a lever arch file with original colour document of acceptable standards including dividers.
C17: NOT TO BE REMOVED FROM SITE
A19: 2.6 | C19: Service Provider appointments
A21: 2.6.1 | B21: PSA8.3.5.2 | C21: Appoint a competent person to perform risk assessment and training on site under Construction Regulations (Regulation 7) of the Occupational Health & Safety Act no. 85/1993 | D21: sum | E21: 1 | G21: =+E21*F21 -> 0
A23: 2.7 | C23: Training on site
A25: 2.7.1 | B25: PSA8.4.6.1 | C25: Allow for monthly salary for the H&S representative as required by law for the duration of the project to perform the following: | D25: Mth | E25: 12 | G25: =+E25*F25 -> 0
C26: Induction training of all workers and workers of Sub-Contractors.
C27: Tool box talks as required by Engineer.
C28: Awareness training of workers- First Aid, Fire Fighting and Public/Traffic Control , Community training.
C29: Keeping all safety documentation up to date.
A31: 2.8 | C31: Training off site
A33: 2.8.1 | B33: PSA8.4.6.1 | C33: Allow for training courses by accredited service providers. Contractor to allow for cost if employees do not have the required certificates. The following accredited certificates are required on site: | D33: sum | E33: 1 | G33: =+E33*F33 -> 0
C34: H&S Representative , First Aider , Fire Fighter
C35: Certificates of competance of all construction vehicle operators
A37: 2.9 | C37: First aid equipment
A39: 2.9.1 | B39: PSA8.3.5.2 | C39: First aid box | D39: no | E39: 1 | G39: =+E39*F39 -> 0
A40: 2.9.2 | B40: PSA8.3.5.2 | C40: First aid boxes for Sub-Contractors if applicable | D40: no | E40: 1 | G40: =+E40*F40 -> 0
A41: 2.9.3 | B41: PSA8.3.5.2 | C41: Stretcher | D41: no | E41: 1 | G41: =+E41*F41 -> 0
A43: 2.10 | C43: Fire fighting equipment
A45: 2.10.1 | B45: PSA8.3.5.2 | C45: Fire extinguishers - 9 kg | D45: no | E45: 1 | G45: =+E45*F45 -> 0
A46: 2.10.2 | B46: PSA8.3.5.2 | C46: Fire extinguishers test certificate | D46: no | E46: 1 | G46: =+E46*F46 -> 0
A52: =+'ohs3'!A60:G60 -> 5 | G52: =+SUM(G10:G51) -> 0
A54: =+'ohs1'!A52:G52+1 -> 4

Sheet ohs3
A1: =+works!A1 -> KGETLENGRIVIER LOCAL MUNICIPALITY | F1: =+works!F1 -> Date : | G1: =works!G1 -> 44803
A2: =+works!A2 -> Swartruggens Borolelo Extension
A3: =works!A3 -> Sectional Steel Ground Reservoir - 500 kℓ
A5: Item | B5: Payment | C5: Item Description | D5: Unit | E5: Quantities | F5: Rate | G5: Amount
A6: number | B6: reference | E6: tender | G6: Rands.cents
B7: SANS | C7: =+'ohs2'!C7 -> Schedule 2 continued
B8: 1 200 | C8: =+'ohs1'!C8 -> Occupational health and safety requirements
A10: =+'ohs2'!A54:G54 -> 4 | G10: =+'ohs2'!G52 -> 0
A12: 2.11 | C12: Personal protective clothing
B14: PSA8.3.5.2 | C14: Cost of the following PPE as required on site, for the workers (number of each to be determined by the Tenderer) | D14: sum | E14: 1 | G14: =+E14*F14 -> 0
A15: 2.11.1 | C15: Hard hats
A16: 2.11.2 | C16: Safety Shoes
A17: 2.11.3 | C17: Dust Masks
A18: 2.11.4 | C18: Safety Goggles
A19: 2.11.5 | C19: Gum Boots
A20: 2.11.6 | C20: Overalls
A22: 2.12 | C22: Chemical toilets
B24: PSA8.3.5.2 | C24: Allow for chemical toilets on site as required by specifications
A25: 2.12.1 | C25: For male workers | D25: sum | E25: 1 | G25: =+E25*F25 -> 0
A26: 2.12.2 | C26: For female workers | D26: sum | E26: 1 | G26: =+E26*F26 -> 0
A28: 2.13 | C28: Eating facilities
A30: 2.13.1 | B30: PSA8.3.5.2 | C30: Allow for eating facilities on site in the form of a shaded net, table and chairs | D30: sum | E30: 1 | G30: =+E30*F30 -> 0
A32: 2.14 | C32: Warning & Information Signs
B34: PSA8.3.5.2 | C34: Cost of supplying of signboards to be displayed on site as required | D34: sum | E34: 1 | G34: =+E34*F34 -> 0
A35: 2.14.1 | C35: SMI board
A36: 2.14.2 | C36: No entry signs
A37: 2.14.3 | C37: First Aid signs
A38: 2.14.4 | C38: Fire equipment signs
A39: 2.14.5 | C39: Warning signs (Construction area boards)
A40: 2.14.6 | C40: Traffic control signs
A41: 2.14.7 | C41: Emergency numbers to be displayed
A42: 2.14.8 | C42: Name boards on construction vehicles
A43: 2.14.9 | C43: Rotating lights on construction vehicles
A45: 2.15 | C45: Medical tests
A47: 2.15.1 | B47: PSA8.3.5.2 | C47: Allow for costs of Medical fitness tests of all operators on mobile plant and construction vehicles | D47: sum | E47: 1 | G47: =+E47*F47 -> 0
A49: 2.16 | C49: Barricading & demarcation
A51: 2.16.1 | B51: C8.2.5&6 | C51: Supply, erection & maintenance of barricading to protect open excavations (1.8 m high Y standards at 3.5 m intervals with dayglo mesh) | D51: m | E51: 20 | G51: =+E51*F51 -> 0
A53: 2.17 | C53: Permanent Signs in Pump Station
A55: 2.17.1 | B55: PSA8.3.5.2 | C55: Electrical Shock Hazard | D55: No | E55: 0 | G55: =+E55*F55 -> 0
A56: 2.17.2 | B56: PSA8.3.5.2 | C56: Electrical Shock Treatment sign | D56: No | E56: 0 | G56: =+E56*F56 -> 0
...

Sheet ohs4
A1: =+works!A1 -> KGETLENGRIVIER LOCAL MUNICIPALITY | F1: =+works!F1 -> Date : | G1: =works!G1 -> 44803
A2: =+works!A2 -> Swartruggens Borolelo Extension
A3: =works!A3 -> Sectional Steel Ground Reservoir - 500 kℓ
A5: Item | B5: Payment | C5: Item Description | D5: Unit | E5: Quantities | F5: Rate | G5: Amount
A6: number | B6: reference | E6: tender | G6: Rands.cents
B7: SANS | C7: =+'ohs2'!C7 -> Schedule 2 continued
B8: 1 200 | C8: =+'ohs1'!C8 -> Occupational health and safety requirements
A10: =+'ohs3'!A60:G60 -> 5 | G10: ='ohs3'!G58 -> 0
A12: 2.17.3 | B12: PSA8.3.5.2 | C12: Emergency stop signs | D12: No | E12: 0 | G12: =+E12*F12 -> 0
A13: 2.17.4 | B13: PSA8.3.5.2 | C13: Emergency exit signs | D13: No | E13: 0 | G13: =+E13*F13 -> 0
A14: 2.17.5 | B14: PSA8.3.5.2 | C14: Danger High Voltage | D14: No | E14: 0 | G14: =+E14*F14 -> 0
A15: 2.17.6 | B15: PSA8.3.5.2 | C15: High Voltage lock out tagout signs | D15: No | E15: 0 | G15: =+E15*F15 -> 0
A16: 2.17.7 | B16: PSA8.3.5.2 | C16: No Smoking signs | D16: No | E16: 0 | G16: =+E16*F16 -> 0
A17: 2.17.8 | B17: PSA8.3.5.2 | C17: Caution Trip Hazard | D17: No | E17: 0 | G17: =+E17*F17 -> 0
A18: 2.17.9 | B18: PSA8.3.5.2 | C18: Slipping hazard | D18: No | E18: 0 | G18: =+E18*F18 -> 0
A19: 2.17.10 | B19: PSA8.3.5.2 | C19: Slippery when wet | D19: No | E19: 0 | G19: =+E19*F19 -> 0
A20: 2.17.11 | B20: PSA8.3.5.2 | C20: No Entry- Authorized Persons Only | D20: No | E20: 0 | G20: =+E20*F20 -> 0
A21: 2.17.12 | B21: PSA8.3.5.2 | C21: Fire Extinguisher signs | D21: No | E21: 0 | G21: =+E21*F21 -> 0
A22: 2.17.13 | B22: PSA8.3.5.2 | C22: First Aid Box position sign | D22: No | E22: 0 | G22: =+E22*F22 -> 0
A58: ='ohs1'!C7&" total carried to summary page" -> Schedule 2 total carried to summary page | G58: =+SUM(G10:G57) -> 0
A60: =+'ohs3'!A60:G60+1 -> 6

Sheet Res-1
A1: =+works!A1 -> KGETLENGRIVIER LOCAL MUNICIPALITY | F1: =+works!F1 -> Date : | G1: =works!G1 -> 44803
A2: =+works!A2 -> Swartruggens Borolelo Extension
A3: =+works!A3 -> Sectional Steel Ground Reservoir - 500 kℓ
A5: Item | B5: Payment | C5: Item Description | D5: Unit | E5: Quantities | F5: Rate | G5: Amount
A6: number | B6: reference | G6: Rands.cents
B7: SANS | C7: Schedule 3
B8: 1 200 | C8: 0,5 Mℓ Sectional Steel Reservoir
C10: Earth & Concrete Works
A12: 3.1 | C12: Site clearance
A14: 3.1.1 | B14: C8.2.1 | C14: General clearance | D14: m² | E14: 84 | G14: =E14*F14 -> 0
A16: 3.2 | C16: Excavations
A18: 3.2.1 | B18: D8.3.2a | C18: Excavate in bulk for reservoirs platform and use for backfill or dispose | D18: m³ | E18: 13 | G18: =E18*F18 -> 0
A19: 3.2.2 | B19: DB8.3.2.b2 | C19: Extra over for excavation in hard rock material | D19: m³ | E19: 1 | G19: =E19*F19 -> 0
A20: 3.2.3 | B20: D8.3.2 | C20: Extra over for excavation in boulder material | D20: m³ | E20: 1 | G20: =E20*F20 -> 0
A21: 3.2.4 | B21: DB8.3.2.c | C21: Extra over for additional deeper excavations | D21: m³ | E21: 1 | G21: =E21*F21 -> 0
A22: 3.2.5 | B22: DB8.3.2.c | C22: Hand excavation to detect existing pipes | D22: m³ | E22: 12 | G22: =E22*F22 -> 0
A24: 3.3 | C24: Excavation ancillary items
C26: Backfill material of reservoir platform shall be approved graded material having a PI not exceeding 10 and a minimum CBR of 10% at 93% of the modified AASHTO density
A27: 3.3.1 | B27: D8.3.4(a) | C27: Backfill above natural ground level with G5 material to levels indicated on the drawings imported from borrow pit or commecial sourses | D27: m³ | E27: 13 | G27: =E27*F27 -> 0
A29: 3.4 | C29: Concrete works
C31: Reservoir support structure
A32: 3.4.1 | B32: G8.4.2 | C32: 50 mm blinding layer under reservoir floor slabs from 15 MPa concrete | D32: m² | E32: 62.7264 | G32: =E32*F32 -> 0
A33: 3.4.2 | B33: G8.4.3 | C33: Surface bed from 25 MPa concrete | D33: m³ | E33: 18.81792 | G33: =E33*F33 -> 0
A34: 3.4.3 | B34: G8.4.3 | C34: Plinths from 25 MPa concrete | D34: m³ | E34: 11 | G34: =E34*F34 -> 0
A35: 3.4.4 | B35: G8.4.3 | C35: Walkway from 25 MPa concrete | D35: m³ | E35: 11 | G35: =E35*F35 -> 0
A37: 3.5 | C37: Reinforcing
A39: 3.5.1 | B39: G8.3.1 | C39: High tensile reinforcement for surface bed and plinths | D39: kg | E39: 2535 | G39: =E39*F39 -> 0
A40: 3.5.2 | B40: G8.3.1 | C40: Mesh Ref 193 in walkway | D40: m² | E40: 109 | G40: =E40*F40 -> 0
A42: 3.6 | C42: Form work & Finishes
A44: 3.6.1 | B44: G8.2.1 | C44: Smooth vertical form work up to 300mm around base | D44: m | E44: 48 | G44: =E44*F44 -> 0
A45: 3.6.2 | B45: G8.2.2 | C45: Smooth vertical form work to dwarf walls | D45: m² | E45: 88 | G45: =E45*F45 -> 0
A46: 3.6.3 | B46: G8.2.2 | C46: Chamfer 20x20mm | D46: m | E46: 73 | G46: =E46*F46 -> 0
A47: 3.6.4 | B47: G8.1.1.2 | C47: Uniform wood float finish on concrete surfaces | D47: m² | E47: 62.7264 | G47: =+E47*F47 -> 0
A48: 3.6.5 | B48: G8.4.3 | C48: Non-shrink grout to support I beams including any formwork to contain grout | D48: sum | E48: 1 | G48: =+E48*F48 -> 0
A58: =+'Res-2'!A59:G59 -> 8 | G58: =SUM(G10:G57) -> 0
A60: =+'ohs4'!A60:G60+1 -> 7 | G60: =SUM(G10:G59) -> 0
A62: ='ohs4'!A61:G61+1 -> 1

Sheet Res-2
A1: =+works!A1 -> KGETLENGRIVIER LOCAL MUNICIPALITY | F1: =+works!F1 -> Date : | G1: =works!G1 -> 44803
A2: =+works!A2 -> Swartruggens Borolelo Extension
A3: =+works!A3 -> Sectional Steel Ground Reservoir - 500 kℓ
A5: Item | B5: Payment | C5: Item Description | D5: Unit | E5: Quantities | F5: Rate | G5: Amount
A6: number | B6: reference | G6: Rands.cents
B7: SANS | C7: Schedule 3 continue
B8: 1 200 | C8: ='Res-1'!C8 -> 0,5 Mℓ Sectional Steel Reservoir
A10: =+'Res-1'!A60:G60 -> 7 | G10: ='Res-1'!G58 -> 0
A12: 3.7 | C12: Structural Steel
C14: Structural Steel
A15: 3.7.1 | B15: G8.5 | C15: Supply and install galvanised I-Beams with gusset plates on dwarf walls (IPE-aa 160) | D15: kg | E15: 555 | G15: =+E15*F15 -> 0
A16: 3.7.2 | B16: G8.5 | C16: M12 Chemical anchor bolts to secure I-Beams on Plinths | D16: no | E16: 252 | G16: =+E16*F16 -> 0
A18: 3.8 | C18: Reservoir Inlet
C20: Inlet pipe schedule - 50mm water meter
A21: 3.8.1 | B21: L8.2.2 | C21: Item 10 - 50 mm Ø x 90° galvanised MS pipe medium radius bend both ends flanged PN16 | D21: no | E21: 0 | G21: =+E21*F21 -> 0
A22: 3.8.2 | B22: L8.2.2 | C22: Item 11 - 50 mm Ø Galvanized MS pipe both ends flanged PN16 | D22: no | E22: 0 | G22: =+E22*F22 -> 0
A23: 3.8.3 | B23: L8.2.3 | C23: Item 12 - 50 mm Ø Klamflex dismantling joint PN16 | D23: no | E23: 0 | G23: =E23*F23 -> 0
A24: 3.8.4 | B24: L8.2.2 | C24: Item 13 - 50 mm Ø Krohne Optiflux 2000 water meter as per drawings PN16 | D24: no | E24: 0 | G24: =E24*F24 -> 0
A25: 3.8.5 | B25: L8.2.2 | C25: Item 14 - 50 mm Ø Galvanized MS pipe both ends flanged PN16 | D25: no | E25: 0 | G25: =+E25*F25 -> 0
A26: 3.8.6 | B26: L8.2.2 | C26: Item 15 - 150 to 50 mm flanged galvanised MS reducer PN16 | D26: no | E26: 0 | G26: =+E26*F26 -> 0
A27: 3.8.7 | B27: L8.2.2 | C27: Item 16 - 150 galvanised MS to 160 mmPVC-O flanged adaptor PN16 | D27: no | E27: 0 | G27: =E27*F27 -> 0
C29: Inlet pipe schedule - 75mm water meter
A30: 3.8.8 | B30: L8.2.2 | C30: Item 10 - 75 mm Ø x 90° galvanised MS pipe medium radius bend both ends flanged PN16 | D30: no | E30: 0 | G30: =+E30*F30 -> 0
A31: 3.8.9 | B31: L8.2.2 | C31: Item 11 - 75 mm Ø Galvanized MS pipe both ends flanged PN16 | D31: no | E31: 0 | G31: =+E31*F31 -> 0
A32: 3.8.10 | B32: L8.2.3 | C32: Item 12 - 75 mm Ø Klamflex dismantling joint PN16 | D32: no | E32: 0 | G32: =E32*F32 -> 0
A33: 3.8.11 | B33: L8.2.2 | C33: Item 13 - 75 mm Ø Krohne Optiflux 2000 water meter as per drawings PN16 | D33: no | E33: 0 | G33: =E33*F33 -> 0
A34: 3.8.12 | B34: L8.2.2 | C34: Item 14 - 75 mm Ø Galvanized MS pipe both ends flanged PN16 | D34: no | E34: 0 | G34: =+E34*F34 -> 0
A35: 3.8.13 | B35: L8.2.2 | C35: Item 15 - 150 to 75 mm flanged galvanised MS reducer PN16 | D35: no | E35: 0 | G35: =+E35*F35 -> 0
A36: 3.8.14 | B36: L8.2.2 | C36: Item 16 - 150 galvanised MS to 160 mmPVC-O flanged adaptor PN16 | D36: no | E36: 0 | G36: =E36*F36 -> 0
C38: Inlet pipe schedule - 100mm water meter
A39: 3.8.15 | B39: L8.2.2 | C39: Item 10 - 100 mm Ø x 90° galvanised MS pipe medium radius bend both ends flanged PN16 | D39: no | E39: 0 | G39: =+E39*F39 -> 0
A40: 3.8.16 | B40: L8.2.2 | C40: Item 11 - 100 mm Ø Galvanized MS pipe both ends flanged PN16 | D40: no | E40: 0 | G40: =+E40*F40 -> 0
A41: 3.8.17 | B41: L8.2.3 | C41: Item 12 - 100 mm Ø Klamflex dismantling joint PN16 | D41: no | E41: 0 | G41: =E41*F41 -> 0
A42: 3.8.18 | B42: L8.2.2 | C42: Item 13 - 100 mm Ø Krohne Optiflux 2000 water meter as per drawings PN16 | D42: no | E42: 0 | G42: =E42*F42 -> 0
A43: 3.8.19 | B43: L8.2.2 | C43: Item 14 - 100 mm Ø Galvanized MS pipe both ends flanged PN16 | D43: no | E43: 0 | G43: =+E43*F43 -> 0
A44: 3.8.20 | B44: L8.2.2 | C44: Item 15 - 150 to 100 mm flanged galvanised MS reducer PN16 | D44: no | E44: 0 | G44: =+E44*F44 -> 0
A45: 3.8.21 | B45: L8.2.2 | C45: Item 16 - 150 galvanised MS to 160 mmPVC-O flanged adaptor PN16 | D45: no | E45: 0 | G45: =E45*F45 -> 0
C47: Inlet pipe schedule - 150mm water meter
A48: 3.8.22 | B48: L8.2.2 | C48: Item 10 - 150 mm Ø x 90° galvanised MS pipe medium radius bend both ends flanged PN16 | D48: no | E48: 2 | G48: =+E48*F48 -> 0
A49: 3.8.23 | B49: L8.2.2 | C49: Item 11 - 100 mm Ø Galvanized MS pipe both ends flanged PN16 | D49: no | E49: 1 | G49: =+E49*F49 -> 0
...

Sheet Res-3
A1: =+works!A1 -> KGETLENGRIVIER LOCAL MUNICIPALITY | F1: =+works!F1 -> Date : | G1: =works!G1 -> 44803
A2: =+works!A2 -> Swartruggens Borolelo Extension
A3: =+works!A3 -> Sectional Steel Ground Reservoir - 500 kℓ
A5: Item | B5: Payment | C5: Item Description | D5: Unit | E5: Quantities | F5: Rate | G5: Amount
A6: number | B6: reference | G6: Rands.cents
B7: SANS | C7: Schedule 10 continue
B8: 1 200 | C8: ='Res-1'!C8 -> 0,5 Mℓ Sectional Steel Reservoir
A10: =+'Res-2'!A59:G59 -> 8 | G10: ='Res-2'!G57 -> 0
A12: 3.9 | C12: Reservoir scour
C14: Scour pipe schedule - 150mm
A15: 3.9.1 | B15: L8.2.2 | C15: Item 23 - 150 mm Ø x 90° galvanised MS flanged medium radius bend PN10 | D15: no | E15: 1 | G15: =+E15*F15 -> 0
A16: 3.9.2 | B16: L8.2.2 | C16: 150 mm Ø galvanized MS flanged puddle pipe PN10 | D16: no | E16: 1 | G16: =+E16*F16 -> 0
A17: 3.9.3 | B17: L8.2.2 | C17: 150 mm AVK gate valve PN10 or approved similar | D17: no | E17: 1 | G17: =+E17*F17 -> 0
A19: 3.10 | C19: Reservoir Outlet
C21: Outlet pipe schedule - 150mm
A22: 3.10.1 | B22: L8.2.2 | C22: Item 1 - 150 mm Ø galvanized flanged MS pipe with bell mouth PN16 | D22: no | E22: 1 | G22: =+E22*F22 -> 0
A23: 3.10.2 | B23: L8.2.2 | C23: Item 2 - 150 mm Ø x 90° galvanised MS flanged medium radius bend PN16 | D23: no | E23: 1 | G23: =+E23*F23 -> 0
A24: 3.10.3 | B24: L8.2.2 | C24: Item 3 - 150 mm Ø galvanized MS flanged pipe PN16 | D24: no | E24: 1 | G24: =E24*F24 -> 0
A25: 3.10.4 | B25: L8.2.2 | C25: Item 4 - 150 to 100 mm flanged galvanised MS reducer PN16 | D25: no | E25: 2 | G25: =+E25*F25 -> 0
A26: 3.10.5 | B26: L8.2.2 | C26: Item 5 - 100 mm Ø Galvanized MS flanged puddle pipe PN16 | D26: no | E26: 1 | G26: =E26*F26 -> 0
A27: 3.10.6 | B27: L8.2.2 | C27: Item 4 - 100 mm Ø Krohne Optiflux 2000 water meter as per drawings PN16 | D27: no | E27: 1 | G27: =E27*F27 -> 0
A28: 3.10.7 | B28: L8.2.2 | C28: Item 7 - 100 mm Ø Klamflex dismantling joint PN16 | D28: no | E28: 1 | G28: =E28*F28 -> 0
A29: 3.10.8 | B29: L8.2.2 | C29: Item 8 - 100 mm Ø Galvanized MS flanged puddle pipe PN16 | D29: no | E29: 1 | G29: =E29*F29 -> 0
A30: 3.10.9 | B30: L8.2.2 | C30: Item 9 - 150 mm Ø galvanised MS to 160 mm PVC-O flanged adaptor PN16 | D30: no | E30: 1 | G30: =E30*F30 -> 0
C32: Outlet pipe schedule - 200mm
A33: 3.10.10 | B33: L8.2.2 | C33: Item 1 - 200 mm Ø galvanized flanged MS pipe with bell mouth PN16 | D33: no | E33: 0 | G33: =+E33*F33 -> 0
A34: 3.10.11 | B34: L8.2.2 | C34: Item 2 - 200 mm Ø x 90° galvanised MS flanged medium radius bend PN16 | D34: no | E34: 0 | G34: =+E34*F34 -> 0
A35: 3.10.12 | B35: L8.2.2 | C35: Item 3 - 200 mm Ø galvanized MS flanged pipe PN16 | D35: no | E35: 0 | G35: =E35*F35 -> 0
A36: 3.10.13 | B36: L8.2.2 | C36: Item 4 - 200 to 150 mm flanged galvanised MS reducer PN16 | D36: no | E36: 0 | G36: =+E36*F36 -> 0
A37: 3.10.14 | B37: L8.2.2 | C37: Item 5 - 150 mm Ø Galvanized MS flanged puddle pipe PN16 | D37: no | E37: 0 | G37: =E37*F37 -> 0
A38: 3.10.15 | B38: L8.2.2 | C38: Item 4 - 150 mm Ø Krohne Optiflux 2000 water meter as per drawings PN16 | D38: no | E38: 0 | G38: =E38*F38 -> 0
A39: 3.10.16 | B39: L8.2.2 | C39: Item 7 - 150 mm Ø Klamflex dismantling joint PN16 | D39: no | E39: 0 | G39: =E39*F39 -> 0
A40: 3.10.17 | B40: L8.2.2 | C40: Item 8 - 150 mm Ø Galvanized MS flanged puddle pipe PN16 | D40: no | E40: 0 | G40: =E40*F40 -> 0
A41: 3.10.18 | B41: L8.2.2 | C41: Item 9 - 150 mm Ø galvanised MS to 200 mm PVC-O flanged adaptor PN16 | D41: no | E41: 0 | G41: =E41*F41 -> 0
C43: Outlet pipe schedule - 300mm
A44: 3.10.19 | B44: L8.2.2 | C44: Item 1 - 300 mm Ø galvanized flanged MS pipe with bell mouth PN16 | D44: no | E44: 0 | G44: =+E44*F44 -> 0
A45: 3.10.20 | B45: L8.2.2 | C45: Item 2 - 300 mm Ø x 90° galvanised MS flanged medium radius bend PN16 | D45: no | E45: 0 | G45: =+E45*F45 -> 0
A46: 3.10.21 | B46: L8.2.2 | C46: Item 3 - 300 mm Ø galvanized MS flanged pipe PN16 | D46: no | E46: 0 | G46: =E46*F46 -> 0
A47: 3.10.22 | B47: L8.2.2 | C47: Item 4 - 300 to 200 mm flanged galvanised MS reducer PN16 | D47: no | E47: 0 | G47: =+E47*F47 -> 0
A48: 3.10.23 | B48: L8.2.2 | C48: Item 5 - 200 mm Ø Galvanized MS flanged puddle pipe PN16 | D48: no | E48: 0 | G48: =E48*F48 -> 0
...

Sheet Res-4
A1: =+works!A1 -> KGETLENGRIVIER LOCAL MUNICIPALITY | F1: =+works!F1 -> Date : | G1: =works!G1 -> 44803
A2: =+works!A2 -> Swartruggens Borolelo Extension
A3: =+works!A3 -> Sectional Steel Ground Reservoir - 500 kℓ
A5: Item | B5: Payment | C5: Item Description | D5: Unit | E5: Quantities | F5: Rate | G5: Amount
A6: number | B6: reference | G6: Rands.cents
B7: SANS | C7: Schedule 10 continue
B8: 1 200 | C8: ='Res-1'!C8 -> 0,5 Mℓ Sectional Steel Reservoir
A10: =+'Res-3'!A63:G63 -> 9 | G10: ='Res-3'!G61 -> 0
A12: 3.10.33 | B12: L8.2.2 | C12: Item 4 - 300 mm Ø Krohne Optiflux 2000 water meter as per drawings PN16 | D12: no | E12: 0 | G12: =E12*F12 -> 0
A13: 3.10.34 | B13: L8.2.2 | C13: Item 7 - 300 mm Ø Klamflex dismantling joint PN16 | D13: no | E13: 0 | G13: =E13*F13 -> 0
A14: 3.10.35 | B14: L8.2.2 | C14: Item 8 - 300 mm Ø Galvanized MS flanged puddle pipe PN16 | D14: no | E14: 0 | G14: =E14*F14 -> 0
A15: 3.10.36 | B15: L8.2.2 | C15: Item 9 - 300 mm Ø galvanised MS to 300 mm PVC-O flanged adaptor PN16 | D15: no | E15: 0 | G15: =E15*F15 -> 0
A17: 3.11 | C17: Reservoir overflow
C19: Overflow pipe schedule - 150mm
A20: 3.11.1 | B20: L8.2.2 | C20: Item 17 - 150 mm Ø galvanised MS pipe with bellmouth, one end flanged PN10 | D20: no | E20: 0 | G20: =+E20*F20 -> 0
A21: 3.11.2 | B21: L8.2.2 | C21: Item 18 - 150 mm Ø flanged galvanized MS pipe - PN10 | D21: no | E21: 0 | G21: =+E21*F21 -> 0
A22: 3.11.3 | B22: L8.2.2 | C22: Item 19 - 150 mm Ø x 90° galvanised flanged MS medium radius bend | D22: no | E22: 0 | G22: =+E22*F22 -> 0
A23: 3.11.4 | B23: L8.2.2 | C23: Item 20 - 150 mm Ø flanged galvanized MS pipe - PN10 | D23: no | E23: 0 | G23: =+E23*F23 -> 0
A24: 3.11.5 | B24: L8.2.2 | C24: Item 21 - 150 mm Ø flanged galvanized MS pipe - PN10 | D24: no | E24: 0 | G24: =+E24*F24 -> 0
A25: 3.11.6 | B25: L8.2.2 | C25: Item 22 - 150 mm Ø flanged galvanized MS pipe - PN10 | D25: no | E25: 0 | G25: =+E25*F25 -> 0
C27: Overflow pipe schedule - 200mm
A28: 3.11.7 | B28: L8.2.2 | C28: Item 17 - 200 mm Ø galvanised MS pipe with bellmouth, one end flanged PN10 | D28: no | E28: 1 | G28: =+E28*F28 -> 0
A29: 3.11.8 | B29: L8.2.2 | C29: Item 18 - 200 mm Ø flanged galvanized MS pipe - PN10 | D29: no | E29: 1 | G29: =+E29*F29 -> 0
A30: 3.11.9 | B30: L8.2.2 | C30: Item 19 - 200 mm Ø x 90° galvanised flanged MS medium radius bend | D30: no | E30: 3 | G30: =+E30*F30 -> 0
A31: 3.11.10 | B31: L8.2.2 | C31: Item 20 - 200 mm Ø flanged galvanized MS pipe - PN10 | D31: no | E31: 1 | G31: =+E31*F31 -> 0
A32: 3.11.11 | B32: L8.2.2 | C32: Item 21 - 200 mm Ø flanged galvanized MS pipe - PN10 | D32: no | E32: 1 | G32: =+E32*F32 -> 0
A33: 3.11.12 | B33: L8.2.2 | C33: Item 22 - 200 mm Ø flanged galvanized MS pipe - PN10 | D33: no | E33: 1 | G33: =+E33*F33 -> 0
C35: Overflow pipe schedule - 300mm
A36: 3.11.13 | B36: L8.2.2 | C36: Item 17 - 300 mm Ø galvanised MS pipe with bellmouth, one end flanged PN10 | D36: no | E36: 0 | G36: =+E36*F36 -> 0
A37: 3.11.14 | B37: L8.2.2 | C37: Item 18 - 300 mm Ø flanged galvanized MS pipe - PN10 | D37: no | E37: 0 | G37: =+E37*F37 -> 0
A38: 3.11.15 | B38: L8.2.2 | C38: Item 19 - 300 mm Ø x 90° galvanised flanged MS medium radius bend | D38: no | E38: 0 | G38: =+E38*F38 -> 0
A39: 3.11.16 | B39: L8.2.2 | C39: Item 20 - 300 mm Ø flanged galvanized MS pipe - PN10 | D39: no | E39: 0 | G39: =+E39*F39 -> 0
A40: 3.11.17 | B40: L8.2.2 | C40: Item 21 - 300 mm Ø flanged galvanized MS pipe - PN10 | D40: no | E40: 0 | G40: =+E40*F40 -> 0
A41: 3.11.18 | B41: L8.2.2 | C41: Item 22 - 300 mm Ø flanged galvanized MS pipe - PN10 | D41: no | E41: 0 | G41: =+E41*F41 -> 0
A43: 3.12 | C43: Sectional Steel Tank
C45: Supply, install/construct the following items :
A46: 3.12.1 | B46: A8.5.a | C46: 500 kℓ water tank (12 x 6 x 4 panel ) complete placed on concrete foundation, supplied, transported & erected by nominated supplier like "Abeco Tanks" or similar approved by the Engineer, both tank & stand to be made of galvanized ms material - all inclusive i.e.. bolts, gaskets, galvanized roof cover plate, ventilators, mechanical water level indicator, internal & external ladders, ladder from ground level to platform level including attachments & safety hoops, landing with hand rails etc. | D46: sum | E46: 0 | G46: =+E46*F46 -> 0
A47: 3.12.2 | B47: A8.5b | C47: Main contractor's attendance (connection of pipes, water testing, sterilization of tank, etc.) | D47: sum | E47: 1 | G47: =F47*E47 -> 0
A48: 3.12.3 | C48: Provide lightning protection | D48: no | E48: 1 | G48: =+E48*F48 -> 0
A49: 3.12.4 | C49: Pipe support brackets (all parts to be galvanized mild steel)
...

Sheet Res-5
A1: =+works!A1 -> KGETLENGRIVIER LOCAL MUNICIPALITY | F1: =+works!F1 -> Date : | G1: =works!G1 -> 44803
A2: =+works!A2 -> Swartruggens Borolelo Extension
A3: =+works!A3 -> Sectional Steel Ground Reservoir - 500 kℓ
A5: Item | B5: Payment | C5: Item Description | D5: Unit | E5: Quantities | F5: Rate | G5: Amount
A6: number | B6: reference | G6: Rands.cents
B7: SANS | C7: Schedule 10 continue
B8: 1 200 | C8: ='Res-1'!C8 -> 0,5 Mℓ Sectional Steel Reservoir
A10: =+'Res-4'!A58:G58 -> 10 | G10: ='Res-4'!G56 -> 0
A12: 3.13 | C12: Outlet manhole
C14: Supply, install/construct the following items :
A15: 3.13.1 | B15: G8.4.2 | C15: 50 mm blinding layer under floor slab | D15: m² | E15: 0 | G15: =+E15*F15 -> 0
A16: 3.13.2 | B16: G8.4.3 | C16: 100 mm thick floor slab cast from 25 MPa concrete | D16: m3 | E16: 0 | G16: =+E16*F16 -> 0
A17: 3.13.3 | B17: G8.4.3 | C17: 300 mm thick floor slab cast from 25 MPa concrete | D17: m3 | E17: 0 | G17: =+E17*F17 -> 0
A18: 3.13.4 | B18: G8.4.3 | C18: Rocla standard manhole cover to allow for 100 mm air vent as specified. | D18: No | E18: 0 | G18: =+E18*F18 -> 0
