Workbook
Name Base_date: [1]Title!$A$8
Name First_month: [1]Title!$A$10
Name i: '[2]Add NRA inputs'!$C$8
Name ii: '[3]Add NRA inputs'!$C$6
Name j: '[3]Add NRA inputs'!$C$8
Name NRA_pred_CPI_increase: '[4]CPI & Toll increase inputs'!$C$5
Name Ops_start: [5]Title!$B$10
Name Pred_monthly__CPI: '[6]Add NRA inputs'!$C$6
Name PV_month: #REF!
Name PV_month_name: '[6]Other calcs'!$C$5
Name Rounddown_above_R10: #REF!
Name Rounddown_below_R10: #REF!
Name sa: '[3]CPI increase input'!$E$6
Name test: #REF!
Name VAT_Rate: #REF!
Name VAT_Rate2: [5]Title!$B$14
Name VATrate: #REF!
Name Vlookup_table_for_month_names: '[7]Other calcs'!$A$5:$B$16

Sheet Title Page
C3: Contract SANRAL NRA 2025/0001 (N.001-249-2019/1R): For the Operations and Maintenance of the Toll Plazas Plazas on the National Route N1 North (Retender) (Contractor)
C5: Schedule of Payments / Cost Matrices for the Design-Build and Operation Service Periods
C8: Base Date:
C9: =DATE(2026,2,17)-28 -> 46042
C10: First Month of Contract:
C11: =C9+120 -> 46162
C12: First Month of Operation Service:
C13: =C11+60 -> 46222

Sheet ETOC to Model
B2: Control Centre | D2: Vehicle Class | E2: Est Period | G2: 1 | S2: =+G2+1 -> 2 | AE2: =+S2+1 -> 3 | AQ2: =+AE2+1 -> 4 | BC2: =+AQ2+1 -> 5 | BO2: =+BC2+1 -> 6
E3: =+'Title Page'!C11 -> 46162 | F3: =DATE(YEAR(E3),MONTH(E3)+2,1)-1 -> 46203 | G3: =DATE(YEAR(F3),MONTH(F3)+2,1)-1 -> 46234 | H3: =DATE(YEAR(G3),MONTH(G3)+2,1)-1 -> 46265 | I3: =DATE(YEAR(H3),MONTH(H3)+2,1)-1 -> 46295 | J3: =DATE(YEAR(I3),MONTH(I3)+2,1)-1 -> 46326 | K3: =DATE(YEAR(J3),MONTH(J3)+2,1)-1 -> 46356 | L3: =DATE(YEAR(K3),MONTH(K3)+2,1)-1 -> 46387 | M3: =DATE(YEAR(L3),MONTH(L3)+2,1)-1 -> 46418 | ... BZ3: =DATE(YEAR(BY3),MONTH(BY3)+2,1)-1 -> 48395
B4: Kranskop | D4: Class 1 | E4: =Kranskop!H16 -> 0 | F4: =Kranskop!I16 -> 0 | G4: =Kranskop!J16 -> 0 | H4: =Kranskop!K16 -> 0 | I4: =Kranskop!L16 -> 0 | J4: =Kranskop!M16 -> 0 | K4: =Kranskop!N16 -> 0 | L4: =Kranskop!O16 -> 0 | ... BZ4: =Kranskop!CC16 -> 0
D5: Class 2 | E5: =Kranskop!H17 -> 0 | F5: =Kranskop!I17 -> 0 | G5: =Kranskop!J17 -> 0 | H5: =Kranskop!K17 -> 0 | I5: =Kranskop!L17 -> 0 | J5: =Kranskop!M17 -> 0 | K5: =Kranskop!N17 -> 0 | L5: =Kranskop!O17 -> 0 | ... BZ5: =Kranskop!CC17 -> 0
D6: Class 3 | E6: =Kranskop!H18 -> 0 | F6: =Kranskop!I18 -> 0 | G6: =Kranskop!J18 -> 0 | H6: =Kranskop!K18 -> 0 | I6: =Kranskop!L18 -> 0 | J6: =Kranskop!M18 -> 0 | K6: =Kranskop!N18 -> 0 | L6: =Kranskop!O18 -> 0 | ... BZ6: =Kranskop!CC18 -> 0
D7: Class 4 | E7: =Kranskop!H19 -> 0 | F7: =Kranskop!I19 -> 0 | G7: =Kranskop!J19 -> 0 | H7: =Kranskop!K19 -> 0 | I7: =Kranskop!L19 -> 0 | J7: =Kranskop!M19 -> 0 | K7: =Kranskop!N19 -> 0 | L7: =Kranskop!O19 -> 0 | ... BZ7: =Kranskop!CC19 -> 0
B8: Nyl | D8: Class 1 | E8: =Nyl!H16 -> 0 | F8: =Nyl!I16 -> 0 | G8: =Nyl!J16 -> 0 | H8: =Nyl!K16 -> 0 | I8: =Nyl!L16 -> 0 | J8: =Nyl!M16 -> 0 | K8: =Nyl!N16 -> 0 | L8: =Nyl!O16 -> 0 | ... BZ8: =Nyl!CC16 -> 0
D9: Class 2 | E9: =Nyl!H17 -> 0 | F9: =Nyl!I17 -> 0 | G9: =Nyl!J17 -> 0 | H9: =Nyl!K17 -> 0 | I9: =Nyl!L17 -> 0 | J9: =Nyl!M17 -> 0 | K9: =Nyl!N17 -> 0 | L9: =Nyl!O17 -> 0 | ... BZ9: =Nyl!CC17 -> 0
D10: Class 3 | E10: =Nyl!H18 -> 0 | F10: =Nyl!I18 -> 0 | G10: =Nyl!J18 -> 0 | H10: =Nyl!K18 -> 0 | I10: =Nyl!L18 -> 0 | J10: =Nyl!M18 -> 0 | K10: =Nyl!N18 -> 0 | L10: =Nyl!O18 -> 0 | ... BZ10: =Nyl!CC18 -> 0
D11: Class 4 | E11: =Nyl!H19 -> 0 | F11: =Nyl!I19 -> 0 | G11: =Nyl!J19 -> 0 | H11: =Nyl!K19 -> 0 | I11: =Nyl!L19 -> 0 | J11: =Nyl!M19 -> 0 | K11: =Nyl!N19 -> 0 | L11: =Nyl!O19 -> 0 | ... BZ11: =Nyl!CC19 -> 0
B12: Capricorn | D12: Class 1 | E12: =Capricorn!H16 -> 0 | F12: =Capricorn!I16 -> 0 | G12: =Capricorn!J16 -> 0 | H12: =Capricorn!K16 -> 0 | I12: =Capricorn!L16 -> 0 | J12: =Capricorn!M16 -> 0 | K12: =Capricorn!N16 -> 0 | L12: =Capricorn!O16 -> 0 | ... BZ12: =Capricorn!CC16 -> 0
D13: Class 2 | E13: =Capricorn!H17 -> 0 | F13: =Capricorn!I17 -> 0 | G13: =Capricorn!J17 -> 0 | H13: =Capricorn!K17 -> 0 | I13: =Capricorn!L17 -> 0 | J13: =Capricorn!M17 -> 0 | K13: =Capricorn!N17 -> 0 | L13: =Capricorn!O17 -> 0 | ... BZ13: =Capricorn!CC17 -> 0
D14: Class 3 | E14: =Capricorn!H18 -> 0 | F14: =Capricorn!I18 -> 0 | G14: =Capricorn!J18 -> 0 | H14: =Capricorn!K18 -> 0 | I14: =Capricorn!L18 -> 0 | J14: =Capricorn!M18 -> 0 | K14: =Capricorn!N18 -> 0 | L14: =Capricorn!O18 -> 0 | ... BZ14: =Capricorn!CC18 -> 0
D15: Class 4 | E15: =Capricorn!H19 -> 0 | F15: =Capricorn!I19 -> 0 | G15: =Capricorn!J19 -> 0 | H15: =Capricorn!K19 -> 0 | I15: =Capricorn!L19 -> 0 | J15: =Capricorn!M19 -> 0 | K15: =Capricorn!N19 -> 0 | L15: =Capricorn!O19 -> 0 | ... BZ15: =Capricorn!CC19 -> 0
B16: Baobab | D16: Class 1 | E16: =+Baobab!H16 -> 0 | F16: =+Baobab!I16 -> 0 | G16: =+Baobab!J16 -> 0 | H16: =+Baobab!K16 -> 0 | I16: =+Baobab!L16 -> 0 | J16: =+Baobab!M16 -> 0 | K16: =+Baobab!N16 -> 0 | L16: =+Baobab!O16 -> 0 | ... BZ16: =+Baobab!CC16 -> 0
D17: Class 2 | E17: =+Baobab!H17 -> 0 | F17: =+Baobab!I17 -> 0 | G17: =+Baobab!J17 -> 0 | H17: =+Baobab!K17 -> 0 | I17: =+Baobab!L17 -> 0 | J17: =+Baobab!M17 -> 0 | K17: =+Baobab!N17 -> 0 | L17: =+Baobab!O17 -> 0 | ... BZ17: =+Baobab!CC17 -> 0
D18: Class 3 | E18: =+Baobab!H18 -> 0 | F18: =+Baobab!I18 -> 0 | G18: =+Baobab!J18 -> 0 | H18: =+Baobab!K18 -> 0 | I18: =+Baobab!L18 -> 0 | J18: =+Baobab!M18 -> 0 | K18: =+Baobab!N18 -> 0 | L18: =+Baobab!O18 -> 0 | ... BZ18: =+Baobab!CC18 -> 0
D19: Class 4 | E19: =+Baobab!H19 -> 0 | F19: =+Baobab!I19 -> 0 | G19: =+Baobab!J19 -> 0 | H19: =+Baobab!K19 -> 0 | I19: =+Baobab!L19 -> 0 | J19: =+Baobab!M19 -> 0 | K19: =+Baobab!N19 -> 0 | L19: =+Baobab!O19 -> 0 | ... BZ19: =+Baobab!CC19 -> 0
B20: Total | C20: =+B4 -> Kranskop | E20: =+SUM(E4:E7) -> 0 | F20: =+SUM(F4:F7) -> 0 | G20: =+SUM(G4:G7) -> 0 | H20: =+SUM(H4:H7) -> 0 | I20: =+SUM(I4:I7) -> 0 | J20: =+SUM(J4:J7) -> 0 | K20: =+SUM(K4:K7) -> 0 | L20: =+SUM(L4:L7) -> 0 | ... BZ20: =+SUM(BZ4:BZ7) -> 0
C21: =$B$8 -> Nyl | E21: =+SUM(E8:E11) -> 0 | F21: =+SUM(F8:F11) -> 0 | G21: =+SUM(G8:G11) -> 0 | H21: =+SUM(H8:H11) -> 0 | I21: =+SUM(I8:I11) -> 0 | J21: =+SUM(J8:J11) -> 0 | K21: =+SUM(K8:K11) -> 0 | L21: =+SUM(L8:L11) -> 0 | ... BZ21: =+SUM(BZ8:BZ11) -> 0
C22: =$B$12 -> Capricorn | E22: =+SUM(E12:E15) -> 0 | F22: =+SUM(F12:F15) -> 0 | G22: =+SUM(G12:G15) -> 0 | H22: =+SUM(H12:H15) -> 0 | I22: =+SUM(I12:I15) -> 0 | J22: =+SUM(J12:J15) -> 0 | K22: =+SUM(K12:K15) -> 0 | L22: =+SUM(L12:L15) -> 0 | ... BZ22: =+SUM(BZ12:BZ15) -> 0
C23: =+B16 -> Baobab | E23: =+SUM(E16:E19) -> 0 | F23: =+SUM(F16:F19) -> 0 | G23: =+SUM(G16:G19) -> 0 | H23: =+SUM(H16:H19) -> 0 | I23: =+SUM(I16:I19) -> 0 | J23: =+SUM(J16:J19) -> 0 | K23: =+SUM(K16:K19) -> 0 | L23: =+SUM(L16:L19) -> 0 | ... BZ23: =+SUM(BZ16:BZ19) -> 0
B24: Total Variable OM Fees to Model | E24: =+SUM(E20:E23) -> 0 | F24: =+SUM(F20:F23) -> 0 | G24: =+SUM(G20:G23) -> 0 | H24: =+SUM(H20:H23) -> 0 | I24: =+SUM(I20:I23) -> 0 | J24: =+SUM(J20:J23) -> 0 | K24: =+SUM(K20:K23) -> 0 | L24: =+SUM(L20:L23) -> 0 | ... BZ24: =+SUM(BZ20:BZ23) -> 0
B26: Control Centre | E26: Est Period | G26: 1 | S26: =+G26+1 -> 2 | AE26: =+S26+1 -> 3 | AQ26: =+AE26+1 -> 4 | BC26: =+AQ26+1 -> 5 | BO26: =+BC26+1 -> 6
E27: =+E$3 -> 46162 | F27: =+F$3 -> 46203 | G27: =+G$3 -> 46234 | H27: =+H$3 -> 46265 | I27: =+I$3 -> 46295 | J27: =+J$3 -> 46326 | K27: =+K$3 -> 46356 | L27: =+L$3 -> 46387 | ... BZ27: =+BZ$3 -> 48395
C28: =+B4 -> Kranskop | E28: =+Kranskop!H13 -> 0 | F28: =+Kranskop!I13 -> 0 | G28: =+Kranskop!J13 -> 152083.33 | H28: =+Kranskop!K13 -> 152083.33 | I28: =+Kranskop!L13 -> 152083.33 | J28: =+Kranskop!M13 -> 152083.33 | K28: =+Kranskop!N13 -> 152083.33 | L28: =+Kranskop!O13 -> 152083.33 | ... BZ28: =+Kranskop!CC13 -> 152083.57
C29: =$B$8 -> Nyl | E29: =+Nyl!H13 -> 0 | F29: =+Nyl!I13 -> 0 | G29: =+Nyl!J13 -> 152083.33 | H29: =+Nyl!K13 -> 152083.33 | I29: =+Nyl!L13 -> 152083.33 | J29: =+Nyl!M13 -> 152083.33 | K29: =+Nyl!N13 -> 152083.33 | L29: =+Nyl!O13 -> 152083.33 | ... BZ29: =+Nyl!CC13 -> 152083.57
C30: =$B$12 -> Capricorn | E30: =+Capricorn!H13 -> 0 | F30: =+Capricorn!I13 -> 0 | G30: =+Capricorn!J13 -> 101388.89 | H30: =+Capricorn!K13 -> 101388.89 | I30: =+Capricorn!L13 -> 101388.89 | J30: =+Capricorn!M13 -> 101388.89 | K30: =+Capricorn!N13 -> 101388.89 | L30: =+Capricorn!O13 -> 101388.89 | ... BZ30: =+Capricorn!CC13 -> 101388.89
C31: =+B16 -> Baobab | E31: =+Baobab!H13 -> 0 | F31: =+Baobab!I13 -> 0 | G31: =+Baobab!J13 -> 152083.33 | H31: =+Baobab!K13 -> 152083.33 | I31: =+Baobab!L13 -> 152083.33 | J31: =+Baobab!M13 -> 152083.33 | K31: =+Baobab!N13 -> 152083.33 | L31: =+Baobab!O13 -> 152083.33 | ... BZ31: =+Baobab!CC13 -> 152083.57
B32: Fixed OM Fees to Model (Subject to CPI) | E32: =+SUM(E28:E31) -> 0 | F32: =+SUM(F28:F31) -> 0 | G32: =+SUM(G28:G31) -> 557638.88 | H32: =+SUM(H28:H31) -> 557638.88 | I32: =+SUM(I28:I31) -> 557638.88 | J32: =+SUM(J28:J31) -> 557638.88 | K32: =+SUM(K28:K31) -> 557638.88 | L32: =+SUM(L28:L31) -> 557638.88 | ... BZ32: =+SUM(BZ28:BZ31) -> 557639.6
B34: Control Centre | E34: Est Period | G34: 1 | S34: =+G34+1 -> 2 | AE34: =+S34+1 -> 3 | AQ34: =+AE34+1 -> 4 | BC34: =+AQ34+1 -> 5 | BO34: =+BC34+1 -> 6
E35: =+E$3 -> 46162 | F35: =+F$3 -> 46203 | G35: =+G$3 -> 46234 | H35: =+H$3 -> 46265 | I35: =+I$3 -> 46295 | J35: =+J$3 -> 46326 | K35: =+K$3 -> 46356 | L35: =+L$3 -> 46387 | ... BZ35: =+BZ$3 -> 48395
C36: =+B4 -> Kranskop | E36: =+Kranskop!H14 -> 0 | F36: =+Kranskop!I14 -> 0 | G36: =+Kranskop!J14 -> 0 | H36: =+Kranskop!K14 -> 0 | I36: =+Kranskop!L14 -> 0 | J36: =+Kranskop!M14 -> 0 | K36: =+Kranskop!N14 -> 0 | L36: =+Kranskop!O14 -> 0 | ... BZ36: =+Kranskop!CC14 -> 13415000
C37: =$B$8 -> Nyl | E37: =+Nyl!H14 -> 0 | F37: =+Nyl!I14 -> 0 | G37: =+Nyl!J14 -> 0 | H37: =+Nyl!K14 -> 0 | I37: =+Nyl!L14 -> 0 | J37: =+Nyl!M14 -> 0 | K37: =+Nyl!N14 -> 0 | L37: =+Nyl!O14 -> 0 | ... BZ37: =+Nyl!CC14 -> 13415000
C38: =$B$12 -> Capricorn | E38: =+Capricorn!H14 -> 0 | F38: =+Capricorn!I14 -> 0 | G38: =+Capricorn!J14 -> 0 | H38: =+Capricorn!K14 -> 0 | I38: =+Capricorn!L14 -> 0 | J38: =+Capricorn!M14 -> 0 | K38: =+Capricorn!N14 -> 0 | L38: =+Capricorn!O14 -> 0 | ... BZ38: =+Capricorn!CC14 -> 8943333.3
C39: =+B16 -> Baobab | E39: =+Baobab!H14 -> 0 | F39: =+Baobab!I14 -> 0 | G39: =+Baobab!J14 -> 0 | H39: =+Baobab!K14 -> 0 | I39: =+Baobab!L14 -> 0 | J39: =+Baobab!M14 -> 0 | K39: =+Baobab!N14 -> 0 | L39: =+Baobab!O14 -> 0 | ... BZ39: =+Baobab!CC14 -> 12276667
B40: OM Provisional Sums to Model (Not Subject to CPI) | E40: =+SUM(E36:E39) -> 0 | F40: =+SUM(F36:F39) -> 0 | G40: =+SUM(G36:G39) -> 0 | H40: =+SUM(H36:H39) -> 0 | I40: =+SUM(I36:I39) -> 0 | J40: =+SUM(J36:J39) -> 0 | K40: =+SUM(K36:K39) -> 0 | L40: =+SUM(L36:L39) -> 0 | ... BZ40: =+SUM(BZ36:BZ39) -> 48050000
B42: Control Centre | E42: Est Period | G42: 1 | S42: =+G42+1 -> 2 | AE42: =+S42+1 -> 3 | AQ42: =+AE42+1 -> 4 | BC42: =+AQ42+1 -> 5 | BO42: =+BC42+1 -> 6
E43: =+E$3 -> 46162 | F43: =+F$3 -> 46203 | G43: =+G$3 -> 46234 | H43: =+H$3 -> 46265 | I43: =+I$3 -> 46295 | J43: =+J$3 -> 46326 | K43: =+K$3 -> 46356 | L43: =+L$3 -> 46387 | ... BZ43: =+BZ$3 -> 48395
C44: =+B4 -> Kranskop | E44: =Kranskop!H22 -> 0 | F44: =Kranskop!I22 -> 0 | G44: =Kranskop!J22 -> 34722.23 | H44: =Kranskop!K22 -> 34722.23 | I44: =Kranskop!L22 -> 34722.23 | J44: =Kranskop!M22 -> 34722.23 | K44: =Kranskop!N22 -> 34722.23 | L44: =Kranskop!O22 -> 34722.23 | ... BZ44: =Kranskop!CC22 -> 34721.67
...

Sheet N1N Totals
B2: Item No | C2: Description | D2: Unit | E2: Quantity | F2: Rate | G2: TOTAL (6 Years) | H2: Est Period | J2: Operation Service Period - Year 1 | V2: Operation Service Period - Year 2 | AH2: Operation Service Period - Year 3 | AT2: Operation Service Period - Year 4 | BF2: Operation Service Period - Year 5 | BR2: Operation Service Period - Year 6
H3: ='Title Page'!C11 -> 46162 | I3: =DATE(YEAR(H3),MONTH(H3)+2,1)-1 -> 46203 | J3: =DATE(YEAR(I3),MONTH(I3)+2,1)-1 -> 46234 | K3: =DATE(YEAR(J3),MONTH(J3)+2,1)-1 -> 46265 | L3: =DATE(YEAR(K3),MONTH(K3)+2,1)-1 -> 46295 | M3: =DATE(YEAR(L3),MONTH(L3)+2,1)-1 -> 46326 | N3: =DATE(YEAR(M3),MONTH(M3)+2,1)-1 -> 46356 | O3: =DATE(YEAR(N3),MONTH(N3)+2,1)-1 -> 46387 | P3: =DATE(YEAR(O3),MONTH(O3)+2,1)-1 -> 46418 | ... CC3: =DATE(YEAR(CB3),MONTH(CB3)+2,1)-1 -> 48395
C6: Total Tendered F&V Cost (Incl VAT, in Rands) - to C1.1.1 FORM OF OFFER | G6: =+G7+G8 -> 7.643636e+08
C7: 15 %VAT on Total Tendered F&V Cost (in Rands) | G7: =+G8*0.15 -> 99699600
C8: Total Tendered F&V Cost (Excl VAT, in Rands) | G8: =+G11 -> 6.64664e+08
F10: CHECK | G10: =+SUM(H30:CC54,H56:CC92,H94:CC102,H104:CC115,H118:CC127,H129:CC137,H139:CC147,H149:CC151,H153:CC163,H165:CC166,H168:CC168,H170:CC197,H201:CC214,H216:CC247,H249:CC263,H265:CC407,H409:CC411,H413:CC450,H455:CC489) -> 6.49064e+08 | H10: =G10=G11 -> FALSE | I10: =G10=G28+G199+G454 -> FALSE
C11: Total Tendered F&V Cost for A- and B Series (excl VAT) | G11: =+SUM(H11:CC11) -> 6.64664e+08 | H11: =+H21+H12+H24 -> 0 | I11: =+I21+I12+I24 -> 0 | J11: =+J21+J12+J24 -> 800694.44 | K11: =+K21+K12+K24 -> 800694.44 | L11: =+L21+L12+L24 -> 800694.44 | M11: =+M21+M12+M24 -> 800694.44 | N11: =+N21+N12+N24 -> 800694.44 | O11: =+O21+O12+O24 -> 800694.44 | ... CC11: =+CC21+CC12+CC24 -> 86511361
B12: A | C12: A Series: Operation Service | G12: =+SUM(H12:CC12) -> 3.4645e+08 | H12: =+H28 -> 0 | I12: =+I28 -> 0 | J12: =+J28 -> 557638.88 | K12: =+K28 -> 557638.88 | L12: =+L28 -> 557638.88 | M12: =+M28 -> 557638.88 | N12: =+N28 -> 557638.88 | O12: =+O28 -> 557638.88 | ... CC12: =+CC28 -> 48607640 | CD12: =G12=G28 -> TRUE
C13: Fixed Items | G13: =+SUM(H13:CC13) -> 40150000 | H13: =+H12-SUM(H14:H15) -> 0 | I13: =+I12-SUM(I14:I15) -> 0 | J13: =+J12-SUM(J14:J15) -> 557638.88 | K13: =+K12-SUM(K14:K15) -> 557638.88 | L13: =+L12-SUM(L14:L15) -> 557638.88 | M13: =+M12-SUM(M14:M15) -> 557638.88 | N13: =+N12-SUM(N14:N15) -> 557638.88 | O13: =+O12-SUM(O14:O15) -> 557638.88 | ... CC13: =+CC12-SUM(CC14:CC15) -> 557639.6
C14: Provisional Sums | G14: =+SUM(H14:CC14) -> 306300000 | H14: =+H169 -> 0 | I14: =+I169 -> 0 | J14: =+J169 -> 0 | K14: =+K169 -> 0 | L14: =+L169 -> 0 | M14: =+M169 -> 0 | N14: =+N169 -> 0 | O14: =+O169 -> 0 | ... CC14: =+CC169 -> 48050000
C15: Variable Operation Cost | G15: =+SUM(H15:CC15) -> 0 | H15: =+SUM(H16:H19) -> 0 | I15: =+SUM(I16:I19) -> 0 | J15: =+SUM(J16:J19) -> 0 | K15: =+SUM(K16:K19) -> 0 | L15: =+SUM(L16:L19) -> 0 | M15: =+SUM(M16:M19) -> 0 | N15: =+SUM(N16:N19) -> 0 | O15: =+SUM(O16:O19) -> 0 | ... CC15: =+SUM(CC16:CC19) -> 0
C16: Class 1 | D16: month | E16: 72 | F16: =+SUM(Kranskop!F16) -> 0 | G16: =+SUM(H16:CC16) -> 0 | H16: =+SUM(Kranskop!H16) -> 0 | I16: =+SUM(Kranskop!I16) -> 0 | J16: =+SUM(Kranskop!J16) -> 0 | K16: =+SUM(Kranskop!K16) -> 0 | L16: =+SUM(Kranskop!L16) -> 0 | M16: =+SUM(Kranskop!M16) -> 0 | N16: =+SUM(Kranskop!N16) -> 0 | O16: =+SUM(Kranskop!O16) -> 0 | ... CC16: =+SUM(Kranskop!CC16) -> 0 | CD16: .
C17: Class 2 | D17: month | E17: 72 | F17: =+SUM(Kranskop!F17) -> 0 | G17: =+SUM(H17:CC17) -> 0 | H17: =+SUM(Kranskop!H17) -> 0 | I17: =+SUM(Kranskop!I17) -> 0 | J17: =+SUM(Kranskop!J17) -> 0 | K17: =+SUM(Kranskop!K17) -> 0 | L17: =+SUM(Kranskop!L17) -> 0 | M17: =+SUM(Kranskop!M17) -> 0 | N17: =+SUM(Kranskop!N17) -> 0 | O17: =+SUM(Kranskop!O17) -> 0 | ... CC17: =+SUM(Kranskop!CC17) -> 0 | CD17: .
C18: Class 3 | D18: month | E18: 72 | F18: =+SUM(Kranskop!F18) -> 0 | G18: =+SUM(H18:CC18) -> 0 | H18: =+SUM(Kranskop!H18) -> 0 | I18: =+SUM(Kranskop!I18) -> 0 | J18: =+SUM(Kranskop!J18) -> 0 | K18: =+SUM(Kranskop!K18) -> 0 | L18: =+SUM(Kranskop!L18) -> 0 | M18: =+SUM(Kranskop!M18) -> 0 | N18: =+SUM(Kranskop!N18) -> 0 | O18: =+SUM(Kranskop!O18) -> 0 | ... CC18: =+SUM(Kranskop!CC18) -> 0 | CD18: .
C19: Class 4 | D19: month | E19: 72 | F19: =+SUM(Kranskop!F19) -> 0 | G19: =+SUM(H19:CC19) -> 0 | H19: =+SUM(Kranskop!H19) -> 0 | I19: =+SUM(Kranskop!I19) -> 0 | J19: =+SUM(Kranskop!J19) -> 0 | K19: =+SUM(Kranskop!K19) -> 0 | L19: =+SUM(Kranskop!L19) -> 0 | M19: =+SUM(Kranskop!M19) -> 0 | N19: =+SUM(Kranskop!N19) -> 0 | O19: =+SUM(Kranskop!O19) -> 0 | ... CC19: =+SUM(Kranskop!CC19) -> 0 | CD19: .
G20: =IF(SUM(G16:G19)=0,0,IF(AND((SUM(G16:G19)/G12)>0.4,G169=0),0.4,(SUM(G16:G19)/G12))) -> 0 | H20: =IF(SUM(H16:H19)=0,0,IF(AND((SUM(H16:H19)/H12)>0.4,H169=0),0.4,(SUM(H16:H19)/H12))) -> 0 | I20: =IF(SUM(I16:I19)=0,0,IF(AND((SUM(I16:I19)/I12)>0.4,I169=0),0.4,(SUM(I16:I19)/I12))) -> 0 | J20: =IF(SUM(J16:J19)=0,0,IF(AND((SUM(J16:J19)/J12)>0.4,J169=0),0.4,(SUM(J16:J19)/J12))) -> 0 | K20: =IF(SUM(K16:K19)=0,0,IF(AND((SUM(K16:K19)/K12)>0.4,K169=0),0.4,(SUM(K16:K19)/K12))) -> 0 | L20: =IF(SUM(L16:L19)=0,0,IF(AND((SUM(L16:L19)/L12)>0.4,L169=0),0.4,(SUM(L16:L19)/L12))) -> 0 | M20: =IF(SUM(M16:M19)=0,0,IF(AND((SUM(M16:M19)/M12)>0.4,M169=0),0.4,(SUM(M16:M19)/M12))) -> 0 | N20: =IF(SUM(N16:N19)=0,0,IF(AND((SUM(N16:N19)/N12)>0.4,N169=0),0.4,(SUM(N16:N19)/N12))) -> 0 | ... CC20: =IF(SUM(CC16:CC19)=0,0,IF(AND((SUM(CC16:CC19)/CC12)>0.4,CC169=0),0.4,(SUM(CC16:CC19)/CC12))) -> 0
B21: B | C21: B Series: Design Build | G21: =+SUM(H21:CC21) -> 279000000 | H21: =+H199 -> 0 | I21: =+I199 -> 0 | J21: =+J199 -> 243055.56 | K21: =+K199 -> 243055.56 | L21: =+L199 -> 243055.56 | M21: =+M199 -> 243055.56 | N21: =+N199 -> 243055.56 | O21: =+O199 -> 243055.56 | ... CC21: =+CC199 -> 31368055 | CD21: =G21=G199 -> TRUE
C22: Fixed Items | G22: =+SUM(H22:CC22) -> 9500000 | H22: =+H21-H23 -> 0 | I22: =+I21-I23 -> 0 | J22: =+J21-J23 -> 131944.46 | K22: =+K21-K23 -> 131944.46 | L22: =+L21-L23 -> 131944.46 | M22: =+M21-M23 -> 131944.46 | N22: =+N21-N23 -> 131944.46 | O22: =+O21-O23 -> 131944.46 | ... CC22: =+CC21-CC23 -> 131943.34
C23: Provisional Sums | G23: =+SUM(H23:CC23) -> 269500000 | H23: =+H412 -> 0 | I23: =+I412 -> 0 | J23: =+J412 -> 111111.1 | K23: =+K412 -> 111111.1 | L23: =+L412 -> 111111.1 | M23: =+M412 -> 111111.1 | N23: =+N412 -> 111111.1 | O23: =+O412 -> 111111.1 | ... CC23: =+CC412 -> 31236112
B24: D | C24: D Series: Contract Participation, etc | G24: =+SUM(H24:CC24) -> 39214000 | H24: =+H454 -> 0 | I24: =+I454 -> 0 | J24: =+J454 -> 0 | K24: =+K454 -> 0 | L24: =+L454 -> 0 | M24: =+M454 -> 0 | N24: =+N454 -> 0 | O24: =+O454 -> 0 | ... CC24: =+CC454 -> 6535666.5 | CD24: =G24=G454 -> TRUE
C25: Fixed Items | G25: =+SUM(H25:CC25) -> 0 | H25: =H24-H26 -> 0 | I25: =I24-I26 -> 0 | J25: =J24-J26 -> 0 | K25: =K24-K26 -> 0 | L25: =L24-L26 -> 0 | M25: =M24-M26 -> 0 | N25: =N24-N26 -> 0 | O25: =O24-O26 -> 0 | ... CC25: =CC24-CC26 -> 0
C26: Provisional Sums | G26: =+SUM(H26:CC26) -> 39214000 | H26: =SUM(H455,H457,H458,H471:H472,H478:H481,H483,H485,H487:H488) -> 0 | I26: =SUM(I455,I457,I458,I471:I472,I478:I481,I483,I485,I487:I488) -> 0 | J26: =SUM(J455,J457,J458,J471:J472,J478:J481,J483,J485,J487:J488) -> 0 | K26: =SUM(K455,K457,K458,K471:K472,K478:K481,K483,K485,K487:K488) -> 0 | L26: =SUM(L455,L457,L458,L471:L472,L478:L481,L483,L485,L487:L488) -> 0 | M26: =SUM(M455,M457,M458,M471:M472,M478:M481,M483,M485,M487:M488) -> 0 | N26: =SUM(N455,N457,N458,N471:N472,N478:N481,N483,N485,N487:N488) -> 0 | O26: =SUM(O455,O457,O458,O471:O472,O478:O481,O483,O485,O487:O488) -> 0 | ... CC26: =SUM(CC455,CC457,CC458,CC471:CC472,CC478:CC481,CC483,CC485,CC487:CC488) -> 6535666.5
B28: A Series | C28: Operation Service | G28: =+SUM(G29,G55,G93,G103,G116,G148,G152,G164,G167,G169) -> 3.4645e+08 | H28: =+SUM(H29,H55,H93,H103,H116,H148,H152,H164,H167,H169) -> 0 | I28: =+SUM(I29,I55,I93,I103,I116,I148,I152,I164,I167,I169) -> 0 | J28: =+SUM(J29,J55,J93,J103,J116,J148,J152,J164,J167,J169) -> 557638.88 | K28: =+SUM(K29,K55,K93,K103,K116,K148,K152,K164,K167,K169) -> 557638.88 | L28: =+SUM(L29,L55,L93,L103,L116,L148,L152,L164,L167,L169) -> 557638.88 | M28: =+SUM(M29,M55,M93,M103,M116,M148,M152,M164,M167,M169) -> 557638.88 | N28: =+SUM(N29,N55,N93,N103,N116,N148,N152,N164,N167,N169) -> 557638.88 | ... CC28: =+SUM(CC29,CC55,CC93,CC103,CC116,CC148,CC152,CC164,CC167,CC169) -> 48607640
B29: A-1000 | C29: General Contractors Obligations | G29: =SUM(G30:G54) -> 0 | H29: =SUM(H30:H54) -> 0 | I29: =SUM(I30:I54) -> 0 | J29: =SUM(J30:J54) -> 0 | K29: =SUM(K30:K54) -> 0 | L29: =SUM(L30:L54) -> 0 | M29: =SUM(M30:M54) -> 0 | N29: =SUM(N30:N54) -> 0 | ... CC29: =SUM(CC30:CC54) -> 0
B30: A-1001 | C30: Contractors General Obligations for the duration of the Operations Service Period | F30: =(Kranskop!G30+Nyl!G30+Capricorn!G30+Baobab!G30)=G30 -> TRUE | G30: =+SUM(H30:CC30) -> 0 | H30: =SUM(Kranskop:Baobab!H30) -> 0 | I30: =SUM(Kranskop:Baobab!I30) -> 0 | J30: =SUM(Kranskop:Baobab!J30) -> 0 | K30: =SUM(Kranskop:Baobab!K30) -> 0 | L30: =SUM(Kranskop:Baobab!L30) -> 0 | M30: =SUM(Kranskop:Baobab!M30) -> 0 | N30: =SUM(Kranskop:Baobab!N30) -> 0 | O30: =SUM(Kranskop:Baobab!O30) -> 0 | ... CC30: =SUM(Kranskop:Baobab!CC30) -> 0
B31: A-1001a | C31: Contractors General Obligations for the duration of the Operations Service Period – Establishment Period | D31: Week | E31: =SUM(Kranskop:Baobab!E31) -> 24 | F31: =(Kranskop!G31+Nyl!G31+Capricorn!G31+Baobab!G31)=G31 -> TRUE | G31: =+SUM(H31:CC31) -> 0 | H31: =SUM(Kranskop:Baobab!H31) -> 0 | I31: =SUM(Kranskop:Baobab!I31) -> 0 | J31: =SUM(Kranskop:Baobab!J31) -> 0 | K31: =SUM(Kranskop:Baobab!K31) -> 0 | L31: =SUM(Kranskop:Baobab!L31) -> 0 | M31: =SUM(Kranskop:Baobab!M31) -> 0 | N31: =SUM(Kranskop:Baobab!N31) -> 0 | O31: =SUM(Kranskop:Baobab!O31) -> 0 | ... CC31: =SUM(Kranskop:Baobab!CC31) -> 0
B32: A-1001b | C32: Contractor’s General Obligations during Operations Period - Section 1 (Using the Toll System handed over) | D32: Month | E32: =SUM(Kranskop:Baobab!E32) -> 192 | F32: =(Kranskop!G32+Nyl!G32+Capricorn!G32+Baobab!G32)=G32 -> TRUE | G32: =+SUM(H32:CC32) -> 0 | H32: =SUM(Kranskop:Baobab!H32) -> 0 | I32: =SUM(Kranskop:Baobab!I32) -> 0 | J32: =SUM(Kranskop:Baobab!J32) -> 0 | K32: =SUM(Kranskop:Baobab!K32) -> 0 | L32: =SUM(Kranskop:Baobab!L32) -> 0 | M32: =SUM(Kranskop:Baobab!M32) -> 0 | N32: =SUM(Kranskop:Baobab!N32) -> 0 | O32: =SUM(Kranskop:Baobab!O32) -> 0 | ... CC32: =SUM(Kranskop:Baobab!CC32) -> 0
B33: A-1001c | C33: Contractor’s General Obligations during Operations Period - Section 2 & 3 (Using the upgraded Toll System) | D33: Month | E33: =SUM(Kranskop:Baobab!E33) -> 48 | F33: =(Kranskop!G33+Nyl!G33+Capricorn!G33+Baobab!G33)=G33 -> TRUE | G33: =+SUM(H33:CC33) -> 0 | H33: =SUM(Kranskop:Baobab!H33) -> 0 | I33: =SUM(Kranskop:Baobab!I33) -> 0 | J33: =SUM(Kranskop:Baobab!J33) -> 0 | K33: =SUM(Kranskop:Baobab!K33) -> 0 | L33: =SUM(Kranskop:Baobab!L33) -> 0 | M33: =SUM(Kranskop:Baobab!M33) -> 0 | N33: =SUM(Kranskop:Baobab!N33) -> 0 | O33: =SUM(Kranskop:Baobab!O33) -> 0 | ... CC33: =SUM(Kranskop:Baobab!CC33) -> 0
B34: A-1001d | C34: Contractor’s General Obligations during Operations Period - Section 4 (Using the SANRAL MIS) | D34: Month | E34: =SUM(Kranskop:Baobab!E34) -> 24 | F34: =(Kranskop!G34+Nyl!G34+Capricorn!G34+Baobab!G34)=G34 -> TRUE | G34: =+SUM(H34:CC34) -> 0 | H34: =SUM(Kranskop:Baobab!H34) -> 0 | I34: =SUM(Kranskop:Baobab!I34) -> 0 | J34: =SUM(Kranskop:Baobab!J34) -> 0 | K34: =SUM(Kranskop:Baobab!K34) -> 0 | L34: =SUM(Kranskop:Baobab!L34) -> 0 | M34: =SUM(Kranskop:Baobab!M34) -> 0 | N34: =SUM(Kranskop:Baobab!N34) -> 0 | O34: =SUM(Kranskop:Baobab!O34) -> 0 | ... CC34: =SUM(Kranskop:Baobab!CC34) -> 0
B35: A-1001e | C35: Contractor’s General Obligations during Operations Period - Section 5 (Using the national SANRAL Toll System) | D35: Month | E35: =SUM(Kranskop:Baobab!E35) -> 24 | F35: =(Kranskop!G35+Nyl!G35+Capricorn!G35+Baobab!G35)=G35 -> TRUE | G35: =+SUM(H35:CC35) -> 0 | H35: =SUM(Kranskop:Baobab!H35) -> 0 | I35: =SUM(Kranskop:Baobab!I35) -> 0 | J35: =SUM(Kranskop:Baobab!J35) -> 0 | K35: =SUM(Kranskop:Baobab!K35) -> 0 | L35: =SUM(Kranskop:Baobab!L35) -> 0 | M35: =SUM(Kranskop:Baobab!M35) -> 0 | N35: =SUM(Kranskop:Baobab!N35) -> 0 | O35: =SUM(Kranskop:Baobab!O35) -> 0 | ... CC35: =SUM(Kranskop:Baobab!CC35) -> 0
B36: A-1002 | C36: Provision of Performance Security | D36: Year | E36: =SUM(Kranskop:Baobab!E36) -> 24 | F36: =(Kranskop!G36+Nyl!G36+Capricorn!G36+Baobab!G36)=G36 -> TRUE | G36: =+SUM(H36:CC36) -> 0 | H36: =SUM(Kranskop:Baobab!H36) -> 0 | I36: =SUM(Kranskop:Baobab!I36) -> 0 | J36: =SUM(Kranskop:Baobab!J36) -> 0 | K36: =SUM(Kranskop:Baobab!K36) -> 0 | L36: =SUM(Kranskop:Baobab!L36) -> 0 | M36: =SUM(Kranskop:Baobab!M36) -> 0 | N36: =SUM(Kranskop:Baobab!N36) -> 0 | O36: =SUM(Kranskop:Baobab!O36) -> 0 | ... CC36: =SUM(Kranskop:Baobab!CC36) -> 0
B37: A-1003 | C37: Compliance with Laws | D37: Month | E37: =SUM(Kranskop:Baobab!E37) -> 288 | F37: =(Kranskop!G37+Nyl!G37+Capricorn!G37+Baobab!G37)=G37 -> TRUE | G37: =+SUM(H37:CC37) -> 0 | H37: =SUM(Kranskop:Baobab!H37) -> 0 | I37: =SUM(Kranskop:Baobab!I37) -> 0 | J37: =SUM(Kranskop:Baobab!J37) -> 0 | K37: =SUM(Kranskop:Baobab!K37) -> 0 | L37: =SUM(Kranskop:Baobab!L37) -> 0 | M37: =SUM(Kranskop:Baobab!M37) -> 0 | N37: =SUM(Kranskop:Baobab!N37) -> 0 | O37: =SUM(Kranskop:Baobab!O37) -> 0 | ... CC37: =SUM(Kranskop:Baobab!CC37) -> 0
B38: A-1004 | C38: Compliance with Health and Safety Requirements | D38: Month | E38: =SUM(Kranskop:Baobab!E38) -> 288 | F38: =(Kranskop!G38+Nyl!G38+Capricorn!G38+Baobab!G38)=G38 -> TRUE | G38: =+SUM(H38:CC38) -> 0 | H38: =SUM(Kranskop:Baobab!H38) -> 0 | I38: =SUM(Kranskop:Baobab!I38) -> 0 | J38: =SUM(Kranskop:Baobab!J38) -> 0 | K38: =SUM(Kranskop:Baobab!K38) -> 0 | L38: =SUM(Kranskop:Baobab!L38) -> 0 | M38: =SUM(Kranskop:Baobab!M38) -> 0 | N38: =SUM(Kranskop:Baobab!N38) -> 0 | O38: =SUM(Kranskop:Baobab!O38) -> 0 | ... CC38: =SUM(Kranskop:Baobab!CC38) -> 0
B39: A-1005 | C39: Compliance with Environmental Requirements | D39: Month | E39: =SUM(Kranskop:Baobab!E39) -> 288 | F39: =(Kranskop!G39+Nyl!G39+Capricorn!G39+Baobab!G39)=G39 -> TRUE | G39: =+SUM(H39:CC39) -> 0 | H39: =SUM(Kranskop:Baobab!H39) -> 0 | I39: =SUM(Kranskop:Baobab!I39) -> 0 | J39: =SUM(Kranskop:Baobab!J39) -> 0 | K39: =SUM(Kranskop:Baobab!K39) -> 0 | L39: =SUM(Kranskop:Baobab!L39) -> 0 | M39: =SUM(Kranskop:Baobab!M39) -> 0 | N39: =SUM(Kranskop:Baobab!N39) -> 0 | O39: =SUM(Kranskop:Baobab!O39) -> 0 | ... CC39: =SUM(Kranskop:Baobab!CC39) -> 0
B40: A-1006 | C40: Compliance with Social Responsibility Requirements | D40: Month | E40: =SUM(Kranskop:Baobab!E40) -> 288 | F40: =(Kranskop!G40+Nyl!G40+Capricorn!G40+Baobab!G40)=G40 -> TRUE | G40: =+SUM(H40:CC40) -> 0 | H40: =SUM(Kranskop:Baobab!H40) -> 0 | I40: =SUM(Kranskop:Baobab!I40) -> 0 | J40: =SUM(Kranskop:Baobab!J40) -> 0 | K40: =SUM(Kranskop:Baobab!K40) -> 0 | L40: =SUM(Kranskop:Baobab!L40) -> 0 | M40: =SUM(Kranskop:Baobab!M40) -> 0 | N40: =SUM(Kranskop:Baobab!N40) -> 0 | O40: =SUM(Kranskop:Baobab!O40) -> 0 | ... CC40: =SUM(Kranskop:Baobab!CC40) -> 0
B41: A-1007 | C41: Provision and Maintenance of Adequate Insurance | D41: Month | E41: =SUM(Kranskop:Baobab!E41) -> 288 | F41: =(Kranskop!G41+Nyl!G41+Capricorn!G41+Baobab!G41)=G41 -> TRUE | G41: =+SUM(H41:CC41) -> 0 | H41: =SUM(Kranskop:Baobab!H41) -> 0 | I41: =SUM(Kranskop:Baobab!I41) -> 0 | J41: =SUM(Kranskop:Baobab!J41) -> 0 | K41: =SUM(Kranskop:Baobab!K41) -> 0 | L41: =SUM(Kranskop:Baobab!L41) -> 0 | M41: =SUM(Kranskop:Baobab!M41) -> 0 | N41: =SUM(Kranskop:Baobab!N41) -> 0 | O41: =SUM(Kranskop:Baobab!O41) -> 0 | ... CC41: =SUM(Kranskop:Baobab!CC41) -> 0
B42: A-1008 | C42: Provision and Maintenance of Contractor's Equipment | D42: Month | E42: =SUM(Kranskop:Baobab!E42) -> 288 | F42: =(Kranskop!G42+Nyl!G42+Capricorn!G42+Baobab!G42)=G42 -> TRUE | G42: =+SUM(H42:CC42) -> 0 | H42: =SUM(Kranskop:Baobab!H42) -> 0 | I42: =SUM(Kranskop:Baobab!I42) -> 0 | J42: =SUM(Kranskop:Baobab!J42) -> 0 | K42: =SUM(Kranskop:Baobab!K42) -> 0 | L42: =SUM(Kranskop:Baobab!L42) -> 0 | M42: =SUM(Kranskop:Baobab!M42) -> 0 | N42: =SUM(Kranskop:Baobab!N42) -> 0 | O42: =SUM(Kranskop:Baobab!O42) -> 0 | ... CC42: =SUM(Kranskop:Baobab!CC42) -> 0
... B49: A-1015 | C49: Liaison with Service Providers | D49: Month | E49: =SUM(Kranskop:Baobab!E49) -> 288 | F49: =(Kranskop!G49+Nyl!G49+Capricorn!G49+Baobab!G49)=G49 -> TRUE | G49: =+SUM(H49:CC49) -> 0 | H49: =SUM(Kranskop:Baobab!H49) -> 0 | I49: =SUM(Kranskop:Baobab!I49) -> 0 | J49: =SUM(Kranskop:Baobab!J49) -> 0 | K49: =SUM(Kranskop:Baobab!K49) -> 0 | L49: =SUM(Kranskop:Baobab!L49) -> 0 | M49: =SUM(Kranskop:Baobab!M49) -> 0 | N49: =SUM(Kranskop:Baobab!N49) -> 0 | O49: =SUM(Kranskop:Baobab!O49) -> 0 | ... CC49: =SUM(Kranskop:Baobab!CC49) -> 0
B50: A-1016 | C50: Mentoring Targeted Enterprise (New Entrant-Developing Operator) | F50: =(Kranskop!G50+Nyl!G50+Capricorn!G50+Baobab!G50)=G50 -> TRUE | G50: =+SUM(H50:CC50) -> 0 | H50: =SUM(Kranskop:Baobab!H50) -> 0 | I50: =SUM(Kranskop:Baobab!I50) -> 0 | J50: =SUM(Kranskop:Baobab!J50) -> 0 | K50: =SUM(Kranskop:Baobab!K50) -> 0 | L50: =SUM(Kranskop:Baobab!L50) -> 0 | M50: =SUM(Kranskop:Baobab!M50) -> 0 | N50: =SUM(Kranskop:Baobab!N50) -> 0 | O50: =SUM(Kranskop:Baobab!O50) -> 0 | ... CC50: =SUM(Kranskop:Baobab!CC50) -> 0
B51: A-1016a | C51: Identify and train Targeted Enterprise (New Entrant-Developing Operator) | D51: Month | E51: =SUM(Kranskop:Baobab!E51) -> 48 | F51: =(Kranskop!G51+Nyl!G51+Capricorn!G51+Baobab!G51)=G51 -> TRUE | G51: =+SUM(H51:CC51) -> 0 | H51: =SUM(Kranskop:Baobab!H51) -> 0 | I51: =SUM(Kranskop:Baobab!I51) -> 0 | J51: =SUM(Kranskop:Baobab!J51) -> 0 | K51: =SUM(Kranskop:Baobab!K51) -> 0 | L51: =SUM(Kranskop:Baobab!L51) -> 0 | M51: =SUM(Kranskop:Baobab!M51) -> 0 | N51: =SUM(Kranskop:Baobab!N51) -> 0 | O51: =SUM(Kranskop:Baobab!O51) -> 0 | ... CC51: =SUM(Kranskop:Baobab!CC51) -> 0
...

Sheet Kranskop
B2: Item No | C2: Description | D2: Unit | E2: Quantity | F2: Rate | G2: TOTAL (6 Years) | H2: Est Period | J2: Operation Service Period - Year 1 | V2: Operation Service Period - Year 2 | AH2: Operation Service Period - Year 3 | AT2: Operation Service Period - Year 4 | BF2: Operation Service Period - Year 5 | BR2: Operation Service Period - Year 6
H3: ='Title Page'!C11 -> 46162 | I3: =DATE(YEAR(H3),MONTH(H3)+2,1)-1 -> 46203 | J3: =DATE(YEAR(I3),MONTH(I3)+2,1)-1 -> 46234 | K3: =DATE(YEAR(J3),MONTH(J3)+2,1)-1 -> 46265 | L3: =DATE(YEAR(K3),MONTH(K3)+2,1)-1 -> 46295 | M3: =DATE(YEAR(L3),MONTH(L3)+2,1)-1 -> 46326 | N3: =DATE(YEAR(M3),MONTH(M3)+2,1)-1 -> 46356 | O3: =DATE(YEAR(N3),MONTH(N3)+2,1)-1 -> 46387 | P3: =DATE(YEAR(O3),MONTH(O3)+2,1)-1 -> 46418 | ... CC3: =DATE(YEAR(CB3),MONTH(CB3)+2,1)-1 -> 48395
C6: Total Tendered F&V Cost (Incl VAT, in Rands) - to N2N Totals | G6: =+G7+G8 -> 210983025
C7: 15 %VAT on Total Tendered F&V Cost (in Rands) | G7: =+G8*0.15 -> 27519525
C8: Total Tendered F&V Cost (Excl VAT, in Rands) | G8: =+G11 -> 183463500
F10: CHECK | G10: =+SUM(H30:CC54,H56:CC92,H94:CC102,H104:CC115,H118:CC127,H129:CC137,H139:CC147,H149:CC151,H153:CC163,H165:CC166,H168:CC168,H170:CC197,H201:CC214,H216:CC247,H249:CC263,H265:CC407,H409:CC411,H413:CC450,H455:CC489) -> 183463500 | H10: =G10=G11 -> TRUE | I10: =G28+G199+G454=G10 -> TRUE
C11: Total Tendered F&V Cost for A- and B Series (excl VAT) | G11: =+SUM(H11:CC11) -> 183463500 | H11: =+H21+H12+H24 -> 0 | I11: =+I21+I12+I24 -> 0 | J11: =+J21+J12+J24 -> 220138.89 | K11: =+K21+K12+K24 -> 220138.89 | L11: =+L21+L12+L24 -> 220138.89 | M11: =+M21+M12+M24 -> 220138.89 | N11: =+N21+N12+N24 -> 220138.89 | O11: =+O21+O12+O24 -> 220138.89 | ... CC11: =+CC21+CC12+CC24 -> 24105722
B12: A | C12: A Series: Operation Service | G12: =+SUM(H12:CC12) -> 97740000 | H12: =+H28 -> 0 | I12: =+I28 -> 0 | J12: =+J28 -> 152083.33 | K12: =+K28 -> 152083.33 | L12: =+L28 -> 152083.33 | M12: =+M28 -> 152083.33 | N12: =+N28 -> 152083.33 | O12: =+O28 -> 152083.33 | ... CC12: =+CC28 -> 13567084 | CD12: =G12=G28 -> TRUE
C13: Fixed Items | G13: =+SUM(H13:CC13) -> 10950000 | H13: =+H12-SUM(H14:H15) -> 0 | I13: =+I12-SUM(I14:I15) -> 0 | J13: =+J12-SUM(J14:J15) -> 152083.33 | K13: =+K12-SUM(K14:K15) -> 152083.33 | L13: =+L12-SUM(L14:L15) -> 152083.33 | M13: =+M12-SUM(M14:M15) -> 152083.33 | N13: =+N12-SUM(N14:N15) -> 152083.33 | O13: =+O12-SUM(O14:O15) -> 152083.33 | ... CC13: =+CC12-SUM(CC14:CC15) -> 152083.57
C14: Provisional Sums | G14: =+SUM(H14:CC14) -> 86790000 | H14: =+H169 -> 0 | I14: =+I169 -> 0 | J14: =+J169 -> 0 | K14: =+K169 -> 0 | L14: =+L169 -> 0 | M14: =+M169 -> 0 | N14: =+N169 -> 0 | O14: =+O169 -> 0 | ... CC14: =+CC169 -> 13415000
C15: Variable Operation Cost | G15: =+SUM(H15:CC15) -> 0 | H15: =+SUM(H16:H19) -> 0 | I15: =+SUM(I16:I19) -> 0 | J15: =+SUM(J16:J19) -> 0 | K15: =+SUM(K16:K19) -> 0 | L15: =+SUM(L16:L19) -> 0 | M15: =+SUM(M16:M19) -> 0 | N15: =+SUM(N16:N19) -> 0 | O15: =+SUM(O16:O19) -> 0 | ... CC15: =+SUM(CC16:CC19) -> 0
C16: Class 1 | D16: Month | E16: 72 | G16: =+SUM(H16:CC16) -> 0 | CD16: .
C17: Class 2 | D17: Month | E17: 72 | G17: =+SUM(H17:CC17) -> 0 | CD17: .
C18: Class 3 | D18: Month | E18: 72 | G18: =+SUM(H18:CC18) -> 0 | CD18: .
C19: Class 4 | D19: Month | E19: 72 | G19: =+SUM(H19:CC19) -> 0 | CD19: .
G20: =IF(SUM(G16:G19)=0,0,IF(AND((SUM(G16:G19)/G12)>0.4,G169=0),0.4,(SUM(G16:G19)/G12))) -> 0 | H20: =IF(SUM(H16:H19)=0,0,IF(AND((SUM(H16:H19)/H12)>0.4,H169=0),0.4,(SUM(H16:H19)/H12))) -> 0 | I20: =IF(SUM(I16:I19)=0,0,IF(AND((SUM(I16:I19)/I12)>0.4,I169=0),0.4,(SUM(I16:I19)/I12))) -> 0 | J20: =IF(SUM(J16:J19)=0,0,IF(AND((SUM(J16:J19)/J12)>0.4,J169=0),0.4,(SUM(J16:J19)/J12))) -> 0 | K20: =IF(SUM(K16:K19)=0,0,IF(AND((SUM(K16:K19)/K12)>0.4,K169=0),0.4,(SUM(K16:K19)/K12))) -> 0 | L20: =IF(SUM(L16:L19)=0,0,IF(AND((SUM(L16:L19)/L12)>0.4,L169=0),0.4,(SUM(L16:L19)/L12))) -> 0 | M20: =IF(SUM(M16:M19)=0,0,IF(AND((SUM(M16:M19)/M12)>0.4,M169=0),0.4,(SUM(M16:M19)/M12))) -> 0 | N20: =IF(SUM(N16:N19)=0,0,IF(AND((SUM(N16:N19)/N12)>0.4,N169=0),0.4,(SUM(N16:N19)/N12))) -> 0 | ... CC20: =IF(SUM(CC16:CC19)=0,0,IF(AND((SUM(CC16:CC19)/CC12)>0.4,CC169=0),0.4,(SUM(CC16:CC19)/CC12))) -> 0
B21: B | C21: B Series: Design Build | G21: =+SUM(H21:CC21) -> 74170000 | H21: =+H199 -> 0 | I21: =+I199 -> 0 | J21: =+J199 -> 68055.56 | K21: =+K199 -> 68055.56 | L21: =+L199 -> 68055.56 | M21: =+M199 -> 68055.56 | N21: =+N199 -> 68055.56 | O21: =+O199 -> 68055.56 | ... CC21: =+CC199 -> 8613055.2 | CD21: =G21=G199 -> TRUE
C22: Fixed Items | G22: =+SUM(H22:CC22) -> 2500000 | H22: =+H21-H23 -> 0 | I22: =+I21-I23 -> 0 | J22: =+J21-J23 -> 34722.23 | K22: =+K21-K23 -> 34722.23 | L22: =+L21-L23 -> 34722.23 | M22: =+M21-M23 -> 34722.23 | N22: =+N21-N23 -> 34722.23 | O22: =+O21-O23 -> 34722.23 | ... CC22: =+CC21-CC23 -> 34721.67
C23: Provisional Sums | G23: =+SUM(H23:CC23) -> 71670000 | H23: =+H412 -> 0 | I23: =+I412 -> 0 | J23: =+J412 -> 33333.33 | K23: =+K412 -> 33333.33 | L23: =+L412 -> 33333.33 | M23: =+M412 -> 33333.33 | N23: =+N412 -> 33333.33 | O23: =+O412 -> 33333.33 | ... CC23: =+CC412 -> 8578333.6
B24: D | C24: D Series: Contract Participation, etc | G24: =+SUM(H24:CC24) -> 11553500 | H24: =+H454 -> 0 | I24: =+I454 -> 0 | J24: =+J454 -> 0 | K24: =+K454 -> 0 | L24: =+L454 -> 0 | M24: =+M454 -> 0 | N24: =+N454 -> 0 | O24: =+O454 -> 0 | ... CC24: =+CC454 -> 1925583.3 | CD24: =G24=G454 -> TRUE
C25: Fixed Items | G25: =+SUM(H25:CC25) -> 0 | H25: =H24-H26 -> 0 | I25: =I24-I26 -> 0 | J25: =J24-J26 -> 0 | K25: =K24-K26 -> 0 | L25: =L24-L26 -> 0 | M25: =M24-M26 -> 0 | N25: =N24-N26 -> 0 | O25: =O24-O26 -> 0 | ... CC25: =CC24-CC26 -> 0
C26: Provisional Sums | G26: =+SUM(H26:CC26) -> 11553500 | H26: =SUM(H455,H457,H458,H471:H472,H478:H481,H483,H485,H487:H488) -> 0 | I26: =SUM(I455,I457,I458,I471:I472,I478:I481,I483,I485,I487:I488) -> 0 | J26: =SUM(J455,J457,J458,J471:J472,J478:J481,J483,J485,J487:J488) -> 0 | K26: =SUM(K455,K457,K458,K471:K472,K478:K481,K483,K485,K487:K488) -> 0 | L26: =SUM(L455,L457,L458,L471:L472,L478:L481,L483,L485,L487:L488) -> 0 | M26: =SUM(M455,M457,M458,M471:M472,M478:M481,M483,M485,M487:M488) -> 0 | N26: =SUM(N455,N457,N458,N471:N472,N478:N481,N483,N485,N487:N488) -> 0 | O26: =SUM(O455,O457,O458,O471:O472,O478:O481,O483,O485,O487:O488) -> 0 | ... CC26: =SUM(CC455,CC457,CC458,CC471:CC472,CC478:CC481,CC483,CC485,CC487:CC488) -> 1925583.3
B28: A Series | C28: Operation Service | G28: =+SUM(G29,G55,G93,G103,G116,G148,G152,G164,G167,G169) -> 97740000 | H28: =+SUM(H29,H55,H93,H103,H116,H148,H152,H164,H167,H169) -> 0 | I28: =+SUM(I29,I55,I93,I103,I116,I148,I152,I164,I167,I169) -> 0 | J28: =+SUM(J29,J55,J93,J103,J116,J148,J152,J164,J167,J169) -> 152083.33 | K28: =+SUM(K29,K55,K93,K103,K116,K148,K152,K164,K167,K169) -> 152083.33 | L28: =+SUM(L29,L55,L93,L103,L116,L148,L152,L164,L167,L169) -> 152083.33 | M28: =+SUM(M29,M55,M93,M103,M116,M148,M152,M164,M167,M169) -> 152083.33 | N28: =+SUM(N29,N55,N93,N103,N116,N148,N152,N164,N167,N169) -> 152083.33 | ... CC28: =+SUM(CC29,CC55,CC93,CC103,CC116,CC148,CC152,CC164,CC167,CC169) -> 13567084
B29: A-1000 | C29: General Contractors Obligations | G29: =SUM(G30:G54) -> 0 | H29: =SUM(H30:H54) -> 0 | I29: =SUM(I30:I54) -> 0 | J29: =SUM(J30:J54) -> 0 | K29: =SUM(K30:K54) -> 0 | L29: =SUM(L30:L54) -> 0 | M29: =SUM(M30:M54) -> 0 | N29: =SUM(N30:N54) -> 0 | ... CC29: =SUM(CC30:CC54) -> 0
B30: A-1001 | C30: Contractors General Obligations for the duration of the Operations Service Period
B31: A-1001a | C31: Contractors General Obligations for the duration of the Operations Service Period – Establishment Period | D31: Week | E31: 6 | G31: =+SUM(H31:CC31) -> 0
B32: A-1001b | C32: Contractor’s General Obligations during Operations Period - Section 1 (Using the Toll System handed over) | D32: Month | E32: 48 | G32: =+SUM(H32:CC32) -> 0
B33: A-1001c | C33: Contractor’s General Obligations during Operations Period - Section 3 (Using the upgraded Toll System) | D33: Month | E33: 12 | G33: =+SUM(H33:CC33) -> 0
B34: A-1001d | C34: Contractor’s General Obligations during Operations Period - Section 4 (Using the SANRAL MIS) | D34: Month | E34: 6 | G34: =+SUM(H34:CC34) -> 0
B35: A-1001e | C35: Contractor’s General Obligations during Operations Period - Section 5 (Using the national SANRAL Toll System) | D35: Month | E35: 6 | G35: =+SUM(H35:CC35) -> 0
B36: A-1002 | C36: Provision of Performance Security | D36: Year | E36: 6 | G36: =+SUM(H36:CC36) -> 0
B37: A-1003 | C37: Compliance with Laws | D37: Month | E37: 72 | G37: =+SUM(H37:CC37) -> 0
B38: A-1004 | C38: Compliance with Health and Safety Requirements | D38: Month | E38: 72 | G38: =+SUM(H38:CC38) -> 0
B39: A-1005 | C39: Compliance with Environmental Requirements | D39: Month | E39: 72 | G39: =+SUM(H39:CC39) -> 0
B40: A-1006 | C40: Compliance with Social Responsibility Requirements | D40: Month | E40: 72 | G40: =+SUM(H40:CC40) -> 0
B41: A-1007 | C41: Provision and Maintenance of Adequate Insurance | D41: Month | E41: 72 | G41: =+SUM(H41:CC41) -> 0
B42: A-1008 | C42: Provision and Maintenance of Contractor's Equipment | D42: Month | E42: 72 | G42: =+SUM(H42:CC42) -> 0
... B44: A-1010 | C44: Training of Personnel and other training obligations | D44: Month | E44: 72 | G44: =+SUM(H44:CC44) -> 0
B45: A-1011 | C45: Completion of Operation Service Period | D45: Lump Sum | E45: 1 | G45: =+E45*F45 -> 0 | CC45: =G45-SUM(H45:CB45) -> 0
B46: A-1012 | C46: Extra Over Cost for Taking over of upgraded & new assets during contract period (if triggered) | D46: Lump Sum | E46: 1 | G46: =+E46*F46 -> 0 | U46: =G46/6 -> 0 | AG46: =G46/6 -> 0 | AS46: =G46/6 -> 0 | BE46: =G46/6 -> 0 | BQ46: =G46/6 -> 0 | CC46: =G46-SUM(H46:CB46) -> 0
...

Sheet Nyl
B2: Item No | C2: Description | D2: Unit | E2: Quantity | F2: Rate | G2: TOTAL (6 Years) | H2: Est Period | J2: Operation Service Period - Year 1 | V2: Operation Service Period - Year 2 | AH2: Operation Service Period - Year 3 | AT2: Operation Service Period - Year 4 | BF2: Operation Service Period - Year 5 | BR2: Operation Service Period - Year 6
H3: ='Title Page'!C11 -> 46162 | I3: =DATE(YEAR(H3),MONTH(H3)+2,1)-1 -> 46203 | J3: =DATE(YEAR(I3),MONTH(I3)+2,1)-1 -> 46234 | K3: =DATE(YEAR(J3),MONTH(J3)+2,1)-1 -> 46265 | L3: =DATE(YEAR(K3),MONTH(K3)+2,1)-1 -> 46295 | M3: =DATE(YEAR(L3),MONTH(L3)+2,1)-1 -> 46326 | N3: =DATE(YEAR(M3),MONTH(M3)+2,1)-1 -> 46356 | O3: =DATE(YEAR(N3),MONTH(N3)+2,1)-1 -> 46387 | P3: =DATE(YEAR(O3),MONTH(O3)+2,1)-1 -> 46418 | ... CC3: =DATE(YEAR(CB3),MONTH(CB3)+2,1)-1 -> 48395
C6: Total Tendered F&V Cost (Incl VAT, in Rands) - to N2N Totals | G6: =+G7+G8 -> 210983025
C7: 15 %VAT on Total Tendered F&V Cost (in Rands) | G7: =+G8*0.15 -> 27519525
C8: Total Tendered F&V Cost (Excl VAT, in Rands) | G8: =+G11 -> 183463500
F10: CHECK | G10: =+SUM(H30:CC54,H56:CC92,H94:CC102,H104:CC115,H118:CC127,H129:CC137,H139:CC147,H149:CC151,H153:CC163,H165:CC166,H168:CC168,H170:CC197,H201:CC214,H216:CC247,H249:CC263,H265:CC407,H409:CC411,H413:CC450,H455:CC489) -> 183463500 | H10: =G10=G11 -> TRUE | I10: =G28+G199+G454=G10 -> TRUE
C11: Total Tendered F&V Cost for A- and B Series (excl VAT) | G11: =+SUM(H11:CC11) -> 183463500 | H11: =+H21+H12+H24 -> 0 | I11: =+I21+I12+I24 -> 0 | J11: =+J21+J12+J24 -> 220138.89 | K11: =+K21+K12+K24 -> 220138.89 | L11: =+L21+L12+L24 -> 220138.89 | M11: =+M21+M12+M24 -> 220138.89 | N11: =+N21+N12+N24 -> 220138.89 | O11: =+O21+O12+O24 -> 220138.89 | ... CC11: =+CC21+CC12+CC24 -> 24105722
B12: A | C12: A Series: Operation Service | G12: =+SUM(H12:CC12) -> 97740000 | H12: =+H28 -> 0 | I12: =+I28 -> 0 | J12: =+J28 -> 152083.33 | K12: =+K28 -> 152083.33 | L12: =+L28 -> 152083.33 | M12: =+M28 -> 152083.33 | N12: =+N28 -> 152083.33 | O12: =+O28 -> 152083.33 | ... CC12: =+CC28 -> 13567084 | CD12: =G12=G28 -> TRUE
C13: Fixed Items | G13: =+SUM(H13:CC13) -> 10950000 | H13: =+H12-SUM(H14:H15) -> 0 | I13: =+I12-SUM(I14:I15) -> 0 | J13: =+J12-SUM(J14:J15) -> 152083.33 | K13: =+K12-SUM(K14:K15) -> 152083.33 | L13: =+L12-SUM(L14:L15) -> 152083.33 | M13: =+M12-SUM(M14:M15) -> 152083.33 | N13: =+N12-SUM(N14:N15) -> 152083.33 | O13: =+O12-SUM(O14:O15) -> 152083.33 | ... CC13: =+CC12-SUM(CC14:CC15) -> 152083.57
C14: Provisional Sums | G14: =+SUM(H14:CC14) -> 86790000 | H14: =+H169 -> 0 | I14: =+I169 -> 0 | J14: =+J169 -> 0 | K14: =+K169 -> 0 | L14: =+L169 -> 0 | M14: =+M169 -> 0 | N14: =+N169 -> 0 | O14: =+O169 -> 0 | ... CC14: =+CC169 -> 13415000
C15: Variable Operation Cost | G15: =+SUM(H15:CC15) -> 0 | H15: =+SUM(H16:H19) -> 0 | I15: =+SUM(I16:I19) -> 0 | J15: =+SUM(J16:J19) -> 0 | K15: =+SUM(K16:K19) -> 0 | L15: =+SUM(L16:L19) -> 0 | M15: =+SUM(M16:M19) -> 0 | N15: =+SUM(N16:N19) -> 0 | O15: =+SUM(O16:O19) -> 0 | ... CC15: =+SUM(CC16:CC19) -> 0
C16: Class 1 | D16: Month | E16: 72 | G16: =+SUM(H16:CC16) -> 0 | CD16: .
C17: Class 2 | D17: Month | E17: 72 | G17: =+SUM(H17:CC17) -> 0 | CD17: .
C18: Class 3 | D18: Month | E18: 72 | G18: =+SUM(H18:CC18) -> 0 | CD18: .
C19: Class 4 | D19: Month | E19: 72 | G19: =+SUM(H19:CC19) -> 0 | CD19: .
G20: =IF(SUM(G16:G19)=0,0,IF(AND((SUM(G16:G19)/G12)>0.4,G169=0),0.4,(SUM(G16:G19)/G12))) -> 0 | H20: =IF(SUM(H16:H19)=0,0,IF(AND((SUM(H16:H19)/H12)>0.4,H169=0),0.4,(SUM(H16:H19)/H12))) -> 0 | I20: =IF(SUM(I16:I19)=0,0,IF(AND((SUM(I16:I19)/I12)>0.4,I169=0),0.4,(SUM(I16:I19)/I12))) -> 0 | J20: =IF(SUM(J16:J19)=0,0,IF(AND((SUM(J16:J19)/J12)>0.4,J169=0),0.4,(SUM(J16:J19)/J12))) -> 0 | K20: =IF(SUM(K16:K19)=0,0,IF(AND((SUM(K16:K19)/K12)>0.4,K169=0),0.4,(SUM(K16:K19)/K12))) -> 0 | L20: =IF(SUM(L16:L19)=0,0,IF(AND((SUM(L16:L19)/L12)>0.4,L169=0),0.4,(SUM(L16:L19)/L12))) -> 0 | M20: =IF(SUM(M16:M19)=0,0,IF(AND((SUM(M16:M19)/M12)>0.4,M169=0),0.4,(SUM(M16:M19)/M12))) -> 0 | N20: =IF(SUM(N16:N19)=0,0,IF(AND((SUM(N16:N19)/N12)>0.4,N169=0),0.4,(SUM(N16:N19)/N12))) -> 0 | ... CC20: =IF(SUM(CC16:CC19)=0,0,IF(AND((SUM(CC16:CC19)/CC12)>0.4,CC169=0),0.4,(SUM(CC16:CC19)/CC12))) -> 0
B21: B | C21: B Series: Design Build | G21: =+SUM(H21:CC21) -> 74170000 | H21: =+H199 -> 0 | I21: =+I199 -> 0 | J21: =+J199 -> 68055.56 | K21: =+K199 -> 68055.56 | L21: =+L199 -> 68055.56 | M21: =+M199 -> 68055.56 | N21: =+N199 -> 68055.56 | O21: =+O199 -> 68055.56 | ... CC21: =+CC199 -> 8613055.2 | CD21: =G21=G199 -> TRUE
C22: Fixed Items | G22: =+SUM(H22:CC22) -> 2500000 | H22: =+H21-H23 -> 0 | I22: =+I21-I23 -> 0 | J22: =+J21-J23 -> 34722.23 | K22: =+K21-K23 -> 34722.23 | L22: =+L21-L23 -> 34722.23 | M22: =+M21-M23 -> 34722.23 | N22: =+N21-N23 -> 34722.23 | O22: =+O21-O23 -> 34722.23 | ... CC22: =+CC21-CC23 -> 34721.67
C23: Provisional Sums | G23: =+SUM(H23:CC23) -> 71670000 | H23: =+H412 -> 0 | I23: =+I412 -> 0 | J23: =+J412 -> 33333.33 | K23: =+K412 -> 33333.33 | L23: =+L412 -> 33333.33 | M23: =+M412 -> 33333.33 | N23: =+N412 -> 33333.33 | O23: =+O412 -> 33333.33 | ... CC23: =+CC412 -> 8578333.6
B24: D | C24: D Series: Contract Participation, etc | G24: =+SUM(H24:CC24) -> 11553500 | H24: =+H454 -> 0 | I24: =+I454 -> 0 | J24: =+J454 -> 0 | K24: =+K454 -> 0 | L24: =+L454 -> 0 | M24: =+M454 -> 0 | N24: =+N454 -> 0 | O24: =+O454 -> 0 | ... CC24: =+CC454 -> 1925583.3 | CD24: =G24=G454 -> TRUE
C25: Fixed Items | G25: =+SUM(H25:CC25) -> 0 | H25: =H24-H26 -> 0 | I25: =I24-I26 -> 0 | J25: =J24-J26 -> 0 | K25: =K24-K26 -> 0 | L25: =L24-L26 -> 0 | M25: =M24-M26 -> 0 | N25: =N24-N26 -> 0 | O25: =O24-O26 -> 0 | ... CC25: =CC24-CC26 -> 0
C26: Provisional Sums | G26: =+SUM(H26:CC26) -> 11553500 | H26: =SUM(H455,H457,H458,H471:H472,H478:H481,H483,H485,H487:H488) -> 0 | I26: =SUM(I455,I457,I458,I471:I472,I478:I481,I483,I485,I487:I488) -> 0 | J26: =SUM(J455,J457,J458,J471:J472,J478:J481,J483,J485,J487:J488) -> 0 | K26: =SUM(K455,K457,K458,K471:K472,K478:K481,K483,K485,K487:K488) -> 0 | L26: =SUM(L455,L457,L458,L471:L472,L478:L481,L483,L485,L487:L488) -> 0 | M26: =SUM(M455,M457,M458,M471:M472,M478:M481,M483,M485,M487:M488) -> 0 | N26: =SUM(N455,N457,N458,N471:N472,N478:N481,N483,N485,N487:N488) -> 0 | O26: =SUM(O455,O457,O458,O471:O472,O478:O481,O483,O485,O487:O488) -> 0 | ... CC26: =SUM(CC455,CC457,CC458,CC471:CC472,CC478:CC481,CC483,CC485,CC487:CC488) -> 1925583.3
B28: A Series | C28: Operation Service | G28: =+SUM(G29,G55,G93,G103,G116,G148,G152,G164,G167,G169) -> 97740000 | H28: =+SUM(H29,H55,H93,H103,H116,H148,H152,H164,H167,H169) -> 0 | I28: =+SUM(I29,I55,I93,I103,I116,I148,I152,I164,I167,I169) -> 0 | J28: =+SUM(J29,J55,J93,J103,J116,J148,J152,J164,J167,J169) -> 152083.33 | K28: =+SUM(K29,K55,K93,K103,K116,K148,K152,K164,K167,K169) -> 152083.33 | L28: =+SUM(L29,L55,L93,L103,L116,L148,L152,L164,L167,L169) -> 152083.33 | M28: =+SUM(M29,M55,M93,M103,M116,M148,M152,M164,M167,M169) -> 152083.33 | N28: =+SUM(N29,N55,N93,N103,N116,N148,N152,N164,N167,N169) -> 152083.33 | ... CC28: =+SUM(CC29,CC55,CC93,CC103,CC116,CC148,CC152,CC164,CC167,CC169) -> 13567084
B29: A-1000 | C29: General Contractors Obligations | G29: =SUM(G30:G54) -> 0 | H29: =SUM(H30:H54) -> 0 | I29: =SUM(I30:I54) -> 0 | J29: =SUM(J30:J54) -> 0 | K29: =SUM(K30:K54) -> 0 | L29: =SUM(L30:L54) -> 0 | M29: =SUM(M30:M54) -> 0 | N29: =SUM(N30:N54) -> 0 | ... CC29: =SUM(CC30:CC54) -> 0
B30: A-1001 | C30: Contractors General Obligations for the duration of the Operations Service Period
B31: A-1001a | C31: Contractors General Obligations for the duration of the Operations Service Period – Establishment Period | D31: Week | E31: 6 | G31: =+SUM(H31:CC31) -> 0
B32: A-1001b | C32: Contractor’s General Obligations during Operations Period - Section 1 (Using the Toll System handed over) | D32: Month | E32: 48 | G32: =+SUM(H32:CC32) -> 0
B33: A-1001c | C33: Contractor’s General Obligations during Operations Period - Section 2 & 3 (Using the upgraded Toll System) | D33: Month | E33: 12 | G33: =+SUM(H33:CC33) -> 0
B34: A-1001d | C34: Contractor’s General Obligations during Operations Period - Section 4 (Using the SANRAL MIS) | D34: Month | E34: 6 | G34: =+SUM(H34:CC34) -> 0
B35: A-1001e | C35: Contractor’s General Obligations during Operations Period - Section 5 (Using the national SANRAL Toll System) | D35: Month | E35: 6 | G35: =+SUM(H35:CC35) -> 0
B36: A-1002 | C36: Provision of Performance Security | D36: Year | E36: 6 | G36: =+SUM(H36:CC36) -> 0
B37: A-1003 | C37: Compliance with Laws | D37: Month | E37: 72 | G37: =+SUM(H37:CC37) -> 0
B38: A-1004 | C38: Compliance with Health and Safety Requirements | D38: Month | E38: 72 | G38: =+SUM(H38:CC38) -> 0
B39: A-1005 | C39: Compliance with Environmental Requirements | D39: Month | E39: 72 | G39: =+SUM(H39:CC39) -> 0
B40: A-1006 | C40: Compliance with Social Responsibility Requirements | D40: Month | E40: 72 | G40: =+SUM(H40:CC40) -> 0
B41: A-1007 | C41: Provision and Maintenance of Adequate Insurance | D41: Month | E41: 72 | G41: =+SUM(H41:CC41) -> 0
B42: A-1008 | C42: Provision and Maintenance of Contractor's Equipment | D42: Month | E42: 72 | G42: =+SUM(H42:CC42) -> 0
... B44: A-1010 | C44: Training of Personnel and other training obligations | D44: Month | E44: 72 | G44: =+SUM(H44:CC44) -> 0
B45: A-1011 | C45: Completion of Operation Service Period | D45: Lump Sum | E45: 1 | G45: =+E45*F45 -> 0 | CC45: =G45-SUM(J45:CB45) -> 0
B46: A-1012 | C46: Extra Over Cost for Taking over of upgraded & new assets during contract period (if triggered) | D46: Lump Sum | E46: 1 | G46: =+E46*F46 -> 0 | U46: =G46/6 -> 0 | AG46: =G46/6 -> 0 | AS46: =G46/6 -> 0 | BE46: =G46/6 -> 0 | BQ46: =G46/6 -> 0 | CC46: =G46-SUM(J46:CB46) -> 0
...

Sheet Capricorn
B2: Item No | C2: Description | D2: Unit | E2: Quantity | F2: Rate | G2: TOTAL (6 Years) | H2: Est Period | J2: Operation Service Period - Year 1 | V2: Operation Service Period - Year 2 | AH2: Operation Service Period - Year 3 | AT2: Operation Service Period - Year 4 | BF2: Operation Service Period - Year 5 | BR2: Operation Service Period - Year 6
H3: ='Title Page'!C11 -> 46162 | I3: =DATE(YEAR(H3),MONTH(H3)+2,1)-1 -> 46203 | J3: =DATE(YEAR(I3),MONTH(I3)+2,1)-1 -> 46234 | K3: =DATE(YEAR(J3),MONTH(J3)+2,1)-1 -> 46265 | L3: =DATE(YEAR(K3),MONTH(K3)+2,1)-1 -> 46295 | M3: =DATE(YEAR(L3),MONTH(L3)+2,1)-1 -> 46326 | N3: =DATE(YEAR(M3),MONTH(M3)+2,1)-1 -> 46356 | O3: =DATE(YEAR(N3),MONTH(N3)+2,1)-1 -> 46387 | P3: =DATE(YEAR(O3),MONTH(O3)+2,1)-1 -> 46418 | ... CC3: =DATE(YEAR(CB3),MONTH(CB3)+2,1)-1 -> 48395
C6: Total Tendered F&V Cost (Incl VAT, in Rands) - to N2N Totals | G6: =+G7+G8 -> 1.4000503e+08
C7: 15 %VAT on Total Tendered F&V Cost (in Rands) | G7: =+G8*0.15 -> 18261525
C8: Total Tendered F&V Cost (Excl VAT, in Rands) | G8: =+G11 -> 1.217435e+08
F10: CHECK | G10: =+SUM(H30:CC54,H56:CC92,H94:CC102,H104:CC115,H118:CC127,H129:CC137,H139:CC147,H149:CC151,H153:CC163,H165:CC166,H168:CC168,H170:CC197,H201:CC214,H216:CC247,H249:CC263,H265:CC407,H409:CC411,H413:CC450,H455:CC489) -> 1.217435e+08 | H10: =G10=G11 -> TRUE | I10: =G28+G199+G454=G10 -> TRUE
C11: Total Tendered F&V Cost for A- and B Series (excl VAT) | G11: =+SUM(H11:CC11) -> 1.217435e+08 | H11: =+H21+H12+H24 -> 0 | I11: =+I21+I12+I24 -> 0 | J11: =+J21+J12+J24 -> 154861.11 | K11: =+K21+K12+K24 -> 154861.11 | L11: =+L21+L12+L24 -> 154861.11 | M11: =+M21+M12+M24 -> 154861.11 | N11: =+N21+N12+N24 -> 154861.11 | O11: =+O21+O12+O24 -> 154861.11 | ... CC11: =+CC21+CC12+CC24 -> 16137111
B12: A | C12: A Series: Operation Service | G12: =+SUM(H12:CC12) -> 63660000 | H12: =+H28 -> 0 | I12: =+I28 -> 0 | J12: =+J28 -> 101388.89 | K12: =+K28 -> 101388.89 | L12: =+L28 -> 101388.89 | M12: =+M28 -> 101388.89 | N12: =+N28 -> 101388.89 | O12: =+O28 -> 101388.89 | ... CC12: =+CC28 -> 9044722.2 | CD12: =G12=G28 -> TRUE
C13: Fixed Items | G13: =+SUM(H13:CC13) -> 7300000.1 | H13: =+H12-SUM(H14:H15) -> 0 | I13: =+I12-SUM(I14:I15) -> 0 | J13: =+J12-SUM(J14:J15) -> 101388.89 | K13: =+K12-SUM(K14:K15) -> 101388.89 | L13: =+L12-SUM(L14:L15) -> 101388.89 | M13: =+M12-SUM(M14:M15) -> 101388.89 | N13: =+N12-SUM(N14:N15) -> 101388.89 | O13: =+O12-SUM(O14:O15) -> 101388.89 | ... CC13: =+CC12-SUM(CC14:CC15) -> 101388.89
C14: Provisional Sums | G14: =+SUM(H14:CC14) -> 56360000 | H14: =+H169 -> 0 | I14: =+I169 -> 0 | J14: =+J169 -> 0 | K14: =+K169 -> 0 | L14: =+L169 -> 0 | M14: =+M169 -> 0 | N14: =+N169 -> 0 | O14: =+O169 -> 0 | ... CC14: =+CC169 -> 8943333.3
C15: Variable Operation Cost | G15: =+SUM(H15:CC15) -> 0 | H15: =+SUM(H16:H19) -> 0 | I15: =+SUM(I16:I19) -> 0 | J15: =+SUM(J16:J19) -> 0 | K15: =+SUM(K16:K19) -> 0 | L15: =+SUM(L16:L19) -> 0 | M15: =+SUM(M16:M19) -> 0 | N15: =+SUM(N16:N19) -> 0 | O15: =+SUM(O16:O19) -> 0 | ... CC15: =+SUM(CC16:CC19) -> 0
C16: Class 1 | D16: Month | E16: 72 | G16: =+SUM(H16:CC16) -> 0 | CD16: .
C17: Class 2 | D17: Month | E17: 72 | G17: =+SUM(H17:CC17) -> 0 | CD17: .
C18: Class 3 | D18: Month | E18: 72 | G18: =+SUM(H18:CC18) -> 0 | CD18: .
C19: Class 4 | D19: Month | E19: 72 | G19: =+SUM(H19:CC19) -> 0 | CD19: .
G20: =IF(SUM(G16:G19)=0,0,IF(AND((SUM(G16:G19)/G12)>0.4,G169=0),0.4,(SUM(G16:G19)/G12))) -> 0 | H20: =IF(SUM(H16:H19)=0,0,IF(AND((SUM(H16:H19)/H12)>0.4,H169=0),0.4,(SUM(H16:H19)/H12))) -> 0 | I20: =IF(SUM(I16:I19)=0,0,IF(AND((SUM(I16:I19)/I12)>0.4,I169=0),0.4,(SUM(I16:I19)/I12))) -> 0 | J20: =IF(SUM(J16:J19)=0,0,IF(AND((SUM(J16:J19)/J12)>0.4,J169=0),0.4,(SUM(J16:J19)/J12))) -> 0 | K20: =IF(SUM(K16:K19)=0,0,IF(AND((SUM(K16:K19)/K12)>0.4,K169=0),0.4,(SUM(K16:K19)/K12))) -> 0 | L20: =IF(SUM(L16:L19)=0,0,IF(AND((SUM(L16:L19)/L12)>0.4,L169=0),0.4,(SUM(L16:L19)/L12))) -> 0 | M20: =IF(SUM(M16:M19)=0,0,IF(AND((SUM(M16:M19)/M12)>0.4,M169=0),0.4,(SUM(M16:M19)/M12))) -> 0 | N20: =IF(SUM(N16:N19)=0,0,IF(AND((SUM(N16:N19)/N12)>0.4,N169=0),0.4,(SUM(N16:N19)/N12))) -> 0 | ... CC20: =IF(SUM(CC16:CC19)=0,0,IF(AND((SUM(CC16:CC19)/CC12)>0.4,CC169=0),0.4,(SUM(CC16:CC19)/CC12))) -> 0
B21: B | C21: B Series: Design Build | G21: =+SUM(H21:CC21) -> 50030000 | H21: =+H199 -> 0 | I21: =+I199 -> 0 | J21: =+J199 -> 53472.22 | K21: =+K199 -> 53472.22 | L21: =+L199 -> 53472.22 | M21: =+M199 -> 53472.22 | N21: =+N199 -> 53472.22 | O21: =+O199 -> 53472.22 | ... CC21: =+CC199 -> 5750139.1 | CD21: =G21=G199 -> TRUE
C22: Fixed Items | G22: =+SUM(H22:CC22) -> 2250000 | H22: =+H21-H23 -> 0 | I22: =+I21-I23 -> 0 | J22: =+J21-J23 -> 31250 | K22: =+K21-K23 -> 31250 | L22: =+L21-L23 -> 31250 | M22: =+M21-M23 -> 31250 | N22: =+N21-N23 -> 31250 | O22: =+O21-O23 -> 31250 | ... CC22: =+CC21-CC23 -> 31250
C23: Provisional Sums | G23: =+SUM(H23:CC23) -> 47780000 | H23: =+H412 -> 0 | I23: =+I412 -> 0 | J23: =+J412 -> 22222.22 | K23: =+K412 -> 22222.22 | L23: =+L412 -> 22222.22 | M23: =+M412 -> 22222.22 | N23: =+N412 -> 22222.22 | O23: =+O412 -> 22222.22 | ... CC23: =+CC412 -> 5718889.1
B24: D | C24: D Series: Contract Participation, etc | G24: =+SUM(H24:CC24) -> 8053500 | H24: =+H454 -> 0 | I24: =+I454 -> 0 | J24: =+J454 -> 0 | K24: =+K454 -> 0 | L24: =+L454 -> 0 | M24: =+M454 -> 0 | N24: =+N454 -> 0 | O24: =+O454 -> 0 | ... CC24: =+CC454 -> 1342249.9 | CD24: =G24=G454 -> TRUE
C25: Fixed Items | G25: =+SUM(H25:CC25) -> 0 | H25: =H24-H26 -> 0 | I25: =I24-I26 -> 0 | J25: =J24-J26 -> 0 | K25: =K24-K26 -> 0 | L25: =L24-L26 -> 0 | M25: =M24-M26 -> 0 | N25: =N24-N26 -> 0 | O25: =O24-O26 -> 0 | ... CC25: =CC24-CC26 -> 0
C26: Provisional Sums | G26: =+SUM(H26:CC26) -> 8053500 | H26: =SUM(H455,H457,H458,H471:H472,H478:H481,H483,H485,H487:H488) -> 0 | I26: =SUM(I455,I457,I458,I471:I472,I478:I481,I483,I485,I487:I488) -> 0 | J26: =SUM(J455,J457,J458,J471:J472,J478:J481,J483,J485,J487:J488) -> 0 | K26: =SUM(K455,K457,K458,K471:K472,K478:K481,K483,K485,K487:K488) -> 0 | L26: =SUM(L455,L457,L458,L471:L472,L478:L481,L483,L485,L487:L488) -> 0 | M26: =SUM(M455,M457,M458,M471:M472,M478:M481,M483,M485,M487:M488) -> 0 | N26: =SUM(N455,N457,N458,N471:N472,N478:N481,N483,N485,N487:N488) -> 0 | O26: =SUM(O455,O457,O458,O471:O472,O478:O481,O483,O485,O487:O488) -> 0 | ... CC26: =SUM(CC455,CC457,CC458,CC471:CC472,CC478:CC481,CC483,CC485,CC487:CC488) -> 1342249.9
B28: A Series | C28: Operation Service | G28: =+SUM(G29,G55,G93,G103,G116,G148,G152,G164,G167,G169) -> 63660000 | H28: =+SUM(H29,H55,H93,H103,H116,H148,H152,H164,H167,H169) -> 0 | I28: =+SUM(I29,I55,I93,I103,I116,I148,I152,I164,I167,I169) -> 0 | J28: =+SUM(J29,J55,J93,J103,J116,J148,J152,J164,J167,J169) -> 101388.89 | K28: =+SUM(K29,K55,K93,K103,K116,K148,K152,K164,K167,K169) -> 101388.89 | L28: =+SUM(L29,L55,L93,L103,L116,L148,L152,L164,L167,L169) -> 101388.89 | M28: =+SUM(M29,M55,M93,M103,M116,M148,M152,M164,M167,M169) -> 101388.89 | N28: =+SUM(N29,N55,N93,N103,N116,N148,N152,N164,N167,N169) -> 101388.89 | ... CC28: =+SUM(CC29,CC55,CC93,CC103,CC116,CC148,CC152,CC164,CC167,CC169) -> 9044722.2
B29: A-1000 | C29: General Contractors Obligations | G29: =SUM(G30:G54) -> 0 | H29: =SUM(H30:H54) -> 0 | I29: =SUM(I30:I54) -> 0 | J29: =SUM(J30:J54) -> 0 | K29: =SUM(K30:K54) -> 0 | L29: =SUM(L30:L54) -> 0 | M29: =SUM(M30:M54) -> 0 | N29: =SUM(N30:N54) -> 0 | ... CC29: =SUM(CC30:CC54) -> 0
B30: A-1001 | C30: Contractors General Obligations for the duration of the Operations Service Period
B31: A-1001a | C31: Contractors General Obligations for the duration of the Operations Service Period – Establishment Period | D31: Week | E31: 6 | G31: =+SUM(H31:CC31) -> 0
B32: A-1001b | C32: Contractor’s General Obligations during Operations Period - Section 1 (Using the Toll System handed over) | D32: Month | E32: 48 | G32: =+SUM(H32:CC32) -> 0
B33: A-1001c | C33: Contractor’s General Obligations during Operations Period - Section 2 & 3 (Using the upgraded Toll System) | D33: Month | E33: 12 | G33: =+SUM(H33:CC33) -> 0
B34: A-1001d | C34: Contractor’s General Obligations during Operations Period - Section 4 (Using the SANRAL MIS) | D34: Month | E34: 6 | G34: =+SUM(H34:CC34) -> 0
B35: A-1001e | C35: Contractor’s General Obligations during Operations Period - Section 5 (Using the national SANRAL Toll System) | D35: Month | E35: 6 | G35: =+SUM(H35:CC35) -> 0
B36: A-1002 | C36: Provision of Performance Security | D36: Year | E36: 6 | G36: =+SUM(H36:CC36) -> 0
B37: A-1003 | C37: Compliance with Laws | D37: Month | E37: 72 | G37: =+SUM(H37:CC37) -> 0
B38: A-1004 | C38: Compliance with Health and Safety Requirements | D38: Month | E38: 72 | G38: =+SUM(H38:CC38) -> 0
B39: A-1005 | C39: Compliance with Environmental Requirements | D39: Month | E39: 72 | G39: =+SUM(H39:CC39) -> 0
B40: A-1006 | C40: Compliance with Social Responsibility Requirements | D40: Month | E40: 72 | G40: =+SUM(H40:CC40) -> 0
B41: A-1007 | C41: Provision and Maintenance of Adequate Insurance | D41: Month | E41: 72 | G41: =+SUM(H41:CC41) -> 0
B42: A-1008 | C42: Provision and Maintenance of Contractor's Equipment | D42: Month | E42: 72 | G42: =+SUM(H42:CC42) -> 0
... B44: A-1010 | C44: Training of Personnel and other training obligations | D44: Month | E44: 72 | G44: =+SUM(H44:CC44) -> 0
B45: A-1011 | C45: Completion of Operation Service Period | D45: Lump Sum | E45: 1 | G45: =+E45*F45 -> 0 | CC45: =G45-SUM(J45:CB45) -> 0
B46: A-1012 | C46: Extra Over Cost for Taking over of upgraded & new assets during contract period (if triggered) | D46: Lump Sum | E46: 1 | G46: =+E46*F46 -> 0 | U46: =G46/6 -> 0 | AG46: =G46/6 -> 0 | AS46: =G46/6 -> 0 | BE46: =G46/6 -> 0 | BQ46: =G46/6 -> 0 | CC46: =G46-SUM(J46:CB46) -> 0
...

Sheet Baobab
B2: Item No | C2: Description | D2: Unit | E2: Quantity | F2: Rate | G2: TOTAL (6 Years) | H2: Est Period | J2: Operation Service Period - Year 1 | V2: Operation Service Period - Year 2 | AH2: Operation Service Period - Year 3 | AT2: Operation Service Period - Year 4 | BF2: Operation Service Period - Year 5 | BR2: Operation Service Period - Year 6
H3: ='Title Page'!C11 -> 46162 | I3: =DATE(YEAR(H3),MONTH(H3)+2,1)-1 -> 46203 | J3: =DATE(YEAR(I3),MONTH(I3)+2,1)-1 -> 46234 | K3: =DATE(YEAR(J3),MONTH(J3)+2,1)-1 -> 46265 | L3: =DATE(YEAR(K3),MONTH(K3)+2,1)-1 -> 46295 | M3: =DATE(YEAR(L3),MONTH(L3)+2,1)-1 -> 46326 | N3: =DATE(YEAR(M3),MONTH(M3)+2,1)-1 -> 46356 | O3: =DATE(YEAR(N3),MONTH(N3)+2,1)-1 -> 46387 | P3: =DATE(YEAR(O3),MONTH(O3)+2,1)-1 -> 46418 | ... CC3: =DATE(YEAR(CB3),MONTH(CB3)+2,1)-1 -> 48395
C6: Total Tendered F&V Cost (Incl VAT, in Rands) - to N2N Totals | G6: =+G7+G8 -> 202392525
C7: 15 %VAT on Total Tendered F&V Cost (in Rands) | G7: =+G8*0.15 -> 26399025
C8: Total Tendered F&V Cost (Excl VAT, in Rands) | G8: =+G11 -> 175993500
F10: CHECK | G10: =+SUM(H30:CC54,H56:CC92,H94:CC102,H104:CC115,H118:CC127,H129:CC137,H139:CC147,H149:CC151,H153:CC163,H165:CC166,H168:CC168,H170:CC197,H201:CC214,H216:CC247,H249:CC263,H265:CC407,H409:CC411,H413:CC450,H455:CC489) -> 160393500 | H10: =G10=G11 -> FALSE | I10: =G10=G28+G199+G454 -> FALSE
