Workbook

Sheet Sheet1
B1: SABC CT M1 STUDIO WHEELCHAIR RAMP
B2: WORKS DISCRIPTION, QUANTITIES AND SPECIFICATIONS REVISION A | F2: =TODAY() -> 44498
B3: *Demolition works is listed as per specific item
B4: *Quantities don’t include wastage
B5: *Quantities may vary
B6: *All listed items to be supplied and installed
A8: 1 | B8: PRELIMINARIES | C8: QTY | D8: UNIT | E8: ESTIMATE PRICE EX VAT | F8: TOTAL EX VAT
A9: 1.1 | B9: Works insurance as per client specification | C9: 1 | D9: qty
A10: 1.2 | B10: Health and safety (including safety officer) to comply with Act | C10: =C9 -> 1 | D10: qty
A11: 1.3 | B11: Project administration (transport, meetings, accommodation etc.) | C11: 1 | D11: qty
A12: 1.4 | B12: Rubble removal & hoarding around bin location (parking) | C12: 1 | D12: m2
A13: 1.5 | B13: Contractual Expenses (JBCC) | C13: 1 | D13: qty
A14: 1.6 | B14: Fulltime site supervision and management | C14: 1 | D14: qty
A15: 1.7 | B15: Clean and make site good prior to occupation | C15: 1 | D15: qty
A16: 1.8 | B16: Contingency - Note no contract cost variation - allow contingency for unforeseen costs
A17: 1.9 | B17: Storage to be provided by client
E18: TOTAL | G18: ex vat
A21: 2 | B21: DEMOLITION & WETWORKS -REFER TO "Demolition plan" & "SECTION A-A" | C21: QTY | D21: UNIT | E21: ESTIMATE PRICE EX VAT | F21: TOTAL EX VAT
B22: Demolition: Remove existing seats, create door opening, remove existing stage stairs
A24: 2.1 | B24: Temporary dust lobbies. Guarantee no dust in theatre and passage | C24: 2 | D24: qty
A25: 2.2 | B25: Remove existing seats as per drawing. Make floor good where seats removed. Seats to be wrapped with plastic sheets during storage. Existing carpets to be protected during construction | C25: 12 | D25: qty
A26: 2.3 | B26: Cover existing theatre acoustic walls near works area | C26: 8 | D26: m2
A27: 2.4 | B27: Cut new door opening as per drawings. Cut to extend through 2 brick walls, and acoustic build-up | C27: 2 | D27: m2
A28: 2.5 | B28: Repair theatre acoustic build-up at returns | C28: 3 | D28: m2
A29: 2.6 | B29: Install lintels over openings | C29: 2 | D29: qty
A30: 2.7 | B30: Plaster openings, and paint to match existing | C30: 1 | D30: qty
A31: 2.8 | B31: Remove floor sound diffusers | C31: 3 | D31: qty
A32: 2.9 | B32: 85mm lintel slab to bridge void. Smooth top surface | C32: 1 | D32: m2
E33: TOTAL | G33: ex vat
A36: 3 | B36: OPENING VOID SEAL -REFER TO "Door seal detail 1:5" & "SECTION A-A" | C36: QTY | D36: UNIT | E36: ESTIMATE PRICE EX VAT | F36: TOTAL EX VAT
A38: 3.1 | B38: 63mm Drywall stud structure to wrap around door opening (inside cavity). 10mm rubber strips where structure meets exiting. 15mm fire rated gypsum board on one face. All joins to be patched with drywall mesh tape and gypsum plaster | C38: 3.5 | D38: sqm
A39: 3.2 | B39: Acoustic paneling to wrap around opening (inside void). 50mm MDF (16mm with chamfered edges) frame. Frame front to receive perforated Masonite (underneath fabric). Panel to be covered with acoustic fabric. 50mm mineral wool insulation (50kg/m3) | C39: 3.5 | D39: m2
A40: 3.3 | B40: MDF architrave as per detail. MDF to be primed with 2 coats pink timber primer, sanded, and 3 coats matt water based enamel. | C40: 8 | D40: lm
E41: TOTAL | G41: ex vat
A44: 4 | B44: DOOR | C44: QTY | D44: UNIT | E44: ESTIMATE PRICE EX VAT | F44: TOTAL EX VAT
A46: 4.1 | B46: Acoustic door: 1000mm width. Class D (120min) Fire Door. 52 db rating. Paraplegic accessories. Formica. | C46: 1 | D46: qty
A47: 4.2 | B47: Adequate acoustic sealing | C47: 1 | D47: qty
E48: TOTAL | G48: ex vat
B51: CEILINGS REFER TO - "Section C-C" | C51: QTY | D51: UNIT | E51: ESTIMATE PRICE EX VAT | F51: TOTAL EX VAT
A53: 5.1 | B53: Repaint existing passage ceiling tiles matt black. 3 coats washable PVA | C53: 10 | D53: m2
...

Sheet Sheet2
A1: SABC MAPHIKENG BROADCASTING STUDIOS REFURBISHMENT
A2: ESTIMATE SUMMERY REVISION A | C2: =TODAY() -> 44498
A3: *Demolition works is listed as per specific item
A4: *Quantities don’t include wastage
A5: *Quantities may vary
A6: *All listed items to be supplied and installed
A10: =Sheet1!B8 -> PRELIMINARIES | B10: =Sheet1!F18 -> 0
A11: =Sheet1!B21 -> DEMOLITION & WETWORKS -REFER TO "Demolition plan" & "SECTION A-A" | B11: =Sheet1!F33 -> 0
A12: =Sheet1!B36 -> OPENING VOID SEAL -REFER TO "Door seal detail 1:5" & "SECTION A-A" | B12: =Sheet1!F41 -> 0
A13: =Sheet1!B44 -> DOOR | B13: =Sheet1!F48 -> 0
A14: =Sheet1!B51 -> CEILINGS REFER TO - "Section C-C" | B14: =Sheet1!F55 -> 0
A15: =Sheet1!B57 -> FLOOR BUILD UP - REFER TO "TYPICAL RAISED FLOOR DETAIL" | B15: =Sheet1!F66 -> 0
A16: =Sheet1!#REF! -> #REF! | B16: =Sheet1!#REF! -> #REF!
A17: =Sheet1!#REF! -> #REF! | B17: =Sheet1!#REF! -> #REF!
A18: =Sheet1!B69 -> ACCOUSTIC PANELS - REFER TO "GROUNDFLOOR 1:50" & "Acoustic panel" & "Section C-C" & "Section A-A" | B18: =Sheet1!F74 -> 0
A19: =Sheet1!B76 -> SIGNAGE - REFER TO "EVACUATION AND FIRE 1:100" | B19: =Sheet1!#REF! -> #REF!
A20: =Sheet1!#REF! -> #REF! | B20: =Sheet1!#REF! -> #REF!
A21: LIGHTING | B21: =Sheet1!F91 -> 0
A22: =Sheet1!#REF! -> #REF! | B22: =Sheet1!#REF! -> #REF!
A23: CONTINGENCY | B23: =SUM(B11:B22)*0.15 -> #REF!
A25: TOTAL EX VAT | B25: =SUM(B10:B23) -> #REF!
