Workbook
Name _.: #REF!
Name _.: #REF!
Name _R: #REF!
Name _R: #REF!
Name Area_Print: #REF!
Name Area_Print: #REF!
Name Clear_CAST_Price_Summary: Currency!Clear_CAST_Price_Summary
Name Clear_CAST_Price_Summary: 'Internet Bandwidth Control'!Clear_CAST_Price_Summary
Name Clear_CAST_Price_Summary: [0]!Clear_CAST_Price_Summary
Name Cost_Allocation: [1]Data!$C$2:$C$12
Name Cost_Allocation: [2]Data!$C$2:$C$12
Name CPA_Data: [1]Data!$F$2:$F$14
Name CPA_Data: [2]Data!$F$2:$F$14
Name Currency: [1]Data!$E$2:$E$19
Name Currency: [2]Data!$E$2:$E$19
Name Currency_A: [3]Data!$E$2:$E$19
Name Currency_A: [4]Data!$E$2:$E$19
Name Currency_Allocated: '[5]Option X3'!$D$9:$D$26
Name Currency_Allocated: '[6]Option X3'!$D$9:$D$26
Name CurrencyA: [7]Data!$E$2:$E$19
Name D: #REF!
Name D: #REF!
Name Data: 'Internet Bandwidth Control'!$A$28:$J$44
Name Data: #REF!
Name Data_Daywork: #REF!
Name Data_Daywork: #REF!
Name Data_Opt_Bill5: #REF!
Name Data_Opt_Bill5: #REF!
Name Option_N: '[5]Option X5'!$H$9:$H$18
Name Option_N: '[6]Option X5'!$H$9:$H$18
Name P: #REF!
Name P: #REF!
Name PS5_Allocation: [1]Data!$B$2:$B$20
Name PS5_Allocation: [2]Data!$B$2:$B$20
Name Q: #REF!
Name Q: #REF!
Name S: #REF!
Name S: #REF!
Name Sort_Data: #REF!
Name Sort_Data: #REF!
Name w: Currency!w
Name w: 'Internet Bandwidth Control'!w
Name w: [0]!w

Sheet Important Notes
C3: Purchase new Equipment:
C4: Purchase new equipment with all software and license requirements to meet functionality as per scope. This includes a central manager.
C6: New Hardware:
C7: Includes 3 high end separate physical devices with multiple 1/10/40/100Gig ports that should be able to be installed in line with fibre fail to wire (bypass) and
C8: it should support all layer 2 and layer 3 IEEE network standards.
C10: Licence New Equipment:
C11: All 3 devices should be licensed to meet all scope functionality. Minimum 10Gig line bandwidth management, DDOS protection, Diffserve capable, Cloud support ready,
C12: reporting, syslog capable, Monitoring, providing guaranteed and burstable bandwidth with priority.
C14: Purchase Central manager for devices:
C15: Central manager can be VM or Physical devices. Must be able to manage new devices purchased
C17: Professional service
C18: Not fixed and to be planned and agreed upfront
... C36: Training to be conducted y an OEM approved training facility.

Sheet Internet Bandwidth Control
B1: Pricing Schedule : Internet Management
B3: VENDOR NAME
B7: IMPORTANT NOTES
B8: All cells highlighted in GREEN must be completed
B9: Quoted prices MUST be in ZAR, EXCLUDING VAT and ESCALATIONS
B11: Internet Bandwidth Control
B12: Prices MUST be quoted based on the SCOPE provided
B13: Estimated quantities are based on the required number of Licenses
B14: Select the currency from the CURRENCY drop-down list in COLUMN "G"
B16: Capture the applicable Currency, ROE and ROE Published Date on the "Currency sheet".
B17: The adjustments for prevailing rates and the basis for future price adjustments will be determined at time of contracting.
B18: Exchange rate variations may not be claimed for the local mark-up in the pricing structure
... B24: All Prices must be exclusive of VAT
K27: OPERATIONAL PHASE
I28: CPA | K28: YEAR 1 | O28: YEAR 2 | S28: YEAR 3 | W28: YEAR 4 | AA28: YEAR 5
A29: Item Number | B29: Category | C29: Description | D29: Total Estimated Quantity | E29: Unit charge | F29: CURRENCY | I29: CPA Formula No. (See Sheet CPA Formulae) | J29: CPA Description (See Sheet CPA Formulae) | K29: Unit Price in Nominated Currency | L29: Unit Price in ZAR | M29: Total [Nominated Currency] | N29: Total in ZAR | O29: Unit Price in Nominated Currency | P29: Unit Price in ZAR | Q29: Total [Nominated Currency] | R29: Total in ZAR | S29: Unit Price in Nominated Currency | T29: Unit Price in ZAR | U29: Total [Nominated Currency] | V29: Total in ZAR | W29: Unit Price in Nominated Currency | X29: Unit Price in ZAR | Y29: Total [Nominated Currency] | Z29: Total in ZAR | AA29: Unit Price in Nominated Currency | AB29: Unit Price in ZAR | AC29: Total [Nominated Currency] | AD29: Total in ZAR
A30: 1 | B30: Devices | C30: High end physical devices (including the associated licenses) | D30: 3 | E30: Per Device | F30: =IF(G30="","",IF(G30="ZAR","Local","Foreign")) -> Local | G30: ZAR | H30: =IF(F30="","",IF(F30="Foreign",VLOOKUP(G30,Currency!$E$20:$F$33,2,FALSE),1)) -> 1 | J30: =IF(I30="","Fixed",VLOOKUP(I30,'CPA Formulae'!$C$7:$F$15,2,FALSE)) -> Fixed | K30: 0 | L30: =K30*$H30 -> 0 | M30: =K30*$D30 -> 0 | N30: =L30*$D30 -> 0 | O30: 0 | P30: =O30*$H30 -> 0 | Q30: =O30*$D30 -> 0 | R30: =P30*$D30 -> 0 | S30: 0 | T30: =S30*$H30 -> 0 | U30: =S30*$D30 -> 0 | V30: =T30*$D30 -> 0 | W30: 0 | X30: =W30*$H30 -> 0 | Y30: =W30*$D30 -> 0 | Z30: =X30*$D30 -> 0 | AA30: 0 | AB30: =AA30*$H30 -> 0 | AC30: =AA30*$D30 -> 0 | AD30: =AB30*$D30 -> 0 | AX30: DKK
F31: =IF(G31="","",IF(G31="ZAR","Local","Foreign")) -> Local | G31: ZAR | H31: =IF(F31="","",IF(F31="Foreign",VLOOKUP(G31,Currency!$E$20:$F$33,2,FALSE),1)) -> 1 | J31: =IF(I31="","Fixed",VLOOKUP(I31,'CPA Formulae'!$C$7:$F$15,2,FALSE)) -> Fixed | K31: 0 | L31: =K31*$H31 -> 0 | M31: =K31*$D30 -> 0 | N31: =L31*$D30 -> 0 | O31: 0 | P31: =O31*$H31 -> 0 | Q31: =O31*$D30 -> 0 | R31: =P31*$D30 -> 0 | S31: 0 | T31: =S31*$H31 -> 0 | U31: =S31*$D30 -> 0 | V31: =T31*$D30 -> 0 | W31: 0 | X31: =W31*$H31 -> 0 | Y31: =W31*$D30 -> 0 | Z31: =X31*$D30 -> 0 | AA31: 0 | AB31: =AA31*$H31 -> 0 | AC31: =AA31*$D30 -> 0 | AD31: =AB31*$D30 -> 0
C32: Central Management device (Including the associated licenses) | D32: 1 | E32: Per Device | F32: =IF(G32="","",IF(G32="ZAR","Local","Foreign")) -> Local | G32: ZAR | H32: =IF(F32="","",IF(F32="Foreign",VLOOKUP(G32,Currency!$E$20:$F$33,2,FALSE),1)) -> 1 | J32: =IF(I32="","Fixed",VLOOKUP(I32,'CPA Formulae'!$C$7:$F$15,2,FALSE)) -> Fixed | K32: 0 | L32: =K32*$H32 -> 0 | M32: =K32*$D32 -> 0 | N32: =L32*$D32 -> 0 | O32: 0 | P32: =O32*$H32 -> 0 | Q32: =O32*$D32 -> 0 | R32: =P32*$D32 -> 0 | S32: 0 | T32: =S32*$H32 -> 0 | U32: =S32*$D32 -> 0 | V32: =T32*$D32 -> 0 | W32: 0 | X32: =W32*$H32 -> 0 | Y32: =W32*$D32 -> 0 | Z32: =X32*$D32 -> 0 | AA32: 0 | AB32: =AA32*$H32 -> 0 | AC32: =AA32*$D32 -> 0 | AD32: =AB32*$D32 -> 0 | AX32: DKK
F33: =IF(G33="","",IF(G33="ZAR","Local","Foreign")) -> Local | G33: ZAR | H33: =IF(F33="","",IF(F33="Foreign",VLOOKUP(G33,Currency!$E$20:$F$33,2,FALSE),1)) -> 1 | J33: =IF(I33="","Fixed",VLOOKUP(I33,'CPA Formulae'!$C$7:$F$15,2,FALSE)) -> Fixed | K33: 0 | L33: =K33*$H33 -> 0 | M33: =K33*$D32 -> 0 | N33: =L33*$D32 -> 0 | O33: 0 | P33: =O33*$H33 -> 0 | Q33: =O33*$D32 -> 0 | R33: =P33*$D32 -> 0 | S33: 0 | T33: =S33*$H33 -> 0 | U33: =S33*$D32 -> 0 | V33: =T33*$D32 -> 0 | W33: 0 | X33: =W33*$H33 -> 0 | Y33: =W33*$D32 -> 0 | Z33: =X33*$D32 -> 0 | AA33: 0 | AB33: =AA33*$H33 -> 0 | AC33: =AA33*$D32 -> 0 | AD33: =AB33*$D32 -> 0
A34: 2 | B34: Support and Maintenance - Devices | C34: High end physical devices | D34: 3 | E34: Per Device | F34: =IF(G34="","",IF(G34="ZAR","Local","Foreign")) -> Local | G34: ZAR | H34: =IF(F34="","",IF(F34="Foreign",VLOOKUP(G34,Currency!$E$20:$F$33,2,FALSE),1)) -> 1 | J34: =IF(I34="","Fixed",VLOOKUP(I34,'CPA Formulae'!$C$7:$F$15,2,FALSE)) -> Fixed | K34: 0 | L34: =K34*$H34 -> 0 | M34: =K34*$D34 -> 0 | N34: =L34*$D34 -> 0 | O34: 0 | P34: =O34*$H34 -> 0 | Q34: =O34*$D34 -> 0 | R34: =P34*$D34 -> 0 | S34: 0 | T34: =S34*$H34 -> 0 | U34: =S34*$D34 -> 0 | V34: =T34*$D34 -> 0 | W34: 0 | X34: =W34*$H34 -> 0 | Y34: =W34*$D34 -> 0 | Z34: =X34*$D34 -> 0 | AA34: 0 | AB34: =AA34*$H34 -> 0 | AC34: =AA34*$D34 -> 0 | AD34: =AB34*$D34 -> 0 | AX34: DKK
F35: =IF(G35="","",IF(G35="ZAR","Local","Foreign")) -> Local | G35: ZAR | H35: =IF(F35="","",IF(F35="Foreign",VLOOKUP(G35,Currency!$E$20:$F$33,2,FALSE),1)) -> 1 | J35: =IF(I35="","Fixed",VLOOKUP(I35,'CPA Formulae'!$C$7:$F$15,2,FALSE)) -> Fixed | K35: 0 | L35: =K35*$H35 -> 0 | M35: =K35*$D34 -> 0 | N35: =L35*$D34 -> 0 | O35: 0 | P35: =O35*$H35 -> 0 | Q35: =O35*$D34 -> 0 | R35: =P35*$D34 -> 0 | S35: 0 | T35: =S35*$H35 -> 0 | U35: =S35*$D34 -> 0 | V35: =T35*$D34 -> 0 | W35: 0 | X35: =W35*$H35 -> 0 | Y35: =W35*$D34 -> 0 | Z35: =X35*$D34 -> 0 | AA35: 0 | AB35: =AA35*$H35 -> 0 | AC35: =AA35*$D34 -> 0 | AD35: =AB35*$D34 -> 0
C36: Central Management device | D36: 1 | E36: Per Device | F36: =IF(G36="","",IF(G36="ZAR","Local","Foreign")) -> Local | G36: ZAR | H36: =IF(F36="","",IF(F36="Foreign",VLOOKUP(G36,Currency!$E$20:$F$33,2,FALSE),1)) -> 1 | J36: =IF(I36="","Fixed",VLOOKUP(I36,'CPA Formulae'!$C$7:$F$15,2,FALSE)) -> Fixed | K36: 0 | L36: =K36*$H36 -> 0 | M36: =K36*$D36 -> 0 | N36: =L36*$D36 -> 0 | O36: 0 | P36: =O36*$H36 -> 0 | Q36: =O36*$D36 -> 0 | R36: =P36*$D36 -> 0 | S36: 0 | T36: =S36*$H36 -> 0 | U36: =S36*$D36 -> 0 | V36: =T36*$D36 -> 0 | W36: 0 | X36: =W36*$H36 -> 0 | Y36: =W36*$D36 -> 0 | Z36: =X36*$D36 -> 0 | AA36: 0 | AB36: =AA36*$H36 -> 0 | AC36: =AA36*$D36 -> 0 | AD36: =AB36*$D36 -> 0 | AX36: DKK
F37: =IF(G37="","",IF(G37="ZAR","Local","Foreign")) -> Local | G37: ZAR | H37: =IF(F37="","",IF(F37="Foreign",VLOOKUP(G37,Currency!$E$20:$F$33,2,FALSE),1)) -> 1 | J37: =IF(I37="","Fixed",VLOOKUP(I37,'CPA Formulae'!$C$7:$F$15,2,FALSE)) -> Fixed | K37: 0 | L37: =K37*$H37 -> 0 | M37: =K37*$D36 -> 0 | N37: =L37*$D36 -> 0 | O37: 0 | P37: =O37*$H37 -> 0 | Q37: =O37*$D36 -> 0 | R37: =P37*$D36 -> 0 | S37: 0 | T37: =S37*$H37 -> 0 | U37: =S37*$D36 -> 0 | V37: =T37*$D36 -> 0 | W37: 0 | X37: =W37*$H37 -> 0 | Y37: =W37*$D36 -> 0 | Z37: =X37*$D36 -> 0 | AA37: 0 | AB37: =AA37*$H37 -> 0 | AC37: =AA37*$D36 -> 0 | AD37: =AB37*$D36 -> 0
A38: 3 | B38: Professional Services (As and When Required) | C38: Migration | D38: 1 | E38: sum | F38: =IF(G38="","",IF(G38="ZAR","Local","Foreign")) -> Local | G38: ZAR | H38: =IF(F38="","",IF(F38="Foreign",VLOOKUP(G38,Currency!$E$20:$F$33,2,FALSE),1)) -> 1 | J38: =IF(I38="","Fixed",VLOOKUP(I38,'CPA Formulae'!$C$7:$F$15,2,FALSE)) -> Fixed | K38: 0 | L38: =K38*$H38 -> 0 | M38: =K38*$D38 -> 0 | N38: =L38*$D38 -> 0 | O38: 0 | P38: =O38*$H38 -> 0 | Q38: =O38*$D38 -> 0 | R38: =P38*$D38 -> 0 | S38: 0 | T38: =S38*$H38 -> 0 | U38: =S38*$D38 -> 0 | V38: =T38*$D38 -> 0 | W38: 0 | X38: =W38*$H38 -> 0 | Y38: =W38*$D38 -> 0 | Z38: =X38*$D38 -> 0 | AA38: 0 | AB38: =AA38*$H38 -> 0 | AC38: =AA38*$D38 -> 0 | AD38: =AB38*$D38 -> 0 | AX38: HKD
F39: =IF(G39="","",IF(G39="ZAR","Local","Foreign")) -> Local | G39: ZAR | H39: =IF(F39="","",IF(F39="Foreign",VLOOKUP(G39,Currency!$E$20:$F$33,2,FALSE),1)) -> 1 | J39: =IF(I39="","Fixed",VLOOKUP(I39,'CPA Formulae'!$C$7:$F$15,2,FALSE)) -> Fixed | K39: 0 | L39: =K39*$H39 -> 0 | M39: =K39*$D38 -> 0 | N39: =L39*$D38 -> 0 | O39: 0 | P39: =O39*$H39 -> 0 | Q39: =O39*$D38 -> 0 | R39: =P39*$D38 -> 0 | S39: 0 | T39: =S39*$H39 -> 0 | U39: =S39*$D38 -> 0 | V39: =T39*$D38 -> 0 | W39: 0 | X39: =W39*$H39 -> 0 | Y39: =W39*$D38 -> 0 | Z39: =X39*$D38 -> 0 | AA39: 0 | AB39: =AA39*$H39 -> 0 | AC39: =AA39*$D38 -> 0 | AD39: =AB39*$D38 -> 0
C40: Expert level support | D40: =80 -> 80 | E40: Hourly | F40: =IF(G40="","",IF(G40="ZAR","Local","Foreign")) -> Local | G40: ZAR | H40: =IF(F40="","",IF(F40="Foreign",VLOOKUP(G40,Currency!$E$20:$F$33,2,FALSE),1)) -> 1 | J40: =IF(I40="","Fixed",VLOOKUP(I40,'CPA Formulae'!$C$7:$F$15,2,FALSE)) -> Fixed | K40: 0 | L40: =K40*$H40 -> 0 | M40: =K40*$D40 -> 0 | N40: =L40*$D40 -> 0 | O40: 0 | P40: =O40*$H40 -> 0 | Q40: =O40*$D40 -> 0 | R40: =P40*$D40 -> 0 | S40: 0 | T40: =S40*$H40 -> 0 | U40: =S40*$D40 -> 0 | V40: =T40*$D40 -> 0 | W40: 0 | X40: =W40*$H40 -> 0 | Y40: =W40*$D40 -> 0 | Z40: =X40*$D40 -> 0 | AA40: 0 | AB40: =AA40*$H40 -> 0 | AC40: =AA40*$D40 -> 0 | AD40: =AB40*$D40 -> 0
F41: =IF(G41="","",IF(G41="ZAR","Local","Foreign")) -> Local | G41: ZAR | H41: =IF(F41="","",IF(F41="Foreign",VLOOKUP(G41,Currency!$E$20:$F$33,2,FALSE),1)) -> 1 | J41: =IF(I41="","Fixed",VLOOKUP(I41,'CPA Formulae'!$C$7:$F$15,2,FALSE)) -> Fixed | K41: 0 | L41: =K41*$H41 -> 0 | M41: =K41*$D40 -> 0 | N41: =L41*$D40 -> 0 | O41: 0 | P41: =O41*$H41 -> 0 | Q41: =O41*$D40 -> 0 | R41: =P41*$D40 -> 0 | S41: 0 | T41: =S41*$H41 -> 0 | U41: =S41*$D40 -> 0 | V41: =T41*$D40 -> 0 | W41: 0 | X41: =W41*$H41 -> 0 | Y41: =W41*$D40 -> 0 | Z41: =X41*$D40 -> 0 | AA41: 0 | AB41: =AA41*$H41 -> 0 | AC41: =AA41*$D40 -> 0 | AD41: =AB41*$D40 -> 0
A42: 4 | B42: Training and Skills Transfer - OEM approved training | C42: Online Training | D42: 6 | E42: Per Attendee | F42: =IF(G42="","",IF(G42="ZAR","Local","Foreign")) -> Local | G42: ZAR | H42: =IF(F42="","",IF(F42="Foreign",VLOOKUP(G42,Currency!$E$20:$F$33,2,FALSE),1)) -> 1 | J42: =IF(I42="","Fixed",VLOOKUP(I42,'CPA Formulae'!$C$7:$F$15,2,FALSE)) -> Fixed | K42: 0 | L42: =K42*$H42 -> 0 | M42: =K42*$D42 -> 0 | N42: =L42*$D42 -> 0 | O42: 0 | P42: =O42*$H42 -> 0 | Q42: =O42*$D42 -> 0 | R42: =P42*$D42 -> 0 | S42: 0 | T42: =S42*$H42 -> 0 | U42: =S42*$D42 -> 0 | V42: =T42*$D42 -> 0 | W42: 0 | X42: =W42*$H42 -> 0 | Y42: =W42*$D42 -> 0 | Z42: =X42*$D42 -> 0 | AA42: 0 | AB42: =AA42*$H42 -> 0 | AC42: =AA42*$D42 -> 0 | AD42: =AB42*$D42 -> 0 | AX42: DKK
B43: Total | N43: =SUM(N30:N42) -> 0 | R43: =SUM(R30:R42) -> 0 | V43: =SUM(V30:V42) -> 0 | Z43: =SUM(Z30:Z42) -> 0 | AD43: =SUM(AD30:AD42) -> 0
B45: GRAND TOTAL | N45: =SUM(N43,R43,V43,Z43,AD43) -> 0
B47: PRICING ASSUMPTIONS (INCLUDE ANY PRICING ASSUMPTIONS USED TO DETERMINE THE PRICES, ESPECIALLY FOR ITEMS THAT REQUIRE SUMS; CLEARLY REFERENCE THE ITEMS APPLICABLE)

Sheet Currency
B2: ='Internet Bandwidth Control'!B3 -> VENDOR NAME
B4: EXCHANGE RATES FOR MULTIPLE CURRENCIES
B6: NOTES:
B7: 1 | C7: The table below needs to be completed if the Employer will be exposed to any currency fluctuation as stipulated in Secondary Clause X3. For conversion of the foreign portions to Rand, please use the South African Reserve Bank's (SARB) exchange rate at 12:00 on the day of advertisement of the bid. This is in terms of the Preferential Procurement Policy Framework Act (PPPFA) with which the Employer has to comply. NB: Tenderers must submit proof of the SARB rate(s) of exchange used
B8: 2 | C8: The following URL (electronic route) is to be followed to access the relevant SARB rates on their web pages:
C9: www.resbank.co.za
C10: - Select Research - Then select Rates - Click on "Select historical exchange rates and other interest rates" - Clicking on the exchange rate in the following page opens the daily rates per currency and SA Rand
B11: 3 | C11: The Employer deals only in the currencies listed below unless other currencies are specifically approved for this tender. Kindly notify the Employer of any currency that the tenderer intends to use, but is not stipulated in the table, to consider sanctioning such currency. Sufficient time must be allowed for the assessment and to respond to such request. The onus is on the tenderer to submit a bid with approved currencies
B12: 4 | C12: The format in which the exchange rate must be inserted in the table is: 1 (One) Foreign Currency = R Amount (i.e. the Rand amount for one of each foreign currency applicable). Exchange rates must be rounded to 4 decimals NB : Only the USD/ZAR, GBP/ZAR and EUR/ZAR are published in this way on the SARB web pages above. The Rand rate with the other currencies must be inverted (1/Foreign Currency Rate) in order to list it in the required format in the table below
B13: 5 | C13: All information in the table below must conform with all other equivalent information in the offer.
C14: Payment in terms of Payment Method 2 is considered as a "foreign payment" although it will be effected in South African Rand. However, amounts for "F.O.R. Price-Goods supplied from Imported Items", are NOT considered as "foreign payments"
C15: If more than one payment method apply for a currency, the Tenderer must request an additional row be inserted in the table in order to split the values and identify the relevant method.
C18: MULTIPLE CURRENCIES
C19: No | D19: Currency Description | E19: Code | F19: Exchange Rate Currency 1,00 = | G19: Date Published | H19: Source
C20: 1 | D20: Australian Dollar | E20: AUD
C21: 2 | D21: Canadian Dollar | E21: CAN
C22: 3 | D22: Swiss Franc | E22: CHF
C23: 4 | D23: Danish Krone | E23: DKK
C24: 5 | D24: European Currency | E24: EUR
C25: 6 | D25: British Pound | E25: GBP
C26: 7 | D26: Hong Kong Dollar | E26: HKD
C27: 8 | D27: Japanese Yen | E27: JPY
C28: 9 | D28: Norwegian Krone | E28: NOK
C29: 10 | D29: New Zealand Dollar | E29: NZD
C30: 11 | D30: Swedish Krone | E30: SEK
C31: 12 | D31: Singapore Dollar | E31: SGD
C32: 13 | D32: United States Dollar | E32: USD
C33: 14 | D33: South African Rand | E33: ZAR | F33: 1

Sheet CPA Formulae
B2: =Currency!B2 -> VENDOR NAME
B4: CONTRACT PRICE ADJUSTMENT (CPA) FOR INFLATION
B6: No. | C6: Formula Code | D6: Summary of the description of the Tenderer's Formulae
B7: 1 | D7: Fixed
B8: 2 | C8: A | D8: =C58 -> Tenderer's description of Formula A-
B9: 3 | C9: B | D9: =C69 -> Tenderer's description of Formula B
B10: 4 | C10: C | D10: =C80 -> Tenderer's description of Formula C
B11: 5 | C11: D | D11: =C91 -> Tenderer's description of Formula D
B12: 6 | C12: E | D12: =C102 -> Tenderer's description of Formula E
B13: 7 | C13: F | D13: =C113 -> Tenderer's description of Formula F
B14: 8 | C14: G | D14: =C124 -> Tenderer's description of Formula G
B15: 9 | C15: H | D15: =C135 -> Tenderer's description of Formula H
B16: 12 | C16: Ex -Local | D16: =C36 -> Tenderer's description of Formula EX Local (EXAMPLE)
B17: 13 | C17: Ex -Foreign | D17: =C47 -> Tenderer's description of Formula EX Foreign (EXAMPLE)
B20: GENERAL NOTES:
B21: 1 | C21: References to "indices" below mean "cost indices or reference prices".
B22: 2 | C22: Where 5 year historical information must be provided as instructed below, internet address references which are accessible to the general public may be submitted by the Tenderer instead, with the specific electronic route and web page reflecting the applicable data.
B23: 3 | C23: Each formula is related to a ZAR currency.
B25: CPA FORMULA NOTES :
B26: 1 | C26: Proportions/weightings in CPA Formulae: The fixed portion of each formula, not subject to CPA, must be at least 15% but Tenderers may submit higher fixed portion percentages. The other constituent indices and their proportions in each formula must be realistic and relative to the applicable work. The fixed portion and other proportions must add up to 100%.
B27: 2 | C27: Formulae must be linked to independent cost indices or other benchmarks ("reference prices") and must be clearly and completely defined. The source must be a recognised and independent statistical publishing organisation. The Tenderers' in-house indices may not be used.
B28: 3 | C28: Local Price CPA: Where local indices other than those published by SEIFSA or Statistics SA are specified, the Tenderer must submit 5 years' of month by month historical data for such indices. The Tenderer must ensure that indices are published and recommended by the source thereof as applicable to the work involved and that they are still in force/use and applicable at the date of submission of the tender.
B29: 4 | C29: CPA Base Date: The CPA base date for calculating price movements will be the Base Date, Month before Tender closes. For indices or reference prices published as at certain dates, and where such a date is not the Base Date, the latest date for which it is published before the Base Date will be considered as the Base Date index or reference price. In instances where the figure or value is not as at the Base Date or considered as the Base Date Index or reference price as explained herein, the date, figure or value as well as the reason for the deviation must be clearly separately stated and must be realistic for purposes of CPA.
B30: 5 | C30: Base Date Index : The base index or reference price must be inserted in the appropriate column.
B31: 6 | C31: Foreign Price Adjustments: In the case of foreign price adjustments, the Tenderer is to submit 5 years' historical data for the tendered indices. Where a formula is linked to indices in a country, payment of the amounts for that formula must be in the currency of the same country. A formula may not be linked to indices of more than one country.
B32: 7 | C32: Commodity Price Linked Payments: The reference price is considered as the base price (index) for purpose of the CPA formula and is included in the applicable tables below and must be in the currency in which the CPA will be payable. The exchange rate applied to convert the base price in a foreign currency into that of the currency of the formula must also be indicated in the tables below if the price is not in the same currency as the applicable formula.. ie exposure to the movement in a reference price is in the same currency as that of the CPA formula. The Tenderer is to submit 5 years' historical price data for such commodity.
B33: 8 | C33: London Metal Exchange (LME) Prices: For metals traded on the LME, the tonnage will be required before contract award in order for Eskom to hedge the metal price fluctuations. This applies also for prices linked to local indices or reference prices. Though these metals are traded in US$, prices are daily quoted in various other currencies. The LME price in the currency of the formula must apply and thus not the US$ unless the amount payable in terms of the formula is US$. Refer to the "LME" Sheet in this file for more detail regarding this aspect. By indicating any of these metals in the formulae below, the Tenderer declares that neither he nor any other body avails or will avail of forward price and/or currency cover for the metal(s).
B36: Formula Ex Local | C36: Tenderer's description of Formula EX Local (EXAMPLE) | I36: The Tenderer must provide 5 years of historical index data for items not linked to SEIFSA or Statistics SA Indices (unless this data is available via a publicly accessible website)
B37: Index Ref. | C37: Proportions / weightings for each index (refer note 1) | D37: Description / scope of index (e.g. Labour) | E37: Full title/definition of index Table as per publisher | F37: Source/publisher of index (e.g. SEIFSA, StatsSA, LME) | G37: Base Month for CPA if not Base Date as defined (refer note 4) | H37: Base Date Index (refer note 5) | I37: Currency Code | J37: Exchange Rate Currency 1,00 = | K37: Historical data provided (Yes or No- provide Internet address) | L37: 42491 | M37: =L37+31 -> 42522 | N37: =M37+31 -> 42553 | O37: =N37+31 -> 42584 | P37: =O37+31 -> 42615 | Q37: =P37+31 -> 42646 | R37: =Q37+31 -> 42677 | S37: =R37+31 -> 42708 | T37: =S37+31 -> 42739 | ... BR37: =BQ37+31 -> 44289
B38: J1 | C38: 0.15 | D38: Labour | E38: C3- All hourly-paid employees | F38: SEIFSA | G38: 44317
B39: J2 | C39: 0.2 | D39: Transformer | E39: J3- ETSA Distribution Transformer | F39: SEIFSA | G39: 44317
B40: J3 | C40: 0.2 | D40: Copper | E40: F- Metric ton | F40: SEIFSA | G40: 44317
B41: J4 | C41: 0.3 | D41: Steel | E41: E-EX Plates HR Grade S355JR | F41: SEIFSA | G41: 44317
B42: J5
B43: J6 | C43: 0.15 | D43: Fixed 15% minimum not subject to CPA (0.150)
C44: =SUM(C38:C43) -> 1 | D44: Total
B47: Formula Ex Foreign | C47: Tenderer's description of Formula EX Foreign (EXAMPLE) | I47: The Tenderer must provide 5 years of historical index data for items not linked to SEIFSA or Statistics SA Indices (unless this data is available via a publicly accessible website)
B48: Index Ref. | C48: Proportions / weightings for each index (refer note 1) | D48: Description / scope of index (e.g. Labour) | E48: Full title/definition of index as per publisher | F48: Source/publisher of index (e.g. SEIFSA, StatsSA, LME) | G48: Base Month for CPA if not Base Date as defined (refer note 4) | H48: Base Date Index (refer note 5) | I48: Currency Code | J48: Exchange Rate Currency 1,00 = | K48: Historical data provided (Yes or No- provide Internet address) | L48: 42491 | M48: =L48+31 -> 42522 | N48: =M48+31 -> 42553 | O48: =N48+31 -> 42584 | P48: =O48+31 -> 42615 | Q48: =P48+31 -> 42646 | R48: =Q48+31 -> 42677 | S48: =R48+31 -> 42708 | T48: =S48+31 -> 42739 | ... BR48: =BQ48+31 -> 44289
B49: J1 | C49: 0.85 | D49: transformer | E49: Large Power Transformer | F49: BEMA | G49: 44317
B50: J2
...
