Workbook
Name _Hlk119335805: 'Form C2.3 Summary of Pricing Sc'!#REF!
Name _SEC1200: #REF!
Name _SEC1200: #REF!
Name _Toc391906137: 'Form C2.3 Summary of Pricing Sc'!$A$1
Name _Toc391906137: Summary!$A$1
Name _Toc407010575: 'Form C2.3 Summary of Pricing Sc'!$A$1
Name _Toc407010575: Summary!$A$1
Name _Toc42260028: 'Form C2.3 Summary of Pricing Sc'!#REF!
Name _Toc42260028: Summary!$A$1304

Sheet C2.2 ROADWORKS
A10: SCHEDULE A: ROADWORKS

Sheet SCH A - ROADWORKS
A1: CONTRACT SANRAL R.573-020-2019/5R
A2: FOR THE UPGRADING OF NATIONAL ROUTE R573 SECTION 2: WORK PACKAGE B FROM KM 36.20 TO KM 48.16
A3: SCHEDULE A: ROADWORKS
A4: ITEM | C4: DESCRIPTION | H4: UNIT | I4: QUANTITY | J4: RATE | K4: AMOUNT
A5: CHAPTER 1 - GENERAL 1.2 GENERAL REQUIREMENTS AND PROVISIONS
A8: C1.2.1 | C8: Environmental Management
B9: C1.2.1.1 | C9: Monitoring of compliance with and reporting on the EMP | H9: month | I9: 24 | K9: =I9*J9 -> 0
B10: C1.2.1.2 | C10: Dedicated Environmental Officer | H10: month | I10: 24 | K10: =I10*J10 -> 0
A11: C1.2.2 | C11: Programming and Reporting
B12: C1.2.2.4 | C12: Submission of a Scheme 2 Full Programme | H12: lump sum | I12: 1 | K12: =I12*J12 -> 0
B13: C1.2.2.5 | C13: Reviewing and updating a Scheme 2 programme every month | H13: month | I13: 24 | K13: =I13*J13 -> 0
B14: C1.2.2.6 | C14: Preparation and submission of all information and reports specified in the Contract Documentation | H14: month | I14: 24 | K14: =I14*J14 -> 0
A15: C1.2.3 | C15: Routine road maintenance of existing public roads within the Site of the Works or other public roads outside the Site of the Works which are used as detours
B16: C1.2.3.1 | C16: Grass cutting | H16: hectare (ha) | I16: 15 | K16: =I16*J16 -> 0
B17: C1.2.3.2 | C17: Drain cleaning | H17: kilometre (km) | I17: 1.6 | K17: =I17*J17 -> 0
B18: C1.2.3.3 | C18: Cleaning out culverts | H18: cubic metre (m3) | I18: 45 | K18: =I18*J18 -> 0
B19: C1.2.3.4 | C19: Collection of rubbish/litter | H19: kilometre (km) | I19: 24 | K19: =I19*J19 -> 0
B20: C.1.2.3.6 | C20: Base and/or surface patching using cold premixed asphalt | H20: kilograme (kg) | I20: 80 | K20: =I20*J20 -> 0
B21: C1.2.3.8 | C21: Replacement of damaged guardrails including posts | H21: metre (m) | I21: 10 | K21: =I21*J21 -> 0
B22: C1.2.3.9 | C22: Grading of temporary gravel deviations and existing roads used as detours | H22: kilometre (km) | I22: 5 | K22: =I22*J22 -> 0
B23: C1.2.3.10 | C23: Watering of gravel deviations and existign roads used as detours | H23: kilolitre (kl) | I23: 200 | K23: =I23*J23 -> 0
B24: C1.2.3.11 | C24: Other road maintenance work ordered by the Engineer | H24: provisional sum | I24: 1 | J24: 150000 | K24: =I24*J24 -> 150000
B25: C1.2.3.12 | C25: Handling cost, profit and all other charges in respect of item C1.2.3.11 | H25: percentage (%) | I25: =J24 -> 150000 | K25: =J25*I25 -> 0
A26: C1.2.5 | C26: Safety
B27: C1.2.5.1 | C27: Health and safety plan | H27: lump sum | I27: 1 | K27: =J27 -> 0
B28: C1.2.5.2 | C28: Implementation of health and safety plan | H28: month | I28: 24 | K28: =I28*J28 -> 0
A29: C1.2.7 | C29: Road safety audits
B30: C1.2.7.1 | C30: Stage 4 work zone traffic management audit | H30: provisional sum | I30: Prov | J30: Sum | K30: 100000
B31: PC1.2.7.2 | C31: Handling cost, profit and all other charges in respect of item P1.2.7.1 | H31: percentage (%) | I31: =K30 -> 100000 | K31: =I31*J31 -> 0
B32: C1.2.7.3 | C32: Stage 5 pre-opening stage traffic safety audit | H32: provisional sum | I32: Prov | J32: Sum | K32: 100000
B33: PC1.2.7.4 | C33: Handling cost, profit and all other charges in respect of item P1.2.7.3 | H33: percentage (%) | I33: =K32 -> 100000 | K33: =I33*J33 -> 0
A34: C1.2.8 | C34: Dayworks
B35: C1.2.8.1 | C35: Personnel
B36: (a) | C36: Unskilled labourer | H36: hour (h) | I36: 100 | K36: =I36*J36 -> 0
B37: (b) | C37: Semi-skilled labourer | H37: hour (h) | I37: 100 | K37: =I37*J37 -> 0
B38: (c) | C38: Skilled labourer | H38: hour (h) | I38: 100 | K38: =I38*J38 -> 0
B39: (d) | C39: Gang leader | H39: hour (h) | I39: 20 | K39: =I39*J39 -> 0
B40: (e) | C40: Foreman | H40: hour (h) | I40: 20 | K40: =I40*J40 -> 0
B41: C1.2.8.2 | C41: Construction equipment
B42: (a) | C42: Motor grader | H42: hour (h) | I42: 50 | K42: =I42*J42 -> 0
...

Sheet C2.2 STRUCTURES
A10: SCHEDULE B: STRUCTURES

Sheet B0510
A10: STRUCTURE: B0510

Sheet SCH B - B0510
A1: CONTRACT SANRAL R.573-020-2019/5R
A2: FOR THE UPGRADING OF NATIONAL ROUTE R573 SECTION 2: WORK PACKAGE B FROM KM 36.20 TO KM 48.16
A3: SCHEDULE B: STRUCTURES (B0510)
A4: ITEM | C4: DESCRIPTION | H4: UNIT | I4: QUANTITY | J4: RATE | K4: AMOUNT
A5: CHAPTER 1 - GENERAL 1.5 ACCOMODATION OF TRAFFIC
A8: C1.5.4 | C8: Construction of temporary deviations
B10: C1.5.4 / C5.1.1 | C10: Roadbed construction and compaction:
B12: C1.5.4 / C5.1.1.1 | C12: Compaction of in-situ material to 90% of MDD | H12: (m3) | I12: 380 | K12: =ROUNDUP(IF(H12<>"",I12*J12,""),2) -> 0
B14: C1.5.4 / C5.3.2 | C14: Construction of pavement layers:
B16: (g) | C16: Gravel wearing course layer (150mm) compacted to 95% of MDD | H16: (m3) | I16: 380 | K16: =ROUNDUP(IF(H16<>"",I16*J16,""),2) -> 0
B18: (n) | C18: Gravel base layer (chemically stabilised), (150mm) compacted to 97% of MDD | H18: (m3) | I18: 380 | K18: =ROUNDUP(IF(H18<>"",I18*J18,""),2) -> 0
A20: C1.5.5 | C20: Maintenance of temporary deviations
B22: C1.5.5.9 | C22: Grading of temporary deviations and existing roads used as detours | H22: (km) | I22: 0.37 | K22: =ROUNDUP(IF(H22<>"",I22*J22,""),2) -> 0
B24: C1.5.5.10 | C24: Watering of temporary deviations and existing roads used as detours | H24: (kℓ) | I24: 10 | K24: =ROUNDUP(IF(H24<>"",I24*J24,""),2) -> 0
A26: C1.5.6 | C26: Removal of temporary deviations | H26: (km) | I26: 0.37 | K26: =ROUNDUP(IF(H26<>"",I26*J26,""),2) -> 0
A29: C1.5 | C29: TOTAL CARRIED FORWARD TO SUMMARY | K29: =SUM(K8:K28) -> 0
A30: CHAPTER 3 - DRAINAGE 3.2 CULVERTS
A33: C3.2.1 | C33: Excavation for culvert structures:
B35: C3.2.1.1 | C35: Excavating in all material situated within the following depth ranges below the surface level:
B37: (a) | C37: 0m to 1,5m | H37: m³ | I37: 810 | K37: =ROUNDUP(IF(H37<>"",I37*J37,""),2) -> 0
B39: (b) | C39: 1.5 to 3.0 m | H39: m³ | I39: 120 | K39: =ROUNDUP(IF(H39<>"",I39*J39,""),2) -> 0
A41: C3.2.2 | C41: Backfilling
B43: C3.2.2.2 | C43: Using imported selected material:
B45: (b) | C45: From sources on site (G7) | H45: m³ | I45: 165 | K45: =ROUNDUP(IF(H45<>"",I45*J45,""),2) -> 0
A47: C3.2.4 | C47: Metal and U-PVC culverts:
B49: C3.2.4.1 | C49: ARMCO corrugated metal arch culvert (Type MP68 NP 15 2.0 mm thick section) | H49: m | I49: 30 | K49: =ROUNDUP(IF(H49<>"",I49*J49,""),2) -> 0
B51: C3.2.4.2 | C51: Provision of skew or bevelled ends for metal culverts | H51: No. | I51: 10 | K51: =ROUNDUP(IF(H51<>"",I51*J51,""),2) -> 0
B53: C3.2.4.3 | C53: Anchor bolts | H53: No. | I53: 60 | K53: =ROUNDUP(IF(H53<>"",I53*J53,""),2) -> 0
A56: C3.2 | C56: TOTAL CARRIED FORWARD TO SUMMARY | K56: =SUM(K33:K55) -> 0
A57: CHAPTER 11 - ANCILLARY ROAD WORKS 11.2 NON-STRUCTURAL GABIONS
A60: C11.2.1 | C60: Foundation trench excavation:
B62: C11.2.1.1 | C62: Excavating all material situated within the following depth ranges below the surface level In all classes of material and existing gabions:
B64: (a) | C64: 0m to 1,5m | H64: m³ | I64: 45 | K64: =ROUNDUP(IF(H64<>"",I64*J64,""),2) -> 0
A66: C11.2.2 | C66: Surface preparation for bedding the gabion boxes and mattresses | H66: m2 | I66: 220 | K66: =ROUNDUP(IF(H66<>"",I66*J66,""),2) -> 0
A68: C11.2.3 | C68: Gabion boxes and mattresses:
B70: C11.2.3.1 | C70: Galvanized gabion boxes (1.0 x 1.0 x 1.0 m with 80 x 100 x 2.7 mm mesh wire) | H70: m³ | I70: 45 | K70: =ROUNDUP(IF(H70<>"",I70*J70,""),2) -> 0
B72: C11.2.3.3 | C72: Galvanized gabion mattresses (6.0 x 2.0 x 0.3 m with 80 x 100 x 2.7 mm mesh wire and diaphragms spaced at 1.0 m centres | H72: m³ | I72: 55 | K72: =ROUNDUP(IF(H72<>"",I72*J72,""),2) -> 0
A74: C11.2.4 | C74: Filter fabric (Grade 1 synthetic-fibre filter fabric) | H74: m2 | I74: 220 | K74: =ROUNDUP(IF(H74<>"",I74*J74,""),2) -> 0
A77: C11.2 | C77: TOTAL CARRIED FORWARD TO SUMMARY | K77: =SUM(K60:K76) -> 0
A78: CHAPTER 13 - STRUCTURES 13.1 FOUNDATIONS
...

Sheet C0728
A10: STRUCTURE: C0728

Sheet SCH B - C0728
A1: CONTRACT SANRAL R.573-020-2019/5R
A2: FOR THE UPGRADING OF NATIONAL ROUTE R573 SECTION 2: WORK PACKAGE B FROM KM 36.20 TO KM 48.16
A3: SCHEDULE B: STRUCTURES (C0728)
A4: CHAPTER 11 - ANCILLARY ROAD WORKS 11.1 PITCHING, STONEWORK, CAST IN SITU CONCRETE FOR PROTECTION AGAINST EROSION
A7: C11.1.2 | C7: Stone pitching
B9: C11.1.2.2 | C9: Grouted stone pitching with mortar | H9: m2 | I9: 95 | K9: =I9*J9 -> 0
A11: C11.1.3 | C11: Riprap
B13: C11.1.3.1 | C13: Packed riprap (100kg, 300mm thick) | H13: m3 | I13: 15 | K13: =I13*J13 -> 0
A16: C11.1 | C16: TOTAL CARRIED FORWARD TO SUMMARY | K16: =SUM(K7:K15) -> 0
A17: CHAPTER 11 - ANCILLARY ROAD WORKS 11.2 NON-STRUCTURAL GABIONS
A20: C11.2.2 | C20: Surface preparation for bedding the gabion boxes and mattresses | H20: m2 | I20: 25 | K20: =I20*J20 -> 0
A22: C11.2.3 | C22: Gabion boxes and mattresses:
B24: C11.2.3.1 | C24: Galvanized gabion boxes - Mesh type 80 with 3.0 mm - 0.5 x 0.5 x 1 m long | H24: m3 | I24: 15 | K24: =I24*J24 -> 0
A26: C11.2.4 | C26: Geotextile (Geotextile grade 1) | H26: m2 | I26: 115 | K26: =I26*J26 -> 0
A29: C11.2 | C29: TOTAL CARRIED FORWARD TO SUMMARY | K29: =SUM(K20:K28) -> 0
A30: CHAPTER 13 - STRUCTURES 13.1 FOUNDATIONS
A33: C13.1.3 | C33: Excavation:
B35: C13.1.3.1 | C35: Excavating soft material situated within the following successive depth ranges:
B37: (a) | C37: 0m up to 1,5m | H37: m3 | I37: 1620 | K37: =ROUNDUP(IF(H37<>"",I37*J37,""),2) -> 0
B39: C13.1.3.2 | C39: Extra over subitem C13.1.3.1 for excavation in hard material irrespective of depth | H39: m3 | I39: 150 | K39: =ROUNDUP(IF(H39<>"",I39*J39,""),2) -> 0
B41: C13.1.3.3 | C41: Extra over subitem C13.1.3.1 for additional excavation required by the Engineer after excavation is complete | H41: m3 | I41: 150 | K41: =ROUNDUP(IF(H41<>"",I41*J41,""),2) -> 0
B43: C13.1.3.4 | C43: Extra over subitem C13.1.3.1 for excavation by hand | H43: m3 | I43: 50 | K43: =ROUNDUP(IF(H43<>"",I43*J43,""),2) -> 0
A45: C13.1.7 | C45: Backfill to excavations utilising :
B47: C13.1.7.2 | C47: Imported material | H47: m3 | I47: 525 | K47: =ROUNDUP(IF(H47<>"",I47*J47,""),2) -> 0
A49: C13.1.9 | C49: Fill within a restricted area (extra over item C5.2.2) | H49: m3 | I49: 1200 | K49: =ROUNDUP(IF(H49<>"",I49*J49,""),2) -> 0
A51: C13.1.10 | C51: Haul in excess of 1,0 km on excavated material and on material imported for backfill, foundation fill and fill for caissons | H51: m3.km | I51: 12000 | K51: =ROUNDUP(IF(H51<>"",I51*J51,""),2) -> 0
A53: C13.1.14 | C53: Foundation fill consisting of:
B55: C13.1.14.5 | C55: Concrete blinding Class C12/15-20 75mm thick | H55: m3 | I55: 55 | K55: =ROUNDUP(IF(H55<>"",I55*J55,""),2) -> 0
A57: C13.1.23 | C57: Lateral support for excavations:
B59: C13.1.23.1 | C59: Excavation at road centreline
B61: (a) | C61: 0 to 2.5m depth | H61: m2 | I61: 50 | K61: =ROUNDUP(IF(H61<>"",I61*J61,""),2) -> 0
B63: (b) | C63: 2.5 to 5m depth | H63: m2 | I63: 50 | K63: =ROUNDUP(IF(H63<>"",I63*J63,""),2) -> 0
B65: (c) | C65: 5 to 7.5m depth | H65: m2 | I65: 20 | K65: =ROUNDUP(IF(H65<>"",I65*J65,""),2) -> 0
A68: C13.1 | C68: TOTAL CARRIED FORWARD TO SUMMARY | K68: =SUM(K33:K67) -> 0
A69: CHAPTER 13 - STRUCTURES 13.2 FALSEWORK, FORMWORK AND CONCRETE FINISH
A72: C13.2.2 | C72: Vertical formwork to provide :
B74: (a) | C74: Class F1 surface finish to:
B76: (i) | C76: Culvert cells wingwalls and cut-off wall | H76: m2 | I76: 380 | K76: =ROUNDUP(IF(H76<>"",I76*J76,""),2) -> 0
B78: (b) | C78: Class F2 surface finish to:
B80: (i) | C80: Culvert cells and wingwalls | H80: m² | I80: 1080 | K80: =ROUNDUP(IF(H80<>"",I80*J80,""),2) -> 0
...

Sheet C0707
A10: STRUCTURE: C0707

Sheet SCH B - C0707
A1: CONTRACT SANRAL R.573-020-2019/5R
A2: FOR THE UPGRADING OF NATIONAL ROUTE R573 SECTION 2: WORK PACKAGE B FROM KM 36.20 TO KM 48.16
A3: SCHEDULE B: STRUCTURES (C0707)
A4: CHAPTER 11 - ANCILLARY ROAD WORKS 11.1 PITCHING, STONEWORK, CAST IN SITU CONCRETE FOR PROTECTION AGAINST EROSION
A7: C11.1.2 | C7: Stone pitching
B9: C11.1.2.2 | C9: Grouted stone pitching with mortar | H9: m2 | I9: 95 | K9: =I9*J9 -> 0
A11: C11.1.3 | C11: Riprap
B13: C11.1.3.1 | C13: Packed riprap (100kg, 300mm thick) | H13: m3 | I13: 15 | K13: =I13*J13 -> 0
B15: C11.1.3.1 | C15: Packed riprap (100kg, 800mm thick) | H15: m3 | I15: 250 | K15: =I15*J15 -> 0
A18: C11.1 | C18: TOTAL CARRIED FORWARD TO SUMMARY | K18: =SUM(K7:K17) -> 0
A19: CHAPTER 11 - ANCILLARY ROAD WORKS 11.2 NON-STRUCTURAL GABIONS
A22: C11.2.2 | C22: Surface preparation for bedding the gabion boxes and mattresses | H22: m2 | I22: 20 | K22: =I22*J22 -> 0
A24: C11.2.3 | C24: Gabion boxes and mattresses:
B26: C11.2.3.1 | C26: Galvanized gabion boxes - Mesh type 80 with 3.0 mm - 0.5 x 0.5 x 1 m long | H26: m3 | I26: 10 | K26: =I26*J26 -> 0
A28: C11.2.4 | C28: Geotextile (Geotextile grade 1) | H28: m2 | I28: 115 | K28: =I28*J28 -> 0
A32: C11.2 | C32: TOTAL CARRIED FORWARD TO SUMMARY | K32: =SUM(K22:K31) -> 0
A33: CHAPTER 13 - STRUCTURES 13.1 FOUNDATIONS
A36: C13.1.3 | C36: Excavation:
B38: C13.1.3.1 | C38: Excavating soft material situated within the following successive depth ranges:
B40: (a) | C40: 0m up to 1,5m | H40: m3 | I40: 850 | K40: =ROUNDUP(IF(H40<>"",I40*J40,""),2) -> 0
B42: (b) | C42: > 1,5m and < 3,0m | H42: m3 | I42: 350 | K42: =ROUNDUP(IF(H42<>"",I42*J42,""),2) -> 0
B44: C13.1.3.3 | C44: Extra over subitem C13.1.3.1 for additional excavation required by the Engineer after excavation is complete | H44: m3 | I44: 50 | K44: =ROUNDUP(IF(H44<>"",I44*J44,""),2) -> 0
B46: C13.1.3.4 | C46: Extra over subitem C13.1.3.1 for excavation by hand | H46: m3 | I46: 50 | K46: =ROUNDUP(IF(H46<>"",I46*J46,""),2) -> 0
A48: C13.1.7 | C48: Backfill to excavations utilising :
B50: C13.1.7.2 | C50: Imported material | H50: m3 | I50: 210 | K50: =ROUNDUP(IF(H50<>"",I50*J50,""),2) -> 0
A52: C13.1.9 | C52: Fill within a restricted area (extra over item C5.2.2) | H52: m3 | I52: 700 | K52: =ROUNDUP(IF(H52<>"",I52*J52,""),2) -> 0
A54: C13.1.10 | C54: Haul in excess of 1,0 km on excavated material and on material imported for backfill, foundation fill and fill for caissons | H54: m3.km | I54: 7100 | K54: =ROUNDUP(IF(H54<>"",I54*J54,""),2) -> 0
A56: C13.1.14 | C56: Foundation fill consisting of:
B58: C13.1.14.2 | C58: Crushed-stone fill | H58: m3 | I58: 1500 | K58: =ROUNDUP(IF(H58<>"",I58*J58,""),2) -> 0
B60: C13.1.14.5 | C60: Concrete blinding Class C12/15-20 75mm thick | H60: m3 | I60: 50 | K60: =ROUNDUP(IF(H60<>"",I60*J60,""),2) -> 0
A62: C13.1.23 | C62: Lateral support for excavations:
B64: C13.1.23.1 | C64: Excavation at road centreline
B66: (a) | C66: 0 to 2.5m depth | H66: m2 | I66: 50 | K66: =ROUNDUP(IF(H66<>"",I66*J66,""),2) -> 0
B68: (b) | C68: 2.5 to 5m depth | H68: m2 | I68: 35 | K68: =ROUNDUP(IF(H68<>"",I68*J68,""),2) -> 0
A71: C13.1 | C71: TOTAL CARRIED FORWARD TO SUMMARY | K71: =SUM(K36:K70) -> 0
A72: CHAPTER 13 - STRUCTURES 13.2 FALSEWORK, FORMWORK AND CONCRETE FINISH
A75: C13.2.2 | C75: Vertical formwork to provide :
B77: (a) | C77: Class F1 surface finish to:
B79: (i) | C79: Culvert cells wingwalls and cut-off wall | H79: m2 | I79: 265 | K79: =ROUNDUP(IF(H79<>"",I79*J79,""),2) -> 0
B81: (b) | C81: Class F2 surface finish to:
...

Sheet C0708
A10: STRUCTURE: C0708

Sheet SCH B - C0708
A1: CONTRACT SANRAL R.573-020-2019/5R
A2: FOR THE UPGRADING OF NATIONAL ROUTE R573 SECTION 2: WORK PACKAGE B FROM KM 36.20 TO KM 48.16
A3: SCHEDULE B: STRUCTURES (C0708)
A4: ITEM | C4: DESCRIPTION | H4: UNIT | I4: QUANTITY | J4: RATE | K4: AMOUNT
A5: CHAPTER 11 - ANCILLARY ROAD WORKS 11.1 PITCHING, STONEWORK, CAST IN SITU CONCRETE FOR PROTECTION AGAINST EROSION
A8: C11.1.2 | C8: Stone pitching
B10: C11.1.2.2 | C10: Grouted stone pitching with mortar | H10: m2 | I10: 45 | K10: =I10*J10 -> 0
A12: C11.1.3 | C12: Riprap
B14: C11.1.3.1 | C14: Packed riprap (100kg, 300mm thick) | H14: m3 | I14: 100 | K14: =I14*J14 -> 0
A17: C11.1 | C17: TOTAL CARRIED FORWARD TO SUMMARY | K17: =SUM(K7:K16) -> 0
A18: CHAPTER 11 - ANCILLARY ROAD WORKS 11.2 NON-STRUCTURAL GABIONS
A21: C11.2.2 | C21: Surface preparation for bedding the gabion boxes and mattresses | H21: m2 | I21: 20 | K21: =I21*J21 -> 0
A23: C11.2.3 | C23: Gabion boxes and mattresses:
B24: C11.2.3.1
B25: (a) | C25: Galvanized gabion boxes - Mesh type 80 with 3.0 mm - 0.5 x 0.5 x 1 m long | H25: m3 | I25: 10 | K25: =I25*J25 -> 0
B27: (b) | C27: Galvanized gabion boxes - Mesh type 80 with 3.0 mm - 1 x 1 x 1 m long | H27: m3 | I27: 150 | K27: =I27*J27 -> 0
A29: C11.2.4 | C29: Geotextile (Geotextile grade 1) | H29: m2 | I29: 60 | K29: =I29*J29 -> 0
A32: C11.2 | C32: TOTAL CARRIED FORWARD TO SUMMARY | K32: =SUM(K21:K31) -> 0
A33: CHAPTER 13 - STRUCTURES 13.1 FOUNDATIONS
A36: C13.1.3 | C36: Excavation:
B38: C13.1.3.1 | C38: Excavating soft material situated within the following successive depth ranges:
B40: (a) | C40: 0m up to 1,5m | H40: m3 | I40: 450 | K40: =ROUNDUP(IF(H40<>"",I40*J40,""),2) -> 0
B42: (b) | C42: > 1,5m and < 3,0m | H42: m3 | I42: 180 | K42: =ROUNDUP(IF(H42<>"",I42*J42,""),2) -> 0
B44: C13.1.3.2 | C44: Extra over subitem C13.1.3.1 for excavation in hard material irrespective of depth | H44: m3 | I44: 150 | K44: =ROUNDUP(IF(H44<>"",I44*J44,""),2) -> 0
B46: C13.1.3.3 | C46: Extra over subitem C13.1.3.1 for additional excavation required by the Engineer after excavation is complete | H46: m3 | I46: 50 | K46: =ROUNDUP(IF(H46<>"",I46*J46,""),2) -> 0
A48: C13.1.7 | C48: Backfill to excavations utilising :
B50: C13.1.7.2 | C50: Imported material | H50: m3 | I50: 160 | K50: =ROUNDUP(IF(H50<>"",I50*J50,""),2) -> 0
A52: C13.1.9 | C52: Fill within a restricted area (extra over item C5.2.2) | H52: m3 | I52: 505 | K52: =ROUNDUP(IF(H52<>"",I52*J52,""),2) -> 0
A54: C13.1.10 | C54: Haul in excess of 1,0 km on excavated material and on material imported for backfill, foundation fill and fill for caissons | H54: m3.km | I54: 4800 | K54: =ROUNDUP(IF(H54<>"",I54*J54,""),2) -> 0
A56: C13.1.14 | C56: Foundation fill consisting of:
B58: C13.1.14.2 | C58: Crushed-stone fill | H58: m3 | I58: 1250 | K58: =ROUNDUP(IF(H58<>"",I58*J58,""),2) -> 0
B60: C13.1.14.5 | C60: Concrete blinding Class C12/15-20 75mm thick | H60: m3 | I60: 25 | K60: =ROUNDUP(IF(H60<>"",I60*J60,""),2) -> 0
A62: C13.1.23 | C62: Lateral support for excavations:
B64: C13.1.23.1 | C64: Excavation at road centreline
B66: (a) | C66: 0 to 2.5m depth | H66: m2 | I66: 40 | K66: =ROUNDUP(IF(H66<>"",I66*J66,""),2) -> 0
B68: (b) | C68: 2.5 to 5m depth | H68: m2 | I68: 25 | K68: =ROUNDUP(IF(H68<>"",I68*J68,""),2) -> 0
A71: C13.1 | C71: TOTAL CARRIED FORWARD TO SUMMARY | K71: =SUM(K36:K70) -> 0
A72: CHAPTER 13 - STRUCTURES 13.2 FALSEWORK, FORMWORK AND CONCRETE FINISH
A75: C13.2.2 | C75: Vertical formwork to provide :
B77: (a) | C77: Class F1 surface finish to:
...

Sheet C0746
A10: STRUCTURE: C0746

Sheet SCH B - C0746
A1: CONTRACT SANRAL R.573-020-2019/5R
A2: FOR THE UPGRADING OF NATIONAL ROUTE R573 SECTION 2: WORK PACKAGE B FROM KM 36.20 TO KM 48.16
A3: SCHEDULE B: STRUCTURES (C0746)
A4: ITEM | C4: DESCRIPTION | H4: UNIT | I4: QUANTITY | J4: RATE | K4: AMOUNT
A5: CHAPTER 4 - EARTHWORKS AND PAVEMENT LAYERS: MATERIALS 4.2 CUT MATERIALS
A8: C4.2.3 | C8: Excavating of materials in cuttings, material obtained from
B10: C4.2.3.1 | C10: Soft excavation | H10: m3 | I10: 4150 | K10: =I10*J10 -> 0
B12: C4.2.3.2 | C12: Boulder excavation class A | H12: m3 | I12: 500 | K12: =I12*J12 -> 0
B14: C4.2.3.3 | C14: Boulder excavation class B | H14: m3 | I14: 500 | K14: =I14*J14 -> 0
B16: C4.2.3.4 | C16: Hard excavation (other than by blasting) | H16: m3 | I16: 150 | K16: =I16*J16 -> 0
A19: C4.2 | C19: TOTAL CARRIED FORWARD TO SUMMARY | K19: =SUM(K8:K18) -> 0
A20: CHAPTER 13 - STRUCTURES 13.1 FOUNDATIONS
A23: C13.1.3 | C23: Excavation:
B25: C13.1.3.1 | C25: Excavating soft material situated within the following successive depth ranges:
B27: (a) | C27: 0m up to 1,5m | H27: m3 | I27: 280 | K27: =I27*J27 -> 0
B29: (b) | C29: > 1,5m and < 3,0m | H29: m3 | I29: 275 | K29: =I29*J29 -> 0
B31: (c) | C31: > 3,0m and < 4,5m | H31: m3 | I31: 270 | K31: =I31*J31 -> 0
B33: C13.1.3.3 | C33: Extra over subitem C13.1.3.1 for excavation in hard material irrespective of depth | H33: m3 | I33: 120 | K33: =I33*J33 -> 0
B35: C13.1.3.3 | C35: Extra over subitem C13.1.3.1 for additional excavation required by the Engineer after excavation is complete | H35: m3 | I35: 120 | K35: =I35*J35 -> 0
A37: C13.1.7 | C37: Backfill to excavations utilising:
B39: C13.1.7.1 | C39: Material from excavation | H39: m3 | I39: 50 | K39: =I39*J39 -> 0
B41: C13.1.7.2 | C41: Imported material | H41: m3 | I41: 200 | K41: =I41*J41 -> 0
A43: C13.1.9 | C43: Fill within a restricted area (extra over item C5.2.2) | H43: m3 | I43: 610 | K43: =I43*J43 -> 0
A45: C13.1.10 | C45: Haul in excess of 1,0 km on excavated material and on material imported for backfill, foundation fill and fill for caissons | H45: m3.km | I45: 5500 | K45: =I45*J45 -> 0
A47: C13.1.14 | C47: Foundation fill consisting of:
B49: C13.1.14.1 | C49: Rock fill | H49: m3 | I49: 650 | K49: =I49*J49 -> 0
B51: C13.1.14.3 | C51: Compacted granular material | H51: m3 | I51: 205 | K51: =I51*J51 -> 0
B53: C13.1.14.5 | C53: Concrete blinding Class C12/15-20, 75mm thick | H53: m3 | I53: 15 | K53: =I53*J53 -> 0
A55: C13.1.23 | C55: Lateral support for excavations:
B57: C13.1.23.1 | C57: Excavation at road centreline
B59: (a) | C59: 0 to 2.5m depth | H59: m2 | I59: 18 | K59: =ROUNDUP(IF(H59<>"",I59*J59,""),2) -> 0
B61: (b) | C61: 2.5 to 5m depth | H61: m2 | I61: 18 | K61: =ROUNDUP(IF(H61<>"",I61*J61,""),2) -> 0
B63: (c) | C63: 5 to 7.5m depth | H63: m2 | I63: 7 | K63: =ROUNDUP(IF(H63<>"",I63*J63,""),2) -> 0
A66: C13.1 | C66: TOTAL CARRIED FORWARD TO SUMMARY | K66: =SUM(K23:K65) -> 0
A67: CHAPTER 13 - STRUCTURES 13.2 FALSEWORK, FORMWORK AND CONCRETE FINISH
A70: C13.2.2 | C70: Vertical formwork to provide :
B72: (a) | C72: Class F1 surface finish to:
B74: (i) | C74: Cells & Wingwalls, cut-off walls | H74: m2 | I74: 305 | K74: =I74*J74 -> 0
B76: (b) | C76: Class F2 surface finish to:
B78: (i) | C78: Cell wall, ends and headwalls | H78: m² | I78: 240 | K78: =I78*J78 -> 0
...

Sheet PB - KWAGGA
A10: STRUCTURE: PEDESTRIAN BRIDGE - KWAGGAFONTEIN

Sheet SCH B - PB - KWAGGA
A1: CONTRACT SANRAL R.573-020-2019/5R
A2: FOR THE UPGRADING OF NATIONAL ROUTE R573 SECTION 2: WORK PACKAGE B FROM KM 36.20 TO KM 48.16
A3: SCHEDULE B: STRUCTURES (PEDESTRIAN BRIDGE - KWAGGAFONTEIN)
A4: ITEM | C4: DESCRIPTION | H4: UNIT | I4: QUANTITY | J4: RATE | K4: AMOUNT
A5: CHAPTER 1 - GENERAL 1.7 LOADING AND HAULING
A8: C1.7.1 | C8: Loading
B10: C1.7.1.1 | C10: Loading from stockpile using machines and some hand labour where necessary | H10: (m3) | I10: 1650 | K10: =ROUNDUP(IF(H10<>"",I10*J10,""),2) -> 0
A12: C1.7.2 | C12: Hauling
B14: C1.7.2.1 | C14: Hauling material for use in the Works and off-loading it on the site of the Works:
B16: (a) | C16: Soil, gravel, crushed stone and pavement layer material | H16: (m3 - km) | I16: 8000 | K16: =ROUNDUP(IF(H16<>"",I16*J16,""),2) -> 0
A19: C1.7 | C19: TOTAL CARRIED FORWARD TO SUMMARY | K19: =SUM(K8:K18) -> 0
A20: CHAPTER 5 - EARTHWORKS AND PAVEMENT LAYERS: CONSTRUCTION 5.2 FILL
A23: C5.2.2 | C23: Fill construction:
B25: C5.2.2.1 | C25: Normal fill material in compacted layer thicknesses of 200mm and less:
B27: (b) | C27: Compacted to 93% of MDD | H27: (m3) | I27: 1650 | K27: =ROUNDUP(IF(H27<>"",I27*J27,""),2) -> 0
A31: C5.2 | C31: TOTAL CARRIED FORWARD TO SUMMARY | K31: =SUM(K23:K30) -> 0
A32: CHAPTER 11 - ANCILLARY ROAD WORKS 11.1 PITCHING, STONEWORK, CAST IN SITU CONCRETE FOR PROTECTION AGAINST EROSION
A35: C11.1.2 | C35: Stone pitching
B37: C11.1.2.2 | C37: Grouted stone pitching with mortar | H37: (m2) | I37: 20 | K37: =ROUNDUP(IF(H37<>"",I37*J37,""),2) -> 0
A39: C11.1.5 | C39: Concrete pitching or paving
B41: C11.1.5.1 | C41: Cast in situ concrete pitching or paving (Class C16/20-20) | H41: (m2) | I41: 50 | K41: =J41*I41 -> 0
A43: C11.1.6 | C43: Concrete edge beams (Class C16/20-20) | H43: (m3) | I43: 3 | K43: =ROUNDUP(IF(H43<>"",I43*J43,""),2) -> 0
A46: C11.1 | C46: TOTAL CARRIED FORWARD TO SUMMARY | K46: =SUM(K35:K45) -> 0
A47: CHAPTER 13 - STRUCTURES 13.1 FOUNDATIONS
A50: C13.1.3 | C50: Excavation:
B52: C13.1.3.1 | C52: Excavating soft material situated within the following successive depth ranges:
B54: (a) | C54: 0m up to 1,5m | H54: m3 | I54: 550 | K54: =ROUNDUP(IF(H54<>"",I54*J54,""),2) -> 0
B56: (b) | C56: > 1,5m and < 3,0m | H56: m3 | I56: 150 | K56: =ROUNDUP(IF(H56<>"",I56*J56,""),2) -> 0
B58: (c) | C58: > 3,0m and < 4,5m | H58: m3 | I58: 150 | K58: =ROUNDUP(IF(H58<>"",I58*J58,""),2) -> 0
B60: C13.1.3.2 | C60: Extra over subitem C13.1.3.1 for excavation in hard materia irrespective of depth | H60: m3 | I60: 50 | K60: =ROUNDUP(IF(H60<>"",I60*J60,""),2) -> 0
B62: C13.1.3.3 | C62: Extra over subitem C13.1.3.1 for additional excavation required by the Engineer after excavation is complete | H62: m3 | I62: 50 | K62: =ROUNDUP(IF(H62<>"",I62*J62,""),2) -> 0
B64: C13.1.3.4 | C64: Extra over subitem C13.1.3.1 for excavation by hand | H64: m3 | I64: 25 | K64: =ROUNDUP(IF(H64<>"",I64*J64,""),2) -> 0
A66: C13.1.6 | C66: Access and drainage:
B68: C13.1.6.1 | C68: Access | H68: lump sum | I68: 1 | K68: =ROUNDUP(IF(H68<>"",I68*J68,""),2) -> 0
B70: C13.1.6.2 | C70: Drainage | H70: lump sum | I70: 1 | K70: =ROUNDUP(IF(H70<>"",I70*J70,""),2) -> 0
A72: C13.1.7 | C72: Backfill to excavations utilising:
B74: C13.1.7.1 | C74: Material from excavation | H74: m3 | I74: 500 | K74: =ROUNDUP(IF(H74<>"",I74*J74,""),2) -> 0
B76: C13.1.7.2 | C76: Imported material | H76: m3 | I76: 100 | K76: =ROUNDUP(IF(H76<>"",I76*J76,""),2) -> 0
A78: C13.1.9 | C78: Fill within a restricted area (extra over item C5.2.2) | H78: m3 | I78: 200 | K78: =ROUNDUP(IF(H78<>"",I78*J78,""),2) -> 0
A80: C13.1.10 | C80: Haul in excess of 1,0 km on excavated material and on material imported for backfill, foundation fill and fill for caissons | H80: m3.km | I80: 5400 | K80: =ROUNDUP(IF(H80<>"",I80*J80,""),2) -> 0
...

Sheet MED BAR
A10: STRUCTURE: MEDIAN BARRIERS

Sheet SCH B - MED BAR 
A1: CONTRACT SANRAL R.573-020-2019/5R
A2: FOR THE UPGRADING OF NATIONAL ROUTE R573 SECTION 2: WORK PACKAGE B FROM KM 36.20 TO KM 48.16
A3: SCHEDULE B: STRUCTURES (MEDIAN BARRIERS)
A4: ITEM | C4: DESCRIPTION | H4: UNIT | I4: QUANTITY | J4: RATE | K4: AMOUNT
A5: CHAPTER 11 - ANCILLARY ROAD WORKS 11.5 FENCING
A8: C11.5.11 | C8: Supply and erect new high security proprietary fencing on top of median barrier
B10: (a) | C10: Barrier mesh fence 3297mm wide x 1200mm high, Grade A galvanised, 3mm dia. Wire with aperture size at 76.2mm x 12.7mm. Panel reinforced with 3 x 50mm deep V formation horizontal recessed bands | H10: m | I10: 18645 | K10: =ROUNDUP(IF(H10<>"",I10*J10,""),2) -> 0
B12: (b) | C12: Extra over item B55.11(a) for the following:
B14: (i) | C14: Steel mesh skirt, width 450mm, with 2 x 22.5 deg x 60mm wide bend on one side and 45deg x 80mm bend on the other side, Grade A galvanising | H14: m | I14: 18645 | K14: =ROUNDUP(IF(H14<>"",I14*J14,""),2) -> 0
B16: (ii) | C16: Tek screws | H16: No | I16: 52304.132 | K16: =ROUNDUP(IF(H16<>"",I16*J16,""),2) -> 0
B18: (iii) | C18: Fixator bracket- Aluminium | H18: No | I18: 52304.132 | K18: =ROUNDUP(IF(H18<>"",I18*J18,""),2) -> 0
B20: (iv) | C20: Steel base plate hot dip galvanised coated 200x 100 x 5mm thick including 4no x 12mm dia holes fitted to concrete with 4no x 10mm rawl bolts, welded to post | H20: No | I20: 6623.8816 | K20: =ROUNDUP(IF(H20<>"",I20*J20,""),2) -> 0
B22: (v) | C22: Fitting of steel mesh skirt to concrete with 6mm rawl bolts, 500mm c/c | H22: No | I22: 74825.329 | K22: =ROUNDUP(IF(H22<>"",I22*J22,""),2) -> 0
B24: (vi) | C24: E/O to cut panels to size | H24: No | I24: 466.125 | K24: =ROUNDUP(IF(H24<>"",I24*J24,""),2) -> 0
A27: C13.1 | C27: TOTAL CARRIED FORWARD TO SUMMARY | K27: =SUM(K8:K26) -> 0
A28: CHAPTER 13 - STRUCTURES 13.1 FOUNDATIONS
A31: C13.1.3 | C31: Excavation:
B33: C13.1.3.1 | C33: Excavating soft material situated within the following successive depth ranges:
B35: (a) | C35: 0m up to 1,5m | H35: m3 | I35: 3025 | K35: =ROUNDUP(IF(H35<>"",I35*J35,""),2) -> 0
B37: (b) | C37: > 1,5m and < 3,0m | H37: m3 | I37: 305 | K37: =ROUNDUP(IF(H37<>"",I37*J37,""),2) -> 0
B39: C13.1.3.3 | C39: Extra over subitem C13.1.3.1 for additional excavation required by the Engineer after excavation is complete | H39: m3 | I39: 150 | K39: =ROUNDUP(IF(H39<>"",I39*J39,""),2) -> 0
B41: C13.1.3.4 | C41: Extra over subitem C13.1.3.1 for excavation by hand | H41: m3 | I41: 305 | K41: =ROUNDUP(IF(H41<>"",I41*J41,""),2) -> 0
A43: C13.1.10 | C43: Haul in excess of 1,0 km on excavated material and on material imported for backfill, foundation fill and fill for caissons | H43: m3.km | I43: 20815 | K43: =ROUNDUP(IF(H43<>"",I43*J43,""),2) -> 0
A45: C13.1.14 | C45: Foundation fill consisting of:
B47: C13.1.14.5 | C47: Concrete blinding Class C12/15-20 75mm thick | H47: m3 | I47: 685 | K47: =ROUNDUP(IF(H47<>"",I47*J47,""),2) -> 0
A50: C13.1 | C50: TOTAL CARRIED FORWARD TO SUMMARY | K50: =SUM(K31:K49) -> 0
A51: CHAPTER 13 - STRUCTURES 13.2 FALSEWORK, FORMWAOR AND CONCRETE FINISH
A54: C13.2.2 | C54: Vertical formwork to provide :
B56: (a) | C56: Class F1 surface finish to:
B58: (i) | C58: Footings for Median barriers, manholes, end blocks and light masts | H58: m2 | I58: 4000 | K58: =ROUNDUP(IF(H58<>"",I58*J58,""),2) -> 0
B60: (ii) | C60: Ends of barrier units at joints | H60: m2 | I60: 570 | K60: =ROUNDUP(IF(H60<>"",I60*J60,""),2) -> 0
B62: (c) | C62: Class F3 surface finish to.
B64: (i) | C64: In situ median barriers, manholes, end blocks and light masts | H64: m² | I64: 1450 | K64: =ROUNDUP(IF(H64<>"",I64*J64,""),2) -> 0
A66: C13.2.6 | C66: Formwork to form open joints:
B68: (a) | C68: Between Barrier units including lightmast, footings and manholes | H68: m² | I68: 570 | K68: =ROUNDUP(IF(H68<>"",I68*J68,""),2) -> 0
A71: C13.2 | C71: TOTAL CARRIED FORWARD TO SUMMARY | K71: =SUM(K54:K70) -> 0
A72: CHAPTER 13 - STRUCTURES 13.3 STEEL REINFORCEMENT
A75: C13.3.1 | C75: Reinforcement for:
B77: C13.3.1.1 | C77: Median Barriers
B79: (a) | C79: Mild steel bars | H79: t | I79: 0.3 | K79: =ROUNDUP(IF(H79<>"",I79*J79,""),2) -> 0
...

Sheet SWM6.2
A10: STRUCTURE: SWM6.2

Sheet SCH B - SWM6.2
A1: CONTRACT SANRAL R.573-020-2019/5R
A2: FOR THE UPGRADING OF NATIONAL ROUTE R573 SECTION 2: WORK PACKAGE B FROM KM 36.20 TO KM 48.16
A3: SCHEDULE B: STRUCTURES (SWM6.2)
A4: ITEM | C4: DESCRIPTION | H4: UNIT | I4: QUANTITY | J4: RATE | K4: AMOUNT
A5: CHAPTER 11 - ANCILLARY ROAD WORKS 11.1 PITCHING, STONEWORK, CAST IN SITU CONCRETE FOR PROTECTION AGAINST EROSION
A8: C11.1.2 | C8: Stone pitching
B10: C11.1.2.2 | C10: Grouted stone pitching with mortar | H10: m2 | I10: 10 | K10: =I10*J10 -> 0
A12: C11.1.6 | C12: Concrete edge beams (Class C16/20-20) | H12: m3 | I12: 2 | K12: =I12*J12 -> 0
A15: C11.1 | C15: TOTAL CARRIED FORWARD TO SUMMARY | K15: =SUM(K8:K14) -> 0
A16: CHAPTER 13 - STRUCTURES 13.1 FOUNDATIONS
A19: C13.1.3 | C19: Excavation:
B21: C13.1.3.1 | C21: Excavating soft material situated within the following successive depth ranges:
B23: (a) | C23: 0m up to 1,5m | H23: m3 | I23: 1690 | K23: =I23*J23 -> 0
B25: (b) | C25: > 1,5m and < 3,0m | H25: m3 | I25: 750 | K25: =I25*J25 -> 0
B27: C13.1.3.3 | C27: Extra over subitem C13.1.3.1 for excavation in hard material irrespective of depth | H27: m3 | I27: 75 | K27: =I27*J27 -> 0
B29: C13.1.3.3 | C29: Extra over subitem C13.1.3.1 for additional excavation required by the Engineer after excavation is complete | H29: m3 | I29: 50 | K29: =I29*J29 -> 0
A31: C13.1.9 | C31: Fill within a restricted area (extra over item C5.2.2) | H31: m3 | I31: 650 | K31: =I31*J31 -> 0
A33: C13.1.10 | C33: Haul in excess of 1,0 km on excavated material and on material imported for backfill, foundation fill and fill for caissons | H33: m3.km | I33: 12575 | K33: =I33*J33 -> 0
A35: C13.1.14 | C35: Foundation fill consisting of:
B37: C13.1.14.5 | C37: Concrete blinding Class C12/15-20, 75mm thick | H37: m3 | I37: 70 | K37: =I37*J37 -> 0
A40: C13.1 | C40: TOTAL CARRIED FORWARD TO SUMMARY | K40: =SUM(K19:K39) -> 0
A41: CHAPTER 13 - STRUCTURES 13.2 FALSEWORK, FORMWORK AND CONCRETE FINISH
A44: C13.2.2 | C44: Vertical formwork to provide :
B46: (a) | C46: Class F1 surface finish to:
B48: (i) | C48: Cells & Wingwalls, cut-off walls | H48: m2 | I48: 450 | K48: =I48*J48 -> 0
B50: (b) | C50: Class F2 surface finish to:
B52: (i) | C52: Cell wall, ends and headwalls | H52: m² | I52: 900 | K52: =I52*J52 -> 0
B54: (ii) | C54: Wingwall faces | H54: m² | I54: 25 | K54: =I54*J54 -> 0
A56: C13.2.3 | C56: Horizontal formwork to provide :
B58: (b) | C58: Class F2 surface finish to:
B60: (i) | C60: Top slab soffit | H60: m² | I60: 720 | K60: =I60*J60 -> 0
A62: C13.2.6 | C62: Formwork to form open joints:
B64: (a) | C64: Between cells | H64: m² | I64: 65 | K64: =I64*J64 -> 0
A67: C13.2 | C67: TOTAL CARRIED FORWARD TO SUMMARY | K67: =SUM(K44:K66) -> 0
A68: CHAPTER 13 - STRUCTURES 13.3 STEEL REINFORCEMENT
A71: C13.3.1 | C71: Reinforcement for:
B73: (a) | C73: Culvert SWM 6.2
B75: (i) | C75: Mild steel bars | H75: t | I75: 0.3 | K75: =I75*J75 -> 0
B77: (ii) | C77: High-yield-stress-steel bars, hot-rolled, 450 MPa yield stress | H77: t | I77: 80 | K77: =I77*J77 -> 0
A79: C13.3.4 | C79: Extra-over item C13.3.1 (a) for galvanising of reinforcement | H79: t | I79: 0.45 | K79: =I79*J79 -> 0
...

Sheet S6 SW CH
A10: STRUCTURE S6: BULK STORMWATER CHANNEL (FROM TEMPORARY OUTLET OF SWM6.1 UP TO AND INCLUDING OUTLET TO EXISTING WATERCOURSE)

Sheet SCH B - S6 SW CH
A1: CONTRACT SANRAL R.573-020-2019/5R
A2: FOR THE UPGRADING OF NATIONAL ROUTE R573 SECTION 2: WORK PACKAGE B FROM KM 36.20 TO KM 48.16
A3: SCHEDULE B: STRUCTURES (S6: BULK STORMWATER CHANNEL INCLUDING OUTLET)
A4: ITEM | C4: DESCRIPTION | H4: UNIT | I4: QUANTITY | J4: RATE | K4: AMOUNT
A5: CHAPTER 1 - GENERAL 1.6 CLEARING AND GRUBBING
A8: C1.6.1 | C8: Clearing
B10: C1.6.1.1 | C10: Clearing with machines and some hand labour where necessary | H10: hectare (ha) | I10: 1 | K10: =J10*I10 -> 0
A12: C1.6.2 | C12: Grubbing
B14: C1.6.2.1 | C14: Grubbing with machines and some hand labour where necessary | H14: hectare (ha) | I14: 0.3 | K14: =J14*I14 -> 0
A16: C1.6.9 | C16: Conservation of topsoil
B18: C1.6.9.1 | C18: Stockpiling topsoil | H18: cubic metre (m³) | I18: 130 | K18: =J18*I18 -> 0
A21: C1.6 | C21: TOTAL CARRIED FORWARD TO SUMMARY | K21: =SUM(K8:K20) -> 0
A22: CHAPTER 1 - GENERAL 1.7 LOADING AND HAULING
A25: C1.7.1 | C25: Loading
B27: C1.7.1.3 | C27: Loading by hand only from stockpile or heaps when labour enhancement work is specified or it is not possible to use machines | H27: cubic metre (m3) | I27: 200.85 | K27: =J27*I27 -> 0
A29: C1.7.2 | C29: Hauling
B31: C1.7.2.1 | C31: Hauling material for use in the Works and off-loading it on the site of the Works:
B32: (a) | C32: Soil, gravel, crushed stone and pavement layer material | H32: cubic metre - kilometre (m3 - km) | I32: 34120 | K32: =J32*I32 -> 0
B34: C1.7.2.2 | C34: Hauling material to spoil and off-loading it at a designated spoil or stockpile area:
B35: (a) | C35: Cleared and grubbed material (organic matter and all other unsuitable or waste material) | H35: cubic metre - kilometre (m3 - km) | I35: 1606.8 | K35: =J35*I35 -> 0
B36: (c) | C36: Boulders, hard material and concrete | H36: cubic metre - kilometre (m3 - km) | I36: 200.85 | K36: =J36*I36 -> 0
A39: C1.7 | C39: TOTAL CARRIED FORWARD TO SUMMARY | K39: =SUM(K25:K38) -> 0
A40: CHAPTER 2 - SERVICES 2.1 GENERAL REQUIREMENTS AND TRENCHING FOR SERVICES
A43: C2.1.1 | C43: Location, identification, protection and relocation of existing services
B45: C2.1.1.1 | C45: Contractor’s obligations | H45: lump sum | I45: 1 | K45: =I45*J45 -> 0
B47: C2.1.1.2 | C47: Permanent services relocation or protection work by others | H47: prime cost (PC) sum | I47: Prime | J47: Cost | K47: 400000
B49: C2.1.1.3 | C49: Handling costs and profit in respect of item C2.1.1.2 above | H49: percentage (%) | I49: =K47 -> 400000 | K49: =J49*I49 -> 0
B51: C2.1.1.4 | C51: Permanent services relocation or protection work by the Contractor | H51: provisional sum | I51: Prov | J51: Sum | K51: 100000
B53: C2.1.2.3 | C53: Survey to verify existing service positions | H53: prime cost (PC) sum | I53: Prime | J53: Cost | K53: 50000
B55: C2.1.2.4 | C55: Handling costs and profit in respect of item C2.1.2.3 above | H55: percentage (%) | I55: =K53 -> 50000 | K55: =J55*I55 -> 0
A57: C2.1.17 | C57: Removal and disposal of spoil material from trench excavations:
B59: C2.1.17.1 | C59: To spoil sites provided by the Employer as indicated in the Contract Documentation or as instructed by the Engineer | H59: cubic metre (m3) | I59: 400 | K59: =J59*I59 -> 0
A62: C2.1 | C62: TOTAL CARRIED FORWARD TO SUMMARY | K62: =SUM(K43:K61) -> 550000
A63: CHAPTER 3 - DRAINAGE 3.1 DRAINS
A66: C3.1.1 | C66: Excavation for open drains:
B68: C3.1.1.4 | C68: Excavating soft material situated 0m to 1,5m below the surface level using labour enhanced construction methods | H68: cubic metre (m3) | I68: 8290 | K68: =J68*I68 -> 0
B70: C3.1.1.5 | C70: Excavating intermediate material situated 0m to 1,5m below the surface level using labour enhanced construction methods | H70: cubic metre (m3) | I70: 420 | K70: =J70*I70 -> 0
A72: C3.1.7 | C72: Natural permeable material in subsoil drainage systems (approved crushed stone):
B74: C3.1.7.2 | C74: Crushed stone obtained from commercial sources (20mm) | H74: cubic metre (m3) | I74: 331 | K74: =J74*I74 -> 0
B76: C3.1.11 | C76: Geotextile (synthetic fibre filter, Grade 1) | H76: square metre (m2) | I76: 2680 | K76: =J76*I76 -> 0
...

Sheet C2.2 ELECTRICAL
A10: SCHEDULE C: ELECTRICAL INSTALLATION

Sheet SCH C - ELEC
A1: CONTRACT SANRAL R.573-020-2019/5R
A2: FOR THE UPGRADING OF NATIONAL ROUTE R573 SECTION 2: WORK PACKAGE B FROM KM 36.20 TO KM 48.16
A3: SCHEDULE C: ELECTRICAL INSTALLATION
A4: ITEM | C4: DESCRIPTION | D4: UNIT | E4: QUANTITY | F4: RATE | G4: AMOUNT
A5: 1 | C5: PART 1: POINT OF SUPPLY
C7: Bulk Services Fee
B9: 1.1 | C9: Allow for Applications to, liaison with, co-ordination with and commissioning with Supply Authority for Shut Downs and/or Changeover, reconnection to the existing electricity network. This sum value includes for all 4 connection points | D9: Sum | E9: 1 | F9: 750000 | G9: =E9*F9 -> 750000
C11: Main LV Connections
C13: Terminate 120mm2 4C Cu + 35mm2 BCEW onto Eskom metering termination point.
B15: 1.4 | C15: Supply | D15: No | E15: 10 | G15: =E15*F15 -> 0
B17: 1.5 | C17: Install | D17: No | E17: 10 | G17: =E17*F17 -> 0
C19: Roadway Lighting Control Kiosk (RLCK)
C21: Supply, deliver to site, off load, install, test and commission vandal proof stainless steel enclosures similar or equal to the Interlock Roadside Enclosure type roadway lighting control kiosks, complete as per single line schematic diagrams and to specification. Kiosks to include security key activated lock with override option. Lock to allow integration with the Light Management System (LMS) - allowance for integration to be included as part of the cost.
C23: Roadway Lighting Control Kiosk (RLCK) TX1-1
B25: 1.6 | C25: Supply | D25: No | E25: 1 | G25: =E25*F25 -> 0
B27: 1.7 | C27: Install | D27: No | E27: 1 | G27: =E27*F27 -> 0
C29: Roadway Lighting Control Kiosk (RLCK) TX1-2
B31: 1.8 | C31: Supply | D31: No | E31: 1 | G31: =E31*F31 -> 0
B33: 1.9 | C33: Install | D33: No | E33: 1 | G33: =E33*F33 -> 0
C35: Roadway Lighting Control Kiosk (RLCK) TX1-3
B37: 1.10 | C37: Supply | D37: No | E37: 1 | G37: =E37*F37 -> 0
B39: 1.11 | C39: Install | D39: No | E39: 1 | G39: =E39*F39 -> 0
C41: Roadway Lighting Control Kiosk (RLCK) TX2-1
B43: 1.12 | C43: Supply | D43: No | E43: 1 | G43: =E43*F43 -> 0
B45: 1.13 | C45: Install | D45: No | E45: 1 | G45: =E45*F45 -> 0
C47: Roadway Lighting Control Kiosk (RLCK) TX2-2
B49: 1.14 | C49: Supply | D49: No | E49: 1 | G49: =E49*F49 -> 0
B51: 1.15 | C51: Install | D51: No | E51: 1 | G51: =E51*F51 -> 0
C53: Roadway Lighting Control Kiosk (RLCK) TX2-3
B55: 1.16 | C55: Supply | D55: No | E55: 1 | G55: =E55*F55 -> 0
B57: 1.17 | C57: Install | D57: No | E57: 1 | G57: =E57*F57 -> 0
A60: TOTAL CARRIED FORWARD | G60: =SUM(G5:G59) -> 750000
A61: TOTAL BROUGHT FORWARD | G61: =G60 -> 750000
C63: Roadway Lighting Control Kiosk (RLCK) TX3-1
B65: 1.18 | C65: Supply | D65: No | E65: 1 | G65: =E65*F65 -> 0
B67: 1.19 | C67: Install | D67: No | E67: 1 | G67: =E67*F67 -> 0
C69: Roadway Lighting Control Kiosk (RLCK) TX3-2
B71: 1.20 | C71: Supply | D71: No | E71: 1 | G71: =E71*F71 -> 0
B73: 1.21 | C73: Install | D73: No | E73: 1 | G73: =E73*F73 -> 0
C75: Roadway Lighting Control Kiosk (RLCK) TX3-3
...

Sheet C2.2 SCL + TL + TE
A10: SCHEDULE D: STAKEHOLDER AND COMMUNITY LIAISON, AND TARGETED LABOUR AND TARGETED ENTERPRISES UTILISATION AND DEVELOPMENT

Sheet SCH D - SCL + TL + TE
A1: CONTRACT SANRAL R.573-020-2019/5R
A2: FOR THE UPGRADING OF NATIONAL ROUTE R573 SECTION 2: WORK PACKAGE B FROM KM 36.20 TO KM 48.16
A3: SCHEDULE D: STAKEHOLDER AND COMMUNITY LIAISON, AND TARGETED LABOUR AND TARGETED ENTERPRISES UTILISATION AND DEVELOPMENT
A4: ITEM | C4: DESCRIPTION | H4: UNIT | I4: QUANTITY | J4: RATE | K4: AMOUNT
A6: D10.01 | C6: Target Group Participation
B7: D10.01(a) | C7: N/A
A8: D10.02 | C8: Stakeholder and Community Liaison and Social Facilitation
B9: D10.02(a) | C9: Cost of liaison, social facilitation and PLC support | H9: prime cost (PC) sum | I9: Prime | J9: Cost | K9: 1500000
B10: D10.02(b) | C10: Handling cost and profit in respect of sub-item D10.02(a) | H10: percentage (%) | I10: =K9 -> 1500000 | K10: =I10*J10 -> 0
A11: D10.03 | C11: Tender Process for Targeted Enterprises
B12: D10.03(a) | C12: Contractor’s charge for the management and execution of the Targeted Enterprise procurement process:
B13: D10.03(a)(i) | C13: Procurement process for the totality of all tenders concluded for the appointment of Targeted Enterprise subcontractors of CIDB 1 and 2 contractor grading | H13: number (No.) | I13: 6 | K13: =I13*J13 -> 0
B14: D10.03(a)(ii) | C14: Procurement process for the totality of all tenders concluded for the appointment of Targeted Enterprise subcontractors of CIDB 3 and 4 contractor grading | H14: number (No.) | I14: 3 | K14: =I14*J14 -> 0
B15: D10.03(a)(iii) | C15: Procurement process for the totality of all tenders concluded for the appointment of Targeted Enterprise subcontractors of CIDB 5 and higher contractor grading | H15: number (No.) | I15: 1 | K15: =I15*J15 -> 0
B16: D10.03(a)(iv) | C16: Procurement process for the totality of all tenders concluded for the appointment of Targeted Enterprise suppliers | H16: number (No.) | I16: 10 | K16: =I16*J16 -> 0
B17: D10.03(b) | C17: Targeted Enterprise Procurement Coordinator | H17: month | I17: 6 | K17: =I17*J17 -> 0
A18: D10.04 | C18: Responsibilities of the Contractor towards Targeted Enterprises
B19: D10.04(a) | C19: Contractor’s establishment, management, management support, assistance, coaching, guidance, mentoring and supervision of Targeted Enterprises | H19: month | I19: 27 | K19: =I19*J19 -> 0
B20: D10.04(b) | C20: Targeted Enterprise Construction Manager | H20: Person.Month | I20: 27 | K20: =I20*J20 -> 0
B21: D10.04(c) | C21: Targeted Enterprise Site Supervisors | H21: Person.Month | I21: 48 | K21: =I21*J21 -> 0
A22: D10.05 | C22: Construction Works by Targeted Enterprises
B23: D10.05(a) | C23: Payments associated with the construction works executed by Targeted Enterprise subcontractors of CIDB 1 and 2 contractor grading designation appointed in terms of Section D of the Specifications | H23: prime cost (PC) sum | I23: Prime | J23: Cost | K23: 6158800.5
B24: D10.05(b) | C24: Handling costs and profit in respect of payment associated with sub-item D10.05(a) | H24: percentage (%) | I24: =K23 -> 6158800.5 | K24: =I24*J24 -> 0
B25: D10.05(c) | C25: Fluctuation between the main contractor’s rates and that of the Targeted Enterprise subcontractors | H25: lump sum | I25: 1 | K25: =I25*J25 -> 0
B26: D10.05(d) | C26: Preliminary and General Obligations of Targeted Enterprise sub-contractors appointed in terms of Section D of the Specifications | H26: lump sum | I26: 1 | K26: =I26*J26 -> 0
A27: D10.06 | C27: Training, coaching, guidance, mentoring and assistance
B28: D10.06(a) | C28: Accredited occupational qualification training
B29: D10.06(a)(i) | C29: Stipend/wages for unemployed learners | H29: prime cost (PC) sum | I29: Prime | J29: Cost | K29: =93400*24 -> 2241600
B30: D10.06(a)(ii) | C30: Handling costs and profit in respect of payment associated with sub-item D10.06(a)(i). | H30: percentage (%) | I30: =K29 -> 2241600 | K30: =I30*J30 -> 0
B31: D10.06(a)(iii) | C31: Mentorship and other costs | H31: Person.Month | I31: 24 | J31: 120000 | K31: =I31*J31 -> 2880000
B32: D10.06(b) | C32: TVET college graduates and apprenticeships
B33: D10.06(b)(i) | C33: Stipend/wages for unemployed learners | H33: prime cost (PC) sum | I33: Prime | J33: Cost | K33: =24*28000 -> 672000
B34: D10.06(b)(ii) | C34: Handling costs and profit in respect of payment associated with sub-item D10.06(b)(i). | H34: percentage (%) | I34: =K33 -> 672000 | K34: =I34*J34 -> 0
B35: D10.06(b)(iii) | C35: Mentorship and other costs | H35: Person.Month | I35: 24 | J35: 21000 | K35: =I35*J35 -> 504000
B36: D10.06(c) | C36: P1 and P2 learners and learners with a 240 credits qualification
B37: D10.06(c)(i) | C37: Stipend/wages for unemployed learners | H37: prime cost (PC) sum | I37: Prime | J37: Cost | K37: =24*61000 -> 1464000
B38: D10.06(c)(ii) | C38: Handling costs and profit in respect of payment associated with sub-item D10.06(c)(i). | H38: percentage (%) | I38: =K37 -> 1464000 | K38: =I38*J38 -> 0
A40: TOTAL CARRIED FORWARD | K40: =SUM(K6:K38) -> 15420400
A41: TOTAL BROUGHT FORWARD | K41: =K40 -> 15420400
B42: D10.06(c)(iii) | C42: Mentorship and other costs | H42: Person.Month | I42: 24 | J42: 49000 | K42: =I42*J42 -> 1176000
...

Sheet Summary
A1: SUMMARY
A3: CONTRACT SANRAL R.573-020-2019/5R
A4: FOR THE UPGRADING OF NATIONAL ROUTE R573 SECTION 2: WORK PACKAGE B FROM KM 36.20 TO KM 48.16
A6: SCHEDULE A: ROADWORKS
A8: GENERAL
A9: C1.2 | B9: GENERAL REQUIREMENTS AND PROVISIONS | C9: ='SCH A - ROADWORKS'!K58 -> 2460000
A10: C1.3 | B10: CONTRACTOR’S SITE ESTABLISHMENT AND GENERAL OBLIGATIONS | C10: ='SCH A - ROADWORKS'!K79 -> 560000
A11: C1.4 | B11: FACILITIES FOR THE ENGINEER | C11: ='SCH A - ROADWORKS'!K182 -> 2235000
A12: C1.5 | B12: ACCOMMODATION OF TRAFFIC | C12: ='SCH A - ROADWORKS'!K274 -> 150000
A13: C1.6 | B13: CLEARING AND GRUBBING | C13: ='SCH A - ROADWORKS'!K315 -> 290000
A14: C1.7 | B14: LOADING AND HAULING | C14: ='SCH A - ROADWORKS'!K334 -> 0 | D14: =SUM(C9:C14) -> 5695000
A16: SERVICES
A17: C2.1 | B17: GENERAL REQUIREMENTS AND TRENCHING FOR SERVICES | C17: ='SCH A - ROADWORKS'!K367 -> 7220000
A18: C2.2 | B18: DRY SERVICES | C18: ='SCH A - ROADWORKS'!K389 -> 0
A19: C2.3 | B19: WET SERVICES | C19: 0
A20: C2.4 | B20: ENERGY AND OTHER SERVICES | C20: 0 | D20: =SUM(C17:C20) -> 7220000
A22: DRAINAGE
A23: C3.1 | B23: DRAINS | C23: ='SCH A - ROADWORKS'!K440 -> 100000
A24: C3.2 | B24: CULVERTS | C24: ='SCH A - ROADWORKS'!K487 -> 0
A25: C3.3 | B25: CONCRETE KERBING AND CHANNELING, ASPHALT BERMS, CHUTES, DOWNPIPES, AS WELL AS CONCRETE, STONE PITCHED AND GABION LININGS FOR OPEN DRAINS | C25: ='SCH A - ROADWORKS'!K523 -> 0 | D25: =SUM(C23:C25) -> 100000
A27: EARTHWORKS AND PAVEMENT LAYERS MATERIALS
A28: C4.1 | B28: BORROW MATERIALS | C28: ='SCH A - ROADWORKS'!K562 -> 2600000
A29: C4.2 | B29: CUT MATERIALS | C29: ='SCH A - ROADWORKS'!K591 -> 250000
A30: C4.3 | B30: EXISTING ROAD MATERIALS | C30: ='SCH A - ROADWORKS'!K621 -> 100000
A31: C4.4 | B31: COMMERCIAL MATERIALS | C31: ='SCH A - ROADWORKS'!K644 -> 75000
A32: C4.5 | B32: ALTERNATIVE MATERIALS | C32: 0 | D32: =SUM(C28:C32) -> 3025000
A34: EARTHWORKS AND PAVEMENT LAYERS CONSTRUCTION
A35: C5.1 | B35: ROADBED | C35: ='SCH A - ROADWORKS'!K673 -> 0
A36: C5.2 | B36: FILL | C36: ='SCH A - ROADWORKS'!K686 -> 0
A37: C5.3 | B37: ROAD PAVEMENT LAYERS | C37: ='SCH A - ROADWORKS'!K719 -> 100000
A38: C5.4 | B38: STABILISATION | C38: ='SCH A - ROADWORKS'!K736 -> 0
A39: C5.5 | B39: RECONSTRUCTION OF PAVEMENT LAYERS | C39: 0 | D39: =SUM(C35:C39) -> 100000
A41: CONCRETE LAYERS
A42: C6.1 | B42: PAVER LAID CONCRETE LAYERS | C42: ='SCH A - ROADWORKS'!K760 -> 0
A43: C6.2 | B43: SEGMENTAL BLOCK PAVING LAYERS | C43: ='SCH A - ROADWORKS'!K775 -> 500000 | D43: =SUM(C42:C43) -> 500000
A45: MAINTENANCE AND REPAIR CONCRETE LAYERS
A46: C7.1 | B46: REPLACEMENT OF EXISTING JOINT SEALANT | C46: 0
A47: C7.2 | B47: REPAIR TO CONCRETE PANELS AND CONCRETE ADJACENT TO UNCONTROLLED CRACKS AND EXISTING JOINTS | C47: 0
A48: C7.3 | B48: REMOVAL AND REINSTATEMENT OF EXISTING CONCRETE LAYERS | C48: 0
A49: C7.4 | B49: REINSTATEMENT OF SLAB SUPPORT BY GROUT INJECTION | C49: 0
...

Sheet Form C2.3 Summary of Pricing Sc
A1: C2.3 SUMMARY OF PRICING SCHEDULE
A3: CONTRACT SANRAL R.573-020-2019/5R
A4: FOR THE UPGRADING OF NATIONAL ROUTE R573 SECTION 2: WORK PACKAGE B FROM KM 36.20 TO KM 48.16
A7: SCHEDULE A: | B7: ROADWORKS | C7: =Summary!C127 -> 77540000
A9: SCHEDULE B: | B9: STRUCTURES | C9: =Summary!C1301 -> 1200000
A11: SCHEDULE C: | B11: ELECTRICAL INSTALLATION | C11: =Summary!C1310 -> 5763500
A13: SCHEDULE D: | B13: STAKEHOLDER AND COMMUNITY LIAISON, AND TARGET LABOUR AND TARGETED ENTERPRISES UTILISATION AND DEVELOPMENT | C13: =Summary!C1377 -> 34207600
A16: SUBTOTAL A | C16: =C7+C9+C11+C13 -> 1.187111e+08
A20: VALUE ADDED TAX:
A21: 15% of Subtotal B | C21: =C16*0.15 -> 17806665
A23: TOTAL CARRIED TO C.1.1.1 : FORM OF OFFER | C23: =C16+C21 -> 1.3651777e+08
A29: SIGNED BY TENDERER: …...................................................................................................................
