Workbook
Name AA: #REF!
Name Answers_to_Template4_Q: #REF!
Name ccc: #REF!
Name Cost_Changes: #REF!
Name EE: #REF!
Name fff: #REF!
Name ggg: #REF!
Name Names_cells: #REF!
Name ppp: #REF!
Name QQ: #REF!
Name RR: #REF!
Name SS: #REF!
Name TOTAL_E: #REF!
Name TOTAL_I: #REF!
Name TOTAL_M: #REF!
Name TT: #REF!
Name WW: #REF!
Name XX: #REF!
Name XXXX: #REF!
Name Years: #REF!
Name YY: #REF!

Sheet COVER SHEET
J2: ANNEXURE A3
A10: PRICING SUBMISSION
A12: RFP NO: | E12: DPSA002/2022
A14: RFP NAME: | E14: APPOINTMENT OF TRAVEL MANAGEMENT COMPANY TO PROVIDE TRAVEL MANAGEMENT SERVICES TO THE DEPARTMENT OF PUBLIC SERVICES AND ADMINISTRATION
A16: BIDDER NAME | E16: <NAME OF BIDDER TO BE FILLED IN HERE>
A18: PRICE INSTRUCTIONS
A19: 1. STRUCTURE OF THE TENDER
A20: This spreadsheet for RFP/BID DPSA002/2022 contains the financial response templates for the bid. The bid pricing submission instructions in this document must be read in conjunction with instructions or notes embedded in the various tabs of spreadsheet (Pricing Schedule).
A22: 2. GENERAL INSTRUCTIONS FOR COMPLETING THE PRICING SCHEDULE TEMPLATES
A23: 2.1 Tender submission format
A24: 2.1.1 Bidders must submit a paper copy and an electronic copy of the Pricing Schedules. In the event of a discrepancy, the paper copy will prevail.
A25: 2.1.2 Bidders must sign all paper copies of their Pricing Schedule.
A26: 2.1.3 Bidders must complete and submit the templates attached, which is the transactional fee model offsite
A27: 2.1.4 Bidders must reference RFP/BID main document section 16.2 for current travel volumes.
A28: 2.2 Input spreadsheets
A29: 2.2.1 The Pricing Schedule templates are contained witin this one (1) Excel Workbook.
A30: 2.2.2 Bidders must not make any changes to the spreadsheets or change the formatting of the Pricing Schedule.
... A39: 2.3.2 The Pricing Schedule template is designed such that VAT will be calculated on Bidders’ input pricing; therefore Bidders must complete the templates with unit prices excluding VAT.

Sheet Transaction Fee Offsite
C1: TEMPLATE 2: TRANSACTION FEE MODEL
C4: OFF-SITE SERVICES
A7: RFP NO: | C7: DPSA002/2022
A8: RFP NAME: | C8: ='[1]COVER SHEET'!$E19 -> THE PROVISION OF TRAVEL MANAGEMENT SERVICES FOR A PERIOD OF 36 MONTHS
A9: BIDDER NAME | C9: ='[1]COVER SHEET'!$E21 -> <NAME OF BIDDER TO BE FILLED IN HERE>
A11: 1.1 TRANSACTION FEES
B12: Please note: The fee included in column D must be the total fixed fee per transaction e.g. Hotel booking = R30 booking fee + R50 back office charge + R15 bill back = R95.00 Fees based on a percentage of spent must be indicated separate in the space provided also in column D
D13: TRADITIONAL BOOKINGS | G13: ONLINE BOOKINGS
A14: ITEM | B14: Transaction Type | C14: Estimated Volume per financial year | D14: Unit Price (excl VAT) | E14: Unit Price (incl VAT) | F14: TOTAL Price (incl VAT) | G14: Unit Price (excl VAT) | H14: Unit Price (incl VAT) | I14: TOTAL Price (incl VAT)
A15: 1 | B15: Air Travel – International | C15: 25 | E15: =D15*1.15 -> 0 | F15: =E15*C15 -> 0 | H15: =G15*1.15 -> 0 | I15: =H15*C15 -> 0
A16: 2 | B16: Air Travel – Regional | C16: 19 | E16: =D16*1.15 -> 0 | F16: =E16*C16 -> 0 | H16: =G16*1.15 -> 0 | I16: =H16*C16 -> 0
A17: 3 | B17: Air Travel – Domestic | C17: 849 | E17: =D17*1.15 -> 0 | F17: =E17*C17 -> 0 | H17: =G17*1.15 -> 0 | I17: =H17*C17 -> 0
A18: 4 | B18: Air Travel – International (Re-issue) | C18: 5 | E18: =D18*1.15 -> 0 | F18: =E18*C18 -> 0 | H18: =G18*1.15 -> 0 | I18: =H18*C18 -> 0
A19: 5 | B19: Air Travel – Regional (Re-issue) | C19: 5 | E19: =D19*1.15 -> 0 | F19: =E19*C19 -> 0 | H19: =G19*1.15 -> 0 | I19: =H19*C19 -> 0
A20: 6 | B20: Air Travel – Domestic (Re-issue) | C20: 50 | E20: =D20*1.15 -> 0 | F20: =E20*C20 -> 0 | H20: =G20*1.15 -> 0 | I20: =H20*C20 -> 0
A21: 7 | B21: Refunds – Air Domestic | C21: 50 | E21: =D21*1.15 -> 0 | F21: =E21*C21 -> 0 | H21: =G21*1.15 -> 0 | I21: =H21*C21 -> 0
A22: 8 | B22: Refunds – Air Regional | C22: 2 | E22: =D22*1.15 -> 0 | F22: =E22*C22 -> 0 | H22: =G22*1.15 -> 0 | I22: =H22*C22 -> 0
A23: 9 | B23: Refunds – Air International | C23: 2 | E23: =D23*1.15 -> 0 | F23: =E23*C23 -> 0 | H23: =G23*1.15 -> 0 | I23: =H23*C23 -> 0
A24: 10 | B24: Car Rental – Domestic | C24: 278 | E24: =D24*1.15 -> 0 | F24: =E24*C24 -> 0 | H24: =G24*1.15 -> 0 | I24: =H24*C24 -> 0
A25: 11 | B25: Car Rental – Regional | C25: 10 | E25: =D25*1.15 -> 0 | F25: =E25*C25 -> 0 | H25: =G25*1.15 -> 0 | I25: =H25*C25 -> 0
A26: 12 | B26: Car Rental – International | C26: 10 | E26: =D26*1.15 -> 0 | F26: =E26*C26 -> 0 | H26: =G26*1.15 -> 0 | I26: =H26*C26 -> 0
... A44: 31 | B44: Travel Lodge card Reconciliation | C44: 36 | E44: =D44*1.15 -> 0 | F44: =E44*C44 -> 0 | H44: =G44*1.15 -> 0 | I44: =H44*C44 -> 0
C46: The bidder needs to include a volume below determined by the information provided in section 16.2 of the Request for Proposal
A47: 33 | B47: Other (Specify) | C47: 0 | E47: =D47*1.15 -> 0 | F47: =E47*C47 -> 0 | H47: =G47*1.15 -> 0 | I47: =H47*C47 -> 0
A48: 34 | B48: Other (Specify) | C48: 0 | E48: =D48*1.15 -> 0 | F48: =E48*C48 -> 0 | H48: =G48*1.15 -> 0 | I48: =H48*C48 -> 0
B49: Subtotal | F49: =SUM(F15:F48) -> 0 | I49: =SUM(I15:I48) -> 0
D51: TRADITIONAL BOOKINGS | G51: ONLINE BOOKINGS
A52: ITEM | B52: Transaction Type | C52: Estimated Value | D52: Percentage (excl VAT) | E52: Percentage (incl VAT) | F52: TOTAL Price (incl VAT) | G52: Percentage (excl VAT) | H52: Percentage (incl VAT) | I52: TOTAL Price (incl VAT)
A53: 35 | B53: Merchant fee % on ground arrangements | C53: 7140000 | E53: =D53*1.15 -> 0 | F53: =E53*C53 -> 0 | H53: =G53*1.15 -> 0 | I53: =H53*C53 -> 0
A54: 36 | B54: Conference Transaction Fee % | C54: 1018000 | E54: =D54*1.15 -> 0 | F54: =E54*C54 -> 0 | H54: =G54*1.15 -> 0 | I54: =H54*C54 -> 0
C56: The bidder needs to include a Rand value below determined by the information provided in section 16.2 of the Request for Proposal
A57: 37 | B57: Any other fee that will be charged as a percentage (specify) | C57: 0 | E57: =D57*1.15 -> 0 | F57: =E57*C57 -> 0 | H57: =G57*1.15 -> 0 | I57: =H57*C57 -> 0
A58: 38 | B58: Any other fee that will be charged as a percentage (specify) | C58: 0 | E58: =D58*1.15 -> 0 | F58: =E58*C58 -> 0 | H58: =G58*1.15 -> 0 | I58: =H58*C58 -> 0
B59: Subtotal | F59: =SUM(F53:F58) -> 0 | I59: =SUM(I53:I58) -> 0
B60: TOTAL | F60: =SUM(F59+F49) -> 0 | I60: =SUM(I59+I49) -> 0
A61: Percentage Split between Online Booking and Traditional Booking | D61: Percentage Traditional | E61: 0.75 | F61: =F60*E61 -> 0 | G61: Percentage Online | H61: 0.25 | I61: =I60*H61 -> 0
A62: PRICE THAT WILL BE USED FOR EVALUATION PURPOSES | E62: =SUM(F61+I61) -> 0
B63: ALL FEES CHARABLE MUST BE INCLUDED IN THE PRICING SCHEDULE. ANY FEES NOT DISCLOSED IN THE PRICING SCHEDULE CAN NOT FOR PART OF THE SERVICE LEVEL AGREEMENT

Sheet Price Declaration 
A8: RFP NO: | C8: ='COVER SHEET'!$E$12 -> DPSA002/2022
A9: RFP NAME: | C9: ='COVER SHEET'!$E$14 -> APPOINTMENT OF TRAVEL MANAGEMENT COMPANY TO PROVIDE TRAVEL MANAGEMENT SERVICES TO THE DEPARTMENT OF PUBLIC SERVICES AND ADMINISTRATION
A10: BIDDER NAME | C10: ='COVER SHEET'!$E$16 -> <NAME OF BIDDER TO BE FILLED IN HERE>
A12: Price Declaration
A13: Dear Sir/Madam,
A15: Having read through and examined the Request For Proposal (RFP) Document, the General Conditions, The Requirement and all other Annexures to the RFP Document, we offer to provide OFF-SITE travel management service to the Department of Public Service and Administration at the following total amounts (including VAT)
A16: Template 2: Transaction Fee (Off-Site)
A17: ='Transaction Fee Offsite'!A62:D62 -> PRICE THAT WILL BE USED FOR EVALUATION PURPOSES | C17: (incl. VAT) | E17: ='Transaction Fee Offsite'!E62:I62 -> 0
A18: In words:
A20: We understand that any fees not speficially mentioned and calculated in the pricing proposal will not be chargable.
A22: We undertake to hold this offer open for acceptance for a period of 90 days from the date of submission of offers. We further undertake that upon final acceptance of our offer, we will commence with the provision of service when required to do so by the Department of Public Service and Administration.
A24: We understand that the Department of Public Service and Administration are not bound to accept the lowest or any offer and that we must bear all costs which we have incurred in connection with preparing and submitting this bid.
A26: We hereby undertake for the period during which this bid remains open for acceptance not to divulge to any persons, other than the persons to which the bid is submitted, any information relating to the submission of this bid or the details therein except where such is necessary for the submission of this bid.
A28: Signature | E28: Date
A29: Print name of signatory: …………………………………………………………………………….
A30: Designation: ………………………………………………………………………………………….
A32: FOR AND ON BEHALF OF: COMPANY NAME
A34: Tel No: ……………………………………….
A35: Fax No: ……………………………………….
A36: Cell No: ……………………………………….
A37: Email:………………………………………….
