Workbook

Sheet MV Cable (Civil)
A1: \
B2: Bill of Activities
B3: Item | C3: Reference: Drawing / Standard | D3: Description | E3: Unit | F3: Material Quantity | G3: Material Rate | H3: Material Total | I3: Labour Quantity | J3: Labour Rate | K3: Labour Total | L3: Total
B4: Civil Contractor : P&Gs and Pre-construction related activities.
B5: 1.1 | C5: n/a | D5: Supply and install during construction and remove after construction, danger labels, Water filled plastic barricading and steel guard rails along the cable route length and joint bays as needed. – Signs must be clearly visible even in poor visibility conditions. – (Use warning illuminants where possible.) | E5: Sum | G5: 0 | H5: =F5*G5 -> 0 | J5: 0 | K5: =I5*J5 -> 0 | L5: =H5+K5 -> 0
B6: 1.2 | C6: n/a | D6: Supply and install during construction and remove after construction, danger labels, concrete barricading and steel guard rails along the cable route length and joint bays. – Signs must be clearly visible even in poor visibility conditions. – (Use warning illuminants where possible.) | E6: Sum | G6: 0 | H6: =F6*G6 -> 0 | J6: 0 | K6: =I6*J6 -> 0 | L6: =H6+K6 -> 0
B7: 1.3 | C7: n/a | D7: Supply and Install steel trench covers / plates during construction, and remove after construction, to ensure that there is access to properties and pedestrian crossings (where needed) while work is performed on the MV cable along the route length. | E7: Sum | G7: 0 | H7: =F7*G7 -> 0 | J7: 0 | K7: =I7*J7 -> 0 | L7: =H7+K7 -> 0
B8: 1.4 | C8: n/a | D8: Appoint an independent and professional third party to perform Traffic control studies and report back with a Traffic control plan, and submit a copy to Eskom on a digital media. - Prior approval required. | E8: Cost plus fee | G8: 0 | H8: =F8*G8 -> 0 | J8: 0 | K8: =I8*J8 -> 0 | L8: =H8+K8 -> 0
B9: 1.5 | C9: n/a | D9: Civil Engineering - Prior approval required. | E9: Cost plus fee | G9: 0 | H9: =F9*G9 -> 0 | J9: 0 | K9: =I9*J9 -> 0 | L9: =H9+K9 -> 0
B10: 1.6 | C10: n/a | D10: Supply traffic control staff and equipment throughout the construction as required. - Prior approval required. | E10: Per day | G10: 0 | H10: =F10*G10 -> 0 | J10: 0 | K10: =I10*J10 -> 0 | L10: =H10+K10 -> 0
B11: Total | H11: =SUM(H5:H10) -> 0 | K11: =SUM(K5:K10) -> 0 | L11: =SUM(L5:L10) -> 0
B12: Civil Contractor : River crossing and embankment support
B13: 2.1 | C13: D-DT-0895 Sheet 7 and SANS 677 | D13: Determine depth of river and construct a start and end shaft / pit for pipe jacking (Cost to include both excavations). Pipes to be jacked a minimum of 2m below the base of the river bed. (Pipe jack pit / shaft to be done in accordance with National and Eskom standards and applicable legislation.) Costs also to include rock blasting if required, and the removal, transportation and dumping (in accordance with the Maintenance Management plan / EMP ) of water from the pit /shaft and installed concrete pipe, if required. Costs also to include backfilling and reinstatement of area to its original state after construction. | E13: 2 x pits / shafts | G13: 0 | H13: =F13*G13 -> 0 | J13: 0 | K13: =I13*J13 -> 0 | L13: =H13+K13 -> 0
B14: 2.2 | C14: D-DT-0895 Sheet 7 and SANS 677 | D14: Pipe jack concrete pipes underneath a river. Pipes to be a minimum of 2m below the base of the river bed. Costs to include reinforced precast concrete pipes for pipe jacking, and Spigot and Socket joints or in-the-wall joints for the pipes. Concrete pipes shall comply to SANS 677 type SC requirements as well as National and Eskom standards. | E14: m | G14: 0 | H14: =F14*G14 -> 0 | J14: 0 | K14: =I14*J14 -> 0 | L14: =H14+K14 -> 0
B15: 2.3 | C15: D-DT-0895 Sheet 7 and SANS 677 | D15: Space, position and fix all PVC / PE ducts for the entire length of the PVC / PE ducts inside the concrete pipe. This can be achieved using rot-proof or remanufactured spacers. (Supply and install.) | E15: m | G15: 0 | H15: =F15*G15 -> 0 | J15: 0 | K15: =I15*J15 -> 0 | L15: =H15+K15 -> 0
B16: 2.4 | C16: D-DT-8018, D-DT-0895 sheet 7 | D16: Supply and Install 6m lengths of 250mm diameter PVC / PE ducts and sockets inside the concrete pipe for MV cables. (PVC / PE pipes to protrude a minimum of 2000mm past pre-cast channel / pipe into the bank of the river/stream. High level water mark to be used as reference.) | E16: m | G16: 0 | H16: =F16*G16 -> 0 | J16: 0 | K16: =I16*J16 -> 0 | L16: =H16+K16 -> 0
B17: 2.5 | C17: D-DT-8018, D-DT-0895 sheet 7 | D17: Supply and Install 6m lengths of 250mm diameter PVC / PE ducts and sockets inside the concrete pipe as spares for maintenance. (PVC / PE pipes to protrude a minimum of 2000mm past pre-cast channel / pipe, into the bank of the river/stream. High level water mark to be used as reference.) | E17: m | G17: 0 | H17: =F17*G17 -> 0 | J17: 0 | K17: =I17*J17 -> 0 | L17: =H17+K17 -> 0
B18: 2.6 | C18: D-DT-8018, D-DT-0895 sheet 7 | D18: Supply and Install 6m lengths of 160mm diameter PVC / PE ducts and sockets inside the concrete pipe for MV cables. (PVC / PE pipes to protrude a minimum of 2000mm past pre-cast channel / pipe into the bank of the river/stream. High level water mark to be used as reference.) | E18: m | G18: 0 | H18: =F18*G18 -> 0 | J18: 0 | K18: =I18*J18 -> 0 | L18: =H18+K18 -> 0
B19: 2.7 | C19: D-DT-8018, D-DT-0895 sheet 7 | D19: Supply and Install 6m lengths of 160mm diameter PVC / PE ducts and sockets inside the concrete pipe as spares for maintenance. (PVC / PE pipes to protrude a minimum of 2000mm past pre-cast channel / pipe, into the bank of the river/stream. High level water mark to be used as reference.) | E19: m | G19: 0 | H19: =F19*G19 -> 0 | J19: 0 | K19: =I19*J19 -> 0 | L19: =H19+K19 -> 0
B20: 2.8 | C20: D-DT-8018, D-DT-0895 sheet 7 | D20: Supply, deliver and fill a concrete pipe with a bentonite and water mix (10:1) that is combined with a sand and cement mix (20:8) in the ratio 100:1. The mix must be kept in position by sealing the end of the concrete pipe with densomastic paste (to prevent water ingress), while ensuring the PVC / PE pipes inside still protrude past the concrete pipe and is not filled with any backfill material. | E20: m³ | G20: 0 | H20: =F20*G20 -> 0 | J20: 0 | K20: =I20*J20 -> 0 | L20: =H20+K20 -> 0
B21: 2.9 | C21: n/a | D21: Supply, deliver and Seal spare 250mm diameter PVC / PE ducts with suitable caps to prevent ingress of water, vermin and backfill material. | E21: Each | G21: 0 | H21: =F21*G21 -> 0 | J21: 0 | K21: =I21*J21 -> 0 | L21: =H21+K21 -> 0
B22: 2.10 | C22: n/a | D22: Supply, deliver and Seal spare 160mm diameter PVC / PE ducts with suitable caps to prevent ingress of water, vermin and backfill material. | E22: Each | G22: 0 | H22: =F22*G22 -> 0 | J22: 0 | K22: =I22*J22 -> 0 | L22: =H22+K22 -> 0
B23: 2.11 | C23: n/a | D23: Supply and Install non-metallic draw wires in any size spare PVC / PE sleeves. | E23: m | G23: 0 | H23: =F23*G23 -> 0 | J23: 0 | K23: =I23*J23 -> 0 | L23: =H23+K23 -> 0
B24: 2.12 | C24: Maintenance Management plan / EMP and Civil Engineer's engineering report. | D24: Supply and Install gabions mitigate impede soil erosion. - Prior approval required. | E24: m³ | G24: 0 | H24: =F24*G24 -> 0 | J24: 0 | K24: =I24*J24 -> 0 | L24: =H24+K24 -> 0
... B28: 2.16 | C28: Maintenance Management plan / EMP and Civil Engineer's engineering report. | D28: Supply and Install earth Clay plug. - Prior approval required. | E28: m³ | G28: 0 | H28: =F28*G28 -> 0 | J28: 0 | K28: =I28*J28 -> 0 | L28: =H28+K28 -> 0
B29: Total | H29: =SUM(H13:H28) -> 0 | K29: =SUM(K13:K28) -> 0 | L29: =SUM(L13:L28) -> 0
B30: Civil Contractor : Road crossing
B31: 3.1 | C31: 240-56030635 or Site Specific drawing | D31: Directionally drill underneath road and supply and install 250mm diameter PVC / PE duct for MV cable. Contractor to supply PVC / PE pipe compatible with its machine. | E31: m | G31: 0 | H31: =F31*G31 -> 0 | J31: 0 | K31: =I31*J31 -> 0 | L31: =H31+K31 -> 0
B32: 3.2 | C32: 240-56030635 or Site Specific drawing | D32: Directionally drill underneath road and supply and install 160mm diameter PVC / PE duct for MV cable. Contractor to supply PVC / PE pipe compatible with its machine. | E32: m | G32: 0 | H32: =F32*G32 -> 0 | J32: 0 | K32: =I32*J32 -> 0 | L32: =H32+K32 -> 0
B33: 3.3 | C33: 240-56030635 or Site Specific drawing | D33: Bullet underneath road and supply and install 250mm diameter PVC / PE duct for MV cable. Contractor to supply PVC / PE pipe compatible with its machine. | E33: m | G33: 0 | H33: =F33*G33 -> 0 | J33: 0 | K33: =I33*J33 -> 0 | L33: =H33+K33 -> 0
B34: 3.4 | C34: 240-56030635 or Site Specific drawing | D34: Bullet underneath road and supply and install 160mm diameter PVC / PE duct for MV cable. Contractor to supply PVC / PE pipe compatible with its machine. | E34: m | G34: 0 | H34: =F34*G34 -> 0 | J34: 0 | K34: =I34*J34 -> 0 | L34: =H34+K34 -> 0
B35: 3.5 | C35: D-DT-8018 | D35: Install a 250mm diameter PVC / PE sleeves underneath road / entrance (each PVC / PE is in 6m length) for MV cable. Cost to include the concrete casted over the PVC / PE sleeves which shall have a minimum surround of 75 mm, to prevent collapsing or deformation after backfilling. The concrete strength shall be at least 15 MPA. | E35: m | G35: 0 | H35: =F35*G35 -> 0 | J35: 0 | K35: =I35*J35 -> 0 | L35: =H35+K35 -> 0
B36: 3.6 | C36: D-DT-8018 | D36: Install 160mm diameter PVC / PE sleeves underneath road / entrance (each PVC / PE is in 6m length) for MV cable. Cost to include the concrete casted over the PVC / PE sleeves which shall have a minimum surround of 75 mm, to prevent collapsing or deformation after backfilling. The concrete strength shall be at least 15 MPA. | E36: m | G36: 0 | H36: =F36*G36 -> 0 | J36: 0 | K36: =I36*J36 -> 0 | L36: =H36+K36 -> 0
B37: 3.7 | C37: n/a | D37: Supply, deliver and Seal spare 250mm diameter PVC / PE ducts with suitable caps to prevent ingress of water, vermin and backfill material. | E37: Each | G37: 0 | H37: =F37*G37 -> 0 | J37: 0 | K37: =I37*J37 -> 0 | L37: =H37+K37 -> 0
B38: 3.8 | C38: n/a | D38: Supply, deliver and Seal spare 160mm diameter PVC / PE ducts with suitable caps to prevent ingress of water, vermin and backfill material. | E38: Each | G38: 0 | H38: =F38*G38 -> 0 | J38: 0 | K38: =I38*J38 -> 0 | L38: =H38+K38 -> 0
B39: 3.9 | C39: n/a | D39: Supply and Install non-metallic draw wires in any size spare diameter PVC / PE sleeves. | E39: m | G39: 0 | H39: =F39*G39 -> 0 | J39: 0 | K39: =I39*J39 -> 0 | L39: =H39+K39 -> 0
B40: Total | H40: =SUM(H31:H39) -> 0 | K40: =SUM(K31:K39) -> 0 | L40: =SUM(L31:L39) -> 0
B41: Civil Contractor : MV Cable installation
B42: 4.1 | C42: n/a | D42: Saw cutting of road surface. (One side of trench) | E42: m | G42: 0 | H42: =F42*G42 -> 0 | J42: 0 | K42: =I42*J42 -> 0 | L42: =H42+K42 -> 0
B43: 4.2 | C43: n/a | D43: Saw cutting of road surface. (On both sides of trench) | E43: Total length - m | G43: 0 | H43: =F43*G43 -> 0 | J43: 0 | K43: =I43*J43 -> 0 | L43: =H43+K43 -> 0
...

Sheet Summary (Civil)
C2: Item | D2: Total
B3: 1 | C3: ='MV Cable (Civil)'!$B$4 -> Civil Contractor : P&Gs and Pre-construction related activities. | D3: ='MV Cable (Civil)'!L11 -> 0 | F3: ='MV Cable (Civil)'!#REF! -> #REF! | G3: ='MV Cable (Civil)'!#REF! -> #REF! | H3: ='MV Cable (Civil)'!#REF! -> #REF! | I3: ='MV Cable (Civil)'!#REF! -> #REF! | J3: ='MV Cable (Civil)'!#REF! -> #REF! | K3: ='MV Cable (Civil)'!#REF! -> #REF! | L3: ='MV Cable (Civil)'!#REF! -> #REF! | M3: ='MV Cable (Civil)'!#REF! -> #REF!
B4: 2 | C4: ='MV Cable (Civil)'!$B$12 -> Civil Contractor : River crossing and embankment support | D4: ='MV Cable (Civil)'!L29 -> 0
B5: 3 | C5: ='MV Cable (Civil)'!$B$30 -> Civil Contractor : Road crossing | D5: ='MV Cable (Civil)'!L40 -> 0
B6: 4 | C6: ='MV Cable (Civil)'!$B$41 -> Civil Contractor : MV Cable installation | D6: ='MV Cable (Civil)'!L75 -> 0
B7: 5 | C7: ='MV Cable (Civil)'!$B$76 -> Civil Contractor : MV Joint bays | D7: ='MV Cable (Civil)'!L94 -> 0
B8: 6 | C8: ='MV Cable (Civil)'!$B$95 -> Civil Contractor : Cable Route Markers | D8: ='MV Cable (Civil)'!L98 -> 0
B9: 7 | C9: ='MV Cable (Civil)'!$B$99 -> Civil Contractor : Removal of existing MV cable (where new cable isn't installed) | D9: ='MV Cable (Civil)'!L108 -> 0
B10: 8 | C10: ='MV Cable (Civil)'!B109 -> Civil Contractor : Reinstatement (For new cable and old cable to be decommissioned.) | D10: ='MV Cable (Civil)'!L164 -> 0
C11: Total | D11: =SUM(D3:D10) -> 0

Sheet MV Cable (Electrical)
B2: Bill of Activities
B3: Item | C3: Reference: Drawing / Standard | D3: Description | E3: Unit | F3: Material Quantity | G3: Material Rate | H3: Material Total | I3: Labour Quantity | J3: Labour Rate | K3: Labour Total | L3: Total
B4: Electrical Contractor : P&Gs and Pre-construction related activities.
B5: 1.1 | C5: n/a | D5: PPE, Total Labour Value | E5: % | G5: 0 | H5: =F5*G5 -> 0 | J5: 0 | K5: =I5*J5 -> 0 | L5: =H5+K5 -> 0
B6: 1.2 | C6: n/a | D6: Risk Assessment Procedure, QM, Quality Management System, Health and Safety Specification, Environmental Plan, Safety Inspections, OHSA appointments, Non-Conformance Process. Percentage of Total Labour Value, after certification. | E6: % | G6: 0 | H6: =F6*G6 -> 0 | J6: 0 | K6: =I6*J6 -> 0 | L6: =H6+K6 -> 0
B7: 1.3 | C7: n/a | D7: Environmental Compliance & Site maintenance | E7: % | G7: 0 | H7: =F7*G7 -> 0 | J7: 0 | K7: =I7*J7 -> 0 | L7: =H7+K7 -> 0
B8: 1.4 | C8: PSIRA | D8: Security Officer - Grade C unarmed (with Panic button) | E8: Per day | G8: 0 | H8: =F8*G8 -> 0 | J8: 0 | K8: =I8*J8 -> 0 | L8: =H8+K8 -> 0
B9: 1.5 | C9: PSIRA and Firearm Control Act | D9: Security Officer - Grade C armed (with Panic button) | E9: Per day | G9: 0 | H9: =F9*G9 -> 0 | J9: 0 | K9: =I9*J9 -> 0 | L9: =H9+K9 -> 0
B10: 1.6 | C10: PSIRA | D10: Bulletproof vests (once-off payment) | E10: Each - Once off payment per year contract. | G10: 0 | H10: =F10*G10 -> 0 | J10: 0 | K10: =I10*J10 -> 0 | L10: =H10+K10 -> 0
B11: 1.7 | C11: PSIRA | D11: Guard House (For Security Officer) | E11: Per day | G11: 0 | H11: =F11*G11 -> 0 | J11: 0 | K11: =I11*J11 -> 0 | L11: =H11+K11 -> 0
B12: 1.8 | C12: n/a | D12: Toilets (Security officers and General contract workers) | E12: Per day | G12: 0 | H12: =F12*G12 -> 0 | J12: 0 | K12: =I12*J12 -> 0 | L12: =H12+K12 -> 0
B13: 1.9 | C13: n/a | D13: Pump Water to ensure trenches and joint bays are free of water at all times. | E13: Hour | G13: 0 | H13: =F13*G13 -> 0 | J13: 0 | K13: =I13*J13 -> 0 | L13: =H13+K13 -> 0
B14: 1.10 | C14: n/a | D14: Provide Cable flash blankets, to be used along the cable route, when in close proximity to other live cables. | E14: Sum | G14: 0 | H14: =F14*G14 -> 0 | J14: 0 | K14: =I14*J14 -> 0 | L14: =H14+K14 -> 0
B15: 1.11 | C15: n/a | D15: Set up cable drums station | E15: Sum | G15: 0 | H15: =F15*G15 -> 0 | J15: 0 | K15: =I15*J15 -> 0 | L15: =H15+K15 -> 0
B16: 1.12 | C16: n/a | D16: Set up winch station | E16: Sum | G16: 0 | H16: =F16*G16 -> 0 | J16: 0 | K16: =I16*J16 -> 0 | L16: =H16+K16 -> 0
... B19: 1.15 | C19: n/a | D19: Supply and run Generator and lights at joint bays. Fuel to be supplied by contractor. | E19: Hour | G19: 0 | H19: =F19*G19 -> 0 | J19: 0 | K19: =I19*J19 -> 0 | L19: =H19+K19 -> 0
B20: Total | H20: =SUM(H5:H19) -> 0 | K20: =SUM(K5:K19) -> 0 | L20: =SUM(L5:L19) -> 0
B21: Electrical Contractor : River crossing
B22: 2.1 | C22: n/a | D22: Supply, deliver and fill PVC / PE pipes, occupied by MV cable with bentonite and water mix (10:1) that is combined with a sand and cement mix (20:8) in the ratio of 100:1. The mix shall be kept in position by sealing the end of the pipe duct with densomastic paste (Supplied and installed by contractor) where the power cable enters and exits to prevent water ingress. | E22: m³ | G22: 0 | H22: =F22*G22 -> 0 | J22: 0 | K22: =I22*J22 -> 0 | L22: =H22+K22 -> 0
B23: Total | H23: =SUM(H22:H22) -> 0 | K23: =SUM(K22:K22) -> 0 | L23: =SUM(L22:L22) -> 0
B24: Electrical Contractor : Road crossing
B25: 3.1 | C25: n/a | D25: Supply, deliver and fill PVC / PE ducts with Power cable inside (total linear length longer than 3m) with bentonite and water mix (10:1) that is combined with a sand and cement mix (20:8) in the ratio of 100:1. The mix shall be kept in position by sealing the end of the pipe duct with densomastic paste (Supplied and installed by contractor) where the power cable enters and exits to prevent water ingress. | E25: m³ | G25: 0 | H25: =F25*G25 -> 0 | J25: 0 | K25: =I25*J25 -> 0 | L25: =H25+K25 -> 0
B26: 3.2 | C26: n/a | D26: Supply, offload (transport) and install rot-proof bags containing a weak sand-cement mix (30:1) for a distance of approximately 0.5 m into the MV cable trench wherever cable enters or exists a pipe duct, to support the MV cable. | E26: Bag | G26: 0 | H26: =F26*G26 -> 0 | J26: 0 | K26: =I26*J26 -> 0 | L26: =H26+K26 -> 0
B27: 3.3 | C27: n/a | D27: Supply, offload (transport) and install rot-proof bags containing a weak sand-cement mix (30:1) when constructing a road crossing. Bags to be placed such that it forms a double wall on both sides of the trench (for support). Bags to be re-used at crossings. | E27: Bag | G27: 0 | H27: =F27*G27 -> 0 | J27: 0 | K27: =I27*J27 -> 0 | L27: =H27+K27 -> 0
B28: Total | H28: =SUM(H25:H27) -> 0 | K28: =SUM(K25:K27) -> 0 | L28: =SUM(L25:L27) -> 0
B29: Electrical Contractor : MV Cable trenches
B30: 4.1 | C30: SANS 10198 and D-DT-0854 | D30: Supply (Import), install and hand compact (90% MOD AASHTO) imported 1.2 Km/W sifted soil as bedding and blanket for the MV cable. | E30: m³ | G30: 0 | H30: =F30*G30 -> 0 | J30: 0 | K30: =I30*J30 -> 0 | L30: =H30+K30 -> 0
B31: 4.2 | C31: SANS 10198 and D-DT-0854 | D31: Supply (Import), install and hand compact (90% MOD AASHTO) imported 1 Km/W sifted soil as bedding and blanket for the MV cable. | E31: m³ | G31: 0 | H31: =F31*G31 -> 0 | J31: 0 | K31: =I31*J31 -> 0 | L31: =H31+K31 -> 0
B32: 4.3 | C32: SANS 10198 and D-DT-0854 | D32: Supply (Import), install and hand compact (90% MOD AASHTO) imported 0.8 Km/W sifted soil as bedding and blanket for the MV cable. | E32: m³ | G32: 0 | H32: =F32*G32 -> 0 | J32: 0 | K32: =I32*J32 -> 0 | L32: =H32+K32 -> 0
B33: 4.4 | C33: SANS 10198 and D-DT-0854 | D33: Backfill sift and hand compact (90% MOD AASHTO) original soil as bedding and blanket for the MV cable. (Original excavated soil;) | E33: m³ | G33: 0 | H33: =F33*G33 -> 0 | J33: 0 | K33: =I33*J33 -> 0 | L33: =H33+K33 -> 0
B34: 4.5 | C34: SANS 10198 and D-DT-0854 | D34: Return (Transport), sift, backfill, and hand compact (90% MOD AASHTO) original soil as bedding and blanket for the MV cable. (Original excavated soil; Second handling of soil) | E34: m³ | G34: 0 | H34: =F34*G34 -> 0 | J34: 0 | K34: =I34*J34 -> 0 | L34: =H34+K34 -> 0
B35: Total | H35: =SUM(H30:H34) -> 0 | K35: =SUM(K30:K34) -> 0 | L35: =SUM(L30:L34) -> 0
B36: Electrical Contractor : MV Joint bays / trenches
B37: 5.1 | C37: D-DT-0854 and 240-56030635 | D37: Supply (Import), install and hand compact (SANS 10198) imported sifted 1.2 Km/W soil around MV cable joints. | E37: m³ | G37: 0 | H37: =F37*G37 -> 0 | J37: 0 | K37: =I37*J37 -> 0 | L37: =H37+K37 -> 0
B38: 5.2 | C38: D-DT-0854 and 240-56030635 | D38: Supply (Import), install and hand compact (SANS 10198) imported sifted 1 Km/W soil around MV cable joints. | E38: m³ | G38: 0 | H38: =F38*G38 -> 0 | J38: 0 | K38: =I38*J38 -> 0 | L38: =H38+K38 -> 0
B39: 5.3 | C39: D-DT-0854 and 240-56030635 | D39: Supply (Import), install and hand compact (SANS 10198) imported sifted 0.8 Km/W soil around MV cable joints. | E39: m³ | G39: 0 | H39: =F39*G39 -> 0 | J39: 0 | K39: =I39*J39 -> 0 | L39: =H39+K39 -> 0
B40: 5.4 | C40: D-DT-0854 and 240-56030635 | D40: Backfill, sift and hand compact (90% MOD AASHTO) original excavated soil as bedding and blanket for the MV cable joint. (Original excavated soil;) | E40: m³ | G40: 1 | H40: =F40*G40 -> 0 | J40: 1 | K40: =I40*J40 -> 0 | L40: =H40+K40 -> 0
B41: 5.5 | C41: D-DT-0854 and 240-56030635 | D41: Return (Transport), sift, backfill, and hand compact (90% MOD AASHTO) original excavated soil as bedding and blanket for the MV cable joint.) | E41: m³ | G41: 0 | H41: =F41*G41 -> 0 | J41: 0 | K41: =I41*J41 -> 0 | L41: =H41+K41 -> 0
B42: Total | H42: =SUM(H37:H41) -> 0 | K42: =SUM(K37:K41) -> 0 | L42: =SUM(L37:L41) -> 0
B43: Electrical Contractor : Removal of existing MV cable
...

Sheet Summary (Electrical)
C2: Item | D2: Total
B3: 1 | C3: ='MV Cable (Electrical)'!$B$4 -> Electrical Contractor : P&Gs and Pre-construction related activities. | D3: ='MV Cable (Electrical)'!L20 -> 0
B4: 2 | C4: ='MV Cable (Electrical)'!$B$21 -> Electrical Contractor : River crossing | D4: ='MV Cable (Electrical)'!L23 -> 0 | F4: ='MV Cable (Electrical)'!$B$21 -> Electrical Contractor : River crossing | G4: ='MV Cable (Electrical)'!$B$21 -> Electrical Contractor : River crossing | H4: ='MV Cable (Electrical)'!$B$21 -> Electrical Contractor : River crossing | I4: ='MV Cable (Electrical)'!$B$21 -> Electrical Contractor : River crossing | J4: ='MV Cable (Electrical)'!$B$21 -> Electrical Contractor : River crossing | K4: ='MV Cable (Electrical)'!$B$21 -> Electrical Contractor : River crossing | L4: ='MV Cable (Electrical)'!$B$21 -> Electrical Contractor : River crossing | M4: ='MV Cable (Electrical)'!$B$21 -> Electrical Contractor : River crossing
B5: 3 | C5: ='MV Cable (Electrical)'!$B$24 -> Electrical Contractor : Road crossing | D5: ='MV Cable (Electrical)'!L28 -> 0
B6: 4 | C6: ='MV Cable (Electrical)'!$B$29 -> Electrical Contractor : MV Cable trenches | D6: ='MV Cable (Electrical)'!L35 -> 0
B7: 5 | C7: ='MV Cable (Electrical)'!$B$36 -> Electrical Contractor : MV Joint bays / trenches | D7: ='MV Cable (Electrical)'!L42 -> 0
B8: 6 | C8: ='MV Cable (Electrical)'!$B$43 -> Electrical Contractor : Removal of existing MV cable | D8: ='MV Cable (Electrical)'!L46 -> 0
B9: 7 | C9: ='MV Cable (Electrical)'!$B$47 -> Electrical Contractor : MV Cable installation | D9: ='MV Cable (Electrical)'!L53 -> 0
B10: 8 | C10: ='MV Cable (Electrical)'!$B$54 -> Electrical Contractor : MV Joint installation | D10: ='MV Cable (Electrical)'!L84 -> 0
B11: 9 | C11: ='MV Cable (Electrical)'!$B$85 -> Electrical Contractor : MV Termination installation | D11: ='MV Cable (Electrical)'!L161 -> 0
B12: 10 | C12: ='MV Cable (Electrical)'!$B$162 -> Electrical Contractor : Miniature Substation | D12: ='MV Cable (Electrical)'!L178 -> 0
B13: 11 | C13: ='MV Cable (Electrical)'!$B$179 -> Electrical Contractor : Ring Main Unit | D13: ='MV Cable (Electrical)'!L195 -> 0
B14: 12 | C14: ='MV Cable (Electrical)'!$B$196 -> Electrical Contractor : Ground Mounted CT-VT Unit and Ground Mounted Transformer Unit | D14: ='MV Cable (Electrical)'!L214 -> 0
B15: 13 | C15: ='MV Cable (Electrical)'!$B$215 -> Electrical Contractor : Sheath repair | D15: ='MV Cable (Electrical)'!L218 -> 0
B16: 14 | C16: ='MV Cable (Electrical)'!B219 -> Electrical Contractor : As-built drawings (All documents and drawings to be documented and submitted to Eskom in paper format and Electronic media.) | D16: ='MV Cable (Electrical)'!L221 -> 0
B17: 15 | C17: ='MV Cable (Electrical)'!B222 -> Electrical Contractor : Transport | D17: ='MV Cable (Electrical)'!L228 -> 0
C18: Total | D18: =SUM(D3:D17) -> 0
