Workbook

Sheet MV Cable (Civil)
A1: \
B2: Bill of Activities
B3: Item | C3: Reference: Drawing / Standard | D3: Description | E3: Unit | F3: Material Quantity | G3: Material Rate | H3: Material Total | I3: Labour Quantity | J3: Labour Rate | K3: Labour Total | L3: Total
B4: Civil Contractor : P&Gs and Pre-construction related activities.
B5: 1.1 | C5: n/a | D5: Supply and install during construction and remove after construction, danger labels, Water filled plastic barricading and steel guard rails along the cable route length and joint bays as needed. – Signs must be clearly visible even in poor visibility conditions. – (Use warning illuminants where possible.) | E5: Sum | G5: 0 | H5: =F5*G5 -> 0 | J5: 0 | K5: =I5*J5 -> 0 | L5: =H5+K5 -> 0
B6: 1.2 | C6: n/a | D6: Supply and install during construction and remove after construction, danger labels, concrete barricading and steel guard rails along the cable route length and joint bays. – Signs must be clearly visible even in poor visibility conditions. – (Use warning illuminants where possible.) | E6: Sum | G6: 0 | H6: =F6*G6 -> 0 | J6: 0 | K6: =I6*J6 -> 0 | L6: =H6+K6 -> 0
B7: 1.3 | C7: n/a | D7: Supply and Install steel trench covers / plates during construction, and remove after construction, to ensure that there is access to properties and pedestrian crossings (where needed) while work is performed on the MV cable along the route length. | E7: Sum | G7: 0 | H7: =F7*G7 -> 0 | J7: 0 | K7: =I7*J7 -> 0 | L7: =H7+K7 -> 0
B8: 1.4 | C8: n/a | D8: Appoint an independent and professional third party to perform Traffic control studies and report back with a Traffic control plan, and submit a copy to Eskom on a digital media. - Prior approval required. | E8: Cost plus fee | G8: 0 | H8: =F8*G8 -> 0 | J8: 0 | K8: =I8*J8 -> 0 | L8: =H8+K8 -> 0
B9: 1.5 | C9: n/a | D9: Civil Engineering - Prior approval required. | E9: Cost plus fee | G9: 0 | H9: =F9*G9 -> 0 | J9: 0 | K9: =I9*J9 -> 0 | L9: =H9+K9 -> 0
B10: 1.6 | C10: n/a | D10: Supply traffic control staff and equipment throughout the construction as required. - Prior approval required. | E10: Per day | G10: 0 | H10: =F10*G10 -> 0 | J10: 0 | K10: =I10*J10 -> 0 | L10: =H10+K10 -> 0
B11: Total | H11: =SUM(H5:H10) -> 0 | K11: =SUM(K5:K10) -> 0 | L11: =SUM(L5:L10) -> 0
B12: Civil Contractor : River crossing and embankment support
B13: 2.1 | C13: D-DT-0895 Sheet 7 and SANS 677 | D13: Determine depth of river and construct a start and end shaft / pit for pipe jacking (Cost to include both excavations). Pipes to be jacked a minimum of 2m below the base of the river bed. (Pipe jack pit / shaft to be done in accordance with National and Eskom standards and applicable legislation.) Costs also to include rock blasting if required, and the removal, transportation and dumping (in accordance with the Maintenance Management plan / EMP ) of water from the pit /shaft and installed concrete pipe, if required. Costs also to include backfilling and reinstatement of area to its original state after construction. | E13: 2 x pits / shafts | G13: 0 | H13: =F13*G13 -> 0 | J13: 0 | K13: =I13*J13 -> 0 | L13: =H13+K13 -> 0
B14: 2.2 | C14: D-DT-0895 Sheet 7 and SANS 677 | D14: Pipe jack concrete pipes underneath a river. Pipes to be a minimum of 2m below the base of the river bed. Costs to include reinforced precast concrete pipes for pipe jacking, and Spigot and Socket joints or in-the-wall joints for the pipes. Concrete pipes shall comply to SANS 677 type SC requirements as well as National and Eskom standards. | E14: m | G14: 0 | H14: =F14*G14 -> 0 | J14: 0 | K14: =I14*J14 -> 0 | L14: =H14+K14 -> 0
B15: 2.3 | C15: D-DT-0895 Sheet 7 and SANS 677 | D15: Space, position and fix all PVC / PE ducts for the entire length of the PVC / PE ducts inside the concrete pipe. This can be achieved using rot-proof or remanufactured spacers. (Supply and install.) | E15: m | G15: 0 | H15: =F15*G15 -> 0 | J15: 0 | K15: =I15*J15 -> 0 | L15: =H15+K15 -> 0
B16: 2.4 | C16: D-DT-8018, D-DT-0895 sheet 7 | D16: Supply and Install 6m lengths of 250mm diameter PVC / PE ducts and sockets inside the concrete pipe for MV cables. (PVC / PE pipes to protrude a minimum of 2000mm past pre-cast channel / pipe into the bank of the river/stream. High level water mark to be used as reference.) | E16: m | G16: 0 | H16: =F16*G16 -> 0 | J16: 0 | K16: =I16*J16 -> 0 | L16: =H16+K16 -> 0
B17: 2.5 | C17: D-DT-8018, D-DT-0895 sheet 7 | D17: Supply and Install 6m lengths of 250mm diameter PVC / PE ducts and sockets inside the concrete pipe as spares for maintenance. (PVC / PE pipes to protrude a minimum of 2000mm past pre-cast channel / pipe, into the bank of the river/stream. High level water mark to be used as reference.) | E17: m | G17: 0 | H17: =F17*G17 -> 0 | J17: 0 | K17: =I17*J17 -> 0 | L17: =H17+K17 -> 0
B18: 2.6 | C18: D-DT-8018, D-DT-0895 sheet 7 | D18: Supply and Install 6m lengths of 160mm diameter PVC / PE ducts and sockets inside the concrete pipe for MV cables. (PVC / PE pipes to protrude a minimum of 2000mm past pre-cast channel / pipe into the bank of the river/stream. High level water mark to be used as reference.) | E18: m | G18: 0 | H18: =F18*G18 -> 0 | J18: 0 | K18: =I18*J18 -> 0 | L18: =H18+K18 -> 0
B19: 2.7 | C19: D-DT-8018, D-DT-0895 sheet 7 | D19: Supply and Install 6m lengths of 160mm diameter PVC / PE ducts and sockets inside the concrete pipe as spares for maintenance. (PVC / PE pipes to protrude a minimum of 2000mm past pre-cast channel / pipe, into the bank of the river/stream. High level water mark to be used as reference.) | E19: m | G19: 0 | H19: =F19*G19 -> 0 | J19: 0 | K19: =I19*J19 -> 0 | L19: =H19+K19 -> 0
B20: 2.8 | C20: D-DT-8018, D-DT-0895 sheet 7 | D20: Supply, deliver and fill a concrete pipe with a bentonite and water mix (10:1) that is combined with a sand and cement mix (20:8) in the ratio 100:1. The mix must be kept in position by sealing the end of the concrete pipe with densomastic paste (to prevent water ingress), while ensuring the PVC / PE pipes inside still protrude past the concrete pipe and is not filled with any backfill material. | E20: m³ | G20: 0 | H20: =F20*G20 -> 0 | J20: 0 | K20: =I20*J20 -> 0 | L20: =H20+K20 -> 0
B21: 2.9 | C21: n/a | D21: Supply, deliver and Seal spare 250mm diameter PVC / PE ducts with suitable caps to prevent ingress of water, vermin and backfill material. | E21: Each | G21: 0 | H21: =F21*G21 -> 0 | J21: 0 | K21: =I21*J21 -> 0 | L21: =H21+K21 -> 0
B22: 2.10 | C22: n/a | D22: Supply, deliver and Seal spare 160mm diameter PVC / PE ducts with suitable caps to prevent ingress of water, vermin and backfill material. | E22: Each | G22: 0 | H22: =F22*G22 -> 0 | J22: 0 | K22: =I22*J22 -> 0 | L22: =H22+K22 -> 0
B23: 2.11 | C23: n/a | D23: Supply and Install non-metallic draw wires in any size spare PVC / PE sleeves. | E23: m | G23: 0 | H23: =F23*G23 -> 0 | J23: 0 | K23: =I23*J23 -> 0 | L23: =H23+K23 -> 0
B24: 2.12 | C24: Maintenance Management plan / EMP and Civil Engineer's engineering report. | D24: Supply and Install gabions mitigate impede soil erosion. - Prior approval required. | E24: m³ | G24: 0 | H24: =F24*G24 -> 0 | J24: 0 | K24: =I24*J24 -> 0 | L24: =H24+K24 -> 0
... B28: 2.16 | C28: Maintenance Management plan / EMP and Civil Engineer's engineering report. | D28: Supply and Install earth Clay plug. - Prior approval required. | E28: m³ | G28: 0 | H28: =F28*G28 -> 0 | J28: 0 | K28: =I28*J28 -> 0 | L28: =H28+K28 -> 0
B29: Total | H29: =SUM(H13:H28) -> 0 | K29: =SUM(K13:K28) -> 0 | L29: =SUM(L13:L28) -> 0
B30: Civil Contractor : Road crossing
B31: 3.1 | C31: 240-56030635 or Site Specific drawing | D31: Directionally drill underneath road and supply and install 250mm diameter PVC / PE duct for MV cable. Contractor to supply PVC / PE pipe compatible with its machine. | E31: m | G31: 0 | H31: =F31*G31 -> 0 | J31: 0 | K31: =I31*J31 -> 0 | L31: =H31+K31 -> 0
B32: 3.2 | C32: 240-56030635 or Site Specific drawing | D32: Directionally drill underneath road and supply and install 160mm diameter PVC / PE duct for MV cable. Contractor to supply PVC / PE pipe compatible with its machine. | E32: m | G32: 0 | H32: =F32*G32 -> 0 | J32: 0 | K32: =I32*J32 -> 0 | L32: =H32+K32 -> 0
B33: 3.3 | C33: 240-56030635 or Site Specific drawing | D33: Bullet underneath road and supply and install 250mm diameter PVC / PE duct for MV cable. Contractor to supply PVC / PE pipe compatible with its machine. | E33: m | G33: 0 | H33: =F33*G33 -> 0 | J33: 0 | K33: =I33*J33 -> 0 | L33: =H33+K33 -> 0
B34: 3.4 | C34: 240-56030635 or Site Specific drawing | D34: Bullet underneath road and supply and install 160mm diameter PVC / PE duct for MV cable. Contractor to supply PVC / PE pipe compatible with its machine. | E34: m | G34: 0 | H34: =F34*G34 -> 0 | J34: 0 | K34: =I34*J34 -> 0 | L34: =H34+K34 -> 0
B35: 3.5 | C35: D-DT-8018 | D35: Install a 250mm diameter PVC / PE sleeves underneath road / entrance (each PVC / PE is in 6m length) for MV cable. Cost to include the concrete casted over the PVC / PE sleeves which shall have a minimum surround of 75 mm, to prevent collapsing or deformation after backfilling. The concrete strength shall be at least 15 MPA. | E35: m | G35: 0 | H35: =F35*G35 -> 0 | J35: 0 | K35: =I35*J35 -> 0 | L35: =H35+K35 -> 0
B36: 3.6 | C36: D-DT-8018 | D36: Install 160mm diameter PVC / PE sleeves underneath road / entrance (each PVC / PE is in 6m length) for MV cable. Cost to include the concrete casted over the PVC / PE sleeves which shall have a minimum surround of 75 mm, to prevent collapsing or deformation after backfilling. The concrete strength shall be at least 15 MPA. | E36: m | G36: 0 | H36: =F36*G36 -> 0 | J36: 0 | K36: =I36*J36 -> 0 | L36: =H36+K36 -> 0
B37: 3.7 | C37: n/a | D37: Supply, deliver and Seal spare 250mm diameter PVC / PE ducts with suitable caps to prevent ingress of water, vermin and backfill material. | E37: Each | G37: 0 | H37: =F37*G37 -> 0 | J37: 0 | K37: =I37*J37 -> 0 | L37: =H37+K37 -> 0
B38: 3.8 | C38: n/a | D38: Supply, deliver and Seal spare 160mm diameter PVC / PE ducts with suitable caps to prevent ingress of water, vermin and backfill material. | E38: Each | G38: 0 | H38: =F38*G38 -> 0 | J38: 0 | K38: =I38*J38 -> 0 | L38: =H38+K38 -> 0
B39: 3.9 | C39: n/a | D39: Supply and Install non-metallic draw wires in any size spare diameter PVC / PE sleeves. | E39: m | G39: 0 | H39: =F39*G39 -> 0 | J39: 0 | K39: =I39*J39 -> 0 | L39: =H39+K39 -> 0
B40: Total | H40: =SUM(H31:H39) -> 0 | K40: =SUM(K31:K39) -> 0 | L40: =SUM(L31:L39) -> 0
B41: Civil Contractor : MV Cable installation
B42: 4.1 | C42: n/a | D42: Saw cutting of road surface. (One side of trench) | E42: m | G42: 0 | H42: =F42*G42 -> 0 | J42: 0 | K42: =I42*J42 -> 0 | L42: =H42+K42 -> 0
B43: 4.2 | C43: n/a | D43: Saw cutting of road surface. (On both sides of trench) | E43: Total length - m | G43: 0 | H43: =F43*G43 -> 0 | J43: 0 | K43: =I43*J43 -> 0 | L43: =H43+K43 -> 0
B44: 4.3 | C44: D-DT-0854 | D44: Excavate by hand a 0.45m wide x 1m deep trench for the MV cable (Shale) – General (Note: Excavation to be done in sections at a time, from one MV joint bay to the next MV joint bay. After this, the trench must be backfilled, compacted and surfaces reinstated, etc. before continuing with the installation of the next section, or as directed on-site. The actual labour for backfilling, compacting, reinstatement, etc. will be covered in other activities.) | E44: m³ | G44: 0 | H44: =F44*G44 -> 0 | J44: 0 | K44: =I44*J44 -> 0 | L44: =H44+K44 -> 0
B45: 4.4 | C45: D-DT-0854 | D45: Excavate by hand a 0.45m wide x 1 deep trench for the MV cable (Soil) – General (Note: Excavation to be done in sections at a time, from one MV joint bay to the next MV joint bay. After this, the trench must be backfilled, compacted and surfaces reinstated, etc. before continuing with the installation of the next section, or as directed on-site. The actual labour for backfilling, compacting, reinstatement, etc. will be covered in other activities.) | E45: m³ | G45: 0 | H45: =F45*G45 -> 0 | J45: 0 | K45: =I45*J45 -> 0 | L45: =H45+K45 -> 0
B46: 4.5 | C46: D-DT-0854 | D46: Excavate by machine a 0.45m wide x 1 deep trench for the MV cable (Rock) – General (Note: Excavation to be done in sections at a time, from one MV joint bay to the next MV joint bay. After this, the trench must be backfilled, compacted and surfaces reinstated, etc. before continuing with the installation of the next section, or as directed on-site. The actual labour for backfilling, compacting, reinstatement, etc. will be covered in other activities.) | E46: m³ | G46: 0 | H46: =F46*G46 -> 0 | J46: 0 | K46: =I46*J46 -> 0 | L46: =H46+K46 -> 0
B47: 4.6 | C47: D-DT-0854 | D47: Excavate by machine a 0.45m wide x 1m deep trench for the MV cable (Shale) – General (Note: Excavation to be done in sections at a time, from one MV joint bay to the next MV joint bay. After this, the trench must be backfilled, compacted and surfaces reinstated, etc. before continuing with the installation of the next section, or as directed on-site. The actual labour for backfilling, compacting, reinstatement, etc. will be covered in other activities.) | E47: m³ | G47: 0 | H47: =F47*G47 -> 0 | J47: 0 | K47: =I47*J47 -> 0 | L47: =H47+K47 -> 0
B48: 4.7 | C48: D-DT-0854 | D48: Excavate by machine a 0.45m wide x 1m deep trench for the MV cable (Soil) – General (Note: Excavation to be done in sections at a time, from one MV joint bay to the next MV joint bay. After this, the trench must be backfilled, compacted and surfaces reinstated, etc. before continuing with the installation of the next section, or as directed on-site. The actual labour for backfilling, compacting, reinstatement, etc. will be covered in other activities.) | E48: m³ | G48: 0 | H48: =F48*G48 -> 0 | J48: 0 | K48: =I48*J48 -> 0 | L48: =H48+K48 -> 0
B49: 4.8 | C49: D-DT-0854 | D49: Excavate by hand a 0.45m wide x 1.3m deep trench for the MV cable (Shale) – Under Road Surface (Parallel to kerbing.) (Note: Excavation to be done in sections at a time, from one MV joint bay to the next MV joint bay. After this, the trench must be backfilled, compacted and surfaces reinstated, etc. before continuing with the installation of the next section, or as directed on-site. The actual labour for backfilling, compacting, reinstatement, etc. will be covered in other activities.) | E49: m³ | G49: 0 | H49: =F49*G49 -> 0 | J49: 0 | K49: =I49*J49 -> 0 | L49: =H49+K49 -> 0
B50: 4.9 | C50: D-DT-0854 | D50: Excavate by hand a 0.45m wide x 1.3 deep trench for the MV cable (Soil) – Under Road Surface (Parallel to kerbing.) (Note: Excavation to be done in sections at a time, from one MV joint bay to the next MV joint bay. After this, the trench must be backfilled, compacted and surfaces reinstated, etc. before continuing with the installation of the next section, or as directed on-site. The actual labour for backfilling, compacting, reinstatement, etc. will be covered in other activities.) | E50: m³ | G50: 0 | H50: =F50*G50 -> 0 | J50: 0 | K50: =I50*J50 -> 0 | L50: =H50+K50 -> 0
B51: 4.10 | C51: D-DT-0854 | D51: Excavate by machine a 0.45m wide x 1.3 deep trench for the MV cable (Rock) – Under Road Surface (Parallel to kerbing.) (Note: Excavation to be done in sections at a time, from one MV joint bay to the next MV joint bay. After this, the trench must be backfilled, compacted and surfaces reinstated, etc. before continuing with the installation of the next section, or as directed on-site. The actual labour for backfilling, compacting, reinstatement, etc. will be covered in other activities.) | E51: m³ | G51: 0 | H51: =F51*G51 -> 0 | J51: 0 | K51: =I51*J51 -> 0 | L51: =H51+K51 -> 0
B52: 4.11 | C52: D-DT-0854 | D52: Excavate by machine a 0.45m wide x 1.3m deep trench for the MV cable (Shale) – Under Road Surface (Parallel to kerbing.) (Note: Excavation to be done in sections at a time, from one MV joint bay to the next MV joint bay. After this, the trench must be backfilled, compacted and surfaces reinstated, etc. before continuing with the installation of the next section, or as directed on-site. The actual labour for backfilling, compacting, reinstatement, etc. will be covered in other activities.) | E52: m³ | G52: 0 | H52: =F52*G52 -> 0 | J52: 0 | K52: =I52*J52 -> 0 | L52: =H52+K52 -> 0
B53: 4.12 | C53: D-DT-0854 | D53: Excavate by machine a 0.45m wide x 1.3m deep trench for the MV cable (Soil) – Under Road Surface (Parallel to kerbing.) (Note: Excavation to be done in sections at a time, from one MV joint bay to the next MV joint bay. After this, the trench must be backfilled, compacted and surfaces reinstated, etc. before continuing with the installation of the next section, or as directed on-site. The actual labour for backfilling, compacting, reinstatement, etc. will be covered in other activities.) | E53: m³ | G53: 0 | H53: =F53*G53 -> 0 | J53: 0 | K53: =I53*J53 -> 0 | L53: =H53+K53 -> 0
... B74: 4.33 | C74: n/a | D74: Perform cross-trenches / trial holes to determine the location of services. Cross-trenches to be reinstated to their original state. (Trench sizes are: 4m wide x 1m long x 1.8m deep = 7.2m³) | E74: m³ | G74: 0 | H74: =F74*G74 -> 0 | J74: 0 | K74: =I74*J74 -> 0 | L74: =H74+K74 -> 0
B75: Total | H75: =SUM(H42:H74) -> 0 | K75: =SUM(K42:K74) -> 0 | L75: =SUM(L42:L74) -> 0
B76: Civil Contractor : MV Joint bays
B77: 5.1 | C77: D-DT-0854 and 240-56030635 | D77: Excavate by hand a 2m long x 1.5m wide x 1.2m deep joint bay. (Shale) | E77: m³ | G77: 0 | H77: =F77*G77 -> 0 | J77: 0 | K77: =I77*J77 -> 0 | L77: =H77+K77 -> 0
B78: 5.2 | C78: D-DT-0854 and 240-56030635 | D78: Excavate by hand a 2m long x 1.5m wide x 1.2m deep joint bay. (Soil) | E78: m³ | G78: 0 | H78: =F78*G78 -> 0 | J78: 0 | K78: =I78*J78 -> 0 | L78: =H78+K78 -> 0
B79: 5.3 | C79: D-DT-0854 and 240-56030635 | D79: Excavate by machine a 2m long x 1.5m wide x 1.2m deep joint bay. (Rock) | E79: m³ | G79: 0 | H79: =F79*G79 -> 0 | J79: 0 | K79: =I79*J79 -> 0 | L79: =H79+K79 -> 0
B80: 5.4 | C80: D-DT-0854 and 240-56030635 | D80: Excavate by machine a 2m long x 1.5m wide x 1.2m deep joint bay. (Shale) | E80: m³ | G80: 0 | H80: =F80*G80 -> 0 | J80: 0 | K80: =I80*J80 -> 0 | L80: =H80+K80 -> 0
B81: 5.5 | C81: D-DT-0854 and 240-56030635 | D81: Excavate by machine a 2m long x 1.5m wide x 1.2m deep joint bay. (Soil) | E81: m³ | G81: 0 | H81: =F81*G81 -> 0 | J81: 0 | K81: =I81*J81 -> 0 | L81: =H81+K81 -> 0
B82: 5.6 | C82: D-DT-0854 and 240-56030635 | D82: Supply, deliver, install (at the start of trenching) and decommission (after construction) 1.8m high shoring timber on both sides of the MV joint bay. (MV Joint bays are 10m long) - Shoring to be designed by ECSA registered Civil / Structural engineer. | E82: Linear Length - m | G82: 0 | H82: =F82*G82 -> 0 | J82: 0 | K82: =I82*J82 -> 0 | L82: =H82+K82 -> 0
B83: 5.7 | C83: n/a | D83: Transport (from site) and store soil at suitable site. (First handling of soil). | E83: m³ | G83: 0 | H83: =F83*G83 -> 0 | J83: 0 | K83: =I83*J83 -> 0 | L83: =H83+K83 -> 0
B84: 5.8 | C84: D-DT-0854 | D84: Transport (from site) and dump soil. (Bedding soil, blanket soil and trench stabilization soil.) (Material to be dumped at suitable site in accordance with the Maintenance Management plan / EMP .) | E84: m³ | G84: 0 | H84: =F84*G84 -> 0 | J84: 0 | K84: =I84*J84 -> 0 | L84: =H84+K84 -> 0
B85: 5.9 | C85: D-DT-0854 | D85: Sift soil with sieve having a maximum mesh size of no greater than 12mm. (Bedding and blanket) | E85: m³ | G85: 0 | H85: =F85*G85 -> 0 | J85: 0 | K85: =I85*J85 -> 0 | L85: =H85+K85 -> 0
B86: 5.10 | C86: Local authority requirements or Civil Engineer's engineering report. | D86: Supply (Import), install and hand / machine compact (90% MOD AASHTO) imported C4 soil for trench stabilization or backfill. | E86: m³ | G86: 0 | H86: =F86*G86 -> 0 | J86: 0 | K86: =I86*J86 -> 0 | L86: =H86+K86 -> 0
B87: 5.11 | C87: Local authority requirements or Civil Engineer's engineering report. | D87: Supply (Import), install and hand / machine compact (90% MOD AASHTO) imported C5 soil for trench stabilization or backfill. | E87: m³ | G87: 0 | H87: =F87*G87 -> 0 | J87: 0 | K87: =I87*J87 -> 0 | L87: =H87+K87 -> 0
B88: 5.12 | C88: Local authority requirements or Civil Engineer's engineering report. | D88: Supply (Import), install and hand / machine compact (90% MOD AASHTO) imported G4 soil for trench stabilization or backfill. | E88: m³ | G88: 0 | H88: =F88*G88 -> 0 | J88: 0 | K88: =I88*J88 -> 0 | L88: =H88+K88 -> 0
... B93: 5.17 | C93: D-DT-0854 | D93: Off-load and Install pre-cast concrete slabs (D-DT-8076, 760mm long, 200mm wide), in MV joint bays. | E93: Each | G93: 0 | H93: =F93*G93 -> 0 | J93: 0 | K93: =I93*J93 -> 0 | L93: =H93+K93 -> 0
B94: Total | H94: =SUM(H77:H93) -> 0 | K94: =SUM(K77:K93) -> 0 | L94: =SUM(L77:L93) -> 0
B95: Civil Contractor : Cable Route Markers
B96: 6.1 | C96: D-DT-8012 and 240-56030635 | D96: Install cable route markers with name plates (Descriptor) along cable route length at intervals of 150m on straight sections, at each bend, at each road crossings, railway crossing, river crossing and each MV joint bay. (Base to be 250mm below ground level. If the route marker is installed on a paved or concrete surface, the top shall be flush with this surface.) | E96: Each | G96: 0 | H96: =F96*G96 -> 0 | J96: 0 | K96: =I96*J96 -> 0 | L96: =H96+K96 -> 0
B97: 6.2 | C97: D-DT-8012 and 240-56030635 | D97: Engrave route markers. | E97: Each | G97: 0 | H97: =F97*G97 -> 0 | J97: 0 | K97: =I97*J97 -> 0 | L97: =H97+K97 -> 0
B98: Total | H98: =SUM(H96:H97) -> 0 | K98: =SUM(K96:K97) -> 0 | L98: =SUM(L96:L97) -> 0
B99: Civil Contractor : Removal of existing MV cable (where new cable isn't installed)
B100: 7.1 | C100: n/a | D100: Excavate (by hand/machine) a sloped trench for the MV cable. (Note: Excavation to be done in sections at a time, to recover an entire drum's cable, before proceeding with the next section. After this, the trench must be backfilled, compacted and surfaces reinstated, etc. before continuing with the installation of the next section, unless directed otherwise on-site. The actual labour for backfilling, compacting, reinstatement, etc. will be covered in other activities.) (The existing cable must be used as reference, as to where trenching must be done.) - General, under road surface parallel to kerb. | E100: m³ | G100: 0 | H100: =F100*G100 -> 0 | J100: 0 | K100: =I100*J100 -> 0 | L100: =H100+K100 -> 0
B101: 7.2 | C101: n/a | D101: Excavate (by hand/machine) a sloped trench for the MV cable. (Note: Excavation to be done in sections at a time, to recover an entire drum's cable, before proceeding with the next section. After this, the trench must be backfilled, compacted and surfaces reinstated, etc. before continuing with the installation of the next section, unless directed otherwise on-site. The actual labour for backfilling, compacting, reinstatement, etc. will be covered in other activities.) (The existing cable must be used as reference, as to where trenching must be done.) - Rail or road crossings | E101: m³ | G101: 0 | H101: =F101*G101 -> 0 | J101: 0 | K101: =I101*J101 -> 0 | L101: =H101+K101 -> 0
B102: 7.3 | C102: n/a | D102: Backfill (with normal excavated soil) and compact (in maximum layers of 300mm – 90% MOD AASHTO) all the soil previously removed to recover the MV cable. | E102: m³ | G102: 0 | H102: =F102*G102 -> 0 | J102: 0 | K102: =I102*J102 -> 0 | L102: =H102+K102 -> 0
B103: 7.4 | C103: n/a | D103: Remove (transport – First handling of soil), store, return (Second handling of soil), backfill (with normal excavated soil) and compact (in maximum layers of 300mm – 90% MOD AASHTO) all the soil previously removed to recover the MV cable. | E103: m³ | G103: 0 | H103: =F103*G103 -> 0 | J103: 0 | K103: =I103*J103 -> 0 | L103: =H103+K103 -> 0
B104: 7.5 | C104: Maintenance Management plan / EMP (if applicable) or Civil Engineer's engineering report (if applicable). | D104: Chemical rock breaking. (Supply and apply safely) - Prior approval required. | E104: Each | G104: 0 | H104: =F104*G104 -> 0 | J104: 0 | K104: =I104*J104 -> 0 | L104: =H104+K104 -> 0
B105: 7.6 | C105: Maintenance Management plan / EMP (if applicable) or Civil Engineer's engineering report (if applicable). | D105: Rock blasting. (Supply and apply safely) - Prior approval required. | E105: Each | G105: 0 | H105: =F105*G105 -> 0 | J105: 0 | K105: =I105*J105 -> 0 | L105: =H105+K105 -> 0
B106: 7.7 | C106: n/a | D106: Transport and dump broken rock. (Material to be dumped at suitable site in accordance with the Maintenance Management plan / EMP .) | E106: m³ | G106: 0 | H106: =F106*G106 -> 0 | J106: 0 | K106: =I106*J106 -> 0 | L106: =H106+K106 -> 0
B107: 7.8 | C107: D-DT-8012 and Maintenance Management plan / EMP | D107: Scrapping: Decommission and scrap route marker(s). Re-instate surfaces to original state. (All scrapped items / material to be taken back to Eskom Rosherville.) | E107: Each | G107: 0 | H107: =F107*G107 -> 0 | J107: 0 | K107: =I107*J107 -> 0 | L107: =H107+K107 -> 0
B108: Total | H108: =SUM(H100:H107) -> 0 | K108: =SUM(K100:K107) -> 0 | L108: =SUM(L100:L107) -> 0
B109: Civil Contractor : Reinstatement (For new cable and old cable to be decommissioned.)
B110: 8.1 | C110: Local authority requirements or Civil Engineer's engineering report. | D110: Remove asphalt surfaces up to 50mm thick, transport and dump material. (Material to be dumped at suitable site in accordance with the Maintenance Management plan / EMP .) | E110: m³ | G110: 0 | H110: =F110*G110 -> 0 | J110: 0 | K110: =I110*J110 -> 0 | L110: =H110+K110 -> 0
B111: 8.2 | C111: Local authority requirements or Civil Engineer's engineering report. | D111: Remove asphalt surfaces above 50mm up to 100mm thick, transport and dump material. (Material to be dumped at suitable site in accordance with the Maintenance Management plan / EMP .) | E111: m³ | G111: 0 | H111: =F111*G111 -> 0 | J111: 0 | K111: =I111*J111 -> 0 | L111: =H111+K111 -> 0
B112: 8.3 | C112: Local authority requirements or Civil Engineer's engineering report. | D112: Remove asphalt surface above 100mm thickness, transport and dump material. (Material to be dumped at suitable site in accordance with the Maintenance Management plan / EMP .) | E112: m³ | G112: 0 | H112: =F112*G112 -> 0 | J112: 0 | K112: =I112*J112 -> 0 | L112: =H112+K112 -> 0
B113: 8.4 | C113: Local authority requirements or Civil Engineer's engineering report, SANS 1200C, SANS 1200DM. | D113: Supply and install, G7 material (In-situ if to specification), 150mm thick and compacted to 93% of mod AASHTO density. | E113: m³ | G113: 0 | H113: =F113*G113 -> 0 | J113: 0 | K113: =I113*J113 -> 0 | L113: =H113+K113 -> 0
B114: 8.5 | C114: Local authority requirements or Civil Engineer's engineering report, SANS 1200C, SANS 1200DM. | D114: Supply and install, G5 material (In-situ if to specification), 150mm thick and compacted to 95% of mod AASHTO density. | E114: m³ | G114: 0 | H114: =F114*G114 -> 0 | J114: 0 | K114: =I114*J114 -> 0 | L114: =H114+K114 -> 0
B115: 8.6 | C115: Local authority requirements or Civil Engineer's engineering report, SANS 1200C, SANS 1200DM. | D115: Supply and install, G4 material (In-situ if to specification), 150mm thick and compacted to 95% of mod AASHTO density. | E115: m³ | G115: 0 | H115: =F115*G115 -> 0 | J115: 0 | K115: =I115*J115 -> 0 | L115: =H115+K115 -> 0
B116: 8.7 | C116: Local authority requirements or Civil Engineer's engineering report, SANS 1200C, SANS 1200ME. | D116: Supply and construct a 150mm thick C4 Subbase layer (Compacted to 95% mod. AASHTO density) | E116: m³ | G116: 0 | H116: =F116*G116 -> 0 | J116: 0 | K116: =I116*J116 -> 0 | L116: =H116+K116 -> 0
B117: 8.8 | C117: Local authority requirements or Civil Engineer's engineering report, SANS 1200C, SANS 1200ME. | D117: Supply and construct a 150mm thick C5 Subbase layer (Compacted to 95% mod. AASHTO density) | E117: m³ | G117: 0 | H117: =F117*G117 -> 0 | J117: 0 | K117: =I117*J117 -> 0 | L117: =H117+K117 -> 0
B118: 8.9 | C118: Local authority requirements or Civil Engineer's engineering report, SANS 1200C, SANS 1200ME. | D118: Stabilize Subbase | E118: m³ | G118: 0 | H118: =F118*G118 -> 0 | J118: 0 | K118: =I118*J118 -> 0 | L118: =H118+K118 -> 0
B119: 8.10 | C119: Local authority requirements or Civil Engineer's engineering report, SANS 1200C, SANS 1200ME. | D119: Supply and install stabilizing agent (Cement) | E119: kg | G119: 0 | H119: =F119*G119 -> 0 | J119: 0 | K119: =I119*J119 -> 0 | L119: =H119+K119 -> 0
B120: 8.11 | C120: Local authority requirements or Civil Engineer's engineering report, SANS 1200C. | D120: Supply and install asphalt up to 50mm thick | E120: m² | G120: 0 | H120: =F120*G120 -> 0 | J120: 0 | K120: =I120*J120 -> 0 | L120: =H120+K120 -> 0
B121: 8.12 | C121: Local authority requirements or Civil Engineer's engineering report, SANS 1200C. | D121: Supply and install asphalt above 50mm up to 100mm thick | E121: m² | G121: 0 | H121: =F121*G121 -> 0 | J121: 0 | K121: =I121*J121 -> 0 | L121: =H121+K121 -> 0
... B139: 8.30 | C139: Civil Engineer's engineering report / SANS 1200MJ | D139: Supply and install paving that matches existing (complete). Bricks laying pattern to match existing. | E139: Cost plus fee | G139: 0 | H139: =F139*G139 -> 0 | J139: 0 | K139: =I139*J139 -> 0 | L139: =H139+K139 -> 0
B140: 8.31 | C140: Civil Engineer's engineering report / SANS 1200MJ | D140: Supply and install paving bedding sand 20 mm (compacted thickness), approved weed killer, and filler sand with grading less than 1.18 mm. | E140: m²
B141: 8.32 | C141: Civil Engineer's engineering report / SANS 1200MJ | D141: Cutting of paving bricks to fit edge restrains from paving of 80mm in thickness. | E141: m | G141: 0 | H141: =F141*G141 -> 0 | J141: 0 | K141: =I141*J141 -> 0 | L141: =H141+K141 -> 0
B142: 8.33 | C142: Civil Engineer's engineering report / SANS 1200MJ | D142: Cutting of paving bricks to fit edge restrains from paving of 60mm in thickness. | E142: m | G142: 0 | H142: =F142*G142 -> 0 | J142: 0 | K142: =I142*J142 -> 0 | L142: =H142+K142 -> 0
B143: 8.34 | C143: n/a | D143: Remove, transport, and safeguard fences from site. | E143: m² | G143: 0 | H143: =F143*G143 -> 0 | J143: 0 | K143: =I143*J143 -> 0 | L143: =H143+K143 -> 0
B144: 8.35 | C144: n/a | D144: Transport back and reinstate fences (previously stored) to its original state. | E144: m² | G144: 0 | H144: =F144*G144 -> 0 | J144: 0 | K144: =I144*J144 -> 0 | L144: =H144+K144 -> 0
...

Sheet Summary (Civil)
C2: Item | D2: Total
B3: 1 | C3: ='MV Cable (Civil)'!$B$4 -> Civil Contractor : P&Gs and Pre-construction related activities. | D3: ='MV Cable (Civil)'!L11 -> 0 | F3: ='MV Cable (Civil)'!#REF! -> #REF! | G3: ='MV Cable (Civil)'!#REF! -> #REF! | H3: ='MV Cable (Civil)'!#REF! -> #REF! | I3: ='MV Cable (Civil)'!#REF! -> #REF! | J3: ='MV Cable (Civil)'!#REF! -> #REF! | K3: ='MV Cable (Civil)'!#REF! -> #REF! | L3: ='MV Cable (Civil)'!#REF! -> #REF! | M3: ='MV Cable (Civil)'!#REF! -> #REF!
B4: 2 | C4: ='MV Cable (Civil)'!$B$12 -> Civil Contractor : River crossing and embankment support | D4: ='MV Cable (Civil)'!L29 -> 0
B5: 3 | C5: ='MV Cable (Civil)'!$B$30 -> Civil Contractor : Road crossing | D5: ='MV Cable (Civil)'!L40 -> 0
B6: 4 | C6: ='MV Cable (Civil)'!$B$41 -> Civil Contractor : MV Cable installation | D6: ='MV Cable (Civil)'!L75 -> 0
B7: 5 | C7: ='MV Cable (Civil)'!$B$76 -> Civil Contractor : MV Joint bays | D7: ='MV Cable (Civil)'!L94 -> 0
B8: 6 | C8: ='MV Cable (Civil)'!$B$95 -> Civil Contractor : Cable Route Markers | D8: ='MV Cable (Civil)'!L98 -> 0
B9: 7 | C9: ='MV Cable (Civil)'!$B$99 -> Civil Contractor : Removal of existing MV cable (where new cable isn't installed) | D9: ='MV Cable (Civil)'!L108 -> 0
B10: 8 | C10: ='MV Cable (Civil)'!B109 -> Civil Contractor : Reinstatement (For new cable and old cable to be decommissioned.) | D10: ='MV Cable (Civil)'!L164 -> 0
C11: Total | D11: =SUM(D3:D10) -> 0

Sheet MV Cable (Electrical)
B2: Bill of Activities
B3: Item | C3: Reference: Drawing / Standard | D3: Description | E3: Unit | F3: Material Quantity | G3: Material Rate | H3: Material Total | I3: Labour Quantity | J3: Labour Rate | K3: Labour Total | L3: Total
B4: Electrical Contractor : P&Gs and Pre-construction related activities.
B5: 1.1 | C5: n/a | D5: PPE, Total Labour Value | E5: % | G5: 0 | H5: =F5*G5 -> 0 | J5: 0 | K5: =I5*J5 -> 0 | L5: =H5+K5 -> 0
B6: 1.2 | C6: n/a | D6: Risk Assessment Procedure, QM, Quality Management System, Health and Safety Specification, Environmental Plan, Safety Inspections, OHSA appointments, Non-Conformance Process. Percentage of Total Labour Value, after certification. | E6: % | G6: 0 | H6: =F6*G6 -> 0 | J6: 0 | K6: =I6*J6 -> 0 | L6: =H6+K6 -> 0
B7: 1.3 | C7: n/a | D7: Environmental Compliance & Site maintenance | E7: % | G7: 0 | H7: =F7*G7 -> 0 | J7: 0 | K7: =I7*J7 -> 0 | L7: =H7+K7 -> 0
B8: 1.4 | C8: PSIRA | D8: Security Officer - Grade C unarmed (with Panic button) | E8: Per day | G8: 0 | H8: =F8*G8 -> 0 | J8: 0 | K8: =I8*J8 -> 0 | L8: =H8+K8 -> 0
B9: 1.5 | C9: PSIRA and Firearm Control Act | D9: Security Officer - Grade C armed (with Panic button) | E9: Per day | G9: 0 | H9: =F9*G9 -> 0 | J9: 0 | K9: =I9*J9 -> 0 | L9: =H9+K9 -> 0
B10: 1.6 | C10: PSIRA | D10: Bulletproof vests (once-off payment) | E10: Each - Once off payment per year contract. | G10: 0 | H10: =F10*G10 -> 0 | J10: 0 | K10: =I10*J10 -> 0 | L10: =H10+K10 -> 0
B11: 1.7 | C11: PSIRA | D11: Guard House (For Security Officer) | E11: Per day | G11: 0 | H11: =F11*G11 -> 0 | J11: 0 | K11: =I11*J11 -> 0 | L11: =H11+K11 -> 0
B12: 1.8 | C12: n/a | D12: Toilets (Security officers and General contract workers) | E12: Per day | G12: 0 | H12: =F12*G12 -> 0 | J12: 0 | K12: =I12*J12 -> 0 | L12: =H12+K12 -> 0
B13: 1.9 | C13: n/a | D13: Pump Water to ensure trenches and joint bays are free of water at all times. | E13: Hour | G13: 0 | H13: =F13*G13 -> 0 | J13: 0 | K13: =I13*J13 -> 0 | L13: =H13+K13 -> 0
B14: 1.10 | C14: n/a | D14: Provide Cable flash blankets, to be used along the cable route, when in close proximity to other live cables. | E14: Sum | G14: 0 | H14: =F14*G14 -> 0 | J14: 0 | K14: =I14*J14 -> 0 | L14: =H14+K14 -> 0
B15: 1.11 | C15: n/a | D15: Set up cable drums station | E15: Sum | G15: 0 | H15: =F15*G15 -> 0 | J15: 0 | K15: =I15*J15 -> 0 | L15: =H15+K15 -> 0
B16: 1.12 | C16: n/a | D16: Set up winch station | E16: Sum | G16: 0 | H16: =F16*G16 -> 0 | J16: 0 | K16: =I16*J16 -> 0 | L16: =H16+K16 -> 0
... B19: 1.15 | C19: n/a | D19: Supply and run Generator and lights at joint bays. Fuel to be supplied by contractor. | E19: Hour | G19: 0 | H19: =F19*G19 -> 0 | J19: 0 | K19: =I19*J19 -> 0 | L19: =H19+K19 -> 0
B20: Total | H20: =SUM(H5:H19) -> 0 | K20: =SUM(K5:K19) -> 0 | L20: =SUM(L5:L19) -> 0
B21: Electrical Contractor : River crossing
B22: 2.1 | C22: n/a | D22: Supply, deliver and fill PVC / PE pipes, occupied by MV cable with bentonite and water mix (10:1) that is combined with a sand and cement mix (20:8) in the ratio of 100:1. The mix shall be kept in position by sealing the end of the pipe duct with densomastic paste (Supplied and installed by contractor) where the power cable enters and exits to prevent water ingress. | E22: m³ | G22: 0 | H22: =F22*G22 -> 0 | J22: 0 | K22: =I22*J22 -> 0 | L22: =H22+K22 -> 0
B23: Total | H23: =SUM(H22:H22) -> 0 | K23: =SUM(K22:K22) -> 0 | L23: =SUM(L22:L22) -> 0
B24: Electrical Contractor : Road crossing
B25: 3.1 | C25: n/a | D25: Supply, deliver and fill PVC / PE ducts with Power cable inside (total linear length longer than 3m) with bentonite and water mix (10:1) that is combined with a sand and cement mix (20:8) in the ratio of 100:1. The mix shall be kept in position by sealing the end of the pipe duct with densomastic paste (Supplied and installed by contractor) where the power cable enters and exits to prevent water ingress. | E25: m³ | G25: 0 | H25: =F25*G25 -> 0 | J25: 0 | K25: =I25*J25 -> 0 | L25: =H25+K25 -> 0
B26: 3.2 | C26: n/a | D26: Supply, offload (transport) and install rot-proof bags containing a weak sand-cement mix (30:1) for a distance of approximately 0.5 m into the MV cable trench wherever cable enters or exists a pipe duct, to support the MV cable. | E26: Bag | G26: 0 | H26: =F26*G26 -> 0 | J26: 0 | K26: =I26*J26 -> 0 | L26: =H26+K26 -> 0
B27: 3.3 | C27: n/a | D27: Supply, offload (transport) and install rot-proof bags containing a weak sand-cement mix (30:1) when constructing a road crossing. Bags to be placed such that it forms a double wall on both sides of the trench (for support). Bags to be re-used at crossings. | E27: Bag | G27: 0 | H27: =F27*G27 -> 0 | J27: 0 | K27: =I27*J27 -> 0 | L27: =H27+K27 -> 0
B28: Total | H28: =SUM(H25:H27) -> 0 | K28: =SUM(K25:K27) -> 0 | L28: =SUM(L25:L27) -> 0
B29: Electrical Contractor : MV Cable trenches
B30: 4.1 | C30: SANS 10198 and D-DT-0854 | D30: Supply (Import), install and hand compact (90% MOD AASHTO) imported 1.2 Km/W sifted soil as bedding and blanket for the MV cable. | E30: m³ | G30: 0 | H30: =F30*G30 -> 0 | J30: 0 | K30: =I30*J30 -> 0 | L30: =H30+K30 -> 0
B31: 4.2 | C31: SANS 10198 and D-DT-0854 | D31: Supply (Import), install and hand compact (90% MOD AASHTO) imported 1 Km/W sifted soil as bedding and blanket for the MV cable. | E31: m³ | G31: 0 | H31: =F31*G31 -> 0 | J31: 0 | K31: =I31*J31 -> 0 | L31: =H31+K31 -> 0
B32: 4.3 | C32: SANS 10198 and D-DT-0854 | D32: Supply (Import), install and hand compact (90% MOD AASHTO) imported 0.8 Km/W sifted soil as bedding and blanket for the MV cable. | E32: m³ | G32: 0 | H32: =F32*G32 -> 0 | J32: 0 | K32: =I32*J32 -> 0 | L32: =H32+K32 -> 0
B33: 4.4 | C33: SANS 10198 and D-DT-0854 | D33: Backfill sift and hand compact (90% MOD AASHTO) original soil as bedding and blanket for the MV cable. (Original excavated soil;) | E33: m³ | G33: 0 | H33: =F33*G33 -> 0 | J33: 0 | K33: =I33*J33 -> 0 | L33: =H33+K33 -> 0
B34: 4.5 | C34: SANS 10198 and D-DT-0854 | D34: Return (Transport), sift, backfill, and hand compact (90% MOD AASHTO) original soil as bedding and blanket for the MV cable. (Original excavated soil; Second handling of soil) | E34: m³ | G34: 0 | H34: =F34*G34 -> 0 | J34: 0 | K34: =I34*J34 -> 0 | L34: =H34+K34 -> 0
B35: Total | H35: =SUM(H30:H34) -> 0 | K35: =SUM(K30:K34) -> 0 | L35: =SUM(L30:L34) -> 0
B36: Electrical Contractor : MV Joint bays / trenches
B37: 5.1 | C37: D-DT-0854 and 240-56030635 | D37: Supply (Import), install and hand compact (SANS 10198) imported sifted 1.2 Km/W soil around MV cable joints. | E37: m³ | G37: 0 | H37: =F37*G37 -> 0 | J37: 0 | K37: =I37*J37 -> 0 | L37: =H37+K37 -> 0
B38: 5.2 | C38: D-DT-0854 and 240-56030635 | D38: Supply (Import), install and hand compact (SANS 10198) imported sifted 1 Km/W soil around MV cable joints. | E38: m³ | G38: 0 | H38: =F38*G38 -> 0 | J38: 0 | K38: =I38*J38 -> 0 | L38: =H38+K38 -> 0
B39: 5.3 | C39: D-DT-0854 and 240-56030635 | D39: Supply (Import), install and hand compact (SANS 10198) imported sifted 0.8 Km/W soil around MV cable joints. | E39: m³ | G39: 0 | H39: =F39*G39 -> 0 | J39: 0 | K39: =I39*J39 -> 0 | L39: =H39+K39 -> 0
B40: 5.4 | C40: D-DT-0854 and 240-56030635 | D40: Backfill, sift and hand compact (90% MOD AASHTO) original excavated soil as bedding and blanket for the MV cable joint. (Original excavated soil;) | E40: m³ | G40: 1 | H40: =F40*G40 -> 0 | J40: 1 | K40: =I40*J40 -> 0 | L40: =H40+K40 -> 0
B41: 5.5 | C41: D-DT-0854 and 240-56030635 | D41: Return (Transport), sift, backfill, and hand compact (90% MOD AASHTO) original excavated soil as bedding and blanket for the MV cable joint.) | E41: m³ | G41: 0 | H41: =F41*G41 -> 0 | J41: 0 | K41: =I41*J41 -> 0 | L41: =H41+K41 -> 0
B42: Total | H42: =SUM(H37:H41) -> 0 | K42: =SUM(K37:K41) -> 0 | L42: =SUM(L37:L41) -> 0
B43: Electrical Contractor : Removal of existing MV cable
B44: 6.1 | C44: n/a | D44: Recover in good order: Remove MV cable from open trench (site), and drum cable. (Drum to be supplied by contractor.) Drummed cable to be Transported to Eskom Rosherville stores. (A maximum of 300m of cable to be placed on a drum). Ends of cable to be sealed off with suitable caps. | E44: m | G44: 0 | H44: =F44*G44 -> 0 | J44: 0 | K44: =I44*J44 -> 0 | L44: =H44+K44 -> 0
B45: 6.2 | C45: D-DT-2879 or other suitable cap | D45: Cut and cap cable. | E45: Each | G45: 0 | H45: =F45*G45 -> 0 | J45: 0 | K45: =I45*J45 -> 0 | L45: =H45+K45 -> 0
B46: Total | H46: =SUM(H44:H45) -> 0 | K46: =SUM(K44:K45) -> 0 | L46: =SUM(L44:L45) -> 0
B47: Electrical Contractor : MV Cable installation
B48: 7.1 | C48: n/a | D48: In unstable areas shorter than 10m along the MV cable route length, supply, offload (transport) and install rot-proof bags containing a weak sand-cement mix (30:1) such that it lines the bottom of the MV cable trench. The number of bags used will depend upon the ground softness. | E48: Bag | G48: 0 | H48: =F48*G48 -> 0 | J48: 0 | K48: =I48*J48 -> 0 | L48: =H48+K48 -> 0
B49: 7.2 | C49: D-DT-0854 | D49: Lay / pull and install MV 3-Core cable into open trench and inside pipes. | E49: m | G49: 0 | H49: =F49*G49 -> 0 | J49: 0 | K49: =I49*J49 -> 0 | L49: =H49+K49 -> 0
B50: 7.3 | C50: D-DT-0854 | D50: Lay / pull and install MV 1-Core cable into open trench and inside pipes. | E50: m | G50: 0 | H50: =F50*G50 -> 0 | J50: 0 | K50: =I50*J50 -> 0 | L50: =H50+K50 -> 0
B51: 7.4 | C51: n/a | D51: Supply and install concrete screed, 50mm high, with a cement to sand ratio of 1:5, inside cable trench. | E51: m³ | G51: 0 | H51: =F51*G51 -> 0 | J51: 0 | K51: =I51*J51 -> 0 | L51: =H51+K51 -> 0
B52: 7.5 | C52: n/a | D52: Encase MV cable and selected accessories (including bedding and blanket soil layers) to prevent theft. Solution may not affect thermal resistivity of surrounding soil or heat dissipation from cable. Solution must have a means to remove encasement for instances where Eskom needs to perform maintenance. | E52: m³ | G52: 0 | H52: =F52*G52 -> 0 | J52: 0 | K52: =I52*J52 -> 0 | L52: =H52+K52 -> 0
B53: Total | H53: =SUM(H48:H52) -> 0 | K53: =SUM(K48:K52) -> 0 | L53: =SUM(L48:L52) -> 0
B54: Electrical Contractor : MV Joint installation
B55: 8.1 | C55: D-DT-8007 & D-DT-8008 | D55: Make-Off a Cable Joint - 3-Core <=95mm sq MV Cable (6.6 kV / 11 kV / 22 kV, PILC / XLPE, Cu / Al) | E55: Each | G55: 0 | H55: =F55*G55 -> 0 | J55: 0 | K55: =I55*J55 -> 0 | L55: =H55+K55 -> 0
B56: 8.2 | C56: D-DT-8007 & D-DT-8008 | D56: Make-Off a Cable Joint - 3-Core <=185mm sq MV Cable (6.6 kV / 11 kV / 22 kV, PILC / XLPE, Cu / Al) | E56: Each | G56: 0 | H56: =F56*G56 -> 0 | J56: 0 | K56: =I56*J56 -> 0 | L56: =H56+K56 -> 0
B57: 8.3 | C57: D-DT-8007 & D-DT-8008 | D57: Make-Off a Cable Joint - 3-Core <=400mm sq MV Cable (6.6 kV / 11 kV / 22 kV, PILC / XLPE, Cu / Al) | E57: Each | G57: 0 | H57: =F57*G57 -> 0 | J57: 0 | K57: =I57*J57 -> 0 | L57: =H57+K57 -> 0
B58: 8.4 | C58: D-DT-8007 & D-DT-8008 | D58: Make-Off a Cable Joint - 1-Core <=185mm sq MV Cable (6.6 kV / 11 kV / 22 kV, PILC / XLPE, Cu / Al) | E58: Each | G58: 0 | H58: =F58*G58 -> 0 | J58: 0 | K58: =I58*J58 -> 0 | L58: =H58+K58 -> 0
B59: 8.5 | C59: D-DT-8007 & D-DT-8008 | D59: Make-Off a Cable Joint - 1-Core <=400mm sq MV Cable (6.6 kV / 11 kV / 22 kV, PILC / XLPE, Cu / Al) | E59: Each | G59: 0 | H59: =F59*G59 -> 0 | J59: 0 | K59: =I59*J59 -> 0 | L59: =H59+K59 -> 0
B60: 8.6 | C60: D-DT-8007 & D-DT-8008 | D60: Make-Off a Cable Joint - 1-Core <=800mm sq MV Cable (6.6 kV / 11 kV / 22 kV, PILC / XLPE, Cu / Al) | E60: Each | G60: 0 | H60: =F60*G60 -> 0 | J60: 0 | K60: =I60*J60 -> 0 | L60: =H60+K60 -> 0
B61: 8.7 | C61: D-DT-8007, D-DT-8008, D-DT-8004 & D-DT-8017 | D61: Make-Off a Cable Trifurcating Joint - 3 Core to 1-Core <=95mm sq MV Cable (6.6 kV / 11 kV / 22 kV, PILC / XLPE, Cu / Al) | E61: Each | G61: 0 | H61: =F61*G61 -> 0 | J61: 0 | K61: =I61*J61 -> 0 | L61: =H61+K61 -> 0
B62: 8.8 | C62: D-DT-8007, D-DT-8008, D-DT-8004 & D-DT-8017 | D62: Make-Off a Cable Trifurcating Joint - 3 Core to 1-Core <=185mm sq MV Cable (6.6 kV / 11 kV / 22 kV, PILC / XLPE, Cu / Al) | E62: Each | G62: 0 | H62: =F62*G62 -> 0 | J62: 0 | K62: =I62*J62 -> 0 | L62: =H62+K62 -> 0
B63: 8.9 | C63: D-DT-8007, D-DT-8008, D-DT-8004 & D-DT-8017 | D63: Make-Off a Cable Trifurcating Joint - 3-Core to 1-Core <=400mm sq MV Cable (6.6 kV / 11 kV / 22 kV, PILC / XLPE, Cu / Al) | E63: Each | G63: 0 | H63: =F63*G63 -> 0 | J63: 0 | K63: =I63*J63 -> 0 | L63: =H63+K63 -> 0
B64: 8.10 | C64: D-DT-8021 | D64: Make-Off a Cable Transition Joint - 3-Core <=95mm sq MV Cable (6.6 kV / 11 kV / 22 kV, PILC / XLPE, Cu / Al) | E64: Each | G64: 0 | H64: =F64*G64 -> 0 | J64: 0 | K64: =I64*J64 -> 0 | L64: =H64+K64 -> 0
B65: 8.11 | C65: D-DT-8021 | D65: Make-Off a Cable Transition Joint - 3-Core <=185mm sq MV Cable (6.6 kV / 11 kV / 22 kV, PILC / XLPE, Cu / Al) | E65: Each | G65: 0 | H65: =F65*G65 -> 0 | J65: 0 | K65: =I65*J65 -> 0 | L65: =H65+K65 -> 0
B66: 8.12 | C66: D-DT-8021 | D66: Make-Off a Cable Transition Joint - 3-Core <=400mm sq MV Cable (6.6 kV / 11 kV / 22 kV, PILC / XLPE, Cu / Al) | E66: Each | G66: 0 | H66: =F66*G66 -> 0 | J66: 0 | K66: =I66*J66 -> 0 | L66: =H66+K66 -> 0
... B83: 8.29 | C83: D-DT-8021 | D83: Make-Off a Cable Trifurcating Transition Joint - 3-Core to 1-Core <=400mm sq MV Cable (33 kV, XLPE, Cu / Al) | E83: Each | G83: 0 | H83: =F83*G83 -> 0 | J83: 0 | K83: =I83*J83 -> 0 | L83: =H83+K83 -> 0
B84: Total | H84: =SUM(H55:H69) -> 0 | K84: =SUM(K55:K69) -> 0 | L84: =SUM(L55:L69) -> 0
B85: Electrical Contractor : MV Termination installation
B86: 9.1 | C86: D-DT-8005 & D-DT-8006 | D86: Install 3-Core <= 95mm sq Indoor Termination (6.6 kV / 11 kV / 22 kV, PILC / XLPE, Cu / Al) | E86: Each (kit) | G86: 0 | H86: =F86*G86 -> 0 | J86: 0 | K86: =I86*J86 -> 0 | L86: =H86+K86 -> 0
B87: 9.2 | C87: D-DT-8005 & D-DT-8006 | D87: Install 3-Core <= 95mm sq Shroud (6.6 kV / 11 kV / 22 kV, PILC / XLPE, Cu / Al) | E87: Each (kit) | G87: 0 | H87: =F87*G87 -> 0 | J87: 0 | K87: =I87*J87 -> 0 | L87: =H87+K87 -> 0
B88: 9.3 | C88: D-DT-8005 & D-DT-8006 | D88: Install 3-Core <= 95mm sq Unscreened Separable Connector Termination (6.6 kV / 11 kV / 22 kV, PILC / XLPE, Cu / Al) | E88: Each (kit) | G88: 0 | H88: =F88*G88 -> 0 | J88: 0 | K88: =I88*J88 -> 0 | L88: =H88+K88 -> 0
B89: 9.4 | C89: D-DT-8005 & D-DT-8006 | D89: Install 3-Core <= 95mm sq Unscreened Separable Connector Extended Screen Termination (6.6 kV / 11 kV / 22 kV, PILC / XLPE, Cu / Al) | E89: Each (kit) | G89: 0 | H89: =F89*G89 -> 0 | J89: 0 | K89: =I89*J89 -> 0 | L89: =H89+K89 -> 0
B90: 9.5 | C90: D-DT-8005 & D-DT-8006 | D90: Install 3-Core <= 95mm sq Screened Separable Connector Termination (6.6 kV / 11 kV / 22 kV, PILC / XLPE, Cu / Al) | E90: Each (kit) | G90: 0 | H90: =F90*G90 -> 0 | J90: 0 | K90: =I90*J90 -> 0 | L90: =H90+K90 -> 0
B91: 9.6 | C91: D-DT-8005 & D-DT-8006 | D91: Install 3-Core <= 95mm sq Screened Separable Connector Extended Screen Termination (6.6 kV / 11 kV / 22 kV, PILC / XLPE, Cu / Al) | E91: Each (kit) | G91: 0 | H91: =F91*G91 -> 0 | J91: 0 | K91: =I91*J91 -> 0 | L91: =H91+K91 -> 0
B92: 9.7 | C92: D-DT-8005 & D-DT-8006 | D92: Install 3-Core <= 185mm sq Indoor Termination (6.6 kV / 11 kV / 22 kV, PILC / XLPE, Cu / Al) | E92: Each (kit) | G92: 0 | H92: =F92*G92 -> 0 | J92: 0 | K92: =I92*J92 -> 0 | L92: =H92+K92 -> 0
B93: 9.8 | C93: D-DT-8005 & D-DT-8006 | D93: Install 3-Core <= 185mm sq Shroud (6.6 kV / 11 kV / 22 kV, PILC / XLPE, Cu / Al) | E93: Each (kit) | G93: 0 | H93: =F93*G93 -> 0 | J93: 0 | K93: =I93*J93 -> 0 | L93: =H93+K93 -> 0
B94: 9.9 | C94: D-DT-8005 & D-DT-8006 | D94: Install 3-Core <= 185mm sq Unscreened Separable Connector Termination (6.6 kV / 11 kV / 22 kV, PILC / XLPE, Cu / Al) | E94: Each (kit) | G94: 0 | H94: =F94*G94 -> 0 | J94: 0 | K94: =I94*J94 -> 0 | L94: =H94+K94 -> 0
B95: 9.10 | C95: D-DT-8005 & D-DT-8006 | D95: Install 3-Core <= 185mm sq Unscreened Separable Connector Extended Screen Termination (6.6 kV / 11 kV / 22 kV, PILC / XLPE, Cu / Al) | E95: Each (kit) | G95: 0 | H95: =F95*G95 -> 0 | J95: 0 | K95: =I95*J95 -> 0 | L95: =H95+K95 -> 0
B96: 9.11 | C96: D-DT-8005 & D-DT-8006 | D96: Install 3-Core <= 185mm sq Screened Separable Connector Termination (6.6 kV / 11 kV / 22 kV, PILC / XLPE, Cu / Al) | E96: Each (kit) | G96: 0 | H96: =F96*G96 -> 0 | J96: 0 | K96: =I96*J96 -> 0 | L96: =H96+K96 -> 0
B97: 9.12 | C97: D-DT-8005 & D-DT-8006 | D97: Install 3-Core <= 185mm sq Screened Separable Connector Extended Screen Termination (6.6 kV / 11 kV / 22 kV, PILC / XLPE, Cu / Al) | E97: Each (kit) | G97: 0 | H97: =F97*G97 -> 0 | J97: 0 | K97: =I97*J97 -> 0 | L97: =H97+K97 -> 0
... B160: 9.75 | C160: n/a | D160: Reseal cable after installation in wall. - Prior approval required. | E160: Each | G160: 0 | H160: =F160*G160 -> 0 | J160: 0 | K160: =I160*J160 -> 0 | L160: =H160+K160 -> 0
B161: Total | H161: =SUM(H86:H160) -> 0 | K161: =SUM(K86:K160) -> 0 | L161: =SUM(L86:L160) -> 0
B162: Electrical Contractor : Miniature Substation
B163: 10.1 | C163: 240-56030635 | D163: Prepare Site Including Excavation and Compaction for Pre-Cast Plinth | E163: m2 | G163: 0 | H163: =F163*G163 -> 0 | J163: 0 | K163: =I163*J163 -> 0 | L163: =H163+K163 -> 0
B164: 10.2 | C164: D-DT-0859 | D164: Install Pre-Cast Plinth | E164: Each | G164: 0 | H164: =F164*G164 -> 0 | J164: 0 | K164: =I164*J164 -> 0 | L164: =H164+K164 -> 0
B165: 10.3 | C165: D-DT-0859 | D165: M/Sub - Cast on site plinth | E165: Each | G165: 0 | H165: =F165*G165 -> 0 | J165: 0 | K165: =I165*J165 -> 0 | L165: =H165+K165 -> 0
B166: 10.4 | C166: D-DT-0859 | D166: Install Miniature Substation (Type A or Type B) | E166: Each | G166: 0 | H166: =F166*G166 -> 0 | J166: 0 | K166: =I166*J166 -> 0 | L166: =H166+K166 -> 0
B167: 10.5 | C167: 240-56030635 | D167: Close cable entry and vermin Proofing | E167: Each | G167: 0 | H167: =F167*G167 -> 0 | J167: 0 | K167: =I167*J167 -> 0 | L167: =H167+K167 -> 0
B168: 10.6 | C168: 240-56030635 | D168: Stencilling | E168: p/letter | G168: 0 | H168: =F168*G168 -> 0 | J168: 0 | K168: =I168*J168 -> 0 | L168: =H168+K168 -> 0
B169: 10.7 | C169: 240-56030635 | D169: Install Labels (Chromadek and Aluminium) | E169: Each | G169: 0 | H169: =F169*G169 -> 0 | J169: 0 | K169: =I169*J169 -> 0 | L169: =H169+K169 -> 0
B170: 10.8 | C170: D-DT-0855, 240-56030635 and 240-130615754 | D170: Excavation - length long, 0.5m deep and 0.6m wide | E170: m3 | G170: 0 | H170: =F170*G170 -> 0 | J170: 0 | K170: =I170*J170 -> 0 | L170: =H170+K170 -> 0
B171: 10.9 | C171: D-DT-0855, 240-56030635 and 240-130615754 | D171: Install 16mm sq bare Stranded Cu Conductor | E171: m | G171: 0 | H171: =F171*G171 -> 0 | J171: 0 | K171: =I171*J171 -> 0 | L171: =H171+K171 -> 0
B172: 10.10 | C172: D-DT-0855, 240-56030635 and 240-130615754 | D172: Install 16mm sq insulated Stranded Cu Conductor | E172: m | G172: 0 | H172: =F172*G172 -> 0 | J172: 0 | K172: =I172*J172 -> 0 | L172: =H172+K172 -> 0
B173: 10.11 | C173: D-DT-0855, 240-56030635 and 240-130615754 | D173: Install earth rods | E173: Each | G173: 0 | H173: =F173*G173 -> 0 | J173: 0 | K173: =I173*J173 -> 0 | L173: =H173+K173 -> 0
B174: 10.12 | C174: D-DT-0855, 240-56030635 and 240-130615754 | D174: Install Earth Electrode with continuous earthing back to source substation (MV & LV) | E174: Each | G174: 0 | H174: =F174*G174 -> 0 | J174: 0 | K174: =I174*J174 -> 0 | L174: =H174+K174 -> 0
... B177: 10.15 | C177: 240-56030635 | D177: Install external warning flash label | E177: Each | G177: 0 | H177: =F177*G177 -> 0 | J177: 0 | K177: =I177*J177 -> 0 | L177: =H177+K177 -> 0
B178: Total | H178: =SUM(H163:H177) -> 0 | K178: =SUM(K163:K177) -> 0 | L178: =SUM(L163:L177) -> 0
B179: Electrical Contractor : Ring Main Unit
B180: 11.1 | C180: 240-56030635 | D180: Prepare Site Including Excavation and Compaction for Pre-Cast Plinth | E180: m2 | G180: 0 | H180: =F180*G180 -> 0 | J180: 0 | K180: =I180*J180 -> 0 | L180: =H180+K180 -> 0
B181: 11.2 | C181: D-DT-0863 | D181: Install Pre-Cast Plinth | E181: Each | G181: 0 | H181: =F181*G181 -> 0 | J181: 0 | K181: =I181*J181 -> 0 | L181: =H181+K181 -> 0
B182: 11.3 | C182: D-DT-0863 | D182: RMU - Cast on site plinth | E182: Each | G182: 0 | H182: =F182*G182 -> 0 | J182: 0 | K182: =I182*J182 -> 0 | L182: =H182+K182 -> 0
B183: 11.4 | C183: D-DT-0863 | D183: Install Ring Main Unit | E183: Each | G183: 0 | H183: =F183*G183 -> 0 | J183: 0 | K183: =I183*J183 -> 0 | L183: =H183+K183 -> 0
...

Sheet Summary (Electrical)
C2: Item | D2: Total
B3: 1 | C3: ='MV Cable (Electrical)'!$B$4 -> Electrical Contractor : P&Gs and Pre-construction related activities. | D3: ='MV Cable (Electrical)'!L20 -> 0
B4: 2 | C4: ='MV Cable (Electrical)'!$B$21 -> Electrical Contractor : River crossing | D4: ='MV Cable (Electrical)'!L23 -> 0 | F4: ='MV Cable (Electrical)'!$B$21 -> Electrical Contractor : River crossing | G4: ='MV Cable (Electrical)'!$B$21 -> Electrical Contractor : River crossing | H4: ='MV Cable (Electrical)'!$B$21 -> Electrical Contractor : River crossing | I4: ='MV Cable (Electrical)'!$B$21 -> Electrical Contractor : River crossing | J4: ='MV Cable (Electrical)'!$B$21 -> Electrical Contractor : River crossing | K4: ='MV Cable (Electrical)'!$B$21 -> Electrical Contractor : River crossing | L4: ='MV Cable (Electrical)'!$B$21 -> Electrical Contractor : River crossing | M4: ='MV Cable (Electrical)'!$B$21 -> Electrical Contractor : River crossing
B5: 3 | C5: ='MV Cable (Electrical)'!$B$24 -> Electrical Contractor : Road crossing | D5: ='MV Cable (Electrical)'!L28 -> 0
B6: 4 | C6: ='MV Cable (Electrical)'!$B$29 -> Electrical Contractor : MV Cable trenches | D6: ='MV Cable (Electrical)'!L35 -> 0
B7: 5 | C7: ='MV Cable (Electrical)'!$B$36 -> Electrical Contractor : MV Joint bays / trenches | D7: ='MV Cable (Electrical)'!L42 -> 0
B8: 6 | C8: ='MV Cable (Electrical)'!$B$43 -> Electrical Contractor : Removal of existing MV cable | D8: ='MV Cable (Electrical)'!L46 -> 0
B9: 7 | C9: ='MV Cable (Electrical)'!$B$47 -> Electrical Contractor : MV Cable installation | D9: ='MV Cable (Electrical)'!L53 -> 0
B10: 8 | C10: ='MV Cable (Electrical)'!$B$54 -> Electrical Contractor : MV Joint installation | D10: ='MV Cable (Electrical)'!L84 -> 0
B11: 9 | C11: ='MV Cable (Electrical)'!$B$85 -> Electrical Contractor : MV Termination installation | D11: ='MV Cable (Electrical)'!L161 -> 0
B12: 10 | C12: ='MV Cable (Electrical)'!$B$162 -> Electrical Contractor : Miniature Substation | D12: ='MV Cable (Electrical)'!L178 -> 0
B13: 11 | C13: ='MV Cable (Electrical)'!$B$179 -> Electrical Contractor : Ring Main Unit | D13: ='MV Cable (Electrical)'!L195 -> 0
B14: 12 | C14: ='MV Cable (Electrical)'!$B$196 -> Electrical Contractor : Ground Mounted CT-VT Unit and Ground Mounted Transformer Unit | D14: ='MV Cable (Electrical)'!L214 -> 0
B15: 13 | C15: ='MV Cable (Electrical)'!$B$215 -> Electrical Contractor : Sheath repair | D15: ='MV Cable (Electrical)'!L218 -> 0
B16: 14 | C16: ='MV Cable (Electrical)'!B219 -> Electrical Contractor : As-built drawings (All documents and drawings to be documented and submitted to Eskom in paper format and Electronic media.) | D16: ='MV Cable (Electrical)'!L221 -> 0
B17: 15 | C17: ='MV Cable (Electrical)'!B222 -> Electrical Contractor : Transport | D17: ='MV Cable (Electrical)'!L228 -> 0
C18: Total | D18: =SUM(D3:D17) -> 0
